{"text_format":"1","workbook":"xlsx","n_sheets":11,"sheets":["Disclaimer","Intro","Read_me","Hierarchy","All_series","Gender_comparison","Region_comparison","Area_comparison","_data_Forecast","notes","_tbl"],"not_rendered":{"charts":4,"images":1,"macros":1,"external_links":0,"defined_names":17,"comments":0,"pivot_tables":0},"unopened":[],"bounds":{"document_bytes":16777216,"sheet_cells":100000,"rows_first":2000,"rows_last":500,"rows_between":2000,"halvings":0,"cell_chars":16384,"cell_head_chars":4096},"cells_cut":0,"cells_raw":0,"read":"whole","date_system":"1900"}

{"sheet":"Disclaimer","index":0,"n_rows":13,"n_cols":12,"rows_kept":13,"cut":false,"hidden":false,"merged":[]}
[]
[]
[]
[null,null,null,null,null,null,null,null,null,null,null,"Copyright © 2022 Society of Actuaries Research Institute"]
[null,"Mortality Forecast Visualization Tool"]
[]
[]
[null,"Disclaimer"]
[]
[null,"This software is made available free of charge with the understanding that neither the author nor the Society of Actuaries Research Institute "]
[null,"accepts any liability for its use. It may be used for any personal, research or commercial use provided that the user does not represent it as"]
[null,"his or her own work and does not distribute it to others for a fee."]
[null,""]

{"sheet":"Intro","index":1,"n_rows":64,"n_cols":4,"rows_kept":64,"cut":false,"hidden":false,"merged":[]}
[]
[null,"Introduction to the Excel Visualization Tool "]
[]
[]
[null,"This interactive Excel tool supplements the SOA report “Analyzing Geographical Variation in Cause-of-Death Mortality for China: Evidence from 2004 to 2019” by Dr Han Li and Dr Katja Hanewald."]
[null,"This tool provides an interactive visualization of mortality forecasts during 2020-2029 across gender, region, area, and cause-of-death."]
[]
[]
[null,"Tab",null,"Description"]
[null,"All _series",null,"Mortality forecast for all combinations."]
[null,"Gender_comparison",null,"Comparison of mortality forecast between Male and Female."]
[null,"Region_comparison",null,"Comparison of mortality forecast among Central, East and West."]
[null,"Area_comparison",null,"Comparison of mortality forecast between Rural and Urban."]
[]
[]
[null,"Hierarchy of dataset"]
[null,"The hierarchy of the dataset is explained below and in the diagrams:"]
[null,"Level 1 - Gender (Male, Female)"]
[null,"Level 2 - Region (East, Central, West)"]
[null,"Level 3 - Area (Urban, Rural)"]
[null,"Level 4 - Cause of Death"]
[null,"Cancer"]
[null,"Circulatory"]
[null,"Congenital"]
[null,"Diabetes"]
[null,"Digestive"]
[null,"External"]
[null,"Infectious"]
[null,"Mental"]
[null,"Respiratory"]
[null,"Other"]
[]
[]
[]
[]
[]
[]
[]
[]
[]
[]
[]
[]
[]
[]
[]
[]
[]
[]
[]
[]
[]
[]
[]
[]
[]
[]
[]
[]
[]
[]
[]
[]
[null,"*10 causes: cancer, circulatory, congenital, diabetes, digestive, external, infectious, mental, respiratory, and other."]

{"sheet":"Read_me","index":2,"n_rows":38,"n_cols":6,"rows_kept":38,"cut":false,"hidden":false,"merged":[]}
[]
["General Guidance for Using this Tool"]
[]
["When you first open this file, and are prompted by Excel to \"Enable Content\" and/or \"Enable Macros\", you must indicate \"yes\"; otherwise, the tool will not be able to function."]
[]
["Throughout this Excel file, factors that can be changed by the user are identified with yellow background, as shown to the right:",null,null,null,null,"Male"]
[]
[]
["Guidance for each worksheet"]
["All series:"]
["The [All] worksheet shows mortality forecasts from 2020 to 2029, for all combinations available in the dataset. "]
["It shows one combination at a time"]
["There are two options available for choosing the combinations:"]
["1) Use the drop-down boxes to select the combination of interest, then click \"Update Chart\""]
["For example, choose \"Male\" for \"Gender\", \"Central\" for \"Region\", \"Rural\" for \"Area\", and \"Cancer\" for \"Cause\""]
["Click \"Update Chart\" to refresh the graph"]
["2) Use \"Next\", \"Previous\", \"Reset\" buttons to go through all available combinations"]
["Click \"Reset\" to return to 1st combination, which is \"Male, Central, Rural, Cancer\""]
["For the chart, the horizontal axis represents age groups and the vertical axis represents mortality rate on log scale."]
["The lines with various colors represent mortality forecasts across different years."]
[]
["Gender comparison:"]
["The [Gender] worksheet compares the mortality forecasts between Male and Female, for a selected combination and forecast year."]
["The two options to select the combination are similar to those in the [All] worksheet."]
["For the chart, the horizontal axis represents age groups and the vertical axis represents mortality rate on log scale."]
["The lines represent mortality forecasts for the chosen year, for Male and Female respectively."]
[]
["Region comparison:"]
["The [Region] worksheet compares the mortality forecasts between East, Central and West regions, for a selected combination and forecast year."]
["The two options to select the combination are similar to those in the [All] worksheet."]
["For the chart, the horizontal axis represents age groups and the vertical axis represents mortality rate on log scale."]
["The lines represent mortality forecasts for the chosen year, for East, Central, and West regions respectively."]
[]
["Area comparison:"]
["The [Area] worksheet compares the mortality forecasts between Urban and Rural areas, for a selected combination and forecast year."]
["The two options to select the combination are similar to those in the [All] worksheet."]
["For the chart, the horizontal axis represents age groups and the vertical axis represents mortality rate on log scale."]
["The lines represent mortality forecasts for the chosen year, for Urban and Rural areas respectively."]

{"sheet":"Hierarchy","index":3,"n_rows":32,"n_cols":2,"rows_kept":32,"cut":false,"hidden":true,"merged":[]}
[]
[]
[]
[]
[]
[]
[]
[]
[]
[]
[]
[]
[]
[]
[]
[]
[]
[]
[]
[]
[]
[]
[]
[]
[]
[]
[]
[]
[]
[]
[]
[null,"*10 causes: cancer, circulatory, congenital, diiabetes, digestive, external, infectious, mental, respiratory, and other."]

{"sheet":"All_series","index":4,"n_rows":150,"n_cols":28,"rows_kept":150,"cut":false,"hidden":false,"merged":[]}
[]
[null,"Option 1 - Select Combination Using Drop-down List",null,null,null,null,null,null,null,null,null,"Option 2 - Click Buttons to Select Combination"]
[]
[null,"Gender","Region","Area","Cause",null,null,null,null,null,null,null,null,null,null,null,null,null,null,null,null,null,null,"Gender","Region","Area","Cause",1]
[null,"Male","Central","Rural","Cancer",null,null,null,null,null,null,null,null,null,null,null,null,null,null,null,null,null,null,{"$f":"OFFSET(_tbl!B$3,comb_id,0)","v":"Male"},{"$f":"OFFSET(_tbl!C$3,comb_id,0)","v":"Central"},{"$f":"OFFSET(_tbl!D$3,comb_id,0)","v":"Rural"},{"$f":"OFFSET(_tbl!E$3,comb_id,0)","v":"Cancer"}]
[]
[]
[]
[null,"CHARTS AND DATA",null,null,{"$f":"IF(COUNTIFS(M13:V30,\"NA\")=180, \"Combination Not Available\", B5&\", \"&C5&\", \"&D5&\", Cause - \"&E5)","v":"Male, Central, Rural, Cause - Cancer"}]
[]
[]
[null,null,null,null,null,null,null,null,null,null,null,"Age/Year",2020,2021,2022,2023,2024,2025,2026,2027,2028,2029]
[null,null,null,null,null,null,null,null,null,null,null,"1-4",{"$f":"IF(SUMIFS(_data_Forecast!D:D,_data_Forecast!$N:$N,$B$5,_data_Forecast!$O:$O,$C$5,_data_Forecast!$P:$P,$D$5,_data_Forecast!$Q:$Q,$E$5,_data_Forecast!$C:$C,All_series!$L13)=0,\"NA\",SUMIFS(_data_Forecast!D:D,_data_Forecast!$N:$N,$B$5,_data_Forecast!$O:$O,$C$5,_data_Forecast!$P:$P,$D$5,_data_Forecast!$Q:$Q,$E$5,_data_Forecast!$C:$C,All_series!$L13))","v":3.0352088802720799E-5},{"$f":"IF(SUMIFS(_data_Forecast!E:E,_data_Forecast!$N:$N,$B$5,_data_Forecast!$O:$O,$C$5,_data_Forecast!$P:$P,$D$5,_data_Forecast!$Q:$Q,$E$5,_data_Forecast!$C:$C,All_series!$L13)=0,\"NA\",SUMIFS(_data_Forecast!E:E,_data_Forecast!$N:$N,$B$5,_data_Forecast!$O:$O,$C$5,_data_Forecast!$P:$P,$D$5,_data_Forecast!$Q:$Q,$E$5,_data_Forecast!$C:$C,All_series!$L13))","v":3.02748008830295E-5},{"$f":"IF(SUMIFS(_data_Forecast!F:F,_data_Forecast!$N:$N,$B$5,_data_Forecast!$O:$O,$C$5,_data_Forecast!$P:$P,$D$5,_data_Forecast!$Q:$Q,$E$5,_data_Forecast!$C:$C,All_series!$L13)=0,\"NA\",SUMIFS(_data_Forecast!F:F,_data_Forecast!$N:$N,$B$5,_data_Forecast!$O:$O,$C$5,_data_Forecast!$P:$P,$D$5,_data_Forecast!$Q:$Q,$E$5,_data_Forecast!$C:$C,All_series!$L13))","v":3.0205384120937501E-5},{"$f":"IF(SUMIFS(_data_Forecast!G:G,_data_Forecast!$N:$N,$B$5,_data_Forecast!$O:$O,$C$5,_data_Forecast!$P:$P,$D$5,_data_Forecast!$Q:$Q,$E$5,_data_Forecast!$C:$C,All_series!$L13)=0,\"NA\",SUMIFS(_data_Forecast!G:G,_data_Forecast!$N:$N,$B$5,_data_Forecast!$O:$O,$C$5,_data_Forecast!$P:$P,$D$5,_data_Forecast!$Q:$Q,$E$5,_data_Forecast!$C:$C,All_series!$L13))","v":3.0099387895211602E-5},{"$f":"IF(SUMIFS(_data_Forecast!H:H,_data_Forecast!$N:$N,$B$5,_data_Forecast!$O:$O,$C$5,_data_Forecast!$P:$P,$D$5,_data_Forecast!$Q:$Q,$E$5,_data_Forecast!$C:$C,All_series!$L13)=0,\"NA\",SUMIFS(_data_Forecast!H:H,_data_Forecast!$N:$N,$B$5,_data_Forecast!$O:$O,$C$5,_data_Forecast!$P:$P,$D$5,_data_Forecast!$Q:$Q,$E$5,_data_Forecast!$C:$C,All_series!$L13))","v":3.00310436457791E-5},{"$f":"IF(SUMIFS(_data_Forecast!I:I,_data_Forecast!$N:$N,$B$5,_data_Forecast!$O:$O,$C$5,_data_Forecast!$P:$P,$D$5,_data_Forecast!$Q:$Q,$E$5,_data_Forecast!$C:$C,All_series!$L13)=0,\"NA\",SUMIFS(_data_Forecast!I:I,_data_Forecast!$N:$N,$B$5,_data_Forecast!$O:$O,$C$5,_data_Forecast!$P:$P,$D$5,_data_Forecast!$Q:$Q,$E$5,_data_Forecast!$C:$C,All_series!$L13))","v":2.9955151914077699E-5},{"$f":"IF(SUMIFS(_data_Forecast!J:J,_data_Forecast!$N:$N,$B$5,_data_Forecast!$O:$O,$C$5,_data_Forecast!$P:$P,$D$5,_data_Forecast!$Q:$Q,$E$5,_data_Forecast!$C:$C,All_series!$L13)=0,\"NA\",SUMIFS(_data_Forecast!J:J,_data_Forecast!$N:$N,$B$5,_data_Forecast!$O:$O,$C$5,_data_Forecast!$P:$P,$D$5,_data_Forecast!$Q:$Q,$E$5,_data_Forecast!$C:$C,All_series!$L13))","v":2.98693116931757E-5},{"$f":"IF(SUMIFS(_data_Forecast!K:K,_data_Forecast!$N:$N,$B$5,_data_Forecast!$O:$O,$C$5,_data_Forecast!$P:$P,$D$5,_data_Forecast!$Q:$Q,$E$5,_data_Forecast!$C:$C,All_series!$L13)=0,\"NA\",SUMIFS(_data_Forecast!K:K,_data_Forecast!$N:$N,$B$5,_data_Forecast!$O:$O,$C$5,_data_Forecast!$P:$P,$D$5,_data_Forecast!$Q:$Q,$E$5,_data_Forecast!$C:$C,All_series!$L13))","v":2.9793935700311999E-5},{"$f":"IF(SUMIFS(_data_Forecast!L:L,_data_Forecast!$N:$N,$B$5,_data_Forecast!$O:$O,$C$5,_data_Forecast!$P:$P,$D$5,_data_Forecast!$Q:$Q,$E$5,_data_Forecast!$C:$C,All_series!$L13)=0,\"NA\",SUMIFS(_data_Forecast!L:L,_data_Forecast!$N:$N,$B$5,_data_Forecast!$O:$O,$C$5,_data_Forecast!$P:$P,$D$5,_data_Forecast!$Q:$Q,$E$5,_data_Forecast!$C:$C,All_series!$L13))","v":2.9714232544716001E-5},{"$f":"IF(SUMIFS(_data_Forecast!M:M,_data_Forecast!$N:$N,$B$5,_data_Forecast!$O:$O,$C$5,_data_Forecast!$P:$P,$D$5,_data_Forecast!$Q:$Q,$E$5,_data_Forecast!$C:$C,All_series!$L13)=0,\"NA\",SUMIFS(_data_Forecast!M:M,_data_Forecast!$N:$N,$B$5,_data_Forecast!$O:$O,$C$5,_data_Forecast!$P:$P,$D$5,_data_Forecast!$Q:$Q,$E$5,_data_Forecast!$C:$C,All_series!$L13))","v":2.9626706214108999E-5}]
[null,null,null,null,null,null,null,null,null,null,null,"5-9",{"$f":"IF(SUMIFS(_data_Forecast!D:D,_data_Forecast!$N:$N,$B$5,_data_Forecast!$O:$O,$C$5,_data_Forecast!$P:$P,$D$5,_data_Forecast!$Q:$Q,$E$5,_data_Forecast!$C:$C,All_series!$L14)=0,\"NA\",SUMIFS(_data_Forecast!D:D,_data_Forecast!$N:$N,$B$5,_data_Forecast!$O:$O,$C$5,_data_Forecast!$P:$P,$D$5,_data_Forecast!$Q:$Q,$E$5,_data_Forecast!$C:$C,All_series!$L14))","v":3.2207671111565997E-5},{"$f":"IF(SUMIFS(_data_Forecast!E:E,_data_Forecast!$N:$N,$B$5,_data_Forecast!$O:$O,$C$5,_data_Forecast!$P:$P,$D$5,_data_Forecast!$Q:$Q,$E$5,_data_Forecast!$C:$C,All_series!$L14)=0,\"NA\",SUMIFS(_data_Forecast!E:E,_data_Forecast!$N:$N,$B$5,_data_Forecast!$O:$O,$C$5,_data_Forecast!$P:$P,$D$5,_data_Forecast!$Q:$Q,$E$5,_data_Forecast!$C:$C,All_series!$L14))","v":3.2132343512727998E-5},{"$f":"IF(SUMIFS(_data_Forecast!F:F,_data_Forecast!$N:$N,$B$5,_data_Forecast!$O:$O,$C$5,_data_Forecast!$P:$P,$D$5,_data_Forecast!$Q:$Q,$E$5,_data_Forecast!$C:$C,All_series!$L14)=0,\"NA\",SUMIFS(_data_Forecast!F:F,_data_Forecast!$N:$N,$B$5,_data_Forecast!$O:$O,$C$5,_data_Forecast!$P:$P,$D$5,_data_Forecast!$Q:$Q,$E$5,_data_Forecast!$C:$C,All_series!$L14))","v":3.2068455660562503E-5},{"$f":"IF(SUMIFS(_data_Forecast!G:G,_data_Forecast!$N:$N,$B$5,_data_Forecast!$O:$O,$C$5,_data_Forecast!$P:$P,$D$5,_data_Forecast!$Q:$Q,$E$5,_data_Forecast!$C:$C,All_series!$L14)=0,\"NA\",SUMIFS(_data_Forecast!G:G,_data_Forecast!$N:$N,$B$5,_data_Forecast!$O:$O,$C$5,_data_Forecast!$P:$P,$D$5,_data_Forecast!$Q:$Q,$E$5,_data_Forecast!$C:$C,All_series!$L14))","v":3.2014295238260999E-5},{"$f":"IF(SUMIFS(_data_Forecast!H:H,_data_Forecast!$N:$N,$B$5,_data_Forecast!$O:$O,$C$5,_data_Forecast!$P:$P,$D$5,_data_Forecast!$Q:$Q,$E$5,_data_Forecast!$C:$C,All_series!$L14)=0,\"NA\",SUMIFS(_data_Forecast!H:H,_data_Forecast!$N:$N,$B$5,_data_Forecast!$O:$O,$C$5,_data_Forecast!$P:$P,$D$5,_data_Forecast!$Q:$Q,$E$5,_data_Forecast!$C:$C,All_series!$L14))","v":3.1957748675236998E-5},{"$f":"IF(SUMIFS(_data_Forecast!I:I,_data_Forecast!$N:$N,$B$5,_data_Forecast!$O:$O,$C$5,_data_Forecast!$P:$P,$D$5,_data_Forecast!$Q:$Q,$E$5,_data_Forecast!$C:$C,All_series!$L14)=0,\"NA\",SUMIFS(_data_Forecast!I:I,_data_Forecast!$N:$N,$B$5,_data_Forecast!$O:$O,$C$5,_data_Forecast!$P:$P,$D$5,_data_Forecast!$Q:$Q,$E$5,_data_Forecast!$C:$C,All_series!$L14))","v":3.19054214580909E-5},{"$f":"IF(SUMIFS(_data_Forecast!J:J,_data_Forecast!$N:$N,$B$5,_data_Forecast!$O:$O,$C$5,_data_Forecast!$P:$P,$D$5,_data_Forecast!$Q:$Q,$E$5,_data_Forecast!$C:$C,All_series!$L14)=0,\"NA\",SUMIFS(_data_Forecast!J:J,_data_Forecast!$N:$N,$B$5,_data_Forecast!$O:$O,$C$5,_data_Forecast!$P:$P,$D$5,_data_Forecast!$Q:$Q,$E$5,_data_Forecast!$C:$C,All_series!$L14))","v":3.1852470722055497E-5},{"$f":"IF(SUMIFS(_data_Forecast!K:K,_data_Forecast!$N:$N,$B$5,_data_Forecast!$O:$O,$C$5,_data_Forecast!$P:$P,$D$5,_data_Forecast!$Q:$Q,$E$5,_data_Forecast!$C:$C,All_series!$L14)=0,\"NA\",SUMIFS(_data_Forecast!K:K,_data_Forecast!$N:$N,$B$5,_data_Forecast!$O:$O,$C$5,_data_Forecast!$P:$P,$D$5,_data_Forecast!$Q:$Q,$E$5,_data_Forecast!$C:$C,All_series!$L14))","v":3.1801210668766702E-5},{"$f":"IF(SUMIFS(_data_Forecast!L:L,_data_Forecast!$N:$N,$B$5,_data_Forecast!$O:$O,$C$5,_data_Forecast!$P:$P,$D$5,_data_Forecast!$Q:$Q,$E$5,_data_Forecast!$C:$C,All_series!$L14)=0,\"NA\",SUMIFS(_data_Forecast!L:L,_data_Forecast!$N:$N,$B$5,_data_Forecast!$O:$O,$C$5,_data_Forecast!$P:$P,$D$5,_data_Forecast!$Q:$Q,$E$5,_data_Forecast!$C:$C,All_series!$L14))","v":3.17459842620662E-5},{"$f":"IF(SUMIFS(_data_Forecast!M:M,_data_Forecast!$N:$N,$B$5,_data_Forecast!$O:$O,$C$5,_data_Forecast!$P:$P,$D$5,_data_Forecast!$Q:$Q,$E$5,_data_Forecast!$C:$C,All_series!$L14)=0,\"NA\",SUMIFS(_data_Forecast!M:M,_data_Forecast!$N:$N,$B$5,_data_Forecast!$O:$O,$C$5,_data_Forecast!$P:$P,$D$5,_data_Forecast!$Q:$Q,$E$5,_data_Forecast!$C:$C,All_series!$L14))","v":3.16928369798992E-5}]
[null,null,null,null,null,null,null,null,null,null,null,"10-14",{"$f":"IF(SUMIFS(_data_Forecast!D:D,_data_Forecast!$N:$N,$B$5,_data_Forecast!$O:$O,$C$5,_data_Forecast!$P:$P,$D$5,_data_Forecast!$Q:$Q,$E$5,_data_Forecast!$C:$C,All_series!$L15)=0,\"NA\",SUMIFS(_data_Forecast!D:D,_data_Forecast!$N:$N,$B$5,_data_Forecast!$O:$O,$C$5,_data_Forecast!$P:$P,$D$5,_data_Forecast!$Q:$Q,$E$5,_data_Forecast!$C:$C,All_series!$L15))","v":3.8582319900540998E-5},{"$f":"IF(SUMIFS(_data_Forecast!E:E,_data_Forecast!$N:$N,$B$5,_data_Forecast!$O:$O,$C$5,_data_Forecast!$P:$P,$D$5,_data_Forecast!$Q:$Q,$E$5,_data_Forecast!$C:$C,All_series!$L15)=0,\"NA\",SUMIFS(_data_Forecast!E:E,_data_Forecast!$N:$N,$B$5,_data_Forecast!$O:$O,$C$5,_data_Forecast!$P:$P,$D$5,_data_Forecast!$Q:$Q,$E$5,_data_Forecast!$C:$C,All_series!$L15))","v":3.8341808587650698E-5},{"$f":"IF(SUMIFS(_data_Forecast!F:F,_data_Forecast!$N:$N,$B$5,_data_Forecast!$O:$O,$C$5,_data_Forecast!$P:$P,$D$5,_data_Forecast!$Q:$Q,$E$5,_data_Forecast!$C:$C,All_series!$L15)=0,\"NA\",SUMIFS(_data_Forecast!F:F,_data_Forecast!$N:$N,$B$5,_data_Forecast!$O:$O,$C$5,_data_Forecast!$P:$P,$D$5,_data_Forecast!$Q:$Q,$E$5,_data_Forecast!$C:$C,All_series!$L15))","v":3.80125685185223E-5},{"$f":"IF(SUMIFS(_data_Forecast!G:G,_data_Forecast!$N:$N,$B$5,_data_Forecast!$O:$O,$C$5,_data_Forecast!$P:$P,$D$5,_data_Forecast!$Q:$Q,$E$5,_data_Forecast!$C:$C,All_series!$L15)=0,\"NA\",SUMIFS(_data_Forecast!G:G,_data_Forecast!$N:$N,$B$5,_data_Forecast!$O:$O,$C$5,_data_Forecast!$P:$P,$D$5,_data_Forecast!$Q:$Q,$E$5,_data_Forecast!$C:$C,All_series!$L15))","v":3.7673047516373699E-5},{"$f":"IF(SUMIFS(_data_Forecast!H:H,_data_Forecast!$N:$N,$B$5,_data_Forecast!$O:$O,$C$5,_data_Forecast!$P:$P,$D$5,_data_Forecast!$Q:$Q,$E$5,_data_Forecast!$C:$C,All_series!$L15)=0,\"NA\",SUMIFS(_data_Forecast!H:H,_data_Forecast!$N:$N,$B$5,_data_Forecast!$O:$O,$C$5,_data_Forecast!$P:$P,$D$5,_data_Forecast!$Q:$Q,$E$5,_data_Forecast!$C:$C,All_series!$L15))","v":3.7517151275512001E-5},{"$f":"IF(SUMIFS(_data_Forecast!I:I,_data_Forecast!$N:$N,$B$5,_data_Forecast!$O:$O,$C$5,_data_Forecast!$P:$P,$D$5,_data_Forecast!$Q:$Q,$E$5,_data_Forecast!$C:$C,All_series!$L15)=0,\"NA\",SUMIFS(_data_Forecast!I:I,_data_Forecast!$N:$N,$B$5,_data_Forecast!$O:$O,$C$5,_data_Forecast!$P:$P,$D$5,_data_Forecast!$Q:$Q,$E$5,_data_Forecast!$C:$C,All_series!$L15))","v":3.7513281628556797E-5},{"$f":"IF(SUMIFS(_data_Forecast!J:J,_data_Forecast!$N:$N,$B$5,_data_Forecast!$O:$O,$C$5,_data_Forecast!$P:$P,$D$5,_data_Forecast!$Q:$Q,$E$5,_data_Forecast!$C:$C,All_series!$L15)=0,\"NA\",SUMIFS(_data_Forecast!J:J,_data_Forecast!$N:$N,$B$5,_data_Forecast!$O:$O,$C$5,_data_Forecast!$P:$P,$D$5,_data_Forecast!$Q:$Q,$E$5,_data_Forecast!$C:$C,All_series!$L15))","v":3.75927590868764E-5},{"$f":"IF(SUMIFS(_data_Forecast!K:K,_data_Forecast!$N:$N,$B$5,_data_Forecast!$O:$O,$C$5,_data_Forecast!$P:$P,$D$5,_data_Forecast!$Q:$Q,$E$5,_data_Forecast!$C:$C,All_series!$L15)=0,\"NA\",SUMIFS(_data_Forecast!K:K,_data_Forecast!$N:$N,$B$5,_data_Forecast!$O:$O,$C$5,_data_Forecast!$P:$P,$D$5,_data_Forecast!$Q:$Q,$E$5,_data_Forecast!$C:$C,All_series!$L15))","v":3.7722458215311298E-5},{"$f":"IF(SUMIFS(_data_Forecast!L:L,_data_Forecast!$N:$N,$B$5,_data_Forecast!$O:$O,$C$5,_data_Forecast!$P:$P,$D$5,_data_Forecast!$Q:$Q,$E$5,_data_Forecast!$C:$C,All_series!$L15)=0,\"NA\",SUMIFS(_data_Forecast!L:L,_data_Forecast!$N:$N,$B$5,_data_Forecast!$O:$O,$C$5,_data_Forecast!$P:$P,$D$5,_data_Forecast!$Q:$Q,$E$5,_data_Forecast!$C:$C,All_series!$L15))","v":3.7833593564001398E-5},{"$f":"IF(SUMIFS(_data_Forecast!M:M,_data_Forecast!$N:$N,$B$5,_data_Forecast!$O:$O,$C$5,_data_Forecast!$P:$P,$D$5,_data_Forecast!$Q:$Q,$E$5,_data_Forecast!$C:$C,All_series!$L15)=0,\"NA\",SUMIFS(_data_Forecast!M:M,_data_Forecast!$N:$N,$B$5,_data_Forecast!$O:$O,$C$5,_data_Forecast!$P:$P,$D$5,_data_Forecast!$Q:$Q,$E$5,_data_Forecast!$C:$C,All_series!$L15))","v":3.7896751187186901E-5}]
[null,null,null,null,null,null,null,null,null,null,null,"15-19",{"$f":"IF(SUMIFS(_data_Forecast!D:D,_data_Forecast!$N:$N,$B$5,_data_Forecast!$O:$O,$C$5,_data_Forecast!$P:$P,$D$5,_data_Forecast!$Q:$Q,$E$5,_data_Forecast!$C:$C,All_series!$L16)=0,\"NA\",SUMIFS(_data_Forecast!D:D,_data_Forecast!$N:$N,$B$5,_data_Forecast!$O:$O,$C$5,_data_Forecast!$P:$P,$D$5,_data_Forecast!$Q:$Q,$E$5,_data_Forecast!$C:$C,All_series!$L16))","v":5.0828737225265198E-5},{"$f":"IF(SUMIFS(_data_Forecast!E:E,_data_Forecast!$N:$N,$B$5,_data_Forecast!$O:$O,$C$5,_data_Forecast!$P:$P,$D$5,_data_Forecast!$Q:$Q,$E$5,_data_Forecast!$C:$C,All_series!$L16)=0,\"NA\",SUMIFS(_data_Forecast!E:E,_data_Forecast!$N:$N,$B$5,_data_Forecast!$O:$O,$C$5,_data_Forecast!$P:$P,$D$5,_data_Forecast!$Q:$Q,$E$5,_data_Forecast!$C:$C,All_series!$L16))","v":5.0655619398591E-5},{"$f":"IF(SUMIFS(_data_Forecast!F:F,_data_Forecast!$N:$N,$B$5,_data_Forecast!$O:$O,$C$5,_data_Forecast!$P:$P,$D$5,_data_Forecast!$Q:$Q,$E$5,_data_Forecast!$C:$C,All_series!$L16)=0,\"NA\",SUMIFS(_data_Forecast!F:F,_data_Forecast!$N:$N,$B$5,_data_Forecast!$O:$O,$C$5,_data_Forecast!$P:$P,$D$5,_data_Forecast!$Q:$Q,$E$5,_data_Forecast!$C:$C,All_series!$L16))","v":5.04663746202708E-5},{"$f":"IF(SUMIFS(_data_Forecast!G:G,_data_Forecast!$N:$N,$B$5,_data_Forecast!$O:$O,$C$5,_data_Forecast!$P:$P,$D$5,_data_Forecast!$Q:$Q,$E$5,_data_Forecast!$C:$C,All_series!$L16)=0,\"NA\",SUMIFS(_data_Forecast!G:G,_data_Forecast!$N:$N,$B$5,_data_Forecast!$O:$O,$C$5,_data_Forecast!$P:$P,$D$5,_data_Forecast!$Q:$Q,$E$5,_data_Forecast!$C:$C,All_series!$L16))","v":5.0210832250196902E-5},{"$f":"IF(SUMIFS(_data_Forecast!H:H,_data_Forecast!$N:$N,$B$5,_data_Forecast!$O:$O,$C$5,_data_Forecast!$P:$P,$D$5,_data_Forecast!$Q:$Q,$E$5,_data_Forecast!$C:$C,All_series!$L16)=0,\"NA\",SUMIFS(_data_Forecast!H:H,_data_Forecast!$N:$N,$B$5,_data_Forecast!$O:$O,$C$5,_data_Forecast!$P:$P,$D$5,_data_Forecast!$Q:$Q,$E$5,_data_Forecast!$C:$C,All_series!$L16))","v":5.0128752593352403E-5},{"$f":"IF(SUMIFS(_data_Forecast!I:I,_data_Forecast!$N:$N,$B$5,_data_Forecast!$O:$O,$C$5,_data_Forecast!$P:$P,$D$5,_data_Forecast!$Q:$Q,$E$5,_data_Forecast!$C:$C,All_series!$L16)=0,\"NA\",SUMIFS(_data_Forecast!I:I,_data_Forecast!$N:$N,$B$5,_data_Forecast!$O:$O,$C$5,_data_Forecast!$P:$P,$D$5,_data_Forecast!$Q:$Q,$E$5,_data_Forecast!$C:$C,All_series!$L16))","v":5.0156589806949597E-5},{"$f":"IF(SUMIFS(_data_Forecast!J:J,_data_Forecast!$N:$N,$B$5,_data_Forecast!$O:$O,$C$5,_data_Forecast!$P:$P,$D$5,_data_Forecast!$Q:$Q,$E$5,_data_Forecast!$C:$C,All_series!$L16)=0,\"NA\",SUMIFS(_data_Forecast!J:J,_data_Forecast!$N:$N,$B$5,_data_Forecast!$O:$O,$C$5,_data_Forecast!$P:$P,$D$5,_data_Forecast!$Q:$Q,$E$5,_data_Forecast!$C:$C,All_series!$L16))","v":5.02565742258135E-5},{"$f":"IF(SUMIFS(_data_Forecast!K:K,_data_Forecast!$N:$N,$B$5,_data_Forecast!$O:$O,$C$5,_data_Forecast!$P:$P,$D$5,_data_Forecast!$Q:$Q,$E$5,_data_Forecast!$C:$C,All_series!$L16)=0,\"NA\",SUMIFS(_data_Forecast!K:K,_data_Forecast!$N:$N,$B$5,_data_Forecast!$O:$O,$C$5,_data_Forecast!$P:$P,$D$5,_data_Forecast!$Q:$Q,$E$5,_data_Forecast!$C:$C,All_series!$L16))","v":5.0387405303321101E-5},{"$f":"IF(SUMIFS(_data_Forecast!L:L,_data_Forecast!$N:$N,$B$5,_data_Forecast!$O:$O,$C$5,_data_Forecast!$P:$P,$D$5,_data_Forecast!$Q:$Q,$E$5,_data_Forecast!$C:$C,All_series!$L16)=0,\"NA\",SUMIFS(_data_Forecast!L:L,_data_Forecast!$N:$N,$B$5,_data_Forecast!$O:$O,$C$5,_data_Forecast!$P:$P,$D$5,_data_Forecast!$Q:$Q,$E$5,_data_Forecast!$C:$C,All_series!$L16))","v":5.05045539066573E-5},{"$f":"IF(SUMIFS(_data_Forecast!M:M,_data_Forecast!$N:$N,$B$5,_data_Forecast!$O:$O,$C$5,_data_Forecast!$P:$P,$D$5,_data_Forecast!$Q:$Q,$E$5,_data_Forecast!$C:$C,All_series!$L16)=0,\"NA\",SUMIFS(_data_Forecast!M:M,_data_Forecast!$N:$N,$B$5,_data_Forecast!$O:$O,$C$5,_data_Forecast!$P:$P,$D$5,_data_Forecast!$Q:$Q,$E$5,_data_Forecast!$C:$C,All_series!$L16))","v":5.0574365042120799E-5}]
[null,null,null,null,null,null,null,null,null,null,null,"20-24",{"$f":"IF(SUMIFS(_data_Forecast!D:D,_data_Forecast!$N:$N,$B$5,_data_Forecast!$O:$O,$C$5,_data_Forecast!$P:$P,$D$5,_data_Forecast!$Q:$Q,$E$5,_data_Forecast!$C:$C,All_series!$L17)=0,\"NA\",SUMIFS(_data_Forecast!D:D,_data_Forecast!$N:$N,$B$5,_data_Forecast!$O:$O,$C$5,_data_Forecast!$P:$P,$D$5,_data_Forecast!$Q:$Q,$E$5,_data_Forecast!$C:$C,All_series!$L17))","v":7.5506908333281697E-5},{"$f":"IF(SUMIFS(_data_Forecast!E:E,_data_Forecast!$N:$N,$B$5,_data_Forecast!$O:$O,$C$5,_data_Forecast!$P:$P,$D$5,_data_Forecast!$Q:$Q,$E$5,_data_Forecast!$C:$C,All_series!$L17)=0,\"NA\",SUMIFS(_data_Forecast!E:E,_data_Forecast!$N:$N,$B$5,_data_Forecast!$O:$O,$C$5,_data_Forecast!$P:$P,$D$5,_data_Forecast!$Q:$Q,$E$5,_data_Forecast!$C:$C,All_series!$L17))","v":7.4770197302626295E-5},{"$f":"IF(SUMIFS(_data_Forecast!F:F,_data_Forecast!$N:$N,$B$5,_data_Forecast!$O:$O,$C$5,_data_Forecast!$P:$P,$D$5,_data_Forecast!$Q:$Q,$E$5,_data_Forecast!$C:$C,All_series!$L17)=0,\"NA\",SUMIFS(_data_Forecast!F:F,_data_Forecast!$N:$N,$B$5,_data_Forecast!$O:$O,$C$5,_data_Forecast!$P:$P,$D$5,_data_Forecast!$Q:$Q,$E$5,_data_Forecast!$C:$C,All_series!$L17))","v":7.3688587754705206E-5},{"$f":"IF(SUMIFS(_data_Forecast!G:G,_data_Forecast!$N:$N,$B$5,_data_Forecast!$O:$O,$C$5,_data_Forecast!$P:$P,$D$5,_data_Forecast!$Q:$Q,$E$5,_data_Forecast!$C:$C,All_series!$L17)=0,\"NA\",SUMIFS(_data_Forecast!G:G,_data_Forecast!$N:$N,$B$5,_data_Forecast!$O:$O,$C$5,_data_Forecast!$P:$P,$D$5,_data_Forecast!$Q:$Q,$E$5,_data_Forecast!$C:$C,All_series!$L17))","v":7.2623182905611202E-5},{"$f":"IF(SUMIFS(_data_Forecast!H:H,_data_Forecast!$N:$N,$B$5,_data_Forecast!$O:$O,$C$5,_data_Forecast!$P:$P,$D$5,_data_Forecast!$Q:$Q,$E$5,_data_Forecast!$C:$C,All_series!$L17)=0,\"NA\",SUMIFS(_data_Forecast!H:H,_data_Forecast!$N:$N,$B$5,_data_Forecast!$O:$O,$C$5,_data_Forecast!$P:$P,$D$5,_data_Forecast!$Q:$Q,$E$5,_data_Forecast!$C:$C,All_series!$L17))","v":7.2021757196752002E-5},{"$f":"IF(SUMIFS(_data_Forecast!I:I,_data_Forecast!$N:$N,$B$5,_data_Forecast!$O:$O,$C$5,_data_Forecast!$P:$P,$D$5,_data_Forecast!$Q:$Q,$E$5,_data_Forecast!$C:$C,All_series!$L17)=0,\"NA\",SUMIFS(_data_Forecast!I:I,_data_Forecast!$N:$N,$B$5,_data_Forecast!$O:$O,$C$5,_data_Forecast!$P:$P,$D$5,_data_Forecast!$Q:$Q,$E$5,_data_Forecast!$C:$C,All_series!$L17))","v":7.1857366238315594E-5},{"$f":"IF(SUMIFS(_data_Forecast!J:J,_data_Forecast!$N:$N,$B$5,_data_Forecast!$O:$O,$C$5,_data_Forecast!$P:$P,$D$5,_data_Forecast!$Q:$Q,$E$5,_data_Forecast!$C:$C,All_series!$L17)=0,\"NA\",SUMIFS(_data_Forecast!J:J,_data_Forecast!$N:$N,$B$5,_data_Forecast!$O:$O,$C$5,_data_Forecast!$P:$P,$D$5,_data_Forecast!$Q:$Q,$E$5,_data_Forecast!$C:$C,All_series!$L17))","v":7.2010413990750897E-5},{"$f":"IF(SUMIFS(_data_Forecast!K:K,_data_Forecast!$N:$N,$B$5,_data_Forecast!$O:$O,$C$5,_data_Forecast!$P:$P,$D$5,_data_Forecast!$Q:$Q,$E$5,_data_Forecast!$C:$C,All_series!$L17)=0,\"NA\",SUMIFS(_data_Forecast!K:K,_data_Forecast!$N:$N,$B$5,_data_Forecast!$O:$O,$C$5,_data_Forecast!$P:$P,$D$5,_data_Forecast!$Q:$Q,$E$5,_data_Forecast!$C:$C,All_series!$L17))","v":7.2252211562152195E-5},{"$f":"IF(SUMIFS(_data_Forecast!L:L,_data_Forecast!$N:$N,$B$5,_data_Forecast!$O:$O,$C$5,_data_Forecast!$P:$P,$D$5,_data_Forecast!$Q:$Q,$E$5,_data_Forecast!$C:$C,All_series!$L17)=0,\"NA\",SUMIFS(_data_Forecast!L:L,_data_Forecast!$N:$N,$B$5,_data_Forecast!$O:$O,$C$5,_data_Forecast!$P:$P,$D$5,_data_Forecast!$Q:$Q,$E$5,_data_Forecast!$C:$C,All_series!$L17))","v":7.2444577316727396E-5},{"$f":"IF(SUMIFS(_data_Forecast!M:M,_data_Forecast!$N:$N,$B$5,_data_Forecast!$O:$O,$C$5,_data_Forecast!$P:$P,$D$5,_data_Forecast!$Q:$Q,$E$5,_data_Forecast!$C:$C,All_series!$L17)=0,\"NA\",SUMIFS(_data_Forecast!M:M,_data_Forecast!$N:$N,$B$5,_data_Forecast!$O:$O,$C$5,_data_Forecast!$P:$P,$D$5,_data_Forecast!$Q:$Q,$E$5,_data_Forecast!$C:$C,All_series!$L17))","v":7.2503293604898701E-5}]
[null,null,null,null,null,null,null,null,null,null,null,"25-29",{"$f":"IF(SUMIFS(_data_Forecast!D:D,_data_Forecast!$N:$N,$B$5,_data_Forecast!$O:$O,$C$5,_data_Forecast!$P:$P,$D$5,_data_Forecast!$Q:$Q,$E$5,_data_Forecast!$C:$C,All_series!$L18)=0,\"NA\",SUMIFS(_data_Forecast!D:D,_data_Forecast!$N:$N,$B$5,_data_Forecast!$O:$O,$C$5,_data_Forecast!$P:$P,$D$5,_data_Forecast!$Q:$Q,$E$5,_data_Forecast!$C:$C,All_series!$L18))","v":1.1709244017627399E-4},{"$f":"IF(SUMIFS(_data_Forecast!E:E,_data_Forecast!$N:$N,$B$5,_data_Forecast!$O:$O,$C$5,_data_Forecast!$P:$P,$D$5,_data_Forecast!$Q:$Q,$E$5,_data_Forecast!$C:$C,All_series!$L18)=0,\"NA\",SUMIFS(_data_Forecast!E:E,_data_Forecast!$N:$N,$B$5,_data_Forecast!$O:$O,$C$5,_data_Forecast!$P:$P,$D$5,_data_Forecast!$Q:$Q,$E$5,_data_Forecast!$C:$C,All_series!$L18))","v":1.1637307762810799E-4},{"$f":"IF(SUMIFS(_data_Forecast!F:F,_data_Forecast!$N:$N,$B$5,_data_Forecast!$O:$O,$C$5,_data_Forecast!$P:$P,$D$5,_data_Forecast!$Q:$Q,$E$5,_data_Forecast!$C:$C,All_series!$L18)=0,\"NA\",SUMIFS(_data_Forecast!F:F,_data_Forecast!$N:$N,$B$5,_data_Forecast!$O:$O,$C$5,_data_Forecast!$P:$P,$D$5,_data_Forecast!$Q:$Q,$E$5,_data_Forecast!$C:$C,All_series!$L18))","v":1.15377404378214E-4},{"$f":"IF(SUMIFS(_data_Forecast!G:G,_data_Forecast!$N:$N,$B$5,_data_Forecast!$O:$O,$C$5,_data_Forecast!$P:$P,$D$5,_data_Forecast!$Q:$Q,$E$5,_data_Forecast!$C:$C,All_series!$L18)=0,\"NA\",SUMIFS(_data_Forecast!G:G,_data_Forecast!$N:$N,$B$5,_data_Forecast!$O:$O,$C$5,_data_Forecast!$P:$P,$D$5,_data_Forecast!$Q:$Q,$E$5,_data_Forecast!$C:$C,All_series!$L18))","v":1.1439127218299801E-4},{"$f":"IF(SUMIFS(_data_Forecast!H:H,_data_Forecast!$N:$N,$B$5,_data_Forecast!$O:$O,$C$5,_data_Forecast!$P:$P,$D$5,_data_Forecast!$Q:$Q,$E$5,_data_Forecast!$C:$C,All_series!$L18)=0,\"NA\",SUMIFS(_data_Forecast!H:H,_data_Forecast!$N:$N,$B$5,_data_Forecast!$O:$O,$C$5,_data_Forecast!$P:$P,$D$5,_data_Forecast!$Q:$Q,$E$5,_data_Forecast!$C:$C,All_series!$L18))","v":1.138421381531E-4},{"$f":"IF(SUMIFS(_data_Forecast!I:I,_data_Forecast!$N:$N,$B$5,_data_Forecast!$O:$O,$C$5,_data_Forecast!$P:$P,$D$5,_data_Forecast!$Q:$Q,$E$5,_data_Forecast!$C:$C,All_series!$L18)=0,\"NA\",SUMIFS(_data_Forecast!I:I,_data_Forecast!$N:$N,$B$5,_data_Forecast!$O:$O,$C$5,_data_Forecast!$P:$P,$D$5,_data_Forecast!$Q:$Q,$E$5,_data_Forecast!$C:$C,All_series!$L18))","v":1.13680794139196E-4},{"$f":"IF(SUMIFS(_data_Forecast!J:J,_data_Forecast!$N:$N,$B$5,_data_Forecast!$O:$O,$C$5,_data_Forecast!$P:$P,$D$5,_data_Forecast!$Q:$Q,$E$5,_data_Forecast!$C:$C,All_series!$L18)=0,\"NA\",SUMIFS(_data_Forecast!J:J,_data_Forecast!$N:$N,$B$5,_data_Forecast!$O:$O,$C$5,_data_Forecast!$P:$P,$D$5,_data_Forecast!$Q:$Q,$E$5,_data_Forecast!$C:$C,All_series!$L18))","v":1.1382050731761599E-4},{"$f":"IF(SUMIFS(_data_Forecast!K:K,_data_Forecast!$N:$N,$B$5,_data_Forecast!$O:$O,$C$5,_data_Forecast!$P:$P,$D$5,_data_Forecast!$Q:$Q,$E$5,_data_Forecast!$C:$C,All_series!$L18)=0,\"NA\",SUMIFS(_data_Forecast!K:K,_data_Forecast!$N:$N,$B$5,_data_Forecast!$O:$O,$C$5,_data_Forecast!$P:$P,$D$5,_data_Forecast!$Q:$Q,$E$5,_data_Forecast!$C:$C,All_series!$L18))","v":1.14035596235318E-4},{"$f":"IF(SUMIFS(_data_Forecast!L:L,_data_Forecast!$N:$N,$B$5,_data_Forecast!$O:$O,$C$5,_data_Forecast!$P:$P,$D$5,_data_Forecast!$Q:$Q,$E$5,_data_Forecast!$C:$C,All_series!$L18)=0,\"NA\",SUMIFS(_data_Forecast!L:L,_data_Forecast!$N:$N,$B$5,_data_Forecast!$O:$O,$C$5,_data_Forecast!$P:$P,$D$5,_data_Forecast!$Q:$Q,$E$5,_data_Forecast!$C:$C,All_series!$L18))","v":1.14211795775904E-4},{"$f":"IF(SUMIFS(_data_Forecast!M:M,_data_Forecast!$N:$N,$B$5,_data_Forecast!$O:$O,$C$5,_data_Forecast!$P:$P,$D$5,_data_Forecast!$Q:$Q,$E$5,_data_Forecast!$C:$C,All_series!$L18)=0,\"NA\",SUMIFS(_data_Forecast!M:M,_data_Forecast!$N:$N,$B$5,_data_Forecast!$O:$O,$C$5,_data_Forecast!$P:$P,$D$5,_data_Forecast!$Q:$Q,$E$5,_data_Forecast!$C:$C,All_series!$L18))","v":1.14258076776886E-4}]
[null,null,null,null,null,null,null,null,null,null,null,"30-34",{"$f":"IF(SUMIFS(_data_Forecast!D:D,_data_Forecast!$N:$N,$B$5,_data_Forecast!$O:$O,$C$5,_data_Forecast!$P:$P,$D$5,_data_Forecast!$Q:$Q,$E$5,_data_Forecast!$C:$C,All_series!$L19)=0,\"NA\",SUMIFS(_data_Forecast!D:D,_data_Forecast!$N:$N,$B$5,_data_Forecast!$O:$O,$C$5,_data_Forecast!$P:$P,$D$5,_data_Forecast!$Q:$Q,$E$5,_data_Forecast!$C:$C,All_series!$L19))","v":1.9825530326516099E-4},{"$f":"IF(SUMIFS(_data_Forecast!E:E,_data_Forecast!$N:$N,$B$5,_data_Forecast!$O:$O,$C$5,_data_Forecast!$P:$P,$D$5,_data_Forecast!$Q:$Q,$E$5,_data_Forecast!$C:$C,All_series!$L19)=0,\"NA\",SUMIFS(_data_Forecast!E:E,_data_Forecast!$N:$N,$B$5,_data_Forecast!$O:$O,$C$5,_data_Forecast!$P:$P,$D$5,_data_Forecast!$Q:$Q,$E$5,_data_Forecast!$C:$C,All_series!$L19))","v":1.9726151677696899E-4},{"$f":"IF(SUMIFS(_data_Forecast!F:F,_data_Forecast!$N:$N,$B$5,_data_Forecast!$O:$O,$C$5,_data_Forecast!$P:$P,$D$5,_data_Forecast!$Q:$Q,$E$5,_data_Forecast!$C:$C,All_series!$L19)=0,\"NA\",SUMIFS(_data_Forecast!F:F,_data_Forecast!$N:$N,$B$5,_data_Forecast!$O:$O,$C$5,_data_Forecast!$P:$P,$D$5,_data_Forecast!$Q:$Q,$E$5,_data_Forecast!$C:$C,All_series!$L19))","v":1.9598934128896899E-4},{"$f":"IF(SUMIFS(_data_Forecast!G:G,_data_Forecast!$N:$N,$B$5,_data_Forecast!$O:$O,$C$5,_data_Forecast!$P:$P,$D$5,_data_Forecast!$Q:$Q,$E$5,_data_Forecast!$C:$C,All_series!$L19)=0,\"NA\",SUMIFS(_data_Forecast!G:G,_data_Forecast!$N:$N,$B$5,_data_Forecast!$O:$O,$C$5,_data_Forecast!$P:$P,$D$5,_data_Forecast!$Q:$Q,$E$5,_data_Forecast!$C:$C,All_series!$L19))","v":1.94755870160194E-4},{"$f":"IF(SUMIFS(_data_Forecast!H:H,_data_Forecast!$N:$N,$B$5,_data_Forecast!$O:$O,$C$5,_data_Forecast!$P:$P,$D$5,_data_Forecast!$Q:$Q,$E$5,_data_Forecast!$C:$C,All_series!$L19)=0,\"NA\",SUMIFS(_data_Forecast!H:H,_data_Forecast!$N:$N,$B$5,_data_Forecast!$O:$O,$C$5,_data_Forecast!$P:$P,$D$5,_data_Forecast!$Q:$Q,$E$5,_data_Forecast!$C:$C,All_series!$L19))","v":1.93970794420682E-4},{"$f":"IF(SUMIFS(_data_Forecast!I:I,_data_Forecast!$N:$N,$B$5,_data_Forecast!$O:$O,$C$5,_data_Forecast!$P:$P,$D$5,_data_Forecast!$Q:$Q,$E$5,_data_Forecast!$C:$C,All_series!$L19)=0,\"NA\",SUMIFS(_data_Forecast!I:I,_data_Forecast!$N:$N,$B$5,_data_Forecast!$O:$O,$C$5,_data_Forecast!$P:$P,$D$5,_data_Forecast!$Q:$Q,$E$5,_data_Forecast!$C:$C,All_series!$L19))","v":1.9359063026446401E-4},{"$f":"IF(SUMIFS(_data_Forecast!J:J,_data_Forecast!$N:$N,$B$5,_data_Forecast!$O:$O,$C$5,_data_Forecast!$P:$P,$D$5,_data_Forecast!$Q:$Q,$E$5,_data_Forecast!$C:$C,All_series!$L19)=0,\"NA\",SUMIFS(_data_Forecast!J:J,_data_Forecast!$N:$N,$B$5,_data_Forecast!$O:$O,$C$5,_data_Forecast!$P:$P,$D$5,_data_Forecast!$Q:$Q,$E$5,_data_Forecast!$C:$C,All_series!$L19))","v":1.93507722431123E-4},{"$f":"IF(SUMIFS(_data_Forecast!K:K,_data_Forecast!$N:$N,$B$5,_data_Forecast!$O:$O,$C$5,_data_Forecast!$P:$P,$D$5,_data_Forecast!$Q:$Q,$E$5,_data_Forecast!$C:$C,All_series!$L19)=0,\"NA\",SUMIFS(_data_Forecast!K:K,_data_Forecast!$N:$N,$B$5,_data_Forecast!$O:$O,$C$5,_data_Forecast!$P:$P,$D$5,_data_Forecast!$Q:$Q,$E$5,_data_Forecast!$C:$C,All_series!$L19))","v":1.93502910703756E-4},{"$f":"IF(SUMIFS(_data_Forecast!L:L,_data_Forecast!$N:$N,$B$5,_data_Forecast!$O:$O,$C$5,_data_Forecast!$P:$P,$D$5,_data_Forecast!$Q:$Q,$E$5,_data_Forecast!$C:$C,All_series!$L19)=0,\"NA\",SUMIFS(_data_Forecast!L:L,_data_Forecast!$N:$N,$B$5,_data_Forecast!$O:$O,$C$5,_data_Forecast!$P:$P,$D$5,_data_Forecast!$Q:$Q,$E$5,_data_Forecast!$C:$C,All_series!$L19))","v":1.9344114265797E-4},{"$f":"IF(SUMIFS(_data_Forecast!M:M,_data_Forecast!$N:$N,$B$5,_data_Forecast!$O:$O,$C$5,_data_Forecast!$P:$P,$D$5,_data_Forecast!$Q:$Q,$E$5,_data_Forecast!$C:$C,All_series!$L19)=0,\"NA\",SUMIFS(_data_Forecast!M:M,_data_Forecast!$N:$N,$B$5,_data_Forecast!$O:$O,$C$5,_data_Forecast!$P:$P,$D$5,_data_Forecast!$Q:$Q,$E$5,_data_Forecast!$C:$C,All_series!$L19))","v":1.93245686645757E-4}]
[null,null,null,null,null,null,null,null,null,null,null,"35-39",{"$f":"IF(SUMIFS(_data_Forecast!D:D,_data_Forecast!$N:$N,$B$5,_data_Forecast!$O:$O,$C$5,_data_Forecast!$P:$P,$D$5,_data_Forecast!$Q:$Q,$E$5,_data_Forecast!$C:$C,All_series!$L20)=0,\"NA\",SUMIFS(_data_Forecast!D:D,_data_Forecast!$N:$N,$B$5,_data_Forecast!$O:$O,$C$5,_data_Forecast!$P:$P,$D$5,_data_Forecast!$Q:$Q,$E$5,_data_Forecast!$C:$C,All_series!$L20))","v":3.43603227383475E-4},{"$f":"IF(SUMIFS(_data_Forecast!E:E,_data_Forecast!$N:$N,$B$5,_data_Forecast!$O:$O,$C$5,_data_Forecast!$P:$P,$D$5,_data_Forecast!$Q:$Q,$E$5,_data_Forecast!$C:$C,All_series!$L20)=0,\"NA\",SUMIFS(_data_Forecast!E:E,_data_Forecast!$N:$N,$B$5,_data_Forecast!$O:$O,$C$5,_data_Forecast!$P:$P,$D$5,_data_Forecast!$Q:$Q,$E$5,_data_Forecast!$C:$C,All_series!$L20))","v":3.4109802754682801E-4},{"$f":"IF(SUMIFS(_data_Forecast!F:F,_data_Forecast!$N:$N,$B$5,_data_Forecast!$O:$O,$C$5,_data_Forecast!$P:$P,$D$5,_data_Forecast!$Q:$Q,$E$5,_data_Forecast!$C:$C,All_series!$L20)=0,\"NA\",SUMIFS(_data_Forecast!F:F,_data_Forecast!$N:$N,$B$5,_data_Forecast!$O:$O,$C$5,_data_Forecast!$P:$P,$D$5,_data_Forecast!$Q:$Q,$E$5,_data_Forecast!$C:$C,All_series!$L20))","v":3.3850215489840901E-4},{"$f":"IF(SUMIFS(_data_Forecast!G:G,_data_Forecast!$N:$N,$B$5,_data_Forecast!$O:$O,$C$5,_data_Forecast!$P:$P,$D$5,_data_Forecast!$Q:$Q,$E$5,_data_Forecast!$C:$C,All_series!$L20)=0,\"NA\",SUMIFS(_data_Forecast!G:G,_data_Forecast!$N:$N,$B$5,_data_Forecast!$O:$O,$C$5,_data_Forecast!$P:$P,$D$5,_data_Forecast!$Q:$Q,$E$5,_data_Forecast!$C:$C,All_series!$L20))","v":3.3553976848805101E-4},{"$f":"IF(SUMIFS(_data_Forecast!H:H,_data_Forecast!$N:$N,$B$5,_data_Forecast!$O:$O,$C$5,_data_Forecast!$P:$P,$D$5,_data_Forecast!$Q:$Q,$E$5,_data_Forecast!$C:$C,All_series!$L20)=0,\"NA\",SUMIFS(_data_Forecast!H:H,_data_Forecast!$N:$N,$B$5,_data_Forecast!$O:$O,$C$5,_data_Forecast!$P:$P,$D$5,_data_Forecast!$Q:$Q,$E$5,_data_Forecast!$C:$C,All_series!$L20))","v":3.3330828642663701E-4},{"$f":"IF(SUMIFS(_data_Forecast!I:I,_data_Forecast!$N:$N,$B$5,_data_Forecast!$O:$O,$C$5,_data_Forecast!$P:$P,$D$5,_data_Forecast!$Q:$Q,$E$5,_data_Forecast!$C:$C,All_series!$L20)=0,\"NA\",SUMIFS(_data_Forecast!I:I,_data_Forecast!$N:$N,$B$5,_data_Forecast!$O:$O,$C$5,_data_Forecast!$P:$P,$D$5,_data_Forecast!$Q:$Q,$E$5,_data_Forecast!$C:$C,All_series!$L20))","v":3.3121910430285298E-4},{"$f":"IF(SUMIFS(_data_Forecast!J:J,_data_Forecast!$N:$N,$B$5,_data_Forecast!$O:$O,$C$5,_data_Forecast!$P:$P,$D$5,_data_Forecast!$Q:$Q,$E$5,_data_Forecast!$C:$C,All_series!$L20)=0,\"NA\",SUMIFS(_data_Forecast!J:J,_data_Forecast!$N:$N,$B$5,_data_Forecast!$O:$O,$C$5,_data_Forecast!$P:$P,$D$5,_data_Forecast!$Q:$Q,$E$5,_data_Forecast!$C:$C,All_series!$L20))","v":3.2962362459066199E-4},{"$f":"IF(SUMIFS(_data_Forecast!K:K,_data_Forecast!$N:$N,$B$5,_data_Forecast!$O:$O,$C$5,_data_Forecast!$P:$P,$D$5,_data_Forecast!$Q:$Q,$E$5,_data_Forecast!$C:$C,All_series!$L20)=0,\"NA\",SUMIFS(_data_Forecast!K:K,_data_Forecast!$N:$N,$B$5,_data_Forecast!$O:$O,$C$5,_data_Forecast!$P:$P,$D$5,_data_Forecast!$Q:$Q,$E$5,_data_Forecast!$C:$C,All_series!$L20))","v":3.2789884407009E-4},{"$f":"IF(SUMIFS(_data_Forecast!L:L,_data_Forecast!$N:$N,$B$5,_data_Forecast!$O:$O,$C$5,_data_Forecast!$P:$P,$D$5,_data_Forecast!$Q:$Q,$E$5,_data_Forecast!$C:$C,All_series!$L20)=0,\"NA\",SUMIFS(_data_Forecast!L:L,_data_Forecast!$N:$N,$B$5,_data_Forecast!$O:$O,$C$5,_data_Forecast!$P:$P,$D$5,_data_Forecast!$Q:$Q,$E$5,_data_Forecast!$C:$C,All_series!$L20))","v":3.2622728470933402E-4},{"$f":"IF(SUMIFS(_data_Forecast!M:M,_data_Forecast!$N:$N,$B$5,_data_Forecast!$O:$O,$C$5,_data_Forecast!$P:$P,$D$5,_data_Forecast!$Q:$Q,$E$5,_data_Forecast!$C:$C,All_series!$L20)=0,\"NA\",SUMIFS(_data_Forecast!M:M,_data_Forecast!$N:$N,$B$5,_data_Forecast!$O:$O,$C$5,_data_Forecast!$P:$P,$D$5,_data_Forecast!$Q:$Q,$E$5,_data_Forecast!$C:$C,All_series!$L20))","v":3.2425933828798901E-4}]
[null,null,null,null,null,null,null,null,null,null,null,"40-44",{"$f":"IF(SUMIFS(_data_Forecast!D:D,_data_Forecast!$N:$N,$B$5,_data_Forecast!$O:$O,$C$5,_data_Forecast!$P:$P,$D$5,_data_Forecast!$Q:$Q,$E$5,_data_Forecast!$C:$C,All_series!$L21)=0,\"NA\",SUMIFS(_data_Forecast!D:D,_data_Forecast!$N:$N,$B$5,_data_Forecast!$O:$O,$C$5,_data_Forecast!$P:$P,$D$5,_data_Forecast!$Q:$Q,$E$5,_data_Forecast!$C:$C,All_series!$L21))","v":5.87955650533748E-4},{"$f":"IF(SUMIFS(_data_Forecast!E:E,_data_Forecast!$N:$N,$B$5,_data_Forecast!$O:$O,$C$5,_data_Forecast!$P:$P,$D$5,_data_Forecast!$Q:$Q,$E$5,_data_Forecast!$C:$C,All_series!$L21)=0,\"NA\",SUMIFS(_data_Forecast!E:E,_data_Forecast!$N:$N,$B$5,_data_Forecast!$O:$O,$C$5,_data_Forecast!$P:$P,$D$5,_data_Forecast!$Q:$Q,$E$5,_data_Forecast!$C:$C,All_series!$L21))","v":5.81915562428641E-4},{"$f":"IF(SUMIFS(_data_Forecast!F:F,_data_Forecast!$N:$N,$B$5,_data_Forecast!$O:$O,$C$5,_data_Forecast!$P:$P,$D$5,_data_Forecast!$Q:$Q,$E$5,_data_Forecast!$C:$C,All_series!$L21)=0,\"NA\",SUMIFS(_data_Forecast!F:F,_data_Forecast!$N:$N,$B$5,_data_Forecast!$O:$O,$C$5,_data_Forecast!$P:$P,$D$5,_data_Forecast!$Q:$Q,$E$5,_data_Forecast!$C:$C,All_series!$L21))","v":5.7671647235810002E-4},{"$f":"IF(SUMIFS(_data_Forecast!G:G,_data_Forecast!$N:$N,$B$5,_data_Forecast!$O:$O,$C$5,_data_Forecast!$P:$P,$D$5,_data_Forecast!$Q:$Q,$E$5,_data_Forecast!$C:$C,All_series!$L21)=0,\"NA\",SUMIFS(_data_Forecast!G:G,_data_Forecast!$N:$N,$B$5,_data_Forecast!$O:$O,$C$5,_data_Forecast!$P:$P,$D$5,_data_Forecast!$Q:$Q,$E$5,_data_Forecast!$C:$C,All_series!$L21))","v":5.6942083449676201E-4},{"$f":"IF(SUMIFS(_data_Forecast!H:H,_data_Forecast!$N:$N,$B$5,_data_Forecast!$O:$O,$C$5,_data_Forecast!$P:$P,$D$5,_data_Forecast!$Q:$Q,$E$5,_data_Forecast!$C:$C,All_series!$L21)=0,\"NA\",SUMIFS(_data_Forecast!H:H,_data_Forecast!$N:$N,$B$5,_data_Forecast!$O:$O,$C$5,_data_Forecast!$P:$P,$D$5,_data_Forecast!$Q:$Q,$E$5,_data_Forecast!$C:$C,All_series!$L21))","v":5.6359949573852295E-4},{"$f":"IF(SUMIFS(_data_Forecast!I:I,_data_Forecast!$N:$N,$B$5,_data_Forecast!$O:$O,$C$5,_data_Forecast!$P:$P,$D$5,_data_Forecast!$Q:$Q,$E$5,_data_Forecast!$C:$C,All_series!$L21)=0,\"NA\",SUMIFS(_data_Forecast!I:I,_data_Forecast!$N:$N,$B$5,_data_Forecast!$O:$O,$C$5,_data_Forecast!$P:$P,$D$5,_data_Forecast!$Q:$Q,$E$5,_data_Forecast!$C:$C,All_series!$L21))","v":5.5693009763065396E-4},{"$f":"IF(SUMIFS(_data_Forecast!J:J,_data_Forecast!$N:$N,$B$5,_data_Forecast!$O:$O,$C$5,_data_Forecast!$P:$P,$D$5,_data_Forecast!$Q:$Q,$E$5,_data_Forecast!$C:$C,All_series!$L21)=0,\"NA\",SUMIFS(_data_Forecast!J:J,_data_Forecast!$N:$N,$B$5,_data_Forecast!$O:$O,$C$5,_data_Forecast!$P:$P,$D$5,_data_Forecast!$Q:$Q,$E$5,_data_Forecast!$C:$C,All_series!$L21))","v":5.5130538774128904E-4},{"$f":"IF(SUMIFS(_data_Forecast!K:K,_data_Forecast!$N:$N,$B$5,_data_Forecast!$O:$O,$C$5,_data_Forecast!$P:$P,$D$5,_data_Forecast!$Q:$Q,$E$5,_data_Forecast!$C:$C,All_series!$L21)=0,\"NA\",SUMIFS(_data_Forecast!K:K,_data_Forecast!$N:$N,$B$5,_data_Forecast!$O:$O,$C$5,_data_Forecast!$P:$P,$D$5,_data_Forecast!$Q:$Q,$E$5,_data_Forecast!$C:$C,All_series!$L21))","v":5.4494628502909303E-4},{"$f":"IF(SUMIFS(_data_Forecast!L:L,_data_Forecast!$N:$N,$B$5,_data_Forecast!$O:$O,$C$5,_data_Forecast!$P:$P,$D$5,_data_Forecast!$Q:$Q,$E$5,_data_Forecast!$C:$C,All_series!$L21)=0,\"NA\",SUMIFS(_data_Forecast!L:L,_data_Forecast!$N:$N,$B$5,_data_Forecast!$O:$O,$C$5,_data_Forecast!$P:$P,$D$5,_data_Forecast!$Q:$Q,$E$5,_data_Forecast!$C:$C,All_series!$L21))","v":5.3901394738477303E-4},{"$f":"IF(SUMIFS(_data_Forecast!M:M,_data_Forecast!$N:$N,$B$5,_data_Forecast!$O:$O,$C$5,_data_Forecast!$P:$P,$D$5,_data_Forecast!$Q:$Q,$E$5,_data_Forecast!$C:$C,All_series!$L21)=0,\"NA\",SUMIFS(_data_Forecast!M:M,_data_Forecast!$N:$N,$B$5,_data_Forecast!$O:$O,$C$5,_data_Forecast!$P:$P,$D$5,_data_Forecast!$Q:$Q,$E$5,_data_Forecast!$C:$C,All_series!$L21))","v":5.3238656122164103E-4}]
[null,null,null,null,null,null,null,null,null,null,null,"45-49",{"$f":"IF(SUMIFS(_data_Forecast!D:D,_data_Forecast!$N:$N,$B$5,_data_Forecast!$O:$O,$C$5,_data_Forecast!$P:$P,$D$5,_data_Forecast!$Q:$Q,$E$5,_data_Forecast!$C:$C,All_series!$L22)=0,\"NA\",SUMIFS(_data_Forecast!D:D,_data_Forecast!$N:$N,$B$5,_data_Forecast!$O:$O,$C$5,_data_Forecast!$P:$P,$D$5,_data_Forecast!$Q:$Q,$E$5,_data_Forecast!$C:$C,All_series!$L22))","v":1.0175274631188599E-3},{"$f":"IF(SUMIFS(_data_Forecast!E:E,_data_Forecast!$N:$N,$B$5,_data_Forecast!$O:$O,$C$5,_data_Forecast!$P:$P,$D$5,_data_Forecast!$Q:$Q,$E$5,_data_Forecast!$C:$C,All_series!$L22)=0,\"NA\",SUMIFS(_data_Forecast!E:E,_data_Forecast!$N:$N,$B$5,_data_Forecast!$O:$O,$C$5,_data_Forecast!$P:$P,$D$5,_data_Forecast!$Q:$Q,$E$5,_data_Forecast!$C:$C,All_series!$L22))","v":1.0106178089314599E-3},{"$f":"IF(SUMIFS(_data_Forecast!F:F,_data_Forecast!$N:$N,$B$5,_data_Forecast!$O:$O,$C$5,_data_Forecast!$P:$P,$D$5,_data_Forecast!$Q:$Q,$E$5,_data_Forecast!$C:$C,All_series!$L22)=0,\"NA\",SUMIFS(_data_Forecast!F:F,_data_Forecast!$N:$N,$B$5,_data_Forecast!$O:$O,$C$5,_data_Forecast!$P:$P,$D$5,_data_Forecast!$Q:$Q,$E$5,_data_Forecast!$C:$C,All_series!$L22))","v":1.00114086082783E-3},{"$f":"IF(SUMIFS(_data_Forecast!G:G,_data_Forecast!$N:$N,$B$5,_data_Forecast!$O:$O,$C$5,_data_Forecast!$P:$P,$D$5,_data_Forecast!$Q:$Q,$E$5,_data_Forecast!$C:$C,All_series!$L22)=0,\"NA\",SUMIFS(_data_Forecast!G:G,_data_Forecast!$N:$N,$B$5,_data_Forecast!$O:$O,$C$5,_data_Forecast!$P:$P,$D$5,_data_Forecast!$Q:$Q,$E$5,_data_Forecast!$C:$C,All_series!$L22))","v":9.9020460947221809E-4},{"$f":"IF(SUMIFS(_data_Forecast!H:H,_data_Forecast!$N:$N,$B$5,_data_Forecast!$O:$O,$C$5,_data_Forecast!$P:$P,$D$5,_data_Forecast!$Q:$Q,$E$5,_data_Forecast!$C:$C,All_series!$L22)=0,\"NA\",SUMIFS(_data_Forecast!H:H,_data_Forecast!$N:$N,$B$5,_data_Forecast!$O:$O,$C$5,_data_Forecast!$P:$P,$D$5,_data_Forecast!$Q:$Q,$E$5,_data_Forecast!$C:$C,All_series!$L22))","v":9.7841498808986399E-4},{"$f":"IF(SUMIFS(_data_Forecast!I:I,_data_Forecast!$N:$N,$B$5,_data_Forecast!$O:$O,$C$5,_data_Forecast!$P:$P,$D$5,_data_Forecast!$Q:$Q,$E$5,_data_Forecast!$C:$C,All_series!$L22)=0,\"NA\",SUMIFS(_data_Forecast!I:I,_data_Forecast!$N:$N,$B$5,_data_Forecast!$O:$O,$C$5,_data_Forecast!$P:$P,$D$5,_data_Forecast!$Q:$Q,$E$5,_data_Forecast!$C:$C,All_series!$L22))","v":9.6484857422977704E-4},{"$f":"IF(SUMIFS(_data_Forecast!J:J,_data_Forecast!$N:$N,$B$5,_data_Forecast!$O:$O,$C$5,_data_Forecast!$P:$P,$D$5,_data_Forecast!$Q:$Q,$E$5,_data_Forecast!$C:$C,All_series!$L22)=0,\"NA\",SUMIFS(_data_Forecast!J:J,_data_Forecast!$N:$N,$B$5,_data_Forecast!$O:$O,$C$5,_data_Forecast!$P:$P,$D$5,_data_Forecast!$Q:$Q,$E$5,_data_Forecast!$C:$C,All_series!$L22))","v":9.5106704389380005E-4},{"$f":"IF(SUMIFS(_data_Forecast!K:K,_data_Forecast!$N:$N,$B$5,_data_Forecast!$O:$O,$C$5,_data_Forecast!$P:$P,$D$5,_data_Forecast!$Q:$Q,$E$5,_data_Forecast!$C:$C,All_series!$L22)=0,\"NA\",SUMIFS(_data_Forecast!K:K,_data_Forecast!$N:$N,$B$5,_data_Forecast!$O:$O,$C$5,_data_Forecast!$P:$P,$D$5,_data_Forecast!$Q:$Q,$E$5,_data_Forecast!$C:$C,All_series!$L22))","v":9.36441750890144E-4},{"$f":"IF(SUMIFS(_data_Forecast!L:L,_data_Forecast!$N:$N,$B$5,_data_Forecast!$O:$O,$C$5,_data_Forecast!$P:$P,$D$5,_data_Forecast!$Q:$Q,$E$5,_data_Forecast!$C:$C,All_series!$L22)=0,\"NA\",SUMIFS(_data_Forecast!L:L,_data_Forecast!$N:$N,$B$5,_data_Forecast!$O:$O,$C$5,_data_Forecast!$P:$P,$D$5,_data_Forecast!$Q:$Q,$E$5,_data_Forecast!$C:$C,All_series!$L22))","v":9.2251577003698204E-4},{"$f":"IF(SUMIFS(_data_Forecast!M:M,_data_Forecast!$N:$N,$B$5,_data_Forecast!$O:$O,$C$5,_data_Forecast!$P:$P,$D$5,_data_Forecast!$Q:$Q,$E$5,_data_Forecast!$C:$C,All_series!$L22)=0,\"NA\",SUMIFS(_data_Forecast!M:M,_data_Forecast!$N:$N,$B$5,_data_Forecast!$O:$O,$C$5,_data_Forecast!$P:$P,$D$5,_data_Forecast!$Q:$Q,$E$5,_data_Forecast!$C:$C,All_series!$L22))","v":9.0867633849902197E-4}]
[null,null,null,null,null,null,null,null,null,null,null,"50-54",{"$f":"IF(SUMIFS(_data_Forecast!D:D,_data_Forecast!$N:$N,$B$5,_data_Forecast!$O:$O,$C$5,_data_Forecast!$P:$P,$D$5,_data_Forecast!$Q:$Q,$E$5,_data_Forecast!$C:$C,All_series!$L23)=0,\"NA\",SUMIFS(_data_Forecast!D:D,_data_Forecast!$N:$N,$B$5,_data_Forecast!$O:$O,$C$5,_data_Forecast!$P:$P,$D$5,_data_Forecast!$Q:$Q,$E$5,_data_Forecast!$C:$C,All_series!$L23))","v":1.8031544113227601E-3},{"$f":"IF(SUMIFS(_data_Forecast!E:E,_data_Forecast!$N:$N,$B$5,_data_Forecast!$O:$O,$C$5,_data_Forecast!$P:$P,$D$5,_data_Forecast!$Q:$Q,$E$5,_data_Forecast!$C:$C,All_series!$L23)=0,\"NA\",SUMIFS(_data_Forecast!E:E,_data_Forecast!$N:$N,$B$5,_data_Forecast!$O:$O,$C$5,_data_Forecast!$P:$P,$D$5,_data_Forecast!$Q:$Q,$E$5,_data_Forecast!$C:$C,All_series!$L23))","v":1.7937737941160999E-3},{"$f":"IF(SUMIFS(_data_Forecast!F:F,_data_Forecast!$N:$N,$B$5,_data_Forecast!$O:$O,$C$5,_data_Forecast!$P:$P,$D$5,_data_Forecast!$Q:$Q,$E$5,_data_Forecast!$C:$C,All_series!$L23)=0,\"NA\",SUMIFS(_data_Forecast!F:F,_data_Forecast!$N:$N,$B$5,_data_Forecast!$O:$O,$C$5,_data_Forecast!$P:$P,$D$5,_data_Forecast!$Q:$Q,$E$5,_data_Forecast!$C:$C,All_series!$L23))","v":1.77901604927095E-3},{"$f":"IF(SUMIFS(_data_Forecast!G:G,_data_Forecast!$N:$N,$B$5,_data_Forecast!$O:$O,$C$5,_data_Forecast!$P:$P,$D$5,_data_Forecast!$Q:$Q,$E$5,_data_Forecast!$C:$C,All_series!$L23)=0,\"NA\",SUMIFS(_data_Forecast!G:G,_data_Forecast!$N:$N,$B$5,_data_Forecast!$O:$O,$C$5,_data_Forecast!$P:$P,$D$5,_data_Forecast!$Q:$Q,$E$5,_data_Forecast!$C:$C,All_series!$L23))","v":1.76334864460025E-3},{"$f":"IF(SUMIFS(_data_Forecast!H:H,_data_Forecast!$N:$N,$B$5,_data_Forecast!$O:$O,$C$5,_data_Forecast!$P:$P,$D$5,_data_Forecast!$Q:$Q,$E$5,_data_Forecast!$C:$C,All_series!$L23)=0,\"NA\",SUMIFS(_data_Forecast!H:H,_data_Forecast!$N:$N,$B$5,_data_Forecast!$O:$O,$C$5,_data_Forecast!$P:$P,$D$5,_data_Forecast!$Q:$Q,$E$5,_data_Forecast!$C:$C,All_series!$L23))","v":1.7463332709536799E-3},{"$f":"IF(SUMIFS(_data_Forecast!I:I,_data_Forecast!$N:$N,$B$5,_data_Forecast!$O:$O,$C$5,_data_Forecast!$P:$P,$D$5,_data_Forecast!$Q:$Q,$E$5,_data_Forecast!$C:$C,All_series!$L23)=0,\"NA\",SUMIFS(_data_Forecast!I:I,_data_Forecast!$N:$N,$B$5,_data_Forecast!$O:$O,$C$5,_data_Forecast!$P:$P,$D$5,_data_Forecast!$Q:$Q,$E$5,_data_Forecast!$C:$C,All_series!$L23))","v":1.7279841305825501E-3},{"$f":"IF(SUMIFS(_data_Forecast!J:J,_data_Forecast!$N:$N,$B$5,_data_Forecast!$O:$O,$C$5,_data_Forecast!$P:$P,$D$5,_data_Forecast!$Q:$Q,$E$5,_data_Forecast!$C:$C,All_series!$L23)=0,\"NA\",SUMIFS(_data_Forecast!J:J,_data_Forecast!$N:$N,$B$5,_data_Forecast!$O:$O,$C$5,_data_Forecast!$P:$P,$D$5,_data_Forecast!$Q:$Q,$E$5,_data_Forecast!$C:$C,All_series!$L23))","v":1.70942141890204E-3},{"$f":"IF(SUMIFS(_data_Forecast!K:K,_data_Forecast!$N:$N,$B$5,_data_Forecast!$O:$O,$C$5,_data_Forecast!$P:$P,$D$5,_data_Forecast!$Q:$Q,$E$5,_data_Forecast!$C:$C,All_series!$L23)=0,\"NA\",SUMIFS(_data_Forecast!K:K,_data_Forecast!$N:$N,$B$5,_data_Forecast!$O:$O,$C$5,_data_Forecast!$P:$P,$D$5,_data_Forecast!$Q:$Q,$E$5,_data_Forecast!$C:$C,All_series!$L23))","v":1.69012464956754E-3},{"$f":"IF(SUMIFS(_data_Forecast!L:L,_data_Forecast!$N:$N,$B$5,_data_Forecast!$O:$O,$C$5,_data_Forecast!$P:$P,$D$5,_data_Forecast!$Q:$Q,$E$5,_data_Forecast!$C:$C,All_series!$L23)=0,\"NA\",SUMIFS(_data_Forecast!L:L,_data_Forecast!$N:$N,$B$5,_data_Forecast!$O:$O,$C$5,_data_Forecast!$P:$P,$D$5,_data_Forecast!$Q:$Q,$E$5,_data_Forecast!$C:$C,All_series!$L23))","v":1.67135137342221E-3},{"$f":"IF(SUMIFS(_data_Forecast!M:M,_data_Forecast!$N:$N,$B$5,_data_Forecast!$O:$O,$C$5,_data_Forecast!$P:$P,$D$5,_data_Forecast!$Q:$Q,$E$5,_data_Forecast!$C:$C,All_series!$L23)=0,\"NA\",SUMIFS(_data_Forecast!M:M,_data_Forecast!$N:$N,$B$5,_data_Forecast!$O:$O,$C$5,_data_Forecast!$P:$P,$D$5,_data_Forecast!$Q:$Q,$E$5,_data_Forecast!$C:$C,All_series!$L23))","v":1.65243856274213E-3}]
[null,null,null,null,null,null,null,null,null,null,null,"55-59",{"$f":"IF(SUMIFS(_data_Forecast!D:D,_data_Forecast!$N:$N,$B$5,_data_Forecast!$O:$O,$C$5,_data_Forecast!$P:$P,$D$5,_data_Forecast!$Q:$Q,$E$5,_data_Forecast!$C:$C,All_series!$L24)=0,\"NA\",SUMIFS(_data_Forecast!D:D,_data_Forecast!$N:$N,$B$5,_data_Forecast!$O:$O,$C$5,_data_Forecast!$P:$P,$D$5,_data_Forecast!$Q:$Q,$E$5,_data_Forecast!$C:$C,All_series!$L24))","v":2.8853088943055901E-3},{"$f":"IF(SUMIFS(_data_Forecast!E:E,_data_Forecast!$N:$N,$B$5,_data_Forecast!$O:$O,$C$5,_data_Forecast!$P:$P,$D$5,_data_Forecast!$Q:$Q,$E$5,_data_Forecast!$C:$C,All_series!$L24)=0,\"NA\",SUMIFS(_data_Forecast!E:E,_data_Forecast!$N:$N,$B$5,_data_Forecast!$O:$O,$C$5,_data_Forecast!$P:$P,$D$5,_data_Forecast!$Q:$Q,$E$5,_data_Forecast!$C:$C,All_series!$L24))","v":2.8579545401597501E-3},{"$f":"IF(SUMIFS(_data_Forecast!F:F,_data_Forecast!$N:$N,$B$5,_data_Forecast!$O:$O,$C$5,_data_Forecast!$P:$P,$D$5,_data_Forecast!$Q:$Q,$E$5,_data_Forecast!$C:$C,All_series!$L24)=0,\"NA\",SUMIFS(_data_Forecast!F:F,_data_Forecast!$N:$N,$B$5,_data_Forecast!$O:$O,$C$5,_data_Forecast!$P:$P,$D$5,_data_Forecast!$Q:$Q,$E$5,_data_Forecast!$C:$C,All_series!$L24))","v":2.82491531120842E-3},{"$f":"IF(SUMIFS(_data_Forecast!G:G,_data_Forecast!$N:$N,$B$5,_data_Forecast!$O:$O,$C$5,_data_Forecast!$P:$P,$D$5,_data_Forecast!$Q:$Q,$E$5,_data_Forecast!$C:$C,All_series!$L24)=0,\"NA\",SUMIFS(_data_Forecast!G:G,_data_Forecast!$N:$N,$B$5,_data_Forecast!$O:$O,$C$5,_data_Forecast!$P:$P,$D$5,_data_Forecast!$Q:$Q,$E$5,_data_Forecast!$C:$C,All_series!$L24))","v":2.7956501923454098E-3},{"$f":"IF(SUMIFS(_data_Forecast!H:H,_data_Forecast!$N:$N,$B$5,_data_Forecast!$O:$O,$C$5,_data_Forecast!$P:$P,$D$5,_data_Forecast!$Q:$Q,$E$5,_data_Forecast!$C:$C,All_series!$L24)=0,\"NA\",SUMIFS(_data_Forecast!H:H,_data_Forecast!$N:$N,$B$5,_data_Forecast!$O:$O,$C$5,_data_Forecast!$P:$P,$D$5,_data_Forecast!$Q:$Q,$E$5,_data_Forecast!$C:$C,All_series!$L24))","v":2.7647928587819499E-3},{"$f":"IF(SUMIFS(_data_Forecast!I:I,_data_Forecast!$N:$N,$B$5,_data_Forecast!$O:$O,$C$5,_data_Forecast!$P:$P,$D$5,_data_Forecast!$Q:$Q,$E$5,_data_Forecast!$C:$C,All_series!$L24)=0,\"NA\",SUMIFS(_data_Forecast!I:I,_data_Forecast!$N:$N,$B$5,_data_Forecast!$O:$O,$C$5,_data_Forecast!$P:$P,$D$5,_data_Forecast!$Q:$Q,$E$5,_data_Forecast!$C:$C,All_series!$L24))","v":2.73526833327807E-3},{"$f":"IF(SUMIFS(_data_Forecast!J:J,_data_Forecast!$N:$N,$B$5,_data_Forecast!$O:$O,$C$5,_data_Forecast!$P:$P,$D$5,_data_Forecast!$Q:$Q,$E$5,_data_Forecast!$C:$C,All_series!$L24)=0,\"NA\",SUMIFS(_data_Forecast!J:J,_data_Forecast!$N:$N,$B$5,_data_Forecast!$O:$O,$C$5,_data_Forecast!$P:$P,$D$5,_data_Forecast!$Q:$Q,$E$5,_data_Forecast!$C:$C,All_series!$L24))","v":2.7054331158886898E-3},{"$f":"IF(SUMIFS(_data_Forecast!K:K,_data_Forecast!$N:$N,$B$5,_data_Forecast!$O:$O,$C$5,_data_Forecast!$P:$P,$D$5,_data_Forecast!$Q:$Q,$E$5,_data_Forecast!$C:$C,All_series!$L24)=0,\"NA\",SUMIFS(_data_Forecast!K:K,_data_Forecast!$N:$N,$B$5,_data_Forecast!$O:$O,$C$5,_data_Forecast!$P:$P,$D$5,_data_Forecast!$Q:$Q,$E$5,_data_Forecast!$C:$C,All_series!$L24))","v":2.6762142189535099E-3},{"$f":"IF(SUMIFS(_data_Forecast!L:L,_data_Forecast!$N:$N,$B$5,_data_Forecast!$O:$O,$C$5,_data_Forecast!$P:$P,$D$5,_data_Forecast!$Q:$Q,$E$5,_data_Forecast!$C:$C,All_series!$L24)=0,\"NA\",SUMIFS(_data_Forecast!L:L,_data_Forecast!$N:$N,$B$5,_data_Forecast!$O:$O,$C$5,_data_Forecast!$P:$P,$D$5,_data_Forecast!$Q:$Q,$E$5,_data_Forecast!$C:$C,All_series!$L24))","v":2.6470612577074201E-3},{"$f":"IF(SUMIFS(_data_Forecast!M:M,_data_Forecast!$N:$N,$B$5,_data_Forecast!$O:$O,$C$5,_data_Forecast!$P:$P,$D$5,_data_Forecast!$Q:$Q,$E$5,_data_Forecast!$C:$C,All_series!$L24)=0,\"NA\",SUMIFS(_data_Forecast!M:M,_data_Forecast!$N:$N,$B$5,_data_Forecast!$O:$O,$C$5,_data_Forecast!$P:$P,$D$5,_data_Forecast!$Q:$Q,$E$5,_data_Forecast!$C:$C,All_series!$L24))","v":2.6182153572824099E-3}]
[null,null,null,null,null,null,null,null,null,null,null,"60-64",{"$f":"IF(SUMIFS(_data_Forecast!D:D,_data_Forecast!$N:$N,$B$5,_data_Forecast!$O:$O,$C$5,_data_Forecast!$P:$P,$D$5,_data_Forecast!$Q:$Q,$E$5,_data_Forecast!$C:$C,All_series!$L25)=0,\"NA\",SUMIFS(_data_Forecast!D:D,_data_Forecast!$N:$N,$B$5,_data_Forecast!$O:$O,$C$5,_data_Forecast!$P:$P,$D$5,_data_Forecast!$Q:$Q,$E$5,_data_Forecast!$C:$C,All_series!$L25))","v":4.6522982675617098E-3},{"$f":"IF(SUMIFS(_data_Forecast!E:E,_data_Forecast!$N:$N,$B$5,_data_Forecast!$O:$O,$C$5,_data_Forecast!$P:$P,$D$5,_data_Forecast!$Q:$Q,$E$5,_data_Forecast!$C:$C,All_series!$L25)=0,\"NA\",SUMIFS(_data_Forecast!E:E,_data_Forecast!$N:$N,$B$5,_data_Forecast!$O:$O,$C$5,_data_Forecast!$P:$P,$D$5,_data_Forecast!$Q:$Q,$E$5,_data_Forecast!$C:$C,All_series!$L25))","v":4.6157936171201102E-3},{"$f":"IF(SUMIFS(_data_Forecast!F:F,_data_Forecast!$N:$N,$B$5,_data_Forecast!$O:$O,$C$5,_data_Forecast!$P:$P,$D$5,_data_Forecast!$Q:$Q,$E$5,_data_Forecast!$C:$C,All_series!$L25)=0,\"NA\",SUMIFS(_data_Forecast!F:F,_data_Forecast!$N:$N,$B$5,_data_Forecast!$O:$O,$C$5,_data_Forecast!$P:$P,$D$5,_data_Forecast!$Q:$Q,$E$5,_data_Forecast!$C:$C,All_series!$L25))","v":4.57740365632221E-3},{"$f":"IF(SUMIFS(_data_Forecast!G:G,_data_Forecast!$N:$N,$B$5,_data_Forecast!$O:$O,$C$5,_data_Forecast!$P:$P,$D$5,_data_Forecast!$Q:$Q,$E$5,_data_Forecast!$C:$C,All_series!$L25)=0,\"NA\",SUMIFS(_data_Forecast!G:G,_data_Forecast!$N:$N,$B$5,_data_Forecast!$O:$O,$C$5,_data_Forecast!$P:$P,$D$5,_data_Forecast!$Q:$Q,$E$5,_data_Forecast!$C:$C,All_series!$L25))","v":4.5420824720122897E-3},{"$f":"IF(SUMIFS(_data_Forecast!H:H,_data_Forecast!$N:$N,$B$5,_data_Forecast!$O:$O,$C$5,_data_Forecast!$P:$P,$D$5,_data_Forecast!$Q:$Q,$E$5,_data_Forecast!$C:$C,All_series!$L25)=0,\"NA\",SUMIFS(_data_Forecast!H:H,_data_Forecast!$N:$N,$B$5,_data_Forecast!$O:$O,$C$5,_data_Forecast!$P:$P,$D$5,_data_Forecast!$Q:$Q,$E$5,_data_Forecast!$C:$C,All_series!$L25))","v":4.5046608489710798E-3},{"$f":"IF(SUMIFS(_data_Forecast!I:I,_data_Forecast!$N:$N,$B$5,_data_Forecast!$O:$O,$C$5,_data_Forecast!$P:$P,$D$5,_data_Forecast!$Q:$Q,$E$5,_data_Forecast!$C:$C,All_series!$L25)=0,\"NA\",SUMIFS(_data_Forecast!I:I,_data_Forecast!$N:$N,$B$5,_data_Forecast!$O:$O,$C$5,_data_Forecast!$P:$P,$D$5,_data_Forecast!$Q:$Q,$E$5,_data_Forecast!$C:$C,All_series!$L25))","v":4.4677936924444103E-3},{"$f":"IF(SUMIFS(_data_Forecast!J:J,_data_Forecast!$N:$N,$B$5,_data_Forecast!$O:$O,$C$5,_data_Forecast!$P:$P,$D$5,_data_Forecast!$Q:$Q,$E$5,_data_Forecast!$C:$C,All_series!$L25)=0,\"NA\",SUMIFS(_data_Forecast!J:J,_data_Forecast!$N:$N,$B$5,_data_Forecast!$O:$O,$C$5,_data_Forecast!$P:$P,$D$5,_data_Forecast!$Q:$Q,$E$5,_data_Forecast!$C:$C,All_series!$L25))","v":4.4303685910556997E-3},{"$f":"IF(SUMIFS(_data_Forecast!K:K,_data_Forecast!$N:$N,$B$5,_data_Forecast!$O:$O,$C$5,_data_Forecast!$P:$P,$D$5,_data_Forecast!$Q:$Q,$E$5,_data_Forecast!$C:$C,All_series!$L25)=0,\"NA\",SUMIFS(_data_Forecast!K:K,_data_Forecast!$N:$N,$B$5,_data_Forecast!$O:$O,$C$5,_data_Forecast!$P:$P,$D$5,_data_Forecast!$Q:$Q,$E$5,_data_Forecast!$C:$C,All_series!$L25))","v":4.3935800538865699E-3},{"$f":"IF(SUMIFS(_data_Forecast!L:L,_data_Forecast!$N:$N,$B$5,_data_Forecast!$O:$O,$C$5,_data_Forecast!$P:$P,$D$5,_data_Forecast!$Q:$Q,$E$5,_data_Forecast!$C:$C,All_series!$L25)=0,\"NA\",SUMIFS(_data_Forecast!L:L,_data_Forecast!$N:$N,$B$5,_data_Forecast!$O:$O,$C$5,_data_Forecast!$P:$P,$D$5,_data_Forecast!$Q:$Q,$E$5,_data_Forecast!$C:$C,All_series!$L25))","v":4.3571795616042996E-3},{"$f":"IF(SUMIFS(_data_Forecast!M:M,_data_Forecast!$N:$N,$B$5,_data_Forecast!$O:$O,$C$5,_data_Forecast!$P:$P,$D$5,_data_Forecast!$Q:$Q,$E$5,_data_Forecast!$C:$C,All_series!$L25)=0,\"NA\",SUMIFS(_data_Forecast!M:M,_data_Forecast!$N:$N,$B$5,_data_Forecast!$O:$O,$C$5,_data_Forecast!$P:$P,$D$5,_data_Forecast!$Q:$Q,$E$5,_data_Forecast!$C:$C,All_series!$L25))","v":4.3214963574507203E-3}]
[null,null,null,null,null,null,null,null,null,null,null,"65-69",{"$f":"IF(SUMIFS(_data_Forecast!D:D,_data_Forecast!$N:$N,$B$5,_data_Forecast!$O:$O,$C$5,_data_Forecast!$P:$P,$D$5,_data_Forecast!$Q:$Q,$E$5,_data_Forecast!$C:$C,All_series!$L26)=0,\"NA\",SUMIFS(_data_Forecast!D:D,_data_Forecast!$N:$N,$B$5,_data_Forecast!$O:$O,$C$5,_data_Forecast!$P:$P,$D$5,_data_Forecast!$Q:$Q,$E$5,_data_Forecast!$C:$C,All_series!$L26))","v":7.1264454462202304E-3},{"$f":"IF(SUMIFS(_data_Forecast!E:E,_data_Forecast!$N:$N,$B$5,_data_Forecast!$O:$O,$C$5,_data_Forecast!$P:$P,$D$5,_data_Forecast!$Q:$Q,$E$5,_data_Forecast!$C:$C,All_series!$L26)=0,\"NA\",SUMIFS(_data_Forecast!E:E,_data_Forecast!$N:$N,$B$5,_data_Forecast!$O:$O,$C$5,_data_Forecast!$P:$P,$D$5,_data_Forecast!$Q:$Q,$E$5,_data_Forecast!$C:$C,All_series!$L26))","v":7.09015567252054E-3},{"$f":"IF(SUMIFS(_data_Forecast!F:F,_data_Forecast!$N:$N,$B$5,_data_Forecast!$O:$O,$C$5,_data_Forecast!$P:$P,$D$5,_data_Forecast!$Q:$Q,$E$5,_data_Forecast!$C:$C,All_series!$L26)=0,\"NA\",SUMIFS(_data_Forecast!F:F,_data_Forecast!$N:$N,$B$5,_data_Forecast!$O:$O,$C$5,_data_Forecast!$P:$P,$D$5,_data_Forecast!$Q:$Q,$E$5,_data_Forecast!$C:$C,All_series!$L26))","v":7.0513784329180804E-3},{"$f":"IF(SUMIFS(_data_Forecast!G:G,_data_Forecast!$N:$N,$B$5,_data_Forecast!$O:$O,$C$5,_data_Forecast!$P:$P,$D$5,_data_Forecast!$Q:$Q,$E$5,_data_Forecast!$C:$C,All_series!$L26)=0,\"NA\",SUMIFS(_data_Forecast!G:G,_data_Forecast!$N:$N,$B$5,_data_Forecast!$O:$O,$C$5,_data_Forecast!$P:$P,$D$5,_data_Forecast!$Q:$Q,$E$5,_data_Forecast!$C:$C,All_series!$L26))","v":7.0155758556528502E-3},{"$f":"IF(SUMIFS(_data_Forecast!H:H,_data_Forecast!$N:$N,$B$5,_data_Forecast!$O:$O,$C$5,_data_Forecast!$P:$P,$D$5,_data_Forecast!$Q:$Q,$E$5,_data_Forecast!$C:$C,All_series!$L26)=0,\"NA\",SUMIFS(_data_Forecast!H:H,_data_Forecast!$N:$N,$B$5,_data_Forecast!$O:$O,$C$5,_data_Forecast!$P:$P,$D$5,_data_Forecast!$Q:$Q,$E$5,_data_Forecast!$C:$C,All_series!$L26))","v":6.9769763312058503E-3},{"$f":"IF(SUMIFS(_data_Forecast!I:I,_data_Forecast!$N:$N,$B$5,_data_Forecast!$O:$O,$C$5,_data_Forecast!$P:$P,$D$5,_data_Forecast!$Q:$Q,$E$5,_data_Forecast!$C:$C,All_series!$L26)=0,\"NA\",SUMIFS(_data_Forecast!I:I,_data_Forecast!$N:$N,$B$5,_data_Forecast!$O:$O,$C$5,_data_Forecast!$P:$P,$D$5,_data_Forecast!$Q:$Q,$E$5,_data_Forecast!$C:$C,All_series!$L26))","v":6.9390874219785901E-3},{"$f":"IF(SUMIFS(_data_Forecast!J:J,_data_Forecast!$N:$N,$B$5,_data_Forecast!$O:$O,$C$5,_data_Forecast!$P:$P,$D$5,_data_Forecast!$Q:$Q,$E$5,_data_Forecast!$C:$C,All_series!$L26)=0,\"NA\",SUMIFS(_data_Forecast!J:J,_data_Forecast!$N:$N,$B$5,_data_Forecast!$O:$O,$C$5,_data_Forecast!$P:$P,$D$5,_data_Forecast!$Q:$Q,$E$5,_data_Forecast!$C:$C,All_series!$L26))","v":6.9006965620072502E-3},{"$f":"IF(SUMIFS(_data_Forecast!K:K,_data_Forecast!$N:$N,$B$5,_data_Forecast!$O:$O,$C$5,_data_Forecast!$P:$P,$D$5,_data_Forecast!$Q:$Q,$E$5,_data_Forecast!$C:$C,All_series!$L26)=0,\"NA\",SUMIFS(_data_Forecast!K:K,_data_Forecast!$N:$N,$B$5,_data_Forecast!$O:$O,$C$5,_data_Forecast!$P:$P,$D$5,_data_Forecast!$Q:$Q,$E$5,_data_Forecast!$C:$C,All_series!$L26))","v":6.8631814722119799E-3},{"$f":"IF(SUMIFS(_data_Forecast!L:L,_data_Forecast!$N:$N,$B$5,_data_Forecast!$O:$O,$C$5,_data_Forecast!$P:$P,$D$5,_data_Forecast!$Q:$Q,$E$5,_data_Forecast!$C:$C,All_series!$L26)=0,\"NA\",SUMIFS(_data_Forecast!L:L,_data_Forecast!$N:$N,$B$5,_data_Forecast!$O:$O,$C$5,_data_Forecast!$P:$P,$D$5,_data_Forecast!$Q:$Q,$E$5,_data_Forecast!$C:$C,All_series!$L26))","v":6.8260503493537596E-3},{"$f":"IF(SUMIFS(_data_Forecast!M:M,_data_Forecast!$N:$N,$B$5,_data_Forecast!$O:$O,$C$5,_data_Forecast!$P:$P,$D$5,_data_Forecast!$Q:$Q,$E$5,_data_Forecast!$C:$C,All_series!$L26)=0,\"NA\",SUMIFS(_data_Forecast!M:M,_data_Forecast!$N:$N,$B$5,_data_Forecast!$O:$O,$C$5,_data_Forecast!$P:$P,$D$5,_data_Forecast!$Q:$Q,$E$5,_data_Forecast!$C:$C,All_series!$L26))","v":6.7895936360207699E-3}]
[null,null,null,null,null,null,null,null,null,null,null,"70-74",{"$f":"IF(SUMIFS(_data_Forecast!D:D,_data_Forecast!$N:$N,$B$5,_data_Forecast!$O:$O,$C$5,_data_Forecast!$P:$P,$D$5,_data_Forecast!$Q:$Q,$E$5,_data_Forecast!$C:$C,All_series!$L27)=0,\"NA\",SUMIFS(_data_Forecast!D:D,_data_Forecast!$N:$N,$B$5,_data_Forecast!$O:$O,$C$5,_data_Forecast!$P:$P,$D$5,_data_Forecast!$Q:$Q,$E$5,_data_Forecast!$C:$C,All_series!$L27))","v":9.8943655253988603E-3},{"$f":"IF(SUMIFS(_data_Forecast!E:E,_data_Forecast!$N:$N,$B$5,_data_Forecast!$O:$O,$C$5,_data_Forecast!$P:$P,$D$5,_data_Forecast!$Q:$Q,$E$5,_data_Forecast!$C:$C,All_series!$L27)=0,\"NA\",SUMIFS(_data_Forecast!E:E,_data_Forecast!$N:$N,$B$5,_data_Forecast!$O:$O,$C$5,_data_Forecast!$P:$P,$D$5,_data_Forecast!$Q:$Q,$E$5,_data_Forecast!$C:$C,All_series!$L27))","v":9.8478428746576301E-3},{"$f":"IF(SUMIFS(_data_Forecast!F:F,_data_Forecast!$N:$N,$B$5,_data_Forecast!$O:$O,$C$5,_data_Forecast!$P:$P,$D$5,_data_Forecast!$Q:$Q,$E$5,_data_Forecast!$C:$C,All_series!$L27)=0,\"NA\",SUMIFS(_data_Forecast!F:F,_data_Forecast!$N:$N,$B$5,_data_Forecast!$O:$O,$C$5,_data_Forecast!$P:$P,$D$5,_data_Forecast!$Q:$Q,$E$5,_data_Forecast!$C:$C,All_series!$L27))","v":9.7898871997766299E-3},{"$f":"IF(SUMIFS(_data_Forecast!G:G,_data_Forecast!$N:$N,$B$5,_data_Forecast!$O:$O,$C$5,_data_Forecast!$P:$P,$D$5,_data_Forecast!$Q:$Q,$E$5,_data_Forecast!$C:$C,All_series!$L27)=0,\"NA\",SUMIFS(_data_Forecast!G:G,_data_Forecast!$N:$N,$B$5,_data_Forecast!$O:$O,$C$5,_data_Forecast!$P:$P,$D$5,_data_Forecast!$Q:$Q,$E$5,_data_Forecast!$C:$C,All_series!$L27))","v":9.7367375304541898E-3},{"$f":"IF(SUMIFS(_data_Forecast!H:H,_data_Forecast!$N:$N,$B$5,_data_Forecast!$O:$O,$C$5,_data_Forecast!$P:$P,$D$5,_data_Forecast!$Q:$Q,$E$5,_data_Forecast!$C:$C,All_series!$L27)=0,\"NA\",SUMIFS(_data_Forecast!H:H,_data_Forecast!$N:$N,$B$5,_data_Forecast!$O:$O,$C$5,_data_Forecast!$P:$P,$D$5,_data_Forecast!$Q:$Q,$E$5,_data_Forecast!$C:$C,All_series!$L27))","v":9.6773193943904701E-3},{"$f":"IF(SUMIFS(_data_Forecast!I:I,_data_Forecast!$N:$N,$B$5,_data_Forecast!$O:$O,$C$5,_data_Forecast!$P:$P,$D$5,_data_Forecast!$Q:$Q,$E$5,_data_Forecast!$C:$C,All_series!$L27)=0,\"NA\",SUMIFS(_data_Forecast!I:I,_data_Forecast!$N:$N,$B$5,_data_Forecast!$O:$O,$C$5,_data_Forecast!$P:$P,$D$5,_data_Forecast!$Q:$Q,$E$5,_data_Forecast!$C:$C,All_series!$L27))","v":9.6187965633249498E-3},{"$f":"IF(SUMIFS(_data_Forecast!J:J,_data_Forecast!$N:$N,$B$5,_data_Forecast!$O:$O,$C$5,_data_Forecast!$P:$P,$D$5,_data_Forecast!$Q:$Q,$E$5,_data_Forecast!$C:$C,All_series!$L27)=0,\"NA\",SUMIFS(_data_Forecast!J:J,_data_Forecast!$N:$N,$B$5,_data_Forecast!$O:$O,$C$5,_data_Forecast!$P:$P,$D$5,_data_Forecast!$Q:$Q,$E$5,_data_Forecast!$C:$C,All_series!$L27))","v":9.5585489754503195E-3},{"$f":"IF(SUMIFS(_data_Forecast!K:K,_data_Forecast!$N:$N,$B$5,_data_Forecast!$O:$O,$C$5,_data_Forecast!$P:$P,$D$5,_data_Forecast!$Q:$Q,$E$5,_data_Forecast!$C:$C,All_series!$L27)=0,\"NA\",SUMIFS(_data_Forecast!K:K,_data_Forecast!$N:$N,$B$5,_data_Forecast!$O:$O,$C$5,_data_Forecast!$P:$P,$D$5,_data_Forecast!$Q:$Q,$E$5,_data_Forecast!$C:$C,All_series!$L27))","v":9.4994484755607407E-3},{"$f":"IF(SUMIFS(_data_Forecast!L:L,_data_Forecast!$N:$N,$B$5,_data_Forecast!$O:$O,$C$5,_data_Forecast!$P:$P,$D$5,_data_Forecast!$Q:$Q,$E$5,_data_Forecast!$C:$C,All_series!$L27)=0,\"NA\",SUMIFS(_data_Forecast!L:L,_data_Forecast!$N:$N,$B$5,_data_Forecast!$O:$O,$C$5,_data_Forecast!$P:$P,$D$5,_data_Forecast!$Q:$Q,$E$5,_data_Forecast!$C:$C,All_series!$L27))","v":9.4407154150120392E-3},{"$f":"IF(SUMIFS(_data_Forecast!M:M,_data_Forecast!$N:$N,$B$5,_data_Forecast!$O:$O,$C$5,_data_Forecast!$P:$P,$D$5,_data_Forecast!$Q:$Q,$E$5,_data_Forecast!$C:$C,All_series!$L27)=0,\"NA\",SUMIFS(_data_Forecast!M:M,_data_Forecast!$N:$N,$B$5,_data_Forecast!$O:$O,$C$5,_data_Forecast!$P:$P,$D$5,_data_Forecast!$Q:$Q,$E$5,_data_Forecast!$C:$C,All_series!$L27))","v":9.3832523464968901E-3}]
[null,null,null,null,null,null,null,null,null,null,null,"75-79",{"$f":"IF(SUMIFS(_data_Forecast!D:D,_data_Forecast!$N:$N,$B$5,_data_Forecast!$O:$O,$C$5,_data_Forecast!$P:$P,$D$5,_data_Forecast!$Q:$Q,$E$5,_data_Forecast!$C:$C,All_series!$L28)=0,\"NA\",SUMIFS(_data_Forecast!D:D,_data_Forecast!$N:$N,$B$5,_data_Forecast!$O:$O,$C$5,_data_Forecast!$P:$P,$D$5,_data_Forecast!$Q:$Q,$E$5,_data_Forecast!$C:$C,All_series!$L28))","v":1.2859019900413601E-2},{"$f":"IF(SUMIFS(_data_Forecast!E:E,_data_Forecast!$N:$N,$B$5,_data_Forecast!$O:$O,$C$5,_data_Forecast!$P:$P,$D$5,_data_Forecast!$Q:$Q,$E$5,_data_Forecast!$C:$C,All_series!$L28)=0,\"NA\",SUMIFS(_data_Forecast!E:E,_data_Forecast!$N:$N,$B$5,_data_Forecast!$O:$O,$C$5,_data_Forecast!$P:$P,$D$5,_data_Forecast!$Q:$Q,$E$5,_data_Forecast!$C:$C,All_series!$L28))","v":1.2818702178711099E-2},{"$f":"IF(SUMIFS(_data_Forecast!F:F,_data_Forecast!$N:$N,$B$5,_data_Forecast!$O:$O,$C$5,_data_Forecast!$P:$P,$D$5,_data_Forecast!$Q:$Q,$E$5,_data_Forecast!$C:$C,All_series!$L28)=0,\"NA\",SUMIFS(_data_Forecast!F:F,_data_Forecast!$N:$N,$B$5,_data_Forecast!$O:$O,$C$5,_data_Forecast!$P:$P,$D$5,_data_Forecast!$Q:$Q,$E$5,_data_Forecast!$C:$C,All_series!$L28))","v":1.27596330971431E-2},{"$f":"IF(SUMIFS(_data_Forecast!G:G,_data_Forecast!$N:$N,$B$5,_data_Forecast!$O:$O,$C$5,_data_Forecast!$P:$P,$D$5,_data_Forecast!$Q:$Q,$E$5,_data_Forecast!$C:$C,All_series!$L28)=0,\"NA\",SUMIFS(_data_Forecast!G:G,_data_Forecast!$N:$N,$B$5,_data_Forecast!$O:$O,$C$5,_data_Forecast!$P:$P,$D$5,_data_Forecast!$Q:$Q,$E$5,_data_Forecast!$C:$C,All_series!$L28))","v":1.2709563377507E-2},{"$f":"IF(SUMIFS(_data_Forecast!H:H,_data_Forecast!$N:$N,$B$5,_data_Forecast!$O:$O,$C$5,_data_Forecast!$P:$P,$D$5,_data_Forecast!$Q:$Q,$E$5,_data_Forecast!$C:$C,All_series!$L28)=0,\"NA\",SUMIFS(_data_Forecast!H:H,_data_Forecast!$N:$N,$B$5,_data_Forecast!$O:$O,$C$5,_data_Forecast!$P:$P,$D$5,_data_Forecast!$Q:$Q,$E$5,_data_Forecast!$C:$C,All_series!$L28))","v":1.2648132974210999E-2},{"$f":"IF(SUMIFS(_data_Forecast!I:I,_data_Forecast!$N:$N,$B$5,_data_Forecast!$O:$O,$C$5,_data_Forecast!$P:$P,$D$5,_data_Forecast!$Q:$Q,$E$5,_data_Forecast!$C:$C,All_series!$L28)=0,\"NA\",SUMIFS(_data_Forecast!I:I,_data_Forecast!$N:$N,$B$5,_data_Forecast!$O:$O,$C$5,_data_Forecast!$P:$P,$D$5,_data_Forecast!$Q:$Q,$E$5,_data_Forecast!$C:$C,All_series!$L28))","v":1.25848750523325E-2},{"$f":"IF(SUMIFS(_data_Forecast!J:J,_data_Forecast!$N:$N,$B$5,_data_Forecast!$O:$O,$C$5,_data_Forecast!$P:$P,$D$5,_data_Forecast!$Q:$Q,$E$5,_data_Forecast!$C:$C,All_series!$L28)=0,\"NA\",SUMIFS(_data_Forecast!J:J,_data_Forecast!$N:$N,$B$5,_data_Forecast!$O:$O,$C$5,_data_Forecast!$P:$P,$D$5,_data_Forecast!$Q:$Q,$E$5,_data_Forecast!$C:$C,All_series!$L28))","v":1.25164696521385E-2},{"$f":"IF(SUMIFS(_data_Forecast!K:K,_data_Forecast!$N:$N,$B$5,_data_Forecast!$O:$O,$C$5,_data_Forecast!$P:$P,$D$5,_data_Forecast!$Q:$Q,$E$5,_data_Forecast!$C:$C,All_series!$L28)=0,\"NA\",SUMIFS(_data_Forecast!K:K,_data_Forecast!$N:$N,$B$5,_data_Forecast!$O:$O,$C$5,_data_Forecast!$P:$P,$D$5,_data_Forecast!$Q:$Q,$E$5,_data_Forecast!$C:$C,All_series!$L28))","v":1.2448047207835201E-2},{"$f":"IF(SUMIFS(_data_Forecast!L:L,_data_Forecast!$N:$N,$B$5,_data_Forecast!$O:$O,$C$5,_data_Forecast!$P:$P,$D$5,_data_Forecast!$Q:$Q,$E$5,_data_Forecast!$C:$C,All_series!$L28)=0,\"NA\",SUMIFS(_data_Forecast!L:L,_data_Forecast!$N:$N,$B$5,_data_Forecast!$O:$O,$C$5,_data_Forecast!$P:$P,$D$5,_data_Forecast!$Q:$Q,$E$5,_data_Forecast!$C:$C,All_series!$L28))","v":1.2380444796136199E-2},{"$f":"IF(SUMIFS(_data_Forecast!M:M,_data_Forecast!$N:$N,$B$5,_data_Forecast!$O:$O,$C$5,_data_Forecast!$P:$P,$D$5,_data_Forecast!$Q:$Q,$E$5,_data_Forecast!$C:$C,All_series!$L28)=0,\"NA\",SUMIFS(_data_Forecast!M:M,_data_Forecast!$N:$N,$B$5,_data_Forecast!$O:$O,$C$5,_data_Forecast!$P:$P,$D$5,_data_Forecast!$Q:$Q,$E$5,_data_Forecast!$C:$C,All_series!$L28))","v":1.2315655147265099E-2}]
[null,null,null,null,null,null,null,null,null,null,null,"80-84",{"$f":"IF(SUMIFS(_data_Forecast!D:D,_data_Forecast!$N:$N,$B$5,_data_Forecast!$O:$O,$C$5,_data_Forecast!$P:$P,$D$5,_data_Forecast!$Q:$Q,$E$5,_data_Forecast!$C:$C,All_series!$L29)=0,\"NA\",SUMIFS(_data_Forecast!D:D,_data_Forecast!$N:$N,$B$5,_data_Forecast!$O:$O,$C$5,_data_Forecast!$P:$P,$D$5,_data_Forecast!$Q:$Q,$E$5,_data_Forecast!$C:$C,All_series!$L29))","v":1.4875636191188899E-2},{"$f":"IF(SUMIFS(_data_Forecast!E:E,_data_Forecast!$N:$N,$B$5,_data_Forecast!$O:$O,$C$5,_data_Forecast!$P:$P,$D$5,_data_Forecast!$Q:$Q,$E$5,_data_Forecast!$C:$C,All_series!$L29)=0,\"NA\",SUMIFS(_data_Forecast!E:E,_data_Forecast!$N:$N,$B$5,_data_Forecast!$O:$O,$C$5,_data_Forecast!$P:$P,$D$5,_data_Forecast!$Q:$Q,$E$5,_data_Forecast!$C:$C,All_series!$L29))","v":1.45770886785303E-2},{"$f":"IF(SUMIFS(_data_Forecast!F:F,_data_Forecast!$N:$N,$B$5,_data_Forecast!$O:$O,$C$5,_data_Forecast!$P:$P,$D$5,_data_Forecast!$Q:$Q,$E$5,_data_Forecast!$C:$C,All_series!$L29)=0,\"NA\",SUMIFS(_data_Forecast!F:F,_data_Forecast!$N:$N,$B$5,_data_Forecast!$O:$O,$C$5,_data_Forecast!$P:$P,$D$5,_data_Forecast!$Q:$Q,$E$5,_data_Forecast!$C:$C,All_series!$L29))","v":1.4301903558910801E-2},{"$f":"IF(SUMIFS(_data_Forecast!G:G,_data_Forecast!$N:$N,$B$5,_data_Forecast!$O:$O,$C$5,_data_Forecast!$P:$P,$D$5,_data_Forecast!$Q:$Q,$E$5,_data_Forecast!$C:$C,All_series!$L29)=0,\"NA\",SUMIFS(_data_Forecast!G:G,_data_Forecast!$N:$N,$B$5,_data_Forecast!$O:$O,$C$5,_data_Forecast!$P:$P,$D$5,_data_Forecast!$Q:$Q,$E$5,_data_Forecast!$C:$C,All_series!$L29))","v":1.40615667008208E-2},{"$f":"IF(SUMIFS(_data_Forecast!H:H,_data_Forecast!$N:$N,$B$5,_data_Forecast!$O:$O,$C$5,_data_Forecast!$P:$P,$D$5,_data_Forecast!$Q:$Q,$E$5,_data_Forecast!$C:$C,All_series!$L29)=0,\"NA\",SUMIFS(_data_Forecast!H:H,_data_Forecast!$N:$N,$B$5,_data_Forecast!$O:$O,$C$5,_data_Forecast!$P:$P,$D$5,_data_Forecast!$Q:$Q,$E$5,_data_Forecast!$C:$C,All_series!$L29))","v":1.38530859391458E-2},{"$f":"IF(SUMIFS(_data_Forecast!I:I,_data_Forecast!$N:$N,$B$5,_data_Forecast!$O:$O,$C$5,_data_Forecast!$P:$P,$D$5,_data_Forecast!$Q:$Q,$E$5,_data_Forecast!$C:$C,All_series!$L29)=0,\"NA\",SUMIFS(_data_Forecast!I:I,_data_Forecast!$N:$N,$B$5,_data_Forecast!$O:$O,$C$5,_data_Forecast!$P:$P,$D$5,_data_Forecast!$Q:$Q,$E$5,_data_Forecast!$C:$C,All_series!$L29))","v":1.36890653205904E-2},{"$f":"IF(SUMIFS(_data_Forecast!J:J,_data_Forecast!$N:$N,$B$5,_data_Forecast!$O:$O,$C$5,_data_Forecast!$P:$P,$D$5,_data_Forecast!$Q:$Q,$E$5,_data_Forecast!$C:$C,All_series!$L29)=0,\"NA\",SUMIFS(_data_Forecast!J:J,_data_Forecast!$N:$N,$B$5,_data_Forecast!$O:$O,$C$5,_data_Forecast!$P:$P,$D$5,_data_Forecast!$Q:$Q,$E$5,_data_Forecast!$C:$C,All_series!$L29))","v":1.3559429841319699E-2},{"$f":"IF(SUMIFS(_data_Forecast!K:K,_data_Forecast!$N:$N,$B$5,_data_Forecast!$O:$O,$C$5,_data_Forecast!$P:$P,$D$5,_data_Forecast!$Q:$Q,$E$5,_data_Forecast!$C:$C,All_series!$L29)=0,\"NA\",SUMIFS(_data_Forecast!K:K,_data_Forecast!$N:$N,$B$5,_data_Forecast!$O:$O,$C$5,_data_Forecast!$P:$P,$D$5,_data_Forecast!$Q:$Q,$E$5,_data_Forecast!$C:$C,All_series!$L29))","v":1.34478357604483E-2},{"$f":"IF(SUMIFS(_data_Forecast!L:L,_data_Forecast!$N:$N,$B$5,_data_Forecast!$O:$O,$C$5,_data_Forecast!$P:$P,$D$5,_data_Forecast!$Q:$Q,$E$5,_data_Forecast!$C:$C,All_series!$L29)=0,\"NA\",SUMIFS(_data_Forecast!L:L,_data_Forecast!$N:$N,$B$5,_data_Forecast!$O:$O,$C$5,_data_Forecast!$P:$P,$D$5,_data_Forecast!$Q:$Q,$E$5,_data_Forecast!$C:$C,All_series!$L29))","v":1.33279056734207E-2},{"$f":"IF(SUMIFS(_data_Forecast!M:M,_data_Forecast!$N:$N,$B$5,_data_Forecast!$O:$O,$C$5,_data_Forecast!$P:$P,$D$5,_data_Forecast!$Q:$Q,$E$5,_data_Forecast!$C:$C,All_series!$L29)=0,\"NA\",SUMIFS(_data_Forecast!M:M,_data_Forecast!$N:$N,$B$5,_data_Forecast!$O:$O,$C$5,_data_Forecast!$P:$P,$D$5,_data_Forecast!$Q:$Q,$E$5,_data_Forecast!$C:$C,All_series!$L29))","v":1.3181036473817499E-2}]
[null,null,null,null,null,null,null,null,null,null,null,"85+",{"$f":"IF(SUMIFS(_data_Forecast!D:D,_data_Forecast!$N:$N,$B$5,_data_Forecast!$O:$O,$C$5,_data_Forecast!$P:$P,$D$5,_data_Forecast!$Q:$Q,$E$5,_data_Forecast!$C:$C,All_series!$L30)=0,\"NA\",SUMIFS(_data_Forecast!D:D,_data_Forecast!$N:$N,$B$5,_data_Forecast!$O:$O,$C$5,_data_Forecast!$P:$P,$D$5,_data_Forecast!$Q:$Q,$E$5,_data_Forecast!$C:$C,All_series!$L30))","v":1.7691354134072901E-2},{"$f":"IF(SUMIFS(_data_Forecast!E:E,_data_Forecast!$N:$N,$B$5,_data_Forecast!$O:$O,$C$5,_data_Forecast!$P:$P,$D$5,_data_Forecast!$Q:$Q,$E$5,_data_Forecast!$C:$C,All_series!$L30)=0,\"NA\",SUMIFS(_data_Forecast!E:E,_data_Forecast!$N:$N,$B$5,_data_Forecast!$O:$O,$C$5,_data_Forecast!$P:$P,$D$5,_data_Forecast!$Q:$Q,$E$5,_data_Forecast!$C:$C,All_series!$L30))","v":1.7340858377016401E-2},{"$f":"IF(SUMIFS(_data_Forecast!F:F,_data_Forecast!$N:$N,$B$5,_data_Forecast!$O:$O,$C$5,_data_Forecast!$P:$P,$D$5,_data_Forecast!$Q:$Q,$E$5,_data_Forecast!$C:$C,All_series!$L30)=0,\"NA\",SUMIFS(_data_Forecast!F:F,_data_Forecast!$N:$N,$B$5,_data_Forecast!$O:$O,$C$5,_data_Forecast!$P:$P,$D$5,_data_Forecast!$Q:$Q,$E$5,_data_Forecast!$C:$C,All_series!$L30))","v":1.70933134064538E-2},{"$f":"IF(SUMIFS(_data_Forecast!G:G,_data_Forecast!$N:$N,$B$5,_data_Forecast!$O:$O,$C$5,_data_Forecast!$P:$P,$D$5,_data_Forecast!$Q:$Q,$E$5,_data_Forecast!$C:$C,All_series!$L30)=0,\"NA\",SUMIFS(_data_Forecast!G:G,_data_Forecast!$N:$N,$B$5,_data_Forecast!$O:$O,$C$5,_data_Forecast!$P:$P,$D$5,_data_Forecast!$Q:$Q,$E$5,_data_Forecast!$C:$C,All_series!$L30))","v":1.6885865861738399E-2},{"$f":"IF(SUMIFS(_data_Forecast!H:H,_data_Forecast!$N:$N,$B$5,_data_Forecast!$O:$O,$C$5,_data_Forecast!$P:$P,$D$5,_data_Forecast!$Q:$Q,$E$5,_data_Forecast!$C:$C,All_series!$L30)=0,\"NA\",SUMIFS(_data_Forecast!H:H,_data_Forecast!$N:$N,$B$5,_data_Forecast!$O:$O,$C$5,_data_Forecast!$P:$P,$D$5,_data_Forecast!$Q:$Q,$E$5,_data_Forecast!$C:$C,All_series!$L30))","v":1.6718758574417798E-2},{"$f":"IF(SUMIFS(_data_Forecast!I:I,_data_Forecast!$N:$N,$B$5,_data_Forecast!$O:$O,$C$5,_data_Forecast!$P:$P,$D$5,_data_Forecast!$Q:$Q,$E$5,_data_Forecast!$C:$C,All_series!$L30)=0,\"NA\",SUMIFS(_data_Forecast!I:I,_data_Forecast!$N:$N,$B$5,_data_Forecast!$O:$O,$C$5,_data_Forecast!$P:$P,$D$5,_data_Forecast!$Q:$Q,$E$5,_data_Forecast!$C:$C,All_series!$L30))","v":1.65699288934202E-2},{"$f":"IF(SUMIFS(_data_Forecast!J:J,_data_Forecast!$N:$N,$B$5,_data_Forecast!$O:$O,$C$5,_data_Forecast!$P:$P,$D$5,_data_Forecast!$Q:$Q,$E$5,_data_Forecast!$C:$C,All_series!$L30)=0,\"NA\",SUMIFS(_data_Forecast!J:J,_data_Forecast!$N:$N,$B$5,_data_Forecast!$O:$O,$C$5,_data_Forecast!$P:$P,$D$5,_data_Forecast!$Q:$Q,$E$5,_data_Forecast!$C:$C,All_series!$L30))","v":1.6443361126621502E-2},{"$f":"IF(SUMIFS(_data_Forecast!K:K,_data_Forecast!$N:$N,$B$5,_data_Forecast!$O:$O,$C$5,_data_Forecast!$P:$P,$D$5,_data_Forecast!$Q:$Q,$E$5,_data_Forecast!$C:$C,All_series!$L30)=0,\"NA\",SUMIFS(_data_Forecast!K:K,_data_Forecast!$N:$N,$B$5,_data_Forecast!$O:$O,$C$5,_data_Forecast!$P:$P,$D$5,_data_Forecast!$Q:$Q,$E$5,_data_Forecast!$C:$C,All_series!$L30))","v":1.6323758279470101E-2},{"$f":"IF(SUMIFS(_data_Forecast!L:L,_data_Forecast!$N:$N,$B$5,_data_Forecast!$O:$O,$C$5,_data_Forecast!$P:$P,$D$5,_data_Forecast!$Q:$Q,$E$5,_data_Forecast!$C:$C,All_series!$L30)=0,\"NA\",SUMIFS(_data_Forecast!L:L,_data_Forecast!$N:$N,$B$5,_data_Forecast!$O:$O,$C$5,_data_Forecast!$P:$P,$D$5,_data_Forecast!$Q:$Q,$E$5,_data_Forecast!$C:$C,All_series!$L30))","v":1.6208326367859498E-2},{"$f":"IF(SUMIFS(_data_Forecast!M:M,_data_Forecast!$N:$N,$B$5,_data_Forecast!$O:$O,$C$5,_data_Forecast!$P:$P,$D$5,_data_Forecast!$Q:$Q,$E$5,_data_Forecast!$C:$C,All_series!$L30)=0,\"NA\",SUMIFS(_data_Forecast!M:M,_data_Forecast!$N:$N,$B$5,_data_Forecast!$O:$O,$C$5,_data_Forecast!$P:$P,$D$5,_data_Forecast!$Q:$Q,$E$5,_data_Forecast!$C:$C,All_series!$L30))","v":1.6084439217957502E-2}]
[]
[]
[]
[null,{"$f":"setChartAxis(\"All_series\",\"Chart 2\",\"Min\",\"Value\",\"Primary\",C34)","v":"Value Primary Min: 0.000014813"},{"$f":"ROUNDDOWN(MIN(M13:V30)*1000000000,0)/1000000000*0.5","v":1.4813E-5}]
[null,{"$f":"setChartAxis(\"All_series\",\"Chart 2\",\"Max\",\"Value\",\"Primary\",C35)","v":"Value Primary Max: 0.0265370325"},{"$f":"ROUNDUP(MAX(M13:V30)*1000000000,0)/1000000000*1.5","v":2.6537032499999998E-2}]
[null,"Test!1"]
[]
[]
[]
[]
[]
[]
[]
[]
[]
[]
[]
[]
[]
[]
[]
[]
[]
[]
[]
[]
[]
[]
[]
[]
[]
[]
[]
[]
[]
[]
[]
[]
[]
[]
[]
[]
[]
[]
[]
[]
[]
[]
[]
[]
[]
[]
[]
[]
[]
[]
[]
[]
[]
[]
[]
[]
[]
[]
[]
[]
[]
[]
[]
[]
[]
[]
[]
[]
[]
[]
[]
[]
[]
[]
[]
[]
[]
[]
[]
[]
[]
[]
[]
[]
[]
[]
[]
[]
[]
[]
[]
[]
[]
[]
[]
[null,null,null,null,null,null,null,null,null,null,null,null,null,null,null,null,null,null,2027,2028,2029]
[null,null,null,null,null,null,null,null,null,null,null,null,null,null,null,null,null,null,{"$f":"IF(SUMIFS(_data_Forecast!K:K,_data_Forecast!$Q:$Q,#REF!,_data_Forecast!$C:$C,#REF!)=0,\"NA\",SUMIFS(_data_Forecast!K:K,_data_Forecast!$Q:$Q,#REF!,_data_Forecast!$C:$C,#REF!))","v":"NA"},{"$f":"IF(SUMIFS(_data_Forecast!L:L,_data_Forecast!$Q:$Q,#REF!,_data_Forecast!$C:$C,#REF!)=0,\"NA\",SUMIFS(_data_Forecast!L:L,_data_Forecast!$Q:$Q,#REF!,_data_Forecast!$C:$C,#REF!))","v":"NA"},{"$f":"IF(SUMIFS(_data_Forecast!M:M,_data_Forecast!$Q:$Q,#REF!,_data_Forecast!$C:$C,#REF!)=0,\"NA\",SUMIFS(_data_Forecast!M:M,_data_Forecast!$Q:$Q,#REF!,_data_Forecast!$C:$C,#REF!))","v":"NA"}]
[null,null,null,null,null,null,null,null,null,null,null,null,null,null,null,null,null,null,{"$f":"IF(SUMIFS(_data_Forecast!K:K,_data_Forecast!$Q:$Q,#REF!,_data_Forecast!$C:$C,#REF!)=0,\"NA\",SUMIFS(_data_Forecast!K:K,_data_Forecast!$Q:$Q,#REF!,_data_Forecast!$C:$C,#REF!))","v":"NA"},{"$f":"IF(SUMIFS(_data_Forecast!L:L,_data_Forecast!$Q:$Q,#REF!,_data_Forecast!$C:$C,#REF!)=0,\"NA\",SUMIFS(_data_Forecast!L:L,_data_Forecast!$Q:$Q,#REF!,_data_Forecast!$C:$C,#REF!))","v":"NA"},{"$f":"IF(SUMIFS(_data_Forecast!M:M,_data_Forecast!$Q:$Q,#REF!,_data_Forecast!$C:$C,#REF!)=0,\"NA\",SUMIFS(_data_Forecast!M:M,_data_Forecast!$Q:$Q,#REF!,_data_Forecast!$C:$C,#REF!))","v":"NA"}]
[null,null,null,null,null,null,null,null,null,null,null,null,null,null,null,null,null,null,{"$f":"IF(SUMIFS(_data_Forecast!K:K,_data_Forecast!$Q:$Q,#REF!,_data_Forecast!$C:$C,#REF!)=0,\"NA\",SUMIFS(_data_Forecast!K:K,_data_Forecast!$Q:$Q,#REF!,_data_Forecast!$C:$C,#REF!))","v":"NA"},{"$f":"IF(SUMIFS(_data_Forecast!L:L,_data_Forecast!$Q:$Q,#REF!,_data_Forecast!$C:$C,#REF!)=0,\"NA\",SUMIFS(_data_Forecast!L:L,_data_Forecast!$Q:$Q,#REF!,_data_Forecast!$C:$C,#REF!))","v":"NA"},{"$f":"IF(SUMIFS(_data_Forecast!M:M,_data_Forecast!$Q:$Q,#REF!,_data_Forecast!$C:$C,#REF!)=0,\"NA\",SUMIFS(_data_Forecast!M:M,_data_Forecast!$Q:$Q,#REF!,_data_Forecast!$C:$C,#REF!))","v":"NA"}]
[null,null,null,null,null,null,null,null,null,null,null,null,null,null,null,null,null,null,{"$f":"IF(SUMIFS(_data_Forecast!K:K,_data_Forecast!$Q:$Q,#REF!,_data_Forecast!$C:$C,#REF!)=0,\"NA\",SUMIFS(_data_Forecast!K:K,_data_Forecast!$Q:$Q,#REF!,_data_Forecast!$C:$C,#REF!))","v":"NA"},{"$f":"IF(SUMIFS(_data_Forecast!L:L,_data_Forecast!$Q:$Q,#REF!,_data_Forecast!$C:$C,#REF!)=0,\"NA\",SUMIFS(_data_Forecast!L:L,_data_Forecast!$Q:$Q,#REF!,_data_Forecast!$C:$C,#REF!))","v":"NA"},{"$f":"IF(SUMIFS(_data_Forecast!M:M,_data_Forecast!$Q:$Q,#REF!,_data_Forecast!$C:$C,#REF!)=0,\"NA\",SUMIFS(_data_Forecast!M:M,_data_Forecast!$Q:$Q,#REF!,_data_Forecast!$C:$C,#REF!))","v":"NA"}]
[null,null,null,null,null,null,null,null,null,null,null,null,null,null,null,null,null,null,{"$f":"IF(SUMIFS(_data_Forecast!K:K,_data_Forecast!$Q:$Q,#REF!,_data_Forecast!$C:$C,#REF!)=0,\"NA\",SUMIFS(_data_Forecast!K:K,_data_Forecast!$Q:$Q,#REF!,_data_Forecast!$C:$C,#REF!))","v":"NA"},{"$f":"IF(SUMIFS(_data_Forecast!L:L,_data_Forecast!$Q:$Q,#REF!,_data_Forecast!$C:$C,#REF!)=0,\"NA\",SUMIFS(_data_Forecast!L:L,_data_Forecast!$Q:$Q,#REF!,_data_Forecast!$C:$C,#REF!))","v":"NA"},{"$f":"IF(SUMIFS(_data_Forecast!M:M,_data_Forecast!$Q:$Q,#REF!,_data_Forecast!$C:$C,#REF!)=0,\"NA\",SUMIFS(_data_Forecast!M:M,_data_Forecast!$Q:$Q,#REF!,_data_Forecast!$C:$C,#REF!))","v":"NA"}]
[null,null,null,null,null,null,null,null,null,null,null,null,null,null,null,null,null,null,{"$f":"IF(SUMIFS(_data_Forecast!K:K,_data_Forecast!$Q:$Q,#REF!,_data_Forecast!$C:$C,#REF!)=0,\"NA\",SUMIFS(_data_Forecast!K:K,_data_Forecast!$Q:$Q,#REF!,_data_Forecast!$C:$C,#REF!))","v":"NA"},{"$f":"IF(SUMIFS(_data_Forecast!L:L,_data_Forecast!$Q:$Q,#REF!,_data_Forecast!$C:$C,#REF!)=0,\"NA\",SUMIFS(_data_Forecast!L:L,_data_Forecast!$Q:$Q,#REF!,_data_Forecast!$C:$C,#REF!))","v":"NA"},{"$f":"IF(SUMIFS(_data_Forecast!M:M,_data_Forecast!$Q:$Q,#REF!,_data_Forecast!$C:$C,#REF!)=0,\"NA\",SUMIFS(_data_Forecast!M:M,_data_Forecast!$Q:$Q,#REF!,_data_Forecast!$C:$C,#REF!))","v":"NA"}]
[null,null,null,null,null,null,null,null,null,null,null,null,null,null,null,null,null,null,{"$f":"IF(SUMIFS(_data_Forecast!K:K,_data_Forecast!$Q:$Q,#REF!,_data_Forecast!$C:$C,#REF!)=0,\"NA\",SUMIFS(_data_Forecast!K:K,_data_Forecast!$Q:$Q,#REF!,_data_Forecast!$C:$C,#REF!))","v":"NA"},{"$f":"IF(SUMIFS(_data_Forecast!L:L,_data_Forecast!$Q:$Q,#REF!,_data_Forecast!$C:$C,#REF!)=0,\"NA\",SUMIFS(_data_Forecast!L:L,_data_Forecast!$Q:$Q,#REF!,_data_Forecast!$C:$C,#REF!))","v":"NA"},{"$f":"IF(SUMIFS(_data_Forecast!M:M,_data_Forecast!$Q:$Q,#REF!,_data_Forecast!$C:$C,#REF!)=0,\"NA\",SUMIFS(_data_Forecast!M:M,_data_Forecast!$Q:$Q,#REF!,_data_Forecast!$C:$C,#REF!))","v":"NA"}]
[null,null,null,null,null,null,null,null,null,null,null,null,null,null,null,null,null,null,{"$f":"IF(SUMIFS(_data_Forecast!K:K,_data_Forecast!$Q:$Q,#REF!,_data_Forecast!$C:$C,#REF!)=0,\"NA\",SUMIFS(_data_Forecast!K:K,_data_Forecast!$Q:$Q,#REF!,_data_Forecast!$C:$C,#REF!))","v":"NA"},{"$f":"IF(SUMIFS(_data_Forecast!L:L,_data_Forecast!$Q:$Q,#REF!,_data_Forecast!$C:$C,#REF!)=0,\"NA\",SUMIFS(_data_Forecast!L:L,_data_Forecast!$Q:$Q,#REF!,_data_Forecast!$C:$C,#REF!))","v":"NA"},{"$f":"IF(SUMIFS(_data_Forecast!M:M,_data_Forecast!$Q:$Q,#REF!,_data_Forecast!$C:$C,#REF!)=0,\"NA\",SUMIFS(_data_Forecast!M:M,_data_Forecast!$Q:$Q,#REF!,_data_Forecast!$C:$C,#REF!))","v":"NA"}]
[null,null,null,null,null,null,null,null,null,null,null,null,null,null,null,null,null,null,{"$f":"IF(SUMIFS(_data_Forecast!K:K,_data_Forecast!$Q:$Q,#REF!,_data_Forecast!$C:$C,#REF!)=0,\"NA\",SUMIFS(_data_Forecast!K:K,_data_Forecast!$Q:$Q,#REF!,_data_Forecast!$C:$C,#REF!))","v":"NA"},{"$f":"IF(SUMIFS(_data_Forecast!L:L,_data_Forecast!$Q:$Q,#REF!,_data_Forecast!$C:$C,#REF!)=0,\"NA\",SUMIFS(_data_Forecast!L:L,_data_Forecast!$Q:$Q,#REF!,_data_Forecast!$C:$C,#REF!))","v":"NA"},{"$f":"IF(SUMIFS(_data_Forecast!M:M,_data_Forecast!$Q:$Q,#REF!,_data_Forecast!$C:$C,#REF!)=0,\"NA\",SUMIFS(_data_Forecast!M:M,_data_Forecast!$Q:$Q,#REF!,_data_Forecast!$C:$C,#REF!))","v":"NA"}]
[null,null,null,null,null,null,null,null,null,null,null,null,null,null,null,null,null,null,{"$f":"IF(SUMIFS(_data_Forecast!K:K,_data_Forecast!$Q:$Q,#REF!,_data_Forecast!$C:$C,#REF!)=0,\"NA\",SUMIFS(_data_Forecast!K:K,_data_Forecast!$Q:$Q,#REF!,_data_Forecast!$C:$C,#REF!))","v":"NA"},{"$f":"IF(SUMIFS(_data_Forecast!L:L,_data_Forecast!$Q:$Q,#REF!,_data_Forecast!$C:$C,#REF!)=0,\"NA\",SUMIFS(_data_Forecast!L:L,_data_Forecast!$Q:$Q,#REF!,_data_Forecast!$C:$C,#REF!))","v":"NA"},{"$f":"IF(SUMIFS(_data_Forecast!M:M,_data_Forecast!$Q:$Q,#REF!,_data_Forecast!$C:$C,#REF!)=0,\"NA\",SUMIFS(_data_Forecast!M:M,_data_Forecast!$Q:$Q,#REF!,_data_Forecast!$C:$C,#REF!))","v":"NA"}]
[null,null,null,null,null,null,null,null,null,null,null,null,null,null,null,null,null,null,{"$f":"IF(SUMIFS(_data_Forecast!K:K,_data_Forecast!$Q:$Q,#REF!,_data_Forecast!$C:$C,#REF!)=0,\"NA\",SUMIFS(_data_Forecast!K:K,_data_Forecast!$Q:$Q,#REF!,_data_Forecast!$C:$C,#REF!))","v":"NA"},{"$f":"IF(SUMIFS(_data_Forecast!L:L,_data_Forecast!$Q:$Q,#REF!,_data_Forecast!$C:$C,#REF!)=0,\"NA\",SUMIFS(_data_Forecast!L:L,_data_Forecast!$Q:$Q,#REF!,_data_Forecast!$C:$C,#REF!))","v":"NA"},{"$f":"IF(SUMIFS(_data_Forecast!M:M,_data_Forecast!$Q:$Q,#REF!,_data_Forecast!$C:$C,#REF!)=0,\"NA\",SUMIFS(_data_Forecast!M:M,_data_Forecast!$Q:$Q,#REF!,_data_Forecast!$C:$C,#REF!))","v":"NA"}]
[null,null,null,null,null,null,null,null,null,null,null,null,null,null,null,null,null,null,{"$f":"IF(SUMIFS(_data_Forecast!K:K,_data_Forecast!$Q:$Q,#REF!,_data_Forecast!$C:$C,#REF!)=0,\"NA\",SUMIFS(_data_Forecast!K:K,_data_Forecast!$Q:$Q,#REF!,_data_Forecast!$C:$C,#REF!))","v":"NA"},{"$f":"IF(SUMIFS(_data_Forecast!L:L,_data_Forecast!$Q:$Q,#REF!,_data_Forecast!$C:$C,#REF!)=0,\"NA\",SUMIFS(_data_Forecast!L:L,_data_Forecast!$Q:$Q,#REF!,_data_Forecast!$C:$C,#REF!))","v":"NA"},{"$f":"IF(SUMIFS(_data_Forecast!M:M,_data_Forecast!$Q:$Q,#REF!,_data_Forecast!$C:$C,#REF!)=0,\"NA\",SUMIFS(_data_Forecast!M:M,_data_Forecast!$Q:$Q,#REF!,_data_Forecast!$C:$C,#REF!))","v":"NA"}]
[null,null,null,null,null,null,null,null,null,null,null,null,null,null,null,null,null,null,{"$f":"IF(SUMIFS(_data_Forecast!K:K,_data_Forecast!$Q:$Q,#REF!,_data_Forecast!$C:$C,#REF!)=0,\"NA\",SUMIFS(_data_Forecast!K:K,_data_Forecast!$Q:$Q,#REF!,_data_Forecast!$C:$C,#REF!))","v":"NA"},{"$f":"IF(SUMIFS(_data_Forecast!L:L,_data_Forecast!$Q:$Q,#REF!,_data_Forecast!$C:$C,#REF!)=0,\"NA\",SUMIFS(_data_Forecast!L:L,_data_Forecast!$Q:$Q,#REF!,_data_Forecast!$C:$C,#REF!))","v":"NA"},{"$f":"IF(SUMIFS(_data_Forecast!M:M,_data_Forecast!$Q:$Q,#REF!,_data_Forecast!$C:$C,#REF!)=0,\"NA\",SUMIFS(_data_Forecast!M:M,_data_Forecast!$Q:$Q,#REF!,_data_Forecast!$C:$C,#REF!))","v":"NA"}]
[null,null,null,null,null,null,null,null,null,null,null,null,null,null,null,null,null,null,{"$f":"IF(SUMIFS(_data_Forecast!K:K,_data_Forecast!$Q:$Q,#REF!,_data_Forecast!$C:$C,#REF!)=0,\"NA\",SUMIFS(_data_Forecast!K:K,_data_Forecast!$Q:$Q,#REF!,_data_Forecast!$C:$C,#REF!))","v":"NA"},{"$f":"IF(SUMIFS(_data_Forecast!L:L,_data_Forecast!$Q:$Q,#REF!,_data_Forecast!$C:$C,#REF!)=0,\"NA\",SUMIFS(_data_Forecast!L:L,_data_Forecast!$Q:$Q,#REF!,_data_Forecast!$C:$C,#REF!))","v":"NA"},{"$f":"IF(SUMIFS(_data_Forecast!M:M,_data_Forecast!$Q:$Q,#REF!,_data_Forecast!$C:$C,#REF!)=0,\"NA\",SUMIFS(_data_Forecast!M:M,_data_Forecast!$Q:$Q,#REF!,_data_Forecast!$C:$C,#REF!))","v":"NA"}]
[null,null,null,null,null,null,null,null,null,null,null,null,null,null,null,null,null,null,{"$f":"IF(SUMIFS(_data_Forecast!K:K,_data_Forecast!$Q:$Q,#REF!,_data_Forecast!$C:$C,#REF!)=0,\"NA\",SUMIFS(_data_Forecast!K:K,_data_Forecast!$Q:$Q,#REF!,_data_Forecast!$C:$C,#REF!))","v":"NA"},{"$f":"IF(SUMIFS(_data_Forecast!L:L,_data_Forecast!$Q:$Q,#REF!,_data_Forecast!$C:$C,#REF!)=0,\"NA\",SUMIFS(_data_Forecast!L:L,_data_Forecast!$Q:$Q,#REF!,_data_Forecast!$C:$C,#REF!))","v":"NA"},{"$f":"IF(SUMIFS(_data_Forecast!M:M,_data_Forecast!$Q:$Q,#REF!,_data_Forecast!$C:$C,#REF!)=0,\"NA\",SUMIFS(_data_Forecast!M:M,_data_Forecast!$Q:$Q,#REF!,_data_Forecast!$C:$C,#REF!))","v":"NA"}]
[null,null,null,null,null,null,null,null,null,null,null,null,null,null,null,null,null,null,{"$f":"IF(SUMIFS(_data_Forecast!K:K,_data_Forecast!$Q:$Q,#REF!,_data_Forecast!$C:$C,#REF!)=0,\"NA\",SUMIFS(_data_Forecast!K:K,_data_Forecast!$Q:$Q,#REF!,_data_Forecast!$C:$C,#REF!))","v":"NA"},{"$f":"IF(SUMIFS(_data_Forecast!L:L,_data_Forecast!$Q:$Q,#REF!,_data_Forecast!$C:$C,#REF!)=0,\"NA\",SUMIFS(_data_Forecast!L:L,_data_Forecast!$Q:$Q,#REF!,_data_Forecast!$C:$C,#REF!))","v":"NA"},{"$f":"IF(SUMIFS(_data_Forecast!M:M,_data_Forecast!$Q:$Q,#REF!,_data_Forecast!$C:$C,#REF!)=0,\"NA\",SUMIFS(_data_Forecast!M:M,_data_Forecast!$Q:$Q,#REF!,_data_Forecast!$C:$C,#REF!))","v":"NA"}]
[null,null,null,null,null,null,null,null,null,null,null,null,null,null,null,null,null,null,{"$f":"IF(SUMIFS(_data_Forecast!K:K,_data_Forecast!$Q:$Q,#REF!,_data_Forecast!$C:$C,#REF!)=0,\"NA\",SUMIFS(_data_Forecast!K:K,_data_Forecast!$Q:$Q,#REF!,_data_Forecast!$C:$C,#REF!))","v":"NA"},{"$f":"IF(SUMIFS(_data_Forecast!L:L,_data_Forecast!$Q:$Q,#REF!,_data_Forecast!$C:$C,#REF!)=0,\"NA\",SUMIFS(_data_Forecast!L:L,_data_Forecast!$Q:$Q,#REF!,_data_Forecast!$C:$C,#REF!))","v":"NA"},{"$f":"IF(SUMIFS(_data_Forecast!M:M,_data_Forecast!$Q:$Q,#REF!,_data_Forecast!$C:$C,#REF!)=0,\"NA\",SUMIFS(_data_Forecast!M:M,_data_Forecast!$Q:$Q,#REF!,_data_Forecast!$C:$C,#REF!))","v":"NA"}]
[null,null,null,null,null,null,null,null,null,null,null,null,null,null,null,null,null,null,{"$f":"IF(SUMIFS(_data_Forecast!K:K,_data_Forecast!$Q:$Q,#REF!,_data_Forecast!$C:$C,#REF!)=0,\"NA\",SUMIFS(_data_Forecast!K:K,_data_Forecast!$Q:$Q,#REF!,_data_Forecast!$C:$C,#REF!))","v":"NA"},{"$f":"IF(SUMIFS(_data_Forecast!L:L,_data_Forecast!$Q:$Q,#REF!,_data_Forecast!$C:$C,#REF!)=0,\"NA\",SUMIFS(_data_Forecast!L:L,_data_Forecast!$Q:$Q,#REF!,_data_Forecast!$C:$C,#REF!))","v":"NA"},{"$f":"IF(SUMIFS(_data_Forecast!M:M,_data_Forecast!$Q:$Q,#REF!,_data_Forecast!$C:$C,#REF!)=0,\"NA\",SUMIFS(_data_Forecast!M:M,_data_Forecast!$Q:$Q,#REF!,_data_Forecast!$C:$C,#REF!))","v":"NA"}]

{"sheet":"Gender_comparison","index":5,"n_rows":150,"n_cols":28,"rows_kept":150,"cut":false,"hidden":false,"merged":[]}
[]
[null,"Option 1 - Select Combination Using Drop-down List",null,null,null,null,null,null,null,null,null,null,null,"Option 2 - Click Buttons to Select Combination"]
[]
[null,"Region","Area","Cause",null,"Year",null,null,null,null,null,null,null,null,null,null,null,null,null,null,null,null,null,"Region","Area","Cause","Year",5]
[null,"Central","Rural","Digestive",null,2029,null,null,null,null,null,null,null,null,null,null,null,null,null,null,null,null,null,{"$f":"OFFSET(_tbl!G$3,comb_id,0)","v":"Central"},{"$f":"OFFSET(_tbl!H$3,comb_id,0)","v":"Rural"},{"$f":"OFFSET(_tbl!I$3,comb_id,0)","v":"Digestive"},{"$f":"F5","v":2029}]
[]
[]
[]
[null,"CHARTS AND DATA",null,null,{"$f":"IF(COUNTIFS(O13:P30,\"NA\")=36, \"Combination Not Available\", B5&\", \"&C5&\", Cause \"&D5&\", Forecast Year \"&F5)","v":"Central, Rural, Cause Digestive, Forecast Year 2029"}]
[]
[]
[null,null,null,null,null,null,null,null,null,null,null,null,null,"Age/Gender","Male","Female"]
[null,null,null,null,null,null,null,null,null,null,null,null,null,"1-4",{"$f":"IF(SUMIFS(INDEX(_data_Forecast!$D:$M,0,MATCH($F$5,_data_Forecast!$D$3:$M$3,0)),_data_Forecast!$O:$O,$B$5,_data_Forecast!$P:$P,$C$5,_data_Forecast!$N:$N,O$12,_data_Forecast!$Q:$Q,$D$5,_data_Forecast!$C:$C,$N13)=0,\"NA\",SUMIFS(INDEX(_data_Forecast!$D:$M,0,MATCH($F$5,_data_Forecast!$D$3:$M$3,0)),_data_Forecast!$O:$O,$B$5,_data_Forecast!$P:$P,$C$5,_data_Forecast!$N:$N,O$12,_data_Forecast!$Q:$Q,$D$5,_data_Forecast!$C:$C,$N13))","v":3.2901622697702902E-6},{"$f":"IF(SUMIFS(INDEX(_data_Forecast!$D:$M,0,MATCH($F$5,_data_Forecast!$D$3:$M$3,0)),_data_Forecast!$O:$O,$B$5,_data_Forecast!$P:$P,$C$5,_data_Forecast!$N:$N,P$12,_data_Forecast!$Q:$Q,$D$5,_data_Forecast!$C:$C,$N13)=0,\"NA\",SUMIFS(INDEX(_data_Forecast!$D:$M,0,MATCH($F$5,_data_Forecast!$D$3:$M$3,0)),_data_Forecast!$O:$O,$B$5,_data_Forecast!$P:$P,$C$5,_data_Forecast!$N:$N,P$12,_data_Forecast!$Q:$Q,$D$5,_data_Forecast!$C:$C,$N13))","v":1.89158897040025E-6}]
[null,null,null,null,null,null,null,null,null,null,null,null,null,"5-9",{"$f":"IF(SUMIFS(INDEX(_data_Forecast!$D:$M,0,MATCH($F$5,_data_Forecast!$D$3:$M$3,0)),_data_Forecast!$O:$O,$B$5,_data_Forecast!$P:$P,$C$5,_data_Forecast!$N:$N,O$12,_data_Forecast!$Q:$Q,$D$5,_data_Forecast!$C:$C,$N14)=0,\"NA\",SUMIFS(INDEX(_data_Forecast!$D:$M,0,MATCH($F$5,_data_Forecast!$D$3:$M$3,0)),_data_Forecast!$O:$O,$B$5,_data_Forecast!$P:$P,$C$5,_data_Forecast!$N:$N,O$12,_data_Forecast!$Q:$Q,$D$5,_data_Forecast!$C:$C,$N14))","v":8.4465264507370901E-7},{"$f":"IF(SUMIFS(INDEX(_data_Forecast!$D:$M,0,MATCH($F$5,_data_Forecast!$D$3:$M$3,0)),_data_Forecast!$O:$O,$B$5,_data_Forecast!$P:$P,$C$5,_data_Forecast!$N:$N,P$12,_data_Forecast!$Q:$Q,$D$5,_data_Forecast!$C:$C,$N14)=0,\"NA\",SUMIFS(INDEX(_data_Forecast!$D:$M,0,MATCH($F$5,_data_Forecast!$D$3:$M$3,0)),_data_Forecast!$O:$O,$B$5,_data_Forecast!$P:$P,$C$5,_data_Forecast!$N:$N,P$12,_data_Forecast!$Q:$Q,$D$5,_data_Forecast!$C:$C,$N14))","v":9.1108977566968703E-7}]
[null,null,null,null,null,null,null,null,null,null,null,null,null,"10-14",{"$f":"IF(SUMIFS(INDEX(_data_Forecast!$D:$M,0,MATCH($F$5,_data_Forecast!$D$3:$M$3,0)),_data_Forecast!$O:$O,$B$5,_data_Forecast!$P:$P,$C$5,_data_Forecast!$N:$N,O$12,_data_Forecast!$Q:$Q,$D$5,_data_Forecast!$C:$C,$N15)=0,\"NA\",SUMIFS(INDEX(_data_Forecast!$D:$M,0,MATCH($F$5,_data_Forecast!$D$3:$M$3,0)),_data_Forecast!$O:$O,$B$5,_data_Forecast!$P:$P,$C$5,_data_Forecast!$N:$N,O$12,_data_Forecast!$Q:$Q,$D$5,_data_Forecast!$C:$C,$N15))","v":7.9031188181259405E-7},{"$f":"IF(SUMIFS(INDEX(_data_Forecast!$D:$M,0,MATCH($F$5,_data_Forecast!$D$3:$M$3,0)),_data_Forecast!$O:$O,$B$5,_data_Forecast!$P:$P,$C$5,_data_Forecast!$N:$N,P$12,_data_Forecast!$Q:$Q,$D$5,_data_Forecast!$C:$C,$N15)=0,\"NA\",SUMIFS(INDEX(_data_Forecast!$D:$M,0,MATCH($F$5,_data_Forecast!$D$3:$M$3,0)),_data_Forecast!$O:$O,$B$5,_data_Forecast!$P:$P,$C$5,_data_Forecast!$N:$N,P$12,_data_Forecast!$Q:$Q,$D$5,_data_Forecast!$C:$C,$N15))","v":8.9470344676531395E-7}]
[null,null,null,null,null,null,null,null,null,null,null,null,null,"15-19",{"$f":"IF(SUMIFS(INDEX(_data_Forecast!$D:$M,0,MATCH($F$5,_data_Forecast!$D$3:$M$3,0)),_data_Forecast!$O:$O,$B$5,_data_Forecast!$P:$P,$C$5,_data_Forecast!$N:$N,O$12,_data_Forecast!$Q:$Q,$D$5,_data_Forecast!$C:$C,$N16)=0,\"NA\",SUMIFS(INDEX(_data_Forecast!$D:$M,0,MATCH($F$5,_data_Forecast!$D$3:$M$3,0)),_data_Forecast!$O:$O,$B$5,_data_Forecast!$P:$P,$C$5,_data_Forecast!$N:$N,O$12,_data_Forecast!$Q:$Q,$D$5,_data_Forecast!$C:$C,$N16))","v":1.2885518628383899E-6},{"$f":"IF(SUMIFS(INDEX(_data_Forecast!$D:$M,0,MATCH($F$5,_data_Forecast!$D$3:$M$3,0)),_data_Forecast!$O:$O,$B$5,_data_Forecast!$P:$P,$C$5,_data_Forecast!$N:$N,P$12,_data_Forecast!$Q:$Q,$D$5,_data_Forecast!$C:$C,$N16)=0,\"NA\",SUMIFS(INDEX(_data_Forecast!$D:$M,0,MATCH($F$5,_data_Forecast!$D$3:$M$3,0)),_data_Forecast!$O:$O,$B$5,_data_Forecast!$P:$P,$C$5,_data_Forecast!$N:$N,P$12,_data_Forecast!$Q:$Q,$D$5,_data_Forecast!$C:$C,$N16))","v":1.2342682382578999E-6}]
[null,null,null,null,null,null,null,null,null,null,null,null,null,"20-24",{"$f":"IF(SUMIFS(INDEX(_data_Forecast!$D:$M,0,MATCH($F$5,_data_Forecast!$D$3:$M$3,0)),_data_Forecast!$O:$O,$B$5,_data_Forecast!$P:$P,$C$5,_data_Forecast!$N:$N,O$12,_data_Forecast!$Q:$Q,$D$5,_data_Forecast!$C:$C,$N17)=0,\"NA\",SUMIFS(INDEX(_data_Forecast!$D:$M,0,MATCH($F$5,_data_Forecast!$D$3:$M$3,0)),_data_Forecast!$O:$O,$B$5,_data_Forecast!$P:$P,$C$5,_data_Forecast!$N:$N,O$12,_data_Forecast!$Q:$Q,$D$5,_data_Forecast!$C:$C,$N17))","v":2.80008597436207E-6},{"$f":"IF(SUMIFS(INDEX(_data_Forecast!$D:$M,0,MATCH($F$5,_data_Forecast!$D$3:$M$3,0)),_data_Forecast!$O:$O,$B$5,_data_Forecast!$P:$P,$C$5,_data_Forecast!$N:$N,P$12,_data_Forecast!$Q:$Q,$D$5,_data_Forecast!$C:$C,$N17)=0,\"NA\",SUMIFS(INDEX(_data_Forecast!$D:$M,0,MATCH($F$5,_data_Forecast!$D$3:$M$3,0)),_data_Forecast!$O:$O,$B$5,_data_Forecast!$P:$P,$C$5,_data_Forecast!$N:$N,P$12,_data_Forecast!$Q:$Q,$D$5,_data_Forecast!$C:$C,$N17))","v":1.4035905470693501E-6}]
[null,null,null,null,null,null,null,null,null,null,null,null,null,"25-29",{"$f":"IF(SUMIFS(INDEX(_data_Forecast!$D:$M,0,MATCH($F$5,_data_Forecast!$D$3:$M$3,0)),_data_Forecast!$O:$O,$B$5,_data_Forecast!$P:$P,$C$5,_data_Forecast!$N:$N,O$12,_data_Forecast!$Q:$Q,$D$5,_data_Forecast!$C:$C,$N18)=0,\"NA\",SUMIFS(INDEX(_data_Forecast!$D:$M,0,MATCH($F$5,_data_Forecast!$D$3:$M$3,0)),_data_Forecast!$O:$O,$B$5,_data_Forecast!$P:$P,$C$5,_data_Forecast!$N:$N,O$12,_data_Forecast!$Q:$Q,$D$5,_data_Forecast!$C:$C,$N18))","v":6.4746261546373504E-6},{"$f":"IF(SUMIFS(INDEX(_data_Forecast!$D:$M,0,MATCH($F$5,_data_Forecast!$D$3:$M$3,0)),_data_Forecast!$O:$O,$B$5,_data_Forecast!$P:$P,$C$5,_data_Forecast!$N:$N,P$12,_data_Forecast!$Q:$Q,$D$5,_data_Forecast!$C:$C,$N18)=0,\"NA\",SUMIFS(INDEX(_data_Forecast!$D:$M,0,MATCH($F$5,_data_Forecast!$D$3:$M$3,0)),_data_Forecast!$O:$O,$B$5,_data_Forecast!$P:$P,$C$5,_data_Forecast!$N:$N,P$12,_data_Forecast!$Q:$Q,$D$5,_data_Forecast!$C:$C,$N18))","v":1.6365992499856701E-6}]
[null,null,null,null,null,null,null,null,null,null,null,null,null,"30-34",{"$f":"IF(SUMIFS(INDEX(_data_Forecast!$D:$M,0,MATCH($F$5,_data_Forecast!$D$3:$M$3,0)),_data_Forecast!$O:$O,$B$5,_data_Forecast!$P:$P,$C$5,_data_Forecast!$N:$N,O$12,_data_Forecast!$Q:$Q,$D$5,_data_Forecast!$C:$C,$N19)=0,\"NA\",SUMIFS(INDEX(_data_Forecast!$D:$M,0,MATCH($F$5,_data_Forecast!$D$3:$M$3,0)),_data_Forecast!$O:$O,$B$5,_data_Forecast!$P:$P,$C$5,_data_Forecast!$N:$N,O$12,_data_Forecast!$Q:$Q,$D$5,_data_Forecast!$C:$C,$N19))","v":1.3169185619167899E-5},{"$f":"IF(SUMIFS(INDEX(_data_Forecast!$D:$M,0,MATCH($F$5,_data_Forecast!$D$3:$M$3,0)),_data_Forecast!$O:$O,$B$5,_data_Forecast!$P:$P,$C$5,_data_Forecast!$N:$N,P$12,_data_Forecast!$Q:$Q,$D$5,_data_Forecast!$C:$C,$N19)=0,\"NA\",SUMIFS(INDEX(_data_Forecast!$D:$M,0,MATCH($F$5,_data_Forecast!$D$3:$M$3,0)),_data_Forecast!$O:$O,$B$5,_data_Forecast!$P:$P,$C$5,_data_Forecast!$N:$N,P$12,_data_Forecast!$Q:$Q,$D$5,_data_Forecast!$C:$C,$N19))","v":2.51320251108755E-6}]
[null,null,null,null,null,null,null,null,null,null,null,null,null,"35-39",{"$f":"IF(SUMIFS(INDEX(_data_Forecast!$D:$M,0,MATCH($F$5,_data_Forecast!$D$3:$M$3,0)),_data_Forecast!$O:$O,$B$5,_data_Forecast!$P:$P,$C$5,_data_Forecast!$N:$N,O$12,_data_Forecast!$Q:$Q,$D$5,_data_Forecast!$C:$C,$N20)=0,\"NA\",SUMIFS(INDEX(_data_Forecast!$D:$M,0,MATCH($F$5,_data_Forecast!$D$3:$M$3,0)),_data_Forecast!$O:$O,$B$5,_data_Forecast!$P:$P,$C$5,_data_Forecast!$N:$N,O$12,_data_Forecast!$Q:$Q,$D$5,_data_Forecast!$C:$C,$N20))","v":2.4610171526573499E-5},{"$f":"IF(SUMIFS(INDEX(_data_Forecast!$D:$M,0,MATCH($F$5,_data_Forecast!$D$3:$M$3,0)),_data_Forecast!$O:$O,$B$5,_data_Forecast!$P:$P,$C$5,_data_Forecast!$N:$N,P$12,_data_Forecast!$Q:$Q,$D$5,_data_Forecast!$C:$C,$N20)=0,\"NA\",SUMIFS(INDEX(_data_Forecast!$D:$M,0,MATCH($F$5,_data_Forecast!$D$3:$M$3,0)),_data_Forecast!$O:$O,$B$5,_data_Forecast!$P:$P,$C$5,_data_Forecast!$N:$N,P$12,_data_Forecast!$Q:$Q,$D$5,_data_Forecast!$C:$C,$N20))","v":4.3303174863398601E-6}]
[null,null,null,null,null,null,null,null,null,null,null,null,null,"40-44",{"$f":"IF(SUMIFS(INDEX(_data_Forecast!$D:$M,0,MATCH($F$5,_data_Forecast!$D$3:$M$3,0)),_data_Forecast!$O:$O,$B$5,_data_Forecast!$P:$P,$C$5,_data_Forecast!$N:$N,O$12,_data_Forecast!$Q:$Q,$D$5,_data_Forecast!$C:$C,$N21)=0,\"NA\",SUMIFS(INDEX(_data_Forecast!$D:$M,0,MATCH($F$5,_data_Forecast!$D$3:$M$3,0)),_data_Forecast!$O:$O,$B$5,_data_Forecast!$P:$P,$C$5,_data_Forecast!$N:$N,O$12,_data_Forecast!$Q:$Q,$D$5,_data_Forecast!$C:$C,$N21))","v":3.6295239067619498E-5},{"$f":"IF(SUMIFS(INDEX(_data_Forecast!$D:$M,0,MATCH($F$5,_data_Forecast!$D$3:$M$3,0)),_data_Forecast!$O:$O,$B$5,_data_Forecast!$P:$P,$C$5,_data_Forecast!$N:$N,P$12,_data_Forecast!$Q:$Q,$D$5,_data_Forecast!$C:$C,$N21)=0,\"NA\",SUMIFS(INDEX(_data_Forecast!$D:$M,0,MATCH($F$5,_data_Forecast!$D$3:$M$3,0)),_data_Forecast!$O:$O,$B$5,_data_Forecast!$P:$P,$C$5,_data_Forecast!$N:$N,P$12,_data_Forecast!$Q:$Q,$D$5,_data_Forecast!$C:$C,$N21))","v":6.8923352757927299E-6}]
[null,null,null,null,null,null,null,null,null,null,null,null,null,"45-49",{"$f":"IF(SUMIFS(INDEX(_data_Forecast!$D:$M,0,MATCH($F$5,_data_Forecast!$D$3:$M$3,0)),_data_Forecast!$O:$O,$B$5,_data_Forecast!$P:$P,$C$5,_data_Forecast!$N:$N,O$12,_data_Forecast!$Q:$Q,$D$5,_data_Forecast!$C:$C,$N22)=0,\"NA\",SUMIFS(INDEX(_data_Forecast!$D:$M,0,MATCH($F$5,_data_Forecast!$D$3:$M$3,0)),_data_Forecast!$O:$O,$B$5,_data_Forecast!$P:$P,$C$5,_data_Forecast!$N:$N,O$12,_data_Forecast!$Q:$Q,$D$5,_data_Forecast!$C:$C,$N22))","v":5.5185393731115597E-5},{"$f":"IF(SUMIFS(INDEX(_data_Forecast!$D:$M,0,MATCH($F$5,_data_Forecast!$D$3:$M$3,0)),_data_Forecast!$O:$O,$B$5,_data_Forecast!$P:$P,$C$5,_data_Forecast!$N:$N,P$12,_data_Forecast!$Q:$Q,$D$5,_data_Forecast!$C:$C,$N22)=0,\"NA\",SUMIFS(INDEX(_data_Forecast!$D:$M,0,MATCH($F$5,_data_Forecast!$D$3:$M$3,0)),_data_Forecast!$O:$O,$B$5,_data_Forecast!$P:$P,$C$5,_data_Forecast!$N:$N,P$12,_data_Forecast!$Q:$Q,$D$5,_data_Forecast!$C:$C,$N22))","v":1.04750979005609E-5}]
[null,null,null,null,null,null,null,null,null,null,null,null,null,"50-54",{"$f":"IF(SUMIFS(INDEX(_data_Forecast!$D:$M,0,MATCH($F$5,_data_Forecast!$D$3:$M$3,0)),_data_Forecast!$O:$O,$B$5,_data_Forecast!$P:$P,$C$5,_data_Forecast!$N:$N,O$12,_data_Forecast!$Q:$Q,$D$5,_data_Forecast!$C:$C,$N23)=0,\"NA\",SUMIFS(INDEX(_data_Forecast!$D:$M,0,MATCH($F$5,_data_Forecast!$D$3:$M$3,0)),_data_Forecast!$O:$O,$B$5,_data_Forecast!$P:$P,$C$5,_data_Forecast!$N:$N,O$12,_data_Forecast!$Q:$Q,$D$5,_data_Forecast!$C:$C,$N23))","v":7.7712450127410704E-5},{"$f":"IF(SUMIFS(INDEX(_data_Forecast!$D:$M,0,MATCH($F$5,_data_Forecast!$D$3:$M$3,0)),_data_Forecast!$O:$O,$B$5,_data_Forecast!$P:$P,$C$5,_data_Forecast!$N:$N,P$12,_data_Forecast!$Q:$Q,$D$5,_data_Forecast!$C:$C,$N23)=0,\"NA\",SUMIFS(INDEX(_data_Forecast!$D:$M,0,MATCH($F$5,_data_Forecast!$D$3:$M$3,0)),_data_Forecast!$O:$O,$B$5,_data_Forecast!$P:$P,$C$5,_data_Forecast!$N:$N,P$12,_data_Forecast!$Q:$Q,$D$5,_data_Forecast!$C:$C,$N23))","v":1.7127528945668499E-5}]
[null,null,null,null,null,null,null,null,null,null,null,null,null,"55-59",{"$f":"IF(SUMIFS(INDEX(_data_Forecast!$D:$M,0,MATCH($F$5,_data_Forecast!$D$3:$M$3,0)),_data_Forecast!$O:$O,$B$5,_data_Forecast!$P:$P,$C$5,_data_Forecast!$N:$N,O$12,_data_Forecast!$Q:$Q,$D$5,_data_Forecast!$C:$C,$N24)=0,\"NA\",SUMIFS(INDEX(_data_Forecast!$D:$M,0,MATCH($F$5,_data_Forecast!$D$3:$M$3,0)),_data_Forecast!$O:$O,$B$5,_data_Forecast!$P:$P,$C$5,_data_Forecast!$N:$N,O$12,_data_Forecast!$Q:$Q,$D$5,_data_Forecast!$C:$C,$N24))","v":8.3930087235018896E-5},{"$f":"IF(SUMIFS(INDEX(_data_Forecast!$D:$M,0,MATCH($F$5,_data_Forecast!$D$3:$M$3,0)),_data_Forecast!$O:$O,$B$5,_data_Forecast!$P:$P,$C$5,_data_Forecast!$N:$N,P$12,_data_Forecast!$Q:$Q,$D$5,_data_Forecast!$C:$C,$N24)=0,\"NA\",SUMIFS(INDEX(_data_Forecast!$D:$M,0,MATCH($F$5,_data_Forecast!$D$3:$M$3,0)),_data_Forecast!$O:$O,$B$5,_data_Forecast!$P:$P,$C$5,_data_Forecast!$N:$N,P$12,_data_Forecast!$Q:$Q,$D$5,_data_Forecast!$C:$C,$N24))","v":3.0597230857313103E-5}]
[null,null,null,null,null,null,null,null,null,null,null,null,null,"60-64",{"$f":"IF(SUMIFS(INDEX(_data_Forecast!$D:$M,0,MATCH($F$5,_data_Forecast!$D$3:$M$3,0)),_data_Forecast!$O:$O,$B$5,_data_Forecast!$P:$P,$C$5,_data_Forecast!$N:$N,O$12,_data_Forecast!$Q:$Q,$D$5,_data_Forecast!$C:$C,$N25)=0,\"NA\",SUMIFS(INDEX(_data_Forecast!$D:$M,0,MATCH($F$5,_data_Forecast!$D$3:$M$3,0)),_data_Forecast!$O:$O,$B$5,_data_Forecast!$P:$P,$C$5,_data_Forecast!$N:$N,O$12,_data_Forecast!$Q:$Q,$D$5,_data_Forecast!$C:$C,$N25))","v":1.00560355002256E-4},{"$f":"IF(SUMIFS(INDEX(_data_Forecast!$D:$M,0,MATCH($F$5,_data_Forecast!$D$3:$M$3,0)),_data_Forecast!$O:$O,$B$5,_data_Forecast!$P:$P,$C$5,_data_Forecast!$N:$N,P$12,_data_Forecast!$Q:$Q,$D$5,_data_Forecast!$C:$C,$N25)=0,\"NA\",SUMIFS(INDEX(_data_Forecast!$D:$M,0,MATCH($F$5,_data_Forecast!$D$3:$M$3,0)),_data_Forecast!$O:$O,$B$5,_data_Forecast!$P:$P,$C$5,_data_Forecast!$N:$N,P$12,_data_Forecast!$Q:$Q,$D$5,_data_Forecast!$C:$C,$N25))","v":5.5135374380828503E-5}]
[null,null,null,null,null,null,null,null,null,null,null,null,null,"65-69",{"$f":"IF(SUMIFS(INDEX(_data_Forecast!$D:$M,0,MATCH($F$5,_data_Forecast!$D$3:$M$3,0)),_data_Forecast!$O:$O,$B$5,_data_Forecast!$P:$P,$C$5,_data_Forecast!$N:$N,O$12,_data_Forecast!$Q:$Q,$D$5,_data_Forecast!$C:$C,$N26)=0,\"NA\",SUMIFS(INDEX(_data_Forecast!$D:$M,0,MATCH($F$5,_data_Forecast!$D$3:$M$3,0)),_data_Forecast!$O:$O,$B$5,_data_Forecast!$P:$P,$C$5,_data_Forecast!$N:$N,O$12,_data_Forecast!$Q:$Q,$D$5,_data_Forecast!$C:$C,$N26))","v":1.2312836323744199E-4},{"$f":"IF(SUMIFS(INDEX(_data_Forecast!$D:$M,0,MATCH($F$5,_data_Forecast!$D$3:$M$3,0)),_data_Forecast!$O:$O,$B$5,_data_Forecast!$P:$P,$C$5,_data_Forecast!$N:$N,P$12,_data_Forecast!$Q:$Q,$D$5,_data_Forecast!$C:$C,$N26)=0,\"NA\",SUMIFS(INDEX(_data_Forecast!$D:$M,0,MATCH($F$5,_data_Forecast!$D$3:$M$3,0)),_data_Forecast!$O:$O,$B$5,_data_Forecast!$P:$P,$C$5,_data_Forecast!$N:$N,P$12,_data_Forecast!$Q:$Q,$D$5,_data_Forecast!$C:$C,$N26))","v":9.5092951367801694E-5}]
[null,null,null,null,null,null,null,null,null,null,null,null,null,"70-74",{"$f":"IF(SUMIFS(INDEX(_data_Forecast!$D:$M,0,MATCH($F$5,_data_Forecast!$D$3:$M$3,0)),_data_Forecast!$O:$O,$B$5,_data_Forecast!$P:$P,$C$5,_data_Forecast!$N:$N,O$12,_data_Forecast!$Q:$Q,$D$5,_data_Forecast!$C:$C,$N27)=0,\"NA\",SUMIFS(INDEX(_data_Forecast!$D:$M,0,MATCH($F$5,_data_Forecast!$D$3:$M$3,0)),_data_Forecast!$O:$O,$B$5,_data_Forecast!$P:$P,$C$5,_data_Forecast!$N:$N,O$12,_data_Forecast!$Q:$Q,$D$5,_data_Forecast!$C:$C,$N27))","v":1.6749318818820301E-4},{"$f":"IF(SUMIFS(INDEX(_data_Forecast!$D:$M,0,MATCH($F$5,_data_Forecast!$D$3:$M$3,0)),_data_Forecast!$O:$O,$B$5,_data_Forecast!$P:$P,$C$5,_data_Forecast!$N:$N,P$12,_data_Forecast!$Q:$Q,$D$5,_data_Forecast!$C:$C,$N27)=0,\"NA\",SUMIFS(INDEX(_data_Forecast!$D:$M,0,MATCH($F$5,_data_Forecast!$D$3:$M$3,0)),_data_Forecast!$O:$O,$B$5,_data_Forecast!$P:$P,$C$5,_data_Forecast!$N:$N,P$12,_data_Forecast!$Q:$Q,$D$5,_data_Forecast!$C:$C,$N27))","v":1.6248027200718699E-4}]
[null,null,null,null,null,null,null,null,null,null,null,null,null,"75-79",{"$f":"IF(SUMIFS(INDEX(_data_Forecast!$D:$M,0,MATCH($F$5,_data_Forecast!$D$3:$M$3,0)),_data_Forecast!$O:$O,$B$5,_data_Forecast!$P:$P,$C$5,_data_Forecast!$N:$N,O$12,_data_Forecast!$Q:$Q,$D$5,_data_Forecast!$C:$C,$N28)=0,\"NA\",SUMIFS(INDEX(_data_Forecast!$D:$M,0,MATCH($F$5,_data_Forecast!$D$3:$M$3,0)),_data_Forecast!$O:$O,$B$5,_data_Forecast!$P:$P,$C$5,_data_Forecast!$N:$N,O$12,_data_Forecast!$Q:$Q,$D$5,_data_Forecast!$C:$C,$N28))","v":2.67942354165171E-4},{"$f":"IF(SUMIFS(INDEX(_data_Forecast!$D:$M,0,MATCH($F$5,_data_Forecast!$D$3:$M$3,0)),_data_Forecast!$O:$O,$B$5,_data_Forecast!$P:$P,$C$5,_data_Forecast!$N:$N,P$12,_data_Forecast!$Q:$Q,$D$5,_data_Forecast!$C:$C,$N28)=0,\"NA\",SUMIFS(INDEX(_data_Forecast!$D:$M,0,MATCH($F$5,_data_Forecast!$D$3:$M$3,0)),_data_Forecast!$O:$O,$B$5,_data_Forecast!$P:$P,$C$5,_data_Forecast!$N:$N,P$12,_data_Forecast!$Q:$Q,$D$5,_data_Forecast!$C:$C,$N28))","v":2.95099638159221E-4}]
[null,null,null,null,null,null,null,null,null,null,null,null,null,"80-84",{"$f":"IF(SUMIFS(INDEX(_data_Forecast!$D:$M,0,MATCH($F$5,_data_Forecast!$D$3:$M$3,0)),_data_Forecast!$O:$O,$B$5,_data_Forecast!$P:$P,$C$5,_data_Forecast!$N:$N,O$12,_data_Forecast!$Q:$Q,$D$5,_data_Forecast!$C:$C,$N29)=0,\"NA\",SUMIFS(INDEX(_data_Forecast!$D:$M,0,MATCH($F$5,_data_Forecast!$D$3:$M$3,0)),_data_Forecast!$O:$O,$B$5,_data_Forecast!$P:$P,$C$5,_data_Forecast!$N:$N,O$12,_data_Forecast!$Q:$Q,$D$5,_data_Forecast!$C:$C,$N29))","v":4.8491924837631598E-4},{"$f":"IF(SUMIFS(INDEX(_data_Forecast!$D:$M,0,MATCH($F$5,_data_Forecast!$D$3:$M$3,0)),_data_Forecast!$O:$O,$B$5,_data_Forecast!$P:$P,$C$5,_data_Forecast!$N:$N,P$12,_data_Forecast!$Q:$Q,$D$5,_data_Forecast!$C:$C,$N29)=0,\"NA\",SUMIFS(INDEX(_data_Forecast!$D:$M,0,MATCH($F$5,_data_Forecast!$D$3:$M$3,0)),_data_Forecast!$O:$O,$B$5,_data_Forecast!$P:$P,$C$5,_data_Forecast!$N:$N,P$12,_data_Forecast!$Q:$Q,$D$5,_data_Forecast!$C:$C,$N29))","v":5.8430574767275804E-4}]
[null,null,null,null,null,null,null,null,null,null,null,null,null,"85+",{"$f":"IF(SUMIFS(INDEX(_data_Forecast!$D:$M,0,MATCH($F$5,_data_Forecast!$D$3:$M$3,0)),_data_Forecast!$O:$O,$B$5,_data_Forecast!$P:$P,$C$5,_data_Forecast!$N:$N,O$12,_data_Forecast!$Q:$Q,$D$5,_data_Forecast!$C:$C,$N30)=0,\"NA\",SUMIFS(INDEX(_data_Forecast!$D:$M,0,MATCH($F$5,_data_Forecast!$D$3:$M$3,0)),_data_Forecast!$O:$O,$B$5,_data_Forecast!$P:$P,$C$5,_data_Forecast!$N:$N,O$12,_data_Forecast!$Q:$Q,$D$5,_data_Forecast!$C:$C,$N30))","v":8.6892913159927602E-4},{"$f":"IF(SUMIFS(INDEX(_data_Forecast!$D:$M,0,MATCH($F$5,_data_Forecast!$D$3:$M$3,0)),_data_Forecast!$O:$O,$B$5,_data_Forecast!$P:$P,$C$5,_data_Forecast!$N:$N,P$12,_data_Forecast!$Q:$Q,$D$5,_data_Forecast!$C:$C,$N30)=0,\"NA\",SUMIFS(INDEX(_data_Forecast!$D:$M,0,MATCH($F$5,_data_Forecast!$D$3:$M$3,0)),_data_Forecast!$O:$O,$B$5,_data_Forecast!$P:$P,$C$5,_data_Forecast!$N:$N,P$12,_data_Forecast!$Q:$Q,$D$5,_data_Forecast!$C:$C,$N30))","v":1.20957718862375E-3}]
[]
[]
[]
[null,{"$f":"setChartAxis(\"Gender_comparison\",\"Chart 4\",\"Min\",\"Value\",\"Primary\",C34)","v":"Value Primary Min: 0.000000395"},{"$f":"ROUNDDOWN(MIN(O13:P30)*1000000000,0)/1000000000*0.5","v":3.9499999999999998E-7}]
[null,{"$f":"setChartAxis(\"Gender_comparison\",\"Chart 4\",\"Max\",\"Value\",\"Primary\",C35)","v":"Value Primary Max: 0.001814367"},{"$f":"ROUNDUP(MAX(O13:P30)*1000000000,0)/1000000000*1.5","v":1.8143669999999999E-3}]
[null,{"$f":"All_series!B36","v":"Test!1"}]
[]
[]
[]
[]
[]
[]
[]
[]
[]
[]
[]
[]
[]
[]
[]
[]
[]
[]
[]
[]
[]
[]
[]
[]
[]
[]
[]
[]
[]
[]
[]
[]
[]
[]
[]
[]
[]
[]
[]
[]
[]
[]
[]
[]
[]
[]
[]
[]
[]
[]
[]
[]
[]
[]
[]
[]
[]
[]
[]
[]
[]
[]
[]
[]
[]
[]
[]
[]
[]
[]
[]
[]
[]
[]
[]
[]
[]
[]
[]
[]
[]
[]
[]
[]
[]
[]
[]
[]
[]
[]
[]
[]
[]
[]
[]
[null,null,null,null,null,null,null,null,null,null,null,null,null,null,null,null,null,null,2027,2028,2029]
[null,null,null,null,null,null,null,null,null,null,null,null,null,null,null,null,null,null,{"$f":"IF(SUMIFS(_data_Forecast!K:K,_data_Forecast!$Q:$Q,#REF!,_data_Forecast!$C:$C,#REF!)=0,\"NA\",SUMIFS(_data_Forecast!K:K,_data_Forecast!$Q:$Q,#REF!,_data_Forecast!$C:$C,#REF!))","v":"NA"},{"$f":"IF(SUMIFS(_data_Forecast!L:L,_data_Forecast!$Q:$Q,#REF!,_data_Forecast!$C:$C,#REF!)=0,\"NA\",SUMIFS(_data_Forecast!L:L,_data_Forecast!$Q:$Q,#REF!,_data_Forecast!$C:$C,#REF!))","v":"NA"},{"$f":"IF(SUMIFS(_data_Forecast!M:M,_data_Forecast!$Q:$Q,#REF!,_data_Forecast!$C:$C,#REF!)=0,\"NA\",SUMIFS(_data_Forecast!M:M,_data_Forecast!$Q:$Q,#REF!,_data_Forecast!$C:$C,#REF!))","v":"NA"}]
[null,null,null,null,null,null,null,null,null,null,null,null,null,null,null,null,null,null,{"$f":"IF(SUMIFS(_data_Forecast!K:K,_data_Forecast!$Q:$Q,#REF!,_data_Forecast!$C:$C,#REF!)=0,\"NA\",SUMIFS(_data_Forecast!K:K,_data_Forecast!$Q:$Q,#REF!,_data_Forecast!$C:$C,#REF!))","v":"NA"},{"$f":"IF(SUMIFS(_data_Forecast!L:L,_data_Forecast!$Q:$Q,#REF!,_data_Forecast!$C:$C,#REF!)=0,\"NA\",SUMIFS(_data_Forecast!L:L,_data_Forecast!$Q:$Q,#REF!,_data_Forecast!$C:$C,#REF!))","v":"NA"},{"$f":"IF(SUMIFS(_data_Forecast!M:M,_data_Forecast!$Q:$Q,#REF!,_data_Forecast!$C:$C,#REF!)=0,\"NA\",SUMIFS(_data_Forecast!M:M,_data_Forecast!$Q:$Q,#REF!,_data_Forecast!$C:$C,#REF!))","v":"NA"}]
[null,null,null,null,null,null,null,null,null,null,null,null,null,null,null,null,null,null,{"$f":"IF(SUMIFS(_data_Forecast!K:K,_data_Forecast!$Q:$Q,#REF!,_data_Forecast!$C:$C,#REF!)=0,\"NA\",SUMIFS(_data_Forecast!K:K,_data_Forecast!$Q:$Q,#REF!,_data_Forecast!$C:$C,#REF!))","v":"NA"},{"$f":"IF(SUMIFS(_data_Forecast!L:L,_data_Forecast!$Q:$Q,#REF!,_data_Forecast!$C:$C,#REF!)=0,\"NA\",SUMIFS(_data_Forecast!L:L,_data_Forecast!$Q:$Q,#REF!,_data_Forecast!$C:$C,#REF!))","v":"NA"},{"$f":"IF(SUMIFS(_data_Forecast!M:M,_data_Forecast!$Q:$Q,#REF!,_data_Forecast!$C:$C,#REF!)=0,\"NA\",SUMIFS(_data_Forecast!M:M,_data_Forecast!$Q:$Q,#REF!,_data_Forecast!$C:$C,#REF!))","v":"NA"}]
[null,null,null,null,null,null,null,null,null,null,null,null,null,null,null,null,null,null,{"$f":"IF(SUMIFS(_data_Forecast!K:K,_data_Forecast!$Q:$Q,#REF!,_data_Forecast!$C:$C,#REF!)=0,\"NA\",SUMIFS(_data_Forecast!K:K,_data_Forecast!$Q:$Q,#REF!,_data_Forecast!$C:$C,#REF!))","v":"NA"},{"$f":"IF(SUMIFS(_data_Forecast!L:L,_data_Forecast!$Q:$Q,#REF!,_data_Forecast!$C:$C,#REF!)=0,\"NA\",SUMIFS(_data_Forecast!L:L,_data_Forecast!$Q:$Q,#REF!,_data_Forecast!$C:$C,#REF!))","v":"NA"},{"$f":"IF(SUMIFS(_data_Forecast!M:M,_data_Forecast!$Q:$Q,#REF!,_data_Forecast!$C:$C,#REF!)=0,\"NA\",SUMIFS(_data_Forecast!M:M,_data_Forecast!$Q:$Q,#REF!,_data_Forecast!$C:$C,#REF!))","v":"NA"}]
[null,null,null,null,null,null,null,null,null,null,null,null,null,null,null,null,null,null,{"$f":"IF(SUMIFS(_data_Forecast!K:K,_data_Forecast!$Q:$Q,#REF!,_data_Forecast!$C:$C,#REF!)=0,\"NA\",SUMIFS(_data_Forecast!K:K,_data_Forecast!$Q:$Q,#REF!,_data_Forecast!$C:$C,#REF!))","v":"NA"},{"$f":"IF(SUMIFS(_data_Forecast!L:L,_data_Forecast!$Q:$Q,#REF!,_data_Forecast!$C:$C,#REF!)=0,\"NA\",SUMIFS(_data_Forecast!L:L,_data_Forecast!$Q:$Q,#REF!,_data_Forecast!$C:$C,#REF!))","v":"NA"},{"$f":"IF(SUMIFS(_data_Forecast!M:M,_data_Forecast!$Q:$Q,#REF!,_data_Forecast!$C:$C,#REF!)=0,\"NA\",SUMIFS(_data_Forecast!M:M,_data_Forecast!$Q:$Q,#REF!,_data_Forecast!$C:$C,#REF!))","v":"NA"}]
[null,null,null,null,null,null,null,null,null,null,null,null,null,null,null,null,null,null,{"$f":"IF(SUMIFS(_data_Forecast!K:K,_data_Forecast!$Q:$Q,#REF!,_data_Forecast!$C:$C,#REF!)=0,\"NA\",SUMIFS(_data_Forecast!K:K,_data_Forecast!$Q:$Q,#REF!,_data_Forecast!$C:$C,#REF!))","v":"NA"},{"$f":"IF(SUMIFS(_data_Forecast!L:L,_data_Forecast!$Q:$Q,#REF!,_data_Forecast!$C:$C,#REF!)=0,\"NA\",SUMIFS(_data_Forecast!L:L,_data_Forecast!$Q:$Q,#REF!,_data_Forecast!$C:$C,#REF!))","v":"NA"},{"$f":"IF(SUMIFS(_data_Forecast!M:M,_data_Forecast!$Q:$Q,#REF!,_data_Forecast!$C:$C,#REF!)=0,\"NA\",SUMIFS(_data_Forecast!M:M,_data_Forecast!$Q:$Q,#REF!,_data_Forecast!$C:$C,#REF!))","v":"NA"}]
[null,null,null,null,null,null,null,null,null,null,null,null,null,null,null,null,null,null,{"$f":"IF(SUMIFS(_data_Forecast!K:K,_data_Forecast!$Q:$Q,#REF!,_data_Forecast!$C:$C,#REF!)=0,\"NA\",SUMIFS(_data_Forecast!K:K,_data_Forecast!$Q:$Q,#REF!,_data_Forecast!$C:$C,#REF!))","v":"NA"},{"$f":"IF(SUMIFS(_data_Forecast!L:L,_data_Forecast!$Q:$Q,#REF!,_data_Forecast!$C:$C,#REF!)=0,\"NA\",SUMIFS(_data_Forecast!L:L,_data_Forecast!$Q:$Q,#REF!,_data_Forecast!$C:$C,#REF!))","v":"NA"},{"$f":"IF(SUMIFS(_data_Forecast!M:M,_data_Forecast!$Q:$Q,#REF!,_data_Forecast!$C:$C,#REF!)=0,\"NA\",SUMIFS(_data_Forecast!M:M,_data_Forecast!$Q:$Q,#REF!,_data_Forecast!$C:$C,#REF!))","v":"NA"}]
[null,null,null,null,null,null,null,null,null,null,null,null,null,null,null,null,null,null,{"$f":"IF(SUMIFS(_data_Forecast!K:K,_data_Forecast!$Q:$Q,#REF!,_data_Forecast!$C:$C,#REF!)=0,\"NA\",SUMIFS(_data_Forecast!K:K,_data_Forecast!$Q:$Q,#REF!,_data_Forecast!$C:$C,#REF!))","v":"NA"},{"$f":"IF(SUMIFS(_data_Forecast!L:L,_data_Forecast!$Q:$Q,#REF!,_data_Forecast!$C:$C,#REF!)=0,\"NA\",SUMIFS(_data_Forecast!L:L,_data_Forecast!$Q:$Q,#REF!,_data_Forecast!$C:$C,#REF!))","v":"NA"},{"$f":"IF(SUMIFS(_data_Forecast!M:M,_data_Forecast!$Q:$Q,#REF!,_data_Forecast!$C:$C,#REF!)=0,\"NA\",SUMIFS(_data_Forecast!M:M,_data_Forecast!$Q:$Q,#REF!,_data_Forecast!$C:$C,#REF!))","v":"NA"}]
[null,null,null,null,null,null,null,null,null,null,null,null,null,null,null,null,null,null,{"$f":"IF(SUMIFS(_data_Forecast!K:K,_data_Forecast!$Q:$Q,#REF!,_data_Forecast!$C:$C,#REF!)=0,\"NA\",SUMIFS(_data_Forecast!K:K,_data_Forecast!$Q:$Q,#REF!,_data_Forecast!$C:$C,#REF!))","v":"NA"},{"$f":"IF(SUMIFS(_data_Forecast!L:L,_data_Forecast!$Q:$Q,#REF!,_data_Forecast!$C:$C,#REF!)=0,\"NA\",SUMIFS(_data_Forecast!L:L,_data_Forecast!$Q:$Q,#REF!,_data_Forecast!$C:$C,#REF!))","v":"NA"},{"$f":"IF(SUMIFS(_data_Forecast!M:M,_data_Forecast!$Q:$Q,#REF!,_data_Forecast!$C:$C,#REF!)=0,\"NA\",SUMIFS(_data_Forecast!M:M,_data_Forecast!$Q:$Q,#REF!,_data_Forecast!$C:$C,#REF!))","v":"NA"}]
[null,null,null,null,null,null,null,null,null,null,null,null,null,null,null,null,null,null,{"$f":"IF(SUMIFS(_data_Forecast!K:K,_data_Forecast!$Q:$Q,#REF!,_data_Forecast!$C:$C,#REF!)=0,\"NA\",SUMIFS(_data_Forecast!K:K,_data_Forecast!$Q:$Q,#REF!,_data_Forecast!$C:$C,#REF!))","v":"NA"},{"$f":"IF(SUMIFS(_data_Forecast!L:L,_data_Forecast!$Q:$Q,#REF!,_data_Forecast!$C:$C,#REF!)=0,\"NA\",SUMIFS(_data_Forecast!L:L,_data_Forecast!$Q:$Q,#REF!,_data_Forecast!$C:$C,#REF!))","v":"NA"},{"$f":"IF(SUMIFS(_data_Forecast!M:M,_data_Forecast!$Q:$Q,#REF!,_data_Forecast!$C:$C,#REF!)=0,\"NA\",SUMIFS(_data_Forecast!M:M,_data_Forecast!$Q:$Q,#REF!,_data_Forecast!$C:$C,#REF!))","v":"NA"}]
[null,null,null,null,null,null,null,null,null,null,null,null,null,null,null,null,null,null,{"$f":"IF(SUMIFS(_data_Forecast!K:K,_data_Forecast!$Q:$Q,#REF!,_data_Forecast!$C:$C,#REF!)=0,\"NA\",SUMIFS(_data_Forecast!K:K,_data_Forecast!$Q:$Q,#REF!,_data_Forecast!$C:$C,#REF!))","v":"NA"},{"$f":"IF(SUMIFS(_data_Forecast!L:L,_data_Forecast!$Q:$Q,#REF!,_data_Forecast!$C:$C,#REF!)=0,\"NA\",SUMIFS(_data_Forecast!L:L,_data_Forecast!$Q:$Q,#REF!,_data_Forecast!$C:$C,#REF!))","v":"NA"},{"$f":"IF(SUMIFS(_data_Forecast!M:M,_data_Forecast!$Q:$Q,#REF!,_data_Forecast!$C:$C,#REF!)=0,\"NA\",SUMIFS(_data_Forecast!M:M,_data_Forecast!$Q:$Q,#REF!,_data_Forecast!$C:$C,#REF!))","v":"NA"}]
[null,null,null,null,null,null,null,null,null,null,null,null,null,null,null,null,null,null,{"$f":"IF(SUMIFS(_data_Forecast!K:K,_data_Forecast!$Q:$Q,#REF!,_data_Forecast!$C:$C,#REF!)=0,\"NA\",SUMIFS(_data_Forecast!K:K,_data_Forecast!$Q:$Q,#REF!,_data_Forecast!$C:$C,#REF!))","v":"NA"},{"$f":"IF(SUMIFS(_data_Forecast!L:L,_data_Forecast!$Q:$Q,#REF!,_data_Forecast!$C:$C,#REF!)=0,\"NA\",SUMIFS(_data_Forecast!L:L,_data_Forecast!$Q:$Q,#REF!,_data_Forecast!$C:$C,#REF!))","v":"NA"},{"$f":"IF(SUMIFS(_data_Forecast!M:M,_data_Forecast!$Q:$Q,#REF!,_data_Forecast!$C:$C,#REF!)=0,\"NA\",SUMIFS(_data_Forecast!M:M,_data_Forecast!$Q:$Q,#REF!,_data_Forecast!$C:$C,#REF!))","v":"NA"}]
[null,null,null,null,null,null,null,null,null,null,null,null,null,null,null,null,null,null,{"$f":"IF(SUMIFS(_data_Forecast!K:K,_data_Forecast!$Q:$Q,#REF!,_data_Forecast!$C:$C,#REF!)=0,\"NA\",SUMIFS(_data_Forecast!K:K,_data_Forecast!$Q:$Q,#REF!,_data_Forecast!$C:$C,#REF!))","v":"NA"},{"$f":"IF(SUMIFS(_data_Forecast!L:L,_data_Forecast!$Q:$Q,#REF!,_data_Forecast!$C:$C,#REF!)=0,\"NA\",SUMIFS(_data_Forecast!L:L,_data_Forecast!$Q:$Q,#REF!,_data_Forecast!$C:$C,#REF!))","v":"NA"},{"$f":"IF(SUMIFS(_data_Forecast!M:M,_data_Forecast!$Q:$Q,#REF!,_data_Forecast!$C:$C,#REF!)=0,\"NA\",SUMIFS(_data_Forecast!M:M,_data_Forecast!$Q:$Q,#REF!,_data_Forecast!$C:$C,#REF!))","v":"NA"}]
[null,null,null,null,null,null,null,null,null,null,null,null,null,null,null,null,null,null,{"$f":"IF(SUMIFS(_data_Forecast!K:K,_data_Forecast!$Q:$Q,#REF!,_data_Forecast!$C:$C,#REF!)=0,\"NA\",SUMIFS(_data_Forecast!K:K,_data_Forecast!$Q:$Q,#REF!,_data_Forecast!$C:$C,#REF!))","v":"NA"},{"$f":"IF(SUMIFS(_data_Forecast!L:L,_data_Forecast!$Q:$Q,#REF!,_data_Forecast!$C:$C,#REF!)=0,\"NA\",SUMIFS(_data_Forecast!L:L,_data_Forecast!$Q:$Q,#REF!,_data_Forecast!$C:$C,#REF!))","v":"NA"},{"$f":"IF(SUMIFS(_data_Forecast!M:M,_data_Forecast!$Q:$Q,#REF!,_data_Forecast!$C:$C,#REF!)=0,\"NA\",SUMIFS(_data_Forecast!M:M,_data_Forecast!$Q:$Q,#REF!,_data_Forecast!$C:$C,#REF!))","v":"NA"}]
[null,null,null,null,null,null,null,null,null,null,null,null,null,null,null,null,null,null,{"$f":"IF(SUMIFS(_data_Forecast!K:K,_data_Forecast!$Q:$Q,#REF!,_data_Forecast!$C:$C,#REF!)=0,\"NA\",SUMIFS(_data_Forecast!K:K,_data_Forecast!$Q:$Q,#REF!,_data_Forecast!$C:$C,#REF!))","v":"NA"},{"$f":"IF(SUMIFS(_data_Forecast!L:L,_data_Forecast!$Q:$Q,#REF!,_data_Forecast!$C:$C,#REF!)=0,\"NA\",SUMIFS(_data_Forecast!L:L,_data_Forecast!$Q:$Q,#REF!,_data_Forecast!$C:$C,#REF!))","v":"NA"},{"$f":"IF(SUMIFS(_data_Forecast!M:M,_data_Forecast!$Q:$Q,#REF!,_data_Forecast!$C:$C,#REF!)=0,\"NA\",SUMIFS(_data_Forecast!M:M,_data_Forecast!$Q:$Q,#REF!,_data_Forecast!$C:$C,#REF!))","v":"NA"}]
[null,null,null,null,null,null,null,null,null,null,null,null,null,null,null,null,null,null,{"$f":"IF(SUMIFS(_data_Forecast!K:K,_data_Forecast!$Q:$Q,#REF!,_data_Forecast!$C:$C,#REF!)=0,\"NA\",SUMIFS(_data_Forecast!K:K,_data_Forecast!$Q:$Q,#REF!,_data_Forecast!$C:$C,#REF!))","v":"NA"},{"$f":"IF(SUMIFS(_data_Forecast!L:L,_data_Forecast!$Q:$Q,#REF!,_data_Forecast!$C:$C,#REF!)=0,\"NA\",SUMIFS(_data_Forecast!L:L,_data_Forecast!$Q:$Q,#REF!,_data_Forecast!$C:$C,#REF!))","v":"NA"},{"$f":"IF(SUMIFS(_data_Forecast!M:M,_data_Forecast!$Q:$Q,#REF!,_data_Forecast!$C:$C,#REF!)=0,\"NA\",SUMIFS(_data_Forecast!M:M,_data_Forecast!$Q:$Q,#REF!,_data_Forecast!$C:$C,#REF!))","v":"NA"}]
[null,null,null,null,null,null,null,null,null,null,null,null,null,null,null,null,null,null,{"$f":"IF(SUMIFS(_data_Forecast!K:K,_data_Forecast!$Q:$Q,#REF!,_data_Forecast!$C:$C,#REF!)=0,\"NA\",SUMIFS(_data_Forecast!K:K,_data_Forecast!$Q:$Q,#REF!,_data_Forecast!$C:$C,#REF!))","v":"NA"},{"$f":"IF(SUMIFS(_data_Forecast!L:L,_data_Forecast!$Q:$Q,#REF!,_data_Forecast!$C:$C,#REF!)=0,\"NA\",SUMIFS(_data_Forecast!L:L,_data_Forecast!$Q:$Q,#REF!,_data_Forecast!$C:$C,#REF!))","v":"NA"},{"$f":"IF(SUMIFS(_data_Forecast!M:M,_data_Forecast!$Q:$Q,#REF!,_data_Forecast!$C:$C,#REF!)=0,\"NA\",SUMIFS(_data_Forecast!M:M,_data_Forecast!$Q:$Q,#REF!,_data_Forecast!$C:$C,#REF!))","v":"NA"}]
[null,null,null,null,null,null,null,null,null,null,null,null,null,null,null,null,null,null,{"$f":"IF(SUMIFS(_data_Forecast!K:K,_data_Forecast!$Q:$Q,#REF!,_data_Forecast!$C:$C,#REF!)=0,\"NA\",SUMIFS(_data_Forecast!K:K,_data_Forecast!$Q:$Q,#REF!,_data_Forecast!$C:$C,#REF!))","v":"NA"},{"$f":"IF(SUMIFS(_data_Forecast!L:L,_data_Forecast!$Q:$Q,#REF!,_data_Forecast!$C:$C,#REF!)=0,\"NA\",SUMIFS(_data_Forecast!L:L,_data_Forecast!$Q:$Q,#REF!,_data_Forecast!$C:$C,#REF!))","v":"NA"},{"$f":"IF(SUMIFS(_data_Forecast!M:M,_data_Forecast!$Q:$Q,#REF!,_data_Forecast!$C:$C,#REF!)=0,\"NA\",SUMIFS(_data_Forecast!M:M,_data_Forecast!$Q:$Q,#REF!,_data_Forecast!$C:$C,#REF!))","v":"NA"}]

{"sheet":"Region_comparison","index":6,"n_rows":36,"n_cols":28,"rows_kept":36,"cut":false,"hidden":false,"merged":[]}
[]
[null,"Option 1 - Select Combination Using Drop-down List",null,null,null,null,null,null,null,null,null,null,null,"Option 2 - Click Buttons to Select Combination"]
[]
[null,"Gender","Area","Cause",null,"Year",null,null,null,null,null,null,null,null,null,null,null,null,null,null,null,null,null,"Gender","Area","Cause","Year",5]
[null,"Male","Rural","Mental",null,2022,null,null,null,null,null,null,null,null,null,null,null,null,null,null,null,null,null,{"$f":"OFFSET(_tbl!K$3,comb_id,0)","v":"Male"},{"$f":"OFFSET(_tbl!L$3,comb_id,0)","v":"Rural"},{"$f":"OFFSET(_tbl!M$3,comb_id,0)","v":"Digestive"},{"$f":"F5","v":2022}]
[]
[]
[]
[null,"CHARTS AND DATA",null,null,{"$f":"IF(COUNTIFS(O12:Q29,\"NA\")=54, \"Combination Not Available\", B5&\", \"&C5&\", Cause \"&D5&\", Forecast Year \"&F5)","v":"Male, Rural, Cause Mental, Forecast Year 2022"}]
[]
[null,null,null,null,null,null,null,null,null,null,null,null,null,"Age/Region","Central","East","West"]
[null,null,null,null,null,null,null,null,null,null,null,null,null,"1-4",{"$f":"IF(SUMIFS(INDEX(_data_Forecast!$D:$M,0,MATCH($F$5,_data_Forecast!$D$3:$M$3,0)),_data_Forecast!$O:$O,O$11,_data_Forecast!$P:$P,$C$5,_data_Forecast!$N:$N,$B$5,_data_Forecast!$Q:$Q,$D$5,_data_Forecast!$C:$C,$N12)=0,\"NA\",SUMIFS(INDEX(_data_Forecast!$D:$M,0,MATCH($F$5,_data_Forecast!$D$3:$M$3,0)),_data_Forecast!$O:$O,O$11,_data_Forecast!$P:$P,$C$5,_data_Forecast!$N:$N,$B$5,_data_Forecast!$Q:$Q,$D$5,_data_Forecast!$C:$C,$N12))","v":2.38191032813827E-5},{"$f":"IF(SUMIFS(INDEX(_data_Forecast!$D:$M,0,MATCH($F$5,_data_Forecast!$D$3:$M$3,0)),_data_Forecast!$O:$O,P$11,_data_Forecast!$P:$P,$C$5,_data_Forecast!$N:$N,$B$5,_data_Forecast!$Q:$Q,$D$5,_data_Forecast!$C:$C,$N12)=0,\"NA\",SUMIFS(INDEX(_data_Forecast!$D:$M,0,MATCH($F$5,_data_Forecast!$D$3:$M$3,0)),_data_Forecast!$O:$O,P$11,_data_Forecast!$P:$P,$C$5,_data_Forecast!$N:$N,$B$5,_data_Forecast!$Q:$Q,$D$5,_data_Forecast!$C:$C,$N12))","v":2.6461000259173501E-5},{"$f":"IF(SUMIFS(INDEX(_data_Forecast!$D:$M,0,MATCH($F$5,_data_Forecast!$D$3:$M$3,0)),_data_Forecast!$O:$O,Q$11,_data_Forecast!$P:$P,$C$5,_data_Forecast!$N:$N,$B$5,_data_Forecast!$Q:$Q,$D$5,_data_Forecast!$C:$C,$N12)=0,\"NA\",SUMIFS(INDEX(_data_Forecast!$D:$M,0,MATCH($F$5,_data_Forecast!$D$3:$M$3,0)),_data_Forecast!$O:$O,Q$11,_data_Forecast!$P:$P,$C$5,_data_Forecast!$N:$N,$B$5,_data_Forecast!$Q:$Q,$D$5,_data_Forecast!$C:$C,$N12))","v":3.3347364066732502E-5}]
[null,null,null,null,null,null,null,null,null,null,null,null,null,"5-9",{"$f":"IF(SUMIFS(INDEX(_data_Forecast!$D:$M,0,MATCH($F$5,_data_Forecast!$D$3:$M$3,0)),_data_Forecast!$O:$O,O$11,_data_Forecast!$P:$P,$C$5,_data_Forecast!$N:$N,$B$5,_data_Forecast!$Q:$Q,$D$5,_data_Forecast!$C:$C,$N13)=0,\"NA\",SUMIFS(INDEX(_data_Forecast!$D:$M,0,MATCH($F$5,_data_Forecast!$D$3:$M$3,0)),_data_Forecast!$O:$O,O$11,_data_Forecast!$P:$P,$C$5,_data_Forecast!$N:$N,$B$5,_data_Forecast!$Q:$Q,$D$5,_data_Forecast!$C:$C,$N13))","v":1.5376903296186402E-5},{"$f":"IF(SUMIFS(INDEX(_data_Forecast!$D:$M,0,MATCH($F$5,_data_Forecast!$D$3:$M$3,0)),_data_Forecast!$O:$O,P$11,_data_Forecast!$P:$P,$C$5,_data_Forecast!$N:$N,$B$5,_data_Forecast!$Q:$Q,$D$5,_data_Forecast!$C:$C,$N13)=0,\"NA\",SUMIFS(INDEX(_data_Forecast!$D:$M,0,MATCH($F$5,_data_Forecast!$D$3:$M$3,0)),_data_Forecast!$O:$O,P$11,_data_Forecast!$P:$P,$C$5,_data_Forecast!$N:$N,$B$5,_data_Forecast!$Q:$Q,$D$5,_data_Forecast!$C:$C,$N13))","v":1.8687476791508001E-5},{"$f":"IF(SUMIFS(INDEX(_data_Forecast!$D:$M,0,MATCH($F$5,_data_Forecast!$D$3:$M$3,0)),_data_Forecast!$O:$O,Q$11,_data_Forecast!$P:$P,$C$5,_data_Forecast!$N:$N,$B$5,_data_Forecast!$Q:$Q,$D$5,_data_Forecast!$C:$C,$N13)=0,\"NA\",SUMIFS(INDEX(_data_Forecast!$D:$M,0,MATCH($F$5,_data_Forecast!$D$3:$M$3,0)),_data_Forecast!$O:$O,Q$11,_data_Forecast!$P:$P,$C$5,_data_Forecast!$N:$N,$B$5,_data_Forecast!$Q:$Q,$D$5,_data_Forecast!$C:$C,$N13))","v":2.7079448722637799E-5}]
[null,null,null,null,null,null,null,null,null,null,null,null,null,"10-14",{"$f":"IF(SUMIFS(INDEX(_data_Forecast!$D:$M,0,MATCH($F$5,_data_Forecast!$D$3:$M$3,0)),_data_Forecast!$O:$O,O$11,_data_Forecast!$P:$P,$C$5,_data_Forecast!$N:$N,$B$5,_data_Forecast!$Q:$Q,$D$5,_data_Forecast!$C:$C,$N14)=0,\"NA\",SUMIFS(INDEX(_data_Forecast!$D:$M,0,MATCH($F$5,_data_Forecast!$D$3:$M$3,0)),_data_Forecast!$O:$O,O$11,_data_Forecast!$P:$P,$C$5,_data_Forecast!$N:$N,$B$5,_data_Forecast!$Q:$Q,$D$5,_data_Forecast!$C:$C,$N14))","v":1.7027885025820399E-5},{"$f":"IF(SUMIFS(INDEX(_data_Forecast!$D:$M,0,MATCH($F$5,_data_Forecast!$D$3:$M$3,0)),_data_Forecast!$O:$O,P$11,_data_Forecast!$P:$P,$C$5,_data_Forecast!$N:$N,$B$5,_data_Forecast!$Q:$Q,$D$5,_data_Forecast!$C:$C,$N14)=0,\"NA\",SUMIFS(INDEX(_data_Forecast!$D:$M,0,MATCH($F$5,_data_Forecast!$D$3:$M$3,0)),_data_Forecast!$O:$O,P$11,_data_Forecast!$P:$P,$C$5,_data_Forecast!$N:$N,$B$5,_data_Forecast!$Q:$Q,$D$5,_data_Forecast!$C:$C,$N14))","v":2.2061726583470599E-5},{"$f":"IF(SUMIFS(INDEX(_data_Forecast!$D:$M,0,MATCH($F$5,_data_Forecast!$D$3:$M$3,0)),_data_Forecast!$O:$O,Q$11,_data_Forecast!$P:$P,$C$5,_data_Forecast!$N:$N,$B$5,_data_Forecast!$Q:$Q,$D$5,_data_Forecast!$C:$C,$N14)=0,\"NA\",SUMIFS(INDEX(_data_Forecast!$D:$M,0,MATCH($F$5,_data_Forecast!$D$3:$M$3,0)),_data_Forecast!$O:$O,Q$11,_data_Forecast!$P:$P,$C$5,_data_Forecast!$N:$N,$B$5,_data_Forecast!$Q:$Q,$D$5,_data_Forecast!$C:$C,$N14))","v":2.8908771121195799E-5}]
[null,null,null,null,null,null,null,null,null,null,null,null,null,"15-19",{"$f":"IF(SUMIFS(INDEX(_data_Forecast!$D:$M,0,MATCH($F$5,_data_Forecast!$D$3:$M$3,0)),_data_Forecast!$O:$O,O$11,_data_Forecast!$P:$P,$C$5,_data_Forecast!$N:$N,$B$5,_data_Forecast!$Q:$Q,$D$5,_data_Forecast!$C:$C,$N15)=0,\"NA\",SUMIFS(INDEX(_data_Forecast!$D:$M,0,MATCH($F$5,_data_Forecast!$D$3:$M$3,0)),_data_Forecast!$O:$O,O$11,_data_Forecast!$P:$P,$C$5,_data_Forecast!$N:$N,$B$5,_data_Forecast!$Q:$Q,$D$5,_data_Forecast!$C:$C,$N15))","v":1.8300042167806801E-5},{"$f":"IF(SUMIFS(INDEX(_data_Forecast!$D:$M,0,MATCH($F$5,_data_Forecast!$D$3:$M$3,0)),_data_Forecast!$O:$O,P$11,_data_Forecast!$P:$P,$C$5,_data_Forecast!$N:$N,$B$5,_data_Forecast!$Q:$Q,$D$5,_data_Forecast!$C:$C,$N15)=0,\"NA\",SUMIFS(INDEX(_data_Forecast!$D:$M,0,MATCH($F$5,_data_Forecast!$D$3:$M$3,0)),_data_Forecast!$O:$O,P$11,_data_Forecast!$P:$P,$C$5,_data_Forecast!$N:$N,$B$5,_data_Forecast!$Q:$Q,$D$5,_data_Forecast!$C:$C,$N15))","v":2.3530403637612199E-5},{"$f":"IF(SUMIFS(INDEX(_data_Forecast!$D:$M,0,MATCH($F$5,_data_Forecast!$D$3:$M$3,0)),_data_Forecast!$O:$O,Q$11,_data_Forecast!$P:$P,$C$5,_data_Forecast!$N:$N,$B$5,_data_Forecast!$Q:$Q,$D$5,_data_Forecast!$C:$C,$N15)=0,\"NA\",SUMIFS(INDEX(_data_Forecast!$D:$M,0,MATCH($F$5,_data_Forecast!$D$3:$M$3,0)),_data_Forecast!$O:$O,Q$11,_data_Forecast!$P:$P,$C$5,_data_Forecast!$N:$N,$B$5,_data_Forecast!$Q:$Q,$D$5,_data_Forecast!$C:$C,$N15))","v":3.1206478154556598E-5}]
[null,null,null,null,null,null,null,null,null,null,null,null,null,"20-24",{"$f":"IF(SUMIFS(INDEX(_data_Forecast!$D:$M,0,MATCH($F$5,_data_Forecast!$D$3:$M$3,0)),_data_Forecast!$O:$O,O$11,_data_Forecast!$P:$P,$C$5,_data_Forecast!$N:$N,$B$5,_data_Forecast!$Q:$Q,$D$5,_data_Forecast!$C:$C,$N16)=0,\"NA\",SUMIFS(INDEX(_data_Forecast!$D:$M,0,MATCH($F$5,_data_Forecast!$D$3:$M$3,0)),_data_Forecast!$O:$O,O$11,_data_Forecast!$P:$P,$C$5,_data_Forecast!$N:$N,$B$5,_data_Forecast!$Q:$Q,$D$5,_data_Forecast!$C:$C,$N16))","v":1.9603764908489099E-5},{"$f":"IF(SUMIFS(INDEX(_data_Forecast!$D:$M,0,MATCH($F$5,_data_Forecast!$D$3:$M$3,0)),_data_Forecast!$O:$O,P$11,_data_Forecast!$P:$P,$C$5,_data_Forecast!$N:$N,$B$5,_data_Forecast!$Q:$Q,$D$5,_data_Forecast!$C:$C,$N16)=0,\"NA\",SUMIFS(INDEX(_data_Forecast!$D:$M,0,MATCH($F$5,_data_Forecast!$D$3:$M$3,0)),_data_Forecast!$O:$O,P$11,_data_Forecast!$P:$P,$C$5,_data_Forecast!$N:$N,$B$5,_data_Forecast!$Q:$Q,$D$5,_data_Forecast!$C:$C,$N16))","v":2.2277346058727302E-5},{"$f":"IF(SUMIFS(INDEX(_data_Forecast!$D:$M,0,MATCH($F$5,_data_Forecast!$D$3:$M$3,0)),_data_Forecast!$O:$O,Q$11,_data_Forecast!$P:$P,$C$5,_data_Forecast!$N:$N,$B$5,_data_Forecast!$Q:$Q,$D$5,_data_Forecast!$C:$C,$N16)=0,\"NA\",SUMIFS(INDEX(_data_Forecast!$D:$M,0,MATCH($F$5,_data_Forecast!$D$3:$M$3,0)),_data_Forecast!$O:$O,Q$11,_data_Forecast!$P:$P,$C$5,_data_Forecast!$N:$N,$B$5,_data_Forecast!$Q:$Q,$D$5,_data_Forecast!$C:$C,$N16))","v":3.5592108744918202E-5}]
[null,null,null,null,null,null,null,null,null,null,null,null,null,"25-29",{"$f":"IF(SUMIFS(INDEX(_data_Forecast!$D:$M,0,MATCH($F$5,_data_Forecast!$D$3:$M$3,0)),_data_Forecast!$O:$O,O$11,_data_Forecast!$P:$P,$C$5,_data_Forecast!$N:$N,$B$5,_data_Forecast!$Q:$Q,$D$5,_data_Forecast!$C:$C,$N17)=0,\"NA\",SUMIFS(INDEX(_data_Forecast!$D:$M,0,MATCH($F$5,_data_Forecast!$D$3:$M$3,0)),_data_Forecast!$O:$O,O$11,_data_Forecast!$P:$P,$C$5,_data_Forecast!$N:$N,$B$5,_data_Forecast!$Q:$Q,$D$5,_data_Forecast!$C:$C,$N17))","v":2.12836523029298E-5},{"$f":"IF(SUMIFS(INDEX(_data_Forecast!$D:$M,0,MATCH($F$5,_data_Forecast!$D$3:$M$3,0)),_data_Forecast!$O:$O,P$11,_data_Forecast!$P:$P,$C$5,_data_Forecast!$N:$N,$B$5,_data_Forecast!$Q:$Q,$D$5,_data_Forecast!$C:$C,$N17)=0,\"NA\",SUMIFS(INDEX(_data_Forecast!$D:$M,0,MATCH($F$5,_data_Forecast!$D$3:$M$3,0)),_data_Forecast!$O:$O,P$11,_data_Forecast!$P:$P,$C$5,_data_Forecast!$N:$N,$B$5,_data_Forecast!$Q:$Q,$D$5,_data_Forecast!$C:$C,$N17))","v":2.2787293028682299E-5},{"$f":"IF(SUMIFS(INDEX(_data_Forecast!$D:$M,0,MATCH($F$5,_data_Forecast!$D$3:$M$3,0)),_data_Forecast!$O:$O,Q$11,_data_Forecast!$P:$P,$C$5,_data_Forecast!$N:$N,$B$5,_data_Forecast!$Q:$Q,$D$5,_data_Forecast!$C:$C,$N17)=0,\"NA\",SUMIFS(INDEX(_data_Forecast!$D:$M,0,MATCH($F$5,_data_Forecast!$D$3:$M$3,0)),_data_Forecast!$O:$O,Q$11,_data_Forecast!$P:$P,$C$5,_data_Forecast!$N:$N,$B$5,_data_Forecast!$Q:$Q,$D$5,_data_Forecast!$C:$C,$N17))","v":4.1612786417479599E-5}]
[null,null,null,null,null,null,null,null,null,null,null,null,null,"30-34",{"$f":"IF(SUMIFS(INDEX(_data_Forecast!$D:$M,0,MATCH($F$5,_data_Forecast!$D$3:$M$3,0)),_data_Forecast!$O:$O,O$11,_data_Forecast!$P:$P,$C$5,_data_Forecast!$N:$N,$B$5,_data_Forecast!$Q:$Q,$D$5,_data_Forecast!$C:$C,$N18)=0,\"NA\",SUMIFS(INDEX(_data_Forecast!$D:$M,0,MATCH($F$5,_data_Forecast!$D$3:$M$3,0)),_data_Forecast!$O:$O,O$11,_data_Forecast!$P:$P,$C$5,_data_Forecast!$N:$N,$B$5,_data_Forecast!$Q:$Q,$D$5,_data_Forecast!$C:$C,$N18))","v":2.39150128737958E-5},{"$f":"IF(SUMIFS(INDEX(_data_Forecast!$D:$M,0,MATCH($F$5,_data_Forecast!$D$3:$M$3,0)),_data_Forecast!$O:$O,P$11,_data_Forecast!$P:$P,$C$5,_data_Forecast!$N:$N,$B$5,_data_Forecast!$Q:$Q,$D$5,_data_Forecast!$C:$C,$N18)=0,\"NA\",SUMIFS(INDEX(_data_Forecast!$D:$M,0,MATCH($F$5,_data_Forecast!$D$3:$M$3,0)),_data_Forecast!$O:$O,P$11,_data_Forecast!$P:$P,$C$5,_data_Forecast!$N:$N,$B$5,_data_Forecast!$Q:$Q,$D$5,_data_Forecast!$C:$C,$N18))","v":2.5457643141674801E-5},{"$f":"IF(SUMIFS(INDEX(_data_Forecast!$D:$M,0,MATCH($F$5,_data_Forecast!$D$3:$M$3,0)),_data_Forecast!$O:$O,Q$11,_data_Forecast!$P:$P,$C$5,_data_Forecast!$N:$N,$B$5,_data_Forecast!$Q:$Q,$D$5,_data_Forecast!$C:$C,$N18)=0,\"NA\",SUMIFS(INDEX(_data_Forecast!$D:$M,0,MATCH($F$5,_data_Forecast!$D$3:$M$3,0)),_data_Forecast!$O:$O,Q$11,_data_Forecast!$P:$P,$C$5,_data_Forecast!$N:$N,$B$5,_data_Forecast!$Q:$Q,$D$5,_data_Forecast!$C:$C,$N18))","v":4.9499414135427498E-5}]
[null,null,null,null,null,null,null,null,null,null,null,null,null,"35-39",{"$f":"IF(SUMIFS(INDEX(_data_Forecast!$D:$M,0,MATCH($F$5,_data_Forecast!$D$3:$M$3,0)),_data_Forecast!$O:$O,O$11,_data_Forecast!$P:$P,$C$5,_data_Forecast!$N:$N,$B$5,_data_Forecast!$Q:$Q,$D$5,_data_Forecast!$C:$C,$N19)=0,\"NA\",SUMIFS(INDEX(_data_Forecast!$D:$M,0,MATCH($F$5,_data_Forecast!$D$3:$M$3,0)),_data_Forecast!$O:$O,O$11,_data_Forecast!$P:$P,$C$5,_data_Forecast!$N:$N,$B$5,_data_Forecast!$Q:$Q,$D$5,_data_Forecast!$C:$C,$N19))","v":2.6190851647604599E-5},{"$f":"IF(SUMIFS(INDEX(_data_Forecast!$D:$M,0,MATCH($F$5,_data_Forecast!$D$3:$M$3,0)),_data_Forecast!$O:$O,P$11,_data_Forecast!$P:$P,$C$5,_data_Forecast!$N:$N,$B$5,_data_Forecast!$Q:$Q,$D$5,_data_Forecast!$C:$C,$N19)=0,\"NA\",SUMIFS(INDEX(_data_Forecast!$D:$M,0,MATCH($F$5,_data_Forecast!$D$3:$M$3,0)),_data_Forecast!$O:$O,P$11,_data_Forecast!$P:$P,$C$5,_data_Forecast!$N:$N,$B$5,_data_Forecast!$Q:$Q,$D$5,_data_Forecast!$C:$C,$N19))","v":2.6896149618134002E-5},{"$f":"IF(SUMIFS(INDEX(_data_Forecast!$D:$M,0,MATCH($F$5,_data_Forecast!$D$3:$M$3,0)),_data_Forecast!$O:$O,Q$11,_data_Forecast!$P:$P,$C$5,_data_Forecast!$N:$N,$B$5,_data_Forecast!$Q:$Q,$D$5,_data_Forecast!$C:$C,$N19)=0,\"NA\",SUMIFS(INDEX(_data_Forecast!$D:$M,0,MATCH($F$5,_data_Forecast!$D$3:$M$3,0)),_data_Forecast!$O:$O,Q$11,_data_Forecast!$P:$P,$C$5,_data_Forecast!$N:$N,$B$5,_data_Forecast!$Q:$Q,$D$5,_data_Forecast!$C:$C,$N19))","v":5.2898750645281597E-5}]
[null,null,null,null,null,null,null,null,null,null,null,null,null,"40-44",{"$f":"IF(SUMIFS(INDEX(_data_Forecast!$D:$M,0,MATCH($F$5,_data_Forecast!$D$3:$M$3,0)),_data_Forecast!$O:$O,O$11,_data_Forecast!$P:$P,$C$5,_data_Forecast!$N:$N,$B$5,_data_Forecast!$Q:$Q,$D$5,_data_Forecast!$C:$C,$N20)=0,\"NA\",SUMIFS(INDEX(_data_Forecast!$D:$M,0,MATCH($F$5,_data_Forecast!$D$3:$M$3,0)),_data_Forecast!$O:$O,O$11,_data_Forecast!$P:$P,$C$5,_data_Forecast!$N:$N,$B$5,_data_Forecast!$Q:$Q,$D$5,_data_Forecast!$C:$C,$N20))","v":2.7436490343476498E-5},{"$f":"IF(SUMIFS(INDEX(_data_Forecast!$D:$M,0,MATCH($F$5,_data_Forecast!$D$3:$M$3,0)),_data_Forecast!$O:$O,P$11,_data_Forecast!$P:$P,$C$5,_data_Forecast!$N:$N,$B$5,_data_Forecast!$Q:$Q,$D$5,_data_Forecast!$C:$C,$N20)=0,\"NA\",SUMIFS(INDEX(_data_Forecast!$D:$M,0,MATCH($F$5,_data_Forecast!$D$3:$M$3,0)),_data_Forecast!$O:$O,P$11,_data_Forecast!$P:$P,$C$5,_data_Forecast!$N:$N,$B$5,_data_Forecast!$Q:$Q,$D$5,_data_Forecast!$C:$C,$N20))","v":3.0715038941804398E-5},{"$f":"IF(SUMIFS(INDEX(_data_Forecast!$D:$M,0,MATCH($F$5,_data_Forecast!$D$3:$M$3,0)),_data_Forecast!$O:$O,Q$11,_data_Forecast!$P:$P,$C$5,_data_Forecast!$N:$N,$B$5,_data_Forecast!$Q:$Q,$D$5,_data_Forecast!$C:$C,$N20)=0,\"NA\",SUMIFS(INDEX(_data_Forecast!$D:$M,0,MATCH($F$5,_data_Forecast!$D$3:$M$3,0)),_data_Forecast!$O:$O,Q$11,_data_Forecast!$P:$P,$C$5,_data_Forecast!$N:$N,$B$5,_data_Forecast!$Q:$Q,$D$5,_data_Forecast!$C:$C,$N20))","v":5.9982572020896602E-5}]
[null,null,null,null,null,null,null,null,null,null,null,null,null,"45-49",{"$f":"IF(SUMIFS(INDEX(_data_Forecast!$D:$M,0,MATCH($F$5,_data_Forecast!$D$3:$M$3,0)),_data_Forecast!$O:$O,O$11,_data_Forecast!$P:$P,$C$5,_data_Forecast!$N:$N,$B$5,_data_Forecast!$Q:$Q,$D$5,_data_Forecast!$C:$C,$N21)=0,\"NA\",SUMIFS(INDEX(_data_Forecast!$D:$M,0,MATCH($F$5,_data_Forecast!$D$3:$M$3,0)),_data_Forecast!$O:$O,O$11,_data_Forecast!$P:$P,$C$5,_data_Forecast!$N:$N,$B$5,_data_Forecast!$Q:$Q,$D$5,_data_Forecast!$C:$C,$N21))","v":3.3713036604582803E-5},{"$f":"IF(SUMIFS(INDEX(_data_Forecast!$D:$M,0,MATCH($F$5,_data_Forecast!$D$3:$M$3,0)),_data_Forecast!$O:$O,P$11,_data_Forecast!$P:$P,$C$5,_data_Forecast!$N:$N,$B$5,_data_Forecast!$Q:$Q,$D$5,_data_Forecast!$C:$C,$N21)=0,\"NA\",SUMIFS(INDEX(_data_Forecast!$D:$M,0,MATCH($F$5,_data_Forecast!$D$3:$M$3,0)),_data_Forecast!$O:$O,P$11,_data_Forecast!$P:$P,$C$5,_data_Forecast!$N:$N,$B$5,_data_Forecast!$Q:$Q,$D$5,_data_Forecast!$C:$C,$N21))","v":3.5927110171431199E-5},{"$f":"IF(SUMIFS(INDEX(_data_Forecast!$D:$M,0,MATCH($F$5,_data_Forecast!$D$3:$M$3,0)),_data_Forecast!$O:$O,Q$11,_data_Forecast!$P:$P,$C$5,_data_Forecast!$N:$N,$B$5,_data_Forecast!$Q:$Q,$D$5,_data_Forecast!$C:$C,$N21)=0,\"NA\",SUMIFS(INDEX(_data_Forecast!$D:$M,0,MATCH($F$5,_data_Forecast!$D$3:$M$3,0)),_data_Forecast!$O:$O,Q$11,_data_Forecast!$P:$P,$C$5,_data_Forecast!$N:$N,$B$5,_data_Forecast!$Q:$Q,$D$5,_data_Forecast!$C:$C,$N21))","v":6.5811672068054797E-5}]
[null,null,null,null,null,null,null,null,null,null,null,null,null,"50-54",{"$f":"IF(SUMIFS(INDEX(_data_Forecast!$D:$M,0,MATCH($F$5,_data_Forecast!$D$3:$M$3,0)),_data_Forecast!$O:$O,O$11,_data_Forecast!$P:$P,$C$5,_data_Forecast!$N:$N,$B$5,_data_Forecast!$Q:$Q,$D$5,_data_Forecast!$C:$C,$N22)=0,\"NA\",SUMIFS(INDEX(_data_Forecast!$D:$M,0,MATCH($F$5,_data_Forecast!$D$3:$M$3,0)),_data_Forecast!$O:$O,O$11,_data_Forecast!$P:$P,$C$5,_data_Forecast!$N:$N,$B$5,_data_Forecast!$Q:$Q,$D$5,_data_Forecast!$C:$C,$N22))","v":4.0496922923232901E-5},{"$f":"IF(SUMIFS(INDEX(_data_Forecast!$D:$M,0,MATCH($F$5,_data_Forecast!$D$3:$M$3,0)),_data_Forecast!$O:$O,P$11,_data_Forecast!$P:$P,$C$5,_data_Forecast!$N:$N,$B$5,_data_Forecast!$Q:$Q,$D$5,_data_Forecast!$C:$C,$N22)=0,\"NA\",SUMIFS(INDEX(_data_Forecast!$D:$M,0,MATCH($F$5,_data_Forecast!$D$3:$M$3,0)),_data_Forecast!$O:$O,P$11,_data_Forecast!$P:$P,$C$5,_data_Forecast!$N:$N,$B$5,_data_Forecast!$Q:$Q,$D$5,_data_Forecast!$C:$C,$N22))","v":5.0419519348900101E-5},{"$f":"IF(SUMIFS(INDEX(_data_Forecast!$D:$M,0,MATCH($F$5,_data_Forecast!$D$3:$M$3,0)),_data_Forecast!$O:$O,Q$11,_data_Forecast!$P:$P,$C$5,_data_Forecast!$N:$N,$B$5,_data_Forecast!$Q:$Q,$D$5,_data_Forecast!$C:$C,$N22)=0,\"NA\",SUMIFS(INDEX(_data_Forecast!$D:$M,0,MATCH($F$5,_data_Forecast!$D$3:$M$3,0)),_data_Forecast!$O:$O,Q$11,_data_Forecast!$P:$P,$C$5,_data_Forecast!$N:$N,$B$5,_data_Forecast!$Q:$Q,$D$5,_data_Forecast!$C:$C,$N22))","v":7.5068131432948706E-5}]
[null,null,null,null,null,null,null,null,null,null,null,null,null,"55-59",{"$f":"IF(SUMIFS(INDEX(_data_Forecast!$D:$M,0,MATCH($F$5,_data_Forecast!$D$3:$M$3,0)),_data_Forecast!$O:$O,O$11,_data_Forecast!$P:$P,$C$5,_data_Forecast!$N:$N,$B$5,_data_Forecast!$Q:$Q,$D$5,_data_Forecast!$C:$C,$N23)=0,\"NA\",SUMIFS(INDEX(_data_Forecast!$D:$M,0,MATCH($F$5,_data_Forecast!$D$3:$M$3,0)),_data_Forecast!$O:$O,O$11,_data_Forecast!$P:$P,$C$5,_data_Forecast!$N:$N,$B$5,_data_Forecast!$Q:$Q,$D$5,_data_Forecast!$C:$C,$N23))","v":5.2549990537318497E-5},{"$f":"IF(SUMIFS(INDEX(_data_Forecast!$D:$M,0,MATCH($F$5,_data_Forecast!$D$3:$M$3,0)),_data_Forecast!$O:$O,P$11,_data_Forecast!$P:$P,$C$5,_data_Forecast!$N:$N,$B$5,_data_Forecast!$Q:$Q,$D$5,_data_Forecast!$C:$C,$N23)=0,\"NA\",SUMIFS(INDEX(_data_Forecast!$D:$M,0,MATCH($F$5,_data_Forecast!$D$3:$M$3,0)),_data_Forecast!$O:$O,P$11,_data_Forecast!$P:$P,$C$5,_data_Forecast!$N:$N,$B$5,_data_Forecast!$Q:$Q,$D$5,_data_Forecast!$C:$C,$N23))","v":7.1253268561203404E-5},{"$f":"IF(SUMIFS(INDEX(_data_Forecast!$D:$M,0,MATCH($F$5,_data_Forecast!$D$3:$M$3,0)),_data_Forecast!$O:$O,Q$11,_data_Forecast!$P:$P,$C$5,_data_Forecast!$N:$N,$B$5,_data_Forecast!$Q:$Q,$D$5,_data_Forecast!$C:$C,$N23)=0,\"NA\",SUMIFS(INDEX(_data_Forecast!$D:$M,0,MATCH($F$5,_data_Forecast!$D$3:$M$3,0)),_data_Forecast!$O:$O,Q$11,_data_Forecast!$P:$P,$C$5,_data_Forecast!$N:$N,$B$5,_data_Forecast!$Q:$Q,$D$5,_data_Forecast!$C:$C,$N23))","v":8.7635671269636404E-5}]
[null,null,null,null,null,null,null,null,null,null,null,null,null,"60-64",{"$f":"IF(SUMIFS(INDEX(_data_Forecast!$D:$M,0,MATCH($F$5,_data_Forecast!$D$3:$M$3,0)),_data_Forecast!$O:$O,O$11,_data_Forecast!$P:$P,$C$5,_data_Forecast!$N:$N,$B$5,_data_Forecast!$Q:$Q,$D$5,_data_Forecast!$C:$C,$N24)=0,\"NA\",SUMIFS(INDEX(_data_Forecast!$D:$M,0,MATCH($F$5,_data_Forecast!$D$3:$M$3,0)),_data_Forecast!$O:$O,O$11,_data_Forecast!$P:$P,$C$5,_data_Forecast!$N:$N,$B$5,_data_Forecast!$Q:$Q,$D$5,_data_Forecast!$C:$C,$N24))","v":7.4307832661243603E-5},{"$f":"IF(SUMIFS(INDEX(_data_Forecast!$D:$M,0,MATCH($F$5,_data_Forecast!$D$3:$M$3,0)),_data_Forecast!$O:$O,P$11,_data_Forecast!$P:$P,$C$5,_data_Forecast!$N:$N,$B$5,_data_Forecast!$Q:$Q,$D$5,_data_Forecast!$C:$C,$N24)=0,\"NA\",SUMIFS(INDEX(_data_Forecast!$D:$M,0,MATCH($F$5,_data_Forecast!$D$3:$M$3,0)),_data_Forecast!$O:$O,P$11,_data_Forecast!$P:$P,$C$5,_data_Forecast!$N:$N,$B$5,_data_Forecast!$Q:$Q,$D$5,_data_Forecast!$C:$C,$N24))","v":1.00026645621019E-4},{"$f":"IF(SUMIFS(INDEX(_data_Forecast!$D:$M,0,MATCH($F$5,_data_Forecast!$D$3:$M$3,0)),_data_Forecast!$O:$O,Q$11,_data_Forecast!$P:$P,$C$5,_data_Forecast!$N:$N,$B$5,_data_Forecast!$Q:$Q,$D$5,_data_Forecast!$C:$C,$N24)=0,\"NA\",SUMIFS(INDEX(_data_Forecast!$D:$M,0,MATCH($F$5,_data_Forecast!$D$3:$M$3,0)),_data_Forecast!$O:$O,Q$11,_data_Forecast!$P:$P,$C$5,_data_Forecast!$N:$N,$B$5,_data_Forecast!$Q:$Q,$D$5,_data_Forecast!$C:$C,$N24))","v":1.11026227010341E-4}]
[null,null,null,null,null,null,null,null,null,null,null,null,null,"65-69",{"$f":"IF(SUMIFS(INDEX(_data_Forecast!$D:$M,0,MATCH($F$5,_data_Forecast!$D$3:$M$3,0)),_data_Forecast!$O:$O,O$11,_data_Forecast!$P:$P,$C$5,_data_Forecast!$N:$N,$B$5,_data_Forecast!$Q:$Q,$D$5,_data_Forecast!$C:$C,$N25)=0,\"NA\",SUMIFS(INDEX(_data_Forecast!$D:$M,0,MATCH($F$5,_data_Forecast!$D$3:$M$3,0)),_data_Forecast!$O:$O,O$11,_data_Forecast!$P:$P,$C$5,_data_Forecast!$N:$N,$B$5,_data_Forecast!$Q:$Q,$D$5,_data_Forecast!$C:$C,$N25))","v":1.16131534424678E-4},{"$f":"IF(SUMIFS(INDEX(_data_Forecast!$D:$M,0,MATCH($F$5,_data_Forecast!$D$3:$M$3,0)),_data_Forecast!$O:$O,P$11,_data_Forecast!$P:$P,$C$5,_data_Forecast!$N:$N,$B$5,_data_Forecast!$Q:$Q,$D$5,_data_Forecast!$C:$C,$N25)=0,\"NA\",SUMIFS(INDEX(_data_Forecast!$D:$M,0,MATCH($F$5,_data_Forecast!$D$3:$M$3,0)),_data_Forecast!$O:$O,P$11,_data_Forecast!$P:$P,$C$5,_data_Forecast!$N:$N,$B$5,_data_Forecast!$Q:$Q,$D$5,_data_Forecast!$C:$C,$N25))","v":1.5439369996977399E-4},{"$f":"IF(SUMIFS(INDEX(_data_Forecast!$D:$M,0,MATCH($F$5,_data_Forecast!$D$3:$M$3,0)),_data_Forecast!$O:$O,Q$11,_data_Forecast!$P:$P,$C$5,_data_Forecast!$N:$N,$B$5,_data_Forecast!$Q:$Q,$D$5,_data_Forecast!$C:$C,$N25)=0,\"NA\",SUMIFS(INDEX(_data_Forecast!$D:$M,0,MATCH($F$5,_data_Forecast!$D$3:$M$3,0)),_data_Forecast!$O:$O,Q$11,_data_Forecast!$P:$P,$C$5,_data_Forecast!$N:$N,$B$5,_data_Forecast!$Q:$Q,$D$5,_data_Forecast!$C:$C,$N25))","v":1.68615698305703E-4}]
[null,null,null,null,null,null,null,null,null,null,null,null,null,"70-74",{"$f":"IF(SUMIFS(INDEX(_data_Forecast!$D:$M,0,MATCH($F$5,_data_Forecast!$D$3:$M$3,0)),_data_Forecast!$O:$O,O$11,_data_Forecast!$P:$P,$C$5,_data_Forecast!$N:$N,$B$5,_data_Forecast!$Q:$Q,$D$5,_data_Forecast!$C:$C,$N26)=0,\"NA\",SUMIFS(INDEX(_data_Forecast!$D:$M,0,MATCH($F$5,_data_Forecast!$D$3:$M$3,0)),_data_Forecast!$O:$O,O$11,_data_Forecast!$P:$P,$C$5,_data_Forecast!$N:$N,$B$5,_data_Forecast!$Q:$Q,$D$5,_data_Forecast!$C:$C,$N26))","v":2.1302116789058599E-4},{"$f":"IF(SUMIFS(INDEX(_data_Forecast!$D:$M,0,MATCH($F$5,_data_Forecast!$D$3:$M$3,0)),_data_Forecast!$O:$O,P$11,_data_Forecast!$P:$P,$C$5,_data_Forecast!$N:$N,$B$5,_data_Forecast!$Q:$Q,$D$5,_data_Forecast!$C:$C,$N26)=0,\"NA\",SUMIFS(INDEX(_data_Forecast!$D:$M,0,MATCH($F$5,_data_Forecast!$D$3:$M$3,0)),_data_Forecast!$O:$O,P$11,_data_Forecast!$P:$P,$C$5,_data_Forecast!$N:$N,$B$5,_data_Forecast!$Q:$Q,$D$5,_data_Forecast!$C:$C,$N26))","v":2.8258774746441799E-4},{"$f":"IF(SUMIFS(INDEX(_data_Forecast!$D:$M,0,MATCH($F$5,_data_Forecast!$D$3:$M$3,0)),_data_Forecast!$O:$O,Q$11,_data_Forecast!$P:$P,$C$5,_data_Forecast!$N:$N,$B$5,_data_Forecast!$Q:$Q,$D$5,_data_Forecast!$C:$C,$N26)=0,\"NA\",SUMIFS(INDEX(_data_Forecast!$D:$M,0,MATCH($F$5,_data_Forecast!$D$3:$M$3,0)),_data_Forecast!$O:$O,Q$11,_data_Forecast!$P:$P,$C$5,_data_Forecast!$N:$N,$B$5,_data_Forecast!$Q:$Q,$D$5,_data_Forecast!$C:$C,$N26))","v":3.1430681341792599E-4}]
[null,null,null,null,null,null,null,null,null,null,null,null,null,"75-79",{"$f":"IF(SUMIFS(INDEX(_data_Forecast!$D:$M,0,MATCH($F$5,_data_Forecast!$D$3:$M$3,0)),_data_Forecast!$O:$O,O$11,_data_Forecast!$P:$P,$C$5,_data_Forecast!$N:$N,$B$5,_data_Forecast!$Q:$Q,$D$5,_data_Forecast!$C:$C,$N27)=0,\"NA\",SUMIFS(INDEX(_data_Forecast!$D:$M,0,MATCH($F$5,_data_Forecast!$D$3:$M$3,0)),_data_Forecast!$O:$O,O$11,_data_Forecast!$P:$P,$C$5,_data_Forecast!$N:$N,$B$5,_data_Forecast!$Q:$Q,$D$5,_data_Forecast!$C:$C,$N27))","v":4.6661711886284199E-4},{"$f":"IF(SUMIFS(INDEX(_data_Forecast!$D:$M,0,MATCH($F$5,_data_Forecast!$D$3:$M$3,0)),_data_Forecast!$O:$O,P$11,_data_Forecast!$P:$P,$C$5,_data_Forecast!$N:$N,$B$5,_data_Forecast!$Q:$Q,$D$5,_data_Forecast!$C:$C,$N27)=0,\"NA\",SUMIFS(INDEX(_data_Forecast!$D:$M,0,MATCH($F$5,_data_Forecast!$D$3:$M$3,0)),_data_Forecast!$O:$O,P$11,_data_Forecast!$P:$P,$C$5,_data_Forecast!$N:$N,$B$5,_data_Forecast!$Q:$Q,$D$5,_data_Forecast!$C:$C,$N27))","v":6.2631350730903005E-4},{"$f":"IF(SUMIFS(INDEX(_data_Forecast!$D:$M,0,MATCH($F$5,_data_Forecast!$D$3:$M$3,0)),_data_Forecast!$O:$O,Q$11,_data_Forecast!$P:$P,$C$5,_data_Forecast!$N:$N,$B$5,_data_Forecast!$Q:$Q,$D$5,_data_Forecast!$C:$C,$N27)=0,\"NA\",SUMIFS(INDEX(_data_Forecast!$D:$M,0,MATCH($F$5,_data_Forecast!$D$3:$M$3,0)),_data_Forecast!$O:$O,Q$11,_data_Forecast!$P:$P,$C$5,_data_Forecast!$N:$N,$B$5,_data_Forecast!$Q:$Q,$D$5,_data_Forecast!$C:$C,$N27))","v":6.8590897921652996E-4}]
[null,null,null,null,null,null,null,null,null,null,null,null,null,"80-84",{"$f":"IF(SUMIFS(INDEX(_data_Forecast!$D:$M,0,MATCH($F$5,_data_Forecast!$D$3:$M$3,0)),_data_Forecast!$O:$O,O$11,_data_Forecast!$P:$P,$C$5,_data_Forecast!$N:$N,$B$5,_data_Forecast!$Q:$Q,$D$5,_data_Forecast!$C:$C,$N28)=0,\"NA\",SUMIFS(INDEX(_data_Forecast!$D:$M,0,MATCH($F$5,_data_Forecast!$D$3:$M$3,0)),_data_Forecast!$O:$O,O$11,_data_Forecast!$P:$P,$C$5,_data_Forecast!$N:$N,$B$5,_data_Forecast!$Q:$Q,$D$5,_data_Forecast!$C:$C,$N28))","v":9.0555039225814196E-4},{"$f":"IF(SUMIFS(INDEX(_data_Forecast!$D:$M,0,MATCH($F$5,_data_Forecast!$D$3:$M$3,0)),_data_Forecast!$O:$O,P$11,_data_Forecast!$P:$P,$C$5,_data_Forecast!$N:$N,$B$5,_data_Forecast!$Q:$Q,$D$5,_data_Forecast!$C:$C,$N28)=0,\"NA\",SUMIFS(INDEX(_data_Forecast!$D:$M,0,MATCH($F$5,_data_Forecast!$D$3:$M$3,0)),_data_Forecast!$O:$O,P$11,_data_Forecast!$P:$P,$C$5,_data_Forecast!$N:$N,$B$5,_data_Forecast!$Q:$Q,$D$5,_data_Forecast!$C:$C,$N28))","v":1.9119915694971201E-3},{"$f":"IF(SUMIFS(INDEX(_data_Forecast!$D:$M,0,MATCH($F$5,_data_Forecast!$D$3:$M$3,0)),_data_Forecast!$O:$O,Q$11,_data_Forecast!$P:$P,$C$5,_data_Forecast!$N:$N,$B$5,_data_Forecast!$Q:$Q,$D$5,_data_Forecast!$C:$C,$N28)=0,\"NA\",SUMIFS(INDEX(_data_Forecast!$D:$M,0,MATCH($F$5,_data_Forecast!$D$3:$M$3,0)),_data_Forecast!$O:$O,Q$11,_data_Forecast!$P:$P,$C$5,_data_Forecast!$N:$N,$B$5,_data_Forecast!$Q:$Q,$D$5,_data_Forecast!$C:$C,$N28))","v":1.6233989820759499E-3}]
[null,null,null,null,null,null,null,null,null,null,null,null,null,"85+",{"$f":"IF(SUMIFS(INDEX(_data_Forecast!$D:$M,0,MATCH($F$5,_data_Forecast!$D$3:$M$3,0)),_data_Forecast!$O:$O,O$11,_data_Forecast!$P:$P,$C$5,_data_Forecast!$N:$N,$B$5,_data_Forecast!$Q:$Q,$D$5,_data_Forecast!$C:$C,$N29)=0,\"NA\",SUMIFS(INDEX(_data_Forecast!$D:$M,0,MATCH($F$5,_data_Forecast!$D$3:$M$3,0)),_data_Forecast!$O:$O,O$11,_data_Forecast!$P:$P,$C$5,_data_Forecast!$N:$N,$B$5,_data_Forecast!$Q:$Q,$D$5,_data_Forecast!$C:$C,$N29))","v":2.4172971151834701E-3},{"$f":"IF(SUMIFS(INDEX(_data_Forecast!$D:$M,0,MATCH($F$5,_data_Forecast!$D$3:$M$3,0)),_data_Forecast!$O:$O,P$11,_data_Forecast!$P:$P,$C$5,_data_Forecast!$N:$N,$B$5,_data_Forecast!$Q:$Q,$D$5,_data_Forecast!$C:$C,$N29)=0,\"NA\",SUMIFS(INDEX(_data_Forecast!$D:$M,0,MATCH($F$5,_data_Forecast!$D$3:$M$3,0)),_data_Forecast!$O:$O,P$11,_data_Forecast!$P:$P,$C$5,_data_Forecast!$N:$N,$B$5,_data_Forecast!$Q:$Q,$D$5,_data_Forecast!$C:$C,$N29))","v":5.3201211349594903E-3},{"$f":"IF(SUMIFS(INDEX(_data_Forecast!$D:$M,0,MATCH($F$5,_data_Forecast!$D$3:$M$3,0)),_data_Forecast!$O:$O,Q$11,_data_Forecast!$P:$P,$C$5,_data_Forecast!$N:$N,$B$5,_data_Forecast!$Q:$Q,$D$5,_data_Forecast!$C:$C,$N29)=0,\"NA\",SUMIFS(INDEX(_data_Forecast!$D:$M,0,MATCH($F$5,_data_Forecast!$D$3:$M$3,0)),_data_Forecast!$O:$O,Q$11,_data_Forecast!$P:$P,$C$5,_data_Forecast!$N:$N,$B$5,_data_Forecast!$Q:$Q,$D$5,_data_Forecast!$C:$C,$N29))","v":4.1245863159191801E-3}]
[]
[]
[]
[]
[null,{"$f":"setChartAxis(\"Region_comparison\",\"Chart 1\",\"Min\",\"Value\",\"Primary\",C34)","v":{"$error":"#VALUE!"}},{"$f":"ROUNDDOWN(MIN(O12:Q29)*1000000000,0)/1000000000*0.5","v":7.6879999999999999E-6}]
[null,{"$f":"setChartAxis(\"Region_comparison\",\"Chart 1\",\"Max\",\"Value\",\"Primary\",C35)","v":{"$error":"#VALUE!"}},{"$f":"ROUNDUP(MAX(O12:Q29)*1000000000,0)/1000000000*1.5","v":7.9801830000000001E-3}]
[null,{"$f":"All_series!B36","v":"Test!1"}]

{"sheet":"Area_comparison","index":7,"n_rows":36,"n_cols":28,"rows_kept":36,"cut":false,"hidden":false,"merged":[]}
[]
[null,"Option 1 - Select Combination Using Drop-down List",null,null,null,null,null,null,null,null,null,null,null,"Option 2 - Click Buttons to Select Combination"]
[]
[null,"Gender","Region","Cause",null,"Year",null,null,null,null,null,null,null,null,null,null,null,null,null,null,null,null,null,"Gender","Region","Cause","Year",1]
[null,"Male","Central","Cancer",null,2022,null,null,null,null,null,null,null,null,null,null,null,null,null,null,null,null,null,{"$f":"OFFSET(_tbl!O$3,comb_id,0)","v":"Male"},{"$f":"OFFSET(_tbl!P$3,comb_id,0)","v":"Central"},{"$f":"OFFSET(_tbl!Q$3,comb_id,0)","v":"Cancer"},{"$f":"$F$5","v":2022}]
[]
[]
[]
[null,"CHARTS AND DATA",null,null,{"$f":"IF(COUNTIFS(O11:P29,\"NA\")=36, \"Combination Not Available\", B5&\", \"&C5&\", Cause \"&D5&\", Forecast Year \"&F5)","v":"Male, Central, Cause Cancer, Forecast Year 2022"}]
[]
[null,null,null,null,null,null,null,null,null,null,null,null,null,"Age/Area","Urban","Rural"]
[null,null,null,null,null,null,null,null,null,null,null,null,null,"1-4",{"$f":"IF(SUMIFS(INDEX(_data_Forecast!$D:$M,0,MATCH($F$5,_data_Forecast!$D$3:$M$3,0)),_data_Forecast!$O:$O,$C$5,_data_Forecast!$P:$P,O$11,_data_Forecast!$N:$N,$B$5,_data_Forecast!$Q:$Q,$D$5,_data_Forecast!$C:$C,$N12)=0,\"NA\",SUMIFS(INDEX(_data_Forecast!$D:$M,0,MATCH($F$5,_data_Forecast!$D$3:$M$3,0)),_data_Forecast!$O:$O,$C$5,_data_Forecast!$P:$P,O$11,_data_Forecast!$N:$N,$B$5,_data_Forecast!$Q:$Q,$D$5,_data_Forecast!$C:$C,$N12))","v":2.9108575587888E-5},{"$f":"IF(SUMIFS(INDEX(_data_Forecast!$D:$M,0,MATCH($F$5,_data_Forecast!$D$3:$M$3,0)),_data_Forecast!$O:$O,$C$5,_data_Forecast!$P:$P,P$11,_data_Forecast!$N:$N,$B$5,_data_Forecast!$Q:$Q,$D$5,_data_Forecast!$C:$C,$N12)=0,\"NA\",SUMIFS(INDEX(_data_Forecast!$D:$M,0,MATCH($F$5,_data_Forecast!$D$3:$M$3,0)),_data_Forecast!$O:$O,$C$5,_data_Forecast!$P:$P,P$11,_data_Forecast!$N:$N,$B$5,_data_Forecast!$Q:$Q,$D$5,_data_Forecast!$C:$C,$N12))","v":3.0205384120937501E-5}]
[null,null,null,null,null,null,null,null,null,null,null,null,null,"5-9",{"$f":"IF(SUMIFS(INDEX(_data_Forecast!$D:$M,0,MATCH($F$5,_data_Forecast!$D$3:$M$3,0)),_data_Forecast!$O:$O,$C$5,_data_Forecast!$P:$P,O$11,_data_Forecast!$N:$N,$B$5,_data_Forecast!$Q:$Q,$D$5,_data_Forecast!$C:$C,$N13)=0,\"NA\",SUMIFS(INDEX(_data_Forecast!$D:$M,0,MATCH($F$5,_data_Forecast!$D$3:$M$3,0)),_data_Forecast!$O:$O,$C$5,_data_Forecast!$P:$P,O$11,_data_Forecast!$N:$N,$B$5,_data_Forecast!$Q:$Q,$D$5,_data_Forecast!$C:$C,$N13))","v":2.87483394565916E-5},{"$f":"IF(SUMIFS(INDEX(_data_Forecast!$D:$M,0,MATCH($F$5,_data_Forecast!$D$3:$M$3,0)),_data_Forecast!$O:$O,$C$5,_data_Forecast!$P:$P,P$11,_data_Forecast!$N:$N,$B$5,_data_Forecast!$Q:$Q,$D$5,_data_Forecast!$C:$C,$N13)=0,\"NA\",SUMIFS(INDEX(_data_Forecast!$D:$M,0,MATCH($F$5,_data_Forecast!$D$3:$M$3,0)),_data_Forecast!$O:$O,$C$5,_data_Forecast!$P:$P,P$11,_data_Forecast!$N:$N,$B$5,_data_Forecast!$Q:$Q,$D$5,_data_Forecast!$C:$C,$N13))","v":3.2068455660562503E-5}]
[null,null,null,null,null,null,null,null,null,null,null,null,null,"10-14",{"$f":"IF(SUMIFS(INDEX(_data_Forecast!$D:$M,0,MATCH($F$5,_data_Forecast!$D$3:$M$3,0)),_data_Forecast!$O:$O,$C$5,_data_Forecast!$P:$P,O$11,_data_Forecast!$N:$N,$B$5,_data_Forecast!$Q:$Q,$D$5,_data_Forecast!$C:$C,$N14)=0,\"NA\",SUMIFS(INDEX(_data_Forecast!$D:$M,0,MATCH($F$5,_data_Forecast!$D$3:$M$3,0)),_data_Forecast!$O:$O,$C$5,_data_Forecast!$P:$P,O$11,_data_Forecast!$N:$N,$B$5,_data_Forecast!$Q:$Q,$D$5,_data_Forecast!$C:$C,$N14))","v":3.2245080037416399E-5},{"$f":"IF(SUMIFS(INDEX(_data_Forecast!$D:$M,0,MATCH($F$5,_data_Forecast!$D$3:$M$3,0)),_data_Forecast!$O:$O,$C$5,_data_Forecast!$P:$P,P$11,_data_Forecast!$N:$N,$B$5,_data_Forecast!$Q:$Q,$D$5,_data_Forecast!$C:$C,$N14)=0,\"NA\",SUMIFS(INDEX(_data_Forecast!$D:$M,0,MATCH($F$5,_data_Forecast!$D$3:$M$3,0)),_data_Forecast!$O:$O,$C$5,_data_Forecast!$P:$P,P$11,_data_Forecast!$N:$N,$B$5,_data_Forecast!$Q:$Q,$D$5,_data_Forecast!$C:$C,$N14))","v":3.80125685185223E-5}]
[null,null,null,null,null,null,null,null,null,null,null,null,null,"15-19",{"$f":"IF(SUMIFS(INDEX(_data_Forecast!$D:$M,0,MATCH($F$5,_data_Forecast!$D$3:$M$3,0)),_data_Forecast!$O:$O,$C$5,_data_Forecast!$P:$P,O$11,_data_Forecast!$N:$N,$B$5,_data_Forecast!$Q:$Q,$D$5,_data_Forecast!$C:$C,$N15)=0,\"NA\",SUMIFS(INDEX(_data_Forecast!$D:$M,0,MATCH($F$5,_data_Forecast!$D$3:$M$3,0)),_data_Forecast!$O:$O,$C$5,_data_Forecast!$P:$P,O$11,_data_Forecast!$N:$N,$B$5,_data_Forecast!$Q:$Q,$D$5,_data_Forecast!$C:$C,$N15))","v":3.8355944491891098E-5},{"$f":"IF(SUMIFS(INDEX(_data_Forecast!$D:$M,0,MATCH($F$5,_data_Forecast!$D$3:$M$3,0)),_data_Forecast!$O:$O,$C$5,_data_Forecast!$P:$P,P$11,_data_Forecast!$N:$N,$B$5,_data_Forecast!$Q:$Q,$D$5,_data_Forecast!$C:$C,$N15)=0,\"NA\",SUMIFS(INDEX(_data_Forecast!$D:$M,0,MATCH($F$5,_data_Forecast!$D$3:$M$3,0)),_data_Forecast!$O:$O,$C$5,_data_Forecast!$P:$P,P$11,_data_Forecast!$N:$N,$B$5,_data_Forecast!$Q:$Q,$D$5,_data_Forecast!$C:$C,$N15))","v":5.04663746202708E-5}]
[null,null,null,null,null,null,null,null,null,null,null,null,null,"20-24",{"$f":"IF(SUMIFS(INDEX(_data_Forecast!$D:$M,0,MATCH($F$5,_data_Forecast!$D$3:$M$3,0)),_data_Forecast!$O:$O,$C$5,_data_Forecast!$P:$P,O$11,_data_Forecast!$N:$N,$B$5,_data_Forecast!$Q:$Q,$D$5,_data_Forecast!$C:$C,$N16)=0,\"NA\",SUMIFS(INDEX(_data_Forecast!$D:$M,0,MATCH($F$5,_data_Forecast!$D$3:$M$3,0)),_data_Forecast!$O:$O,$C$5,_data_Forecast!$P:$P,O$11,_data_Forecast!$N:$N,$B$5,_data_Forecast!$Q:$Q,$D$5,_data_Forecast!$C:$C,$N16))","v":4.9788381706409399E-5},{"$f":"IF(SUMIFS(INDEX(_data_Forecast!$D:$M,0,MATCH($F$5,_data_Forecast!$D$3:$M$3,0)),_data_Forecast!$O:$O,$C$5,_data_Forecast!$P:$P,P$11,_data_Forecast!$N:$N,$B$5,_data_Forecast!$Q:$Q,$D$5,_data_Forecast!$C:$C,$N16)=0,\"NA\",SUMIFS(INDEX(_data_Forecast!$D:$M,0,MATCH($F$5,_data_Forecast!$D$3:$M$3,0)),_data_Forecast!$O:$O,$C$5,_data_Forecast!$P:$P,P$11,_data_Forecast!$N:$N,$B$5,_data_Forecast!$Q:$Q,$D$5,_data_Forecast!$C:$C,$N16))","v":7.3688587754705206E-5}]
[null,null,null,null,null,null,null,null,null,null,null,null,null,"25-29",{"$f":"IF(SUMIFS(INDEX(_data_Forecast!$D:$M,0,MATCH($F$5,_data_Forecast!$D$3:$M$3,0)),_data_Forecast!$O:$O,$C$5,_data_Forecast!$P:$P,O$11,_data_Forecast!$N:$N,$B$5,_data_Forecast!$Q:$Q,$D$5,_data_Forecast!$C:$C,$N17)=0,\"NA\",SUMIFS(INDEX(_data_Forecast!$D:$M,0,MATCH($F$5,_data_Forecast!$D$3:$M$3,0)),_data_Forecast!$O:$O,$C$5,_data_Forecast!$P:$P,O$11,_data_Forecast!$N:$N,$B$5,_data_Forecast!$Q:$Q,$D$5,_data_Forecast!$C:$C,$N17))","v":7.6805641441605907E-5},{"$f":"IF(SUMIFS(INDEX(_data_Forecast!$D:$M,0,MATCH($F$5,_data_Forecast!$D$3:$M$3,0)),_data_Forecast!$O:$O,$C$5,_data_Forecast!$P:$P,P$11,_data_Forecast!$N:$N,$B$5,_data_Forecast!$Q:$Q,$D$5,_data_Forecast!$C:$C,$N17)=0,\"NA\",SUMIFS(INDEX(_data_Forecast!$D:$M,0,MATCH($F$5,_data_Forecast!$D$3:$M$3,0)),_data_Forecast!$O:$O,$C$5,_data_Forecast!$P:$P,P$11,_data_Forecast!$N:$N,$B$5,_data_Forecast!$Q:$Q,$D$5,_data_Forecast!$C:$C,$N17))","v":1.15377404378214E-4}]
[null,null,null,null,null,null,null,null,null,null,null,null,null,"30-34",{"$f":"IF(SUMIFS(INDEX(_data_Forecast!$D:$M,0,MATCH($F$5,_data_Forecast!$D$3:$M$3,0)),_data_Forecast!$O:$O,$C$5,_data_Forecast!$P:$P,O$11,_data_Forecast!$N:$N,$B$5,_data_Forecast!$Q:$Q,$D$5,_data_Forecast!$C:$C,$N18)=0,\"NA\",SUMIFS(INDEX(_data_Forecast!$D:$M,0,MATCH($F$5,_data_Forecast!$D$3:$M$3,0)),_data_Forecast!$O:$O,$C$5,_data_Forecast!$P:$P,O$11,_data_Forecast!$N:$N,$B$5,_data_Forecast!$Q:$Q,$D$5,_data_Forecast!$C:$C,$N18))","v":1.3466897346240699E-4},{"$f":"IF(SUMIFS(INDEX(_data_Forecast!$D:$M,0,MATCH($F$5,_data_Forecast!$D$3:$M$3,0)),_data_Forecast!$O:$O,$C$5,_data_Forecast!$P:$P,P$11,_data_Forecast!$N:$N,$B$5,_data_Forecast!$Q:$Q,$D$5,_data_Forecast!$C:$C,$N18)=0,\"NA\",SUMIFS(INDEX(_data_Forecast!$D:$M,0,MATCH($F$5,_data_Forecast!$D$3:$M$3,0)),_data_Forecast!$O:$O,$C$5,_data_Forecast!$P:$P,P$11,_data_Forecast!$N:$N,$B$5,_data_Forecast!$Q:$Q,$D$5,_data_Forecast!$C:$C,$N18))","v":1.9598934128896899E-4}]
[null,null,null,null,null,null,null,null,null,null,null,null,null,"35-39",{"$f":"IF(SUMIFS(INDEX(_data_Forecast!$D:$M,0,MATCH($F$5,_data_Forecast!$D$3:$M$3,0)),_data_Forecast!$O:$O,$C$5,_data_Forecast!$P:$P,O$11,_data_Forecast!$N:$N,$B$5,_data_Forecast!$Q:$Q,$D$5,_data_Forecast!$C:$C,$N19)=0,\"NA\",SUMIFS(INDEX(_data_Forecast!$D:$M,0,MATCH($F$5,_data_Forecast!$D$3:$M$3,0)),_data_Forecast!$O:$O,$C$5,_data_Forecast!$P:$P,O$11,_data_Forecast!$N:$N,$B$5,_data_Forecast!$Q:$Q,$D$5,_data_Forecast!$C:$C,$N19))","v":2.3169640129407299E-4},{"$f":"IF(SUMIFS(INDEX(_data_Forecast!$D:$M,0,MATCH($F$5,_data_Forecast!$D$3:$M$3,0)),_data_Forecast!$O:$O,$C$5,_data_Forecast!$P:$P,P$11,_data_Forecast!$N:$N,$B$5,_data_Forecast!$Q:$Q,$D$5,_data_Forecast!$C:$C,$N19)=0,\"NA\",SUMIFS(INDEX(_data_Forecast!$D:$M,0,MATCH($F$5,_data_Forecast!$D$3:$M$3,0)),_data_Forecast!$O:$O,$C$5,_data_Forecast!$P:$P,P$11,_data_Forecast!$N:$N,$B$5,_data_Forecast!$Q:$Q,$D$5,_data_Forecast!$C:$C,$N19))","v":3.3850215489840901E-4}]
[null,null,null,null,null,null,null,null,null,null,null,null,null,"40-44",{"$f":"IF(SUMIFS(INDEX(_data_Forecast!$D:$M,0,MATCH($F$5,_data_Forecast!$D$3:$M$3,0)),_data_Forecast!$O:$O,$C$5,_data_Forecast!$P:$P,O$11,_data_Forecast!$N:$N,$B$5,_data_Forecast!$Q:$Q,$D$5,_data_Forecast!$C:$C,$N20)=0,\"NA\",SUMIFS(INDEX(_data_Forecast!$D:$M,0,MATCH($F$5,_data_Forecast!$D$3:$M$3,0)),_data_Forecast!$O:$O,$C$5,_data_Forecast!$P:$P,O$11,_data_Forecast!$N:$N,$B$5,_data_Forecast!$Q:$Q,$D$5,_data_Forecast!$C:$C,$N20))","v":4.0667613693015799E-4},{"$f":"IF(SUMIFS(INDEX(_data_Forecast!$D:$M,0,MATCH($F$5,_data_Forecast!$D$3:$M$3,0)),_data_Forecast!$O:$O,$C$5,_data_Forecast!$P:$P,P$11,_data_Forecast!$N:$N,$B$5,_data_Forecast!$Q:$Q,$D$5,_data_Forecast!$C:$C,$N20)=0,\"NA\",SUMIFS(INDEX(_data_Forecast!$D:$M,0,MATCH($F$5,_data_Forecast!$D$3:$M$3,0)),_data_Forecast!$O:$O,$C$5,_data_Forecast!$P:$P,P$11,_data_Forecast!$N:$N,$B$5,_data_Forecast!$Q:$Q,$D$5,_data_Forecast!$C:$C,$N20))","v":5.7671647235810002E-4}]
[null,null,null,null,null,null,null,null,null,null,null,null,null,"45-49",{"$f":"IF(SUMIFS(INDEX(_data_Forecast!$D:$M,0,MATCH($F$5,_data_Forecast!$D$3:$M$3,0)),_data_Forecast!$O:$O,$C$5,_data_Forecast!$P:$P,O$11,_data_Forecast!$N:$N,$B$5,_data_Forecast!$Q:$Q,$D$5,_data_Forecast!$C:$C,$N21)=0,\"NA\",SUMIFS(INDEX(_data_Forecast!$D:$M,0,MATCH($F$5,_data_Forecast!$D$3:$M$3,0)),_data_Forecast!$O:$O,$C$5,_data_Forecast!$P:$P,O$11,_data_Forecast!$N:$N,$B$5,_data_Forecast!$Q:$Q,$D$5,_data_Forecast!$C:$C,$N21))","v":7.9495190299484395E-4},{"$f":"IF(SUMIFS(INDEX(_data_Forecast!$D:$M,0,MATCH($F$5,_data_Forecast!$D$3:$M$3,0)),_data_Forecast!$O:$O,$C$5,_data_Forecast!$P:$P,P$11,_data_Forecast!$N:$N,$B$5,_data_Forecast!$Q:$Q,$D$5,_data_Forecast!$C:$C,$N21)=0,\"NA\",SUMIFS(INDEX(_data_Forecast!$D:$M,0,MATCH($F$5,_data_Forecast!$D$3:$M$3,0)),_data_Forecast!$O:$O,$C$5,_data_Forecast!$P:$P,P$11,_data_Forecast!$N:$N,$B$5,_data_Forecast!$Q:$Q,$D$5,_data_Forecast!$C:$C,$N21))","v":1.00114086082783E-3}]
[null,null,null,null,null,null,null,null,null,null,null,null,null,"50-54",{"$f":"IF(SUMIFS(INDEX(_data_Forecast!$D:$M,0,MATCH($F$5,_data_Forecast!$D$3:$M$3,0)),_data_Forecast!$O:$O,$C$5,_data_Forecast!$P:$P,O$11,_data_Forecast!$N:$N,$B$5,_data_Forecast!$Q:$Q,$D$5,_data_Forecast!$C:$C,$N22)=0,\"NA\",SUMIFS(INDEX(_data_Forecast!$D:$M,0,MATCH($F$5,_data_Forecast!$D$3:$M$3,0)),_data_Forecast!$O:$O,$C$5,_data_Forecast!$P:$P,O$11,_data_Forecast!$N:$N,$B$5,_data_Forecast!$Q:$Q,$D$5,_data_Forecast!$C:$C,$N22))","v":1.6086246441683501E-3},{"$f":"IF(SUMIFS(INDEX(_data_Forecast!$D:$M,0,MATCH($F$5,_data_Forecast!$D$3:$M$3,0)),_data_Forecast!$O:$O,$C$5,_data_Forecast!$P:$P,P$11,_data_Forecast!$N:$N,$B$5,_data_Forecast!$Q:$Q,$D$5,_data_Forecast!$C:$C,$N22)=0,\"NA\",SUMIFS(INDEX(_data_Forecast!$D:$M,0,MATCH($F$5,_data_Forecast!$D$3:$M$3,0)),_data_Forecast!$O:$O,$C$5,_data_Forecast!$P:$P,P$11,_data_Forecast!$N:$N,$B$5,_data_Forecast!$Q:$Q,$D$5,_data_Forecast!$C:$C,$N22))","v":1.77901604927095E-3}]
[null,null,null,null,null,null,null,null,null,null,null,null,null,"55-59",{"$f":"IF(SUMIFS(INDEX(_data_Forecast!$D:$M,0,MATCH($F$5,_data_Forecast!$D$3:$M$3,0)),_data_Forecast!$O:$O,$C$5,_data_Forecast!$P:$P,O$11,_data_Forecast!$N:$N,$B$5,_data_Forecast!$Q:$Q,$D$5,_data_Forecast!$C:$C,$N23)=0,\"NA\",SUMIFS(INDEX(_data_Forecast!$D:$M,0,MATCH($F$5,_data_Forecast!$D$3:$M$3,0)),_data_Forecast!$O:$O,$C$5,_data_Forecast!$P:$P,O$11,_data_Forecast!$N:$N,$B$5,_data_Forecast!$Q:$Q,$D$5,_data_Forecast!$C:$C,$N23))","v":2.9290016905980502E-3},{"$f":"IF(SUMIFS(INDEX(_data_Forecast!$D:$M,0,MATCH($F$5,_data_Forecast!$D$3:$M$3,0)),_data_Forecast!$O:$O,$C$5,_data_Forecast!$P:$P,P$11,_data_Forecast!$N:$N,$B$5,_data_Forecast!$Q:$Q,$D$5,_data_Forecast!$C:$C,$N23)=0,\"NA\",SUMIFS(INDEX(_data_Forecast!$D:$M,0,MATCH($F$5,_data_Forecast!$D$3:$M$3,0)),_data_Forecast!$O:$O,$C$5,_data_Forecast!$P:$P,P$11,_data_Forecast!$N:$N,$B$5,_data_Forecast!$Q:$Q,$D$5,_data_Forecast!$C:$C,$N23))","v":2.82491531120842E-3}]
[null,null,null,null,null,null,null,null,null,null,null,null,null,"60-64",{"$f":"IF(SUMIFS(INDEX(_data_Forecast!$D:$M,0,MATCH($F$5,_data_Forecast!$D$3:$M$3,0)),_data_Forecast!$O:$O,$C$5,_data_Forecast!$P:$P,O$11,_data_Forecast!$N:$N,$B$5,_data_Forecast!$Q:$Q,$D$5,_data_Forecast!$C:$C,$N24)=0,\"NA\",SUMIFS(INDEX(_data_Forecast!$D:$M,0,MATCH($F$5,_data_Forecast!$D$3:$M$3,0)),_data_Forecast!$O:$O,$C$5,_data_Forecast!$P:$P,O$11,_data_Forecast!$N:$N,$B$5,_data_Forecast!$Q:$Q,$D$5,_data_Forecast!$C:$C,$N24))","v":4.6805289032656096E-3},{"$f":"IF(SUMIFS(INDEX(_data_Forecast!$D:$M,0,MATCH($F$5,_data_Forecast!$D$3:$M$3,0)),_data_Forecast!$O:$O,$C$5,_data_Forecast!$P:$P,P$11,_data_Forecast!$N:$N,$B$5,_data_Forecast!$Q:$Q,$D$5,_data_Forecast!$C:$C,$N24)=0,\"NA\",SUMIFS(INDEX(_data_Forecast!$D:$M,0,MATCH($F$5,_data_Forecast!$D$3:$M$3,0)),_data_Forecast!$O:$O,$C$5,_data_Forecast!$P:$P,P$11,_data_Forecast!$N:$N,$B$5,_data_Forecast!$Q:$Q,$D$5,_data_Forecast!$C:$C,$N24))","v":4.57740365632221E-3}]
[null,null,null,null,null,null,null,null,null,null,null,null,null,"65-69",{"$f":"IF(SUMIFS(INDEX(_data_Forecast!$D:$M,0,MATCH($F$5,_data_Forecast!$D$3:$M$3,0)),_data_Forecast!$O:$O,$C$5,_data_Forecast!$P:$P,O$11,_data_Forecast!$N:$N,$B$5,_data_Forecast!$Q:$Q,$D$5,_data_Forecast!$C:$C,$N25)=0,\"NA\",SUMIFS(INDEX(_data_Forecast!$D:$M,0,MATCH($F$5,_data_Forecast!$D$3:$M$3,0)),_data_Forecast!$O:$O,$C$5,_data_Forecast!$P:$P,O$11,_data_Forecast!$N:$N,$B$5,_data_Forecast!$Q:$Q,$D$5,_data_Forecast!$C:$C,$N25))","v":6.5105626374435902E-3},{"$f":"IF(SUMIFS(INDEX(_data_Forecast!$D:$M,0,MATCH($F$5,_data_Forecast!$D$3:$M$3,0)),_data_Forecast!$O:$O,$C$5,_data_Forecast!$P:$P,P$11,_data_Forecast!$N:$N,$B$5,_data_Forecast!$Q:$Q,$D$5,_data_Forecast!$C:$C,$N25)=0,\"NA\",SUMIFS(INDEX(_data_Forecast!$D:$M,0,MATCH($F$5,_data_Forecast!$D$3:$M$3,0)),_data_Forecast!$O:$O,$C$5,_data_Forecast!$P:$P,P$11,_data_Forecast!$N:$N,$B$5,_data_Forecast!$Q:$Q,$D$5,_data_Forecast!$C:$C,$N25))","v":7.0513784329180804E-3}]
[null,null,null,null,null,null,null,null,null,null,null,null,null,"70-74",{"$f":"IF(SUMIFS(INDEX(_data_Forecast!$D:$M,0,MATCH($F$5,_data_Forecast!$D$3:$M$3,0)),_data_Forecast!$O:$O,$C$5,_data_Forecast!$P:$P,O$11,_data_Forecast!$N:$N,$B$5,_data_Forecast!$Q:$Q,$D$5,_data_Forecast!$C:$C,$N26)=0,\"NA\",SUMIFS(INDEX(_data_Forecast!$D:$M,0,MATCH($F$5,_data_Forecast!$D$3:$M$3,0)),_data_Forecast!$O:$O,$C$5,_data_Forecast!$P:$P,O$11,_data_Forecast!$N:$N,$B$5,_data_Forecast!$Q:$Q,$D$5,_data_Forecast!$C:$C,$N26))","v":9.1158768191842397E-3},{"$f":"IF(SUMIFS(INDEX(_data_Forecast!$D:$M,0,MATCH($F$5,_data_Forecast!$D$3:$M$3,0)),_data_Forecast!$O:$O,$C$5,_data_Forecast!$P:$P,P$11,_data_Forecast!$N:$N,$B$5,_data_Forecast!$Q:$Q,$D$5,_data_Forecast!$C:$C,$N26)=0,\"NA\",SUMIFS(INDEX(_data_Forecast!$D:$M,0,MATCH($F$5,_data_Forecast!$D$3:$M$3,0)),_data_Forecast!$O:$O,$C$5,_data_Forecast!$P:$P,P$11,_data_Forecast!$N:$N,$B$5,_data_Forecast!$Q:$Q,$D$5,_data_Forecast!$C:$C,$N26))","v":9.7898871997766299E-3}]
[null,null,null,null,null,null,null,null,null,null,null,null,null,"75-79",{"$f":"IF(SUMIFS(INDEX(_data_Forecast!$D:$M,0,MATCH($F$5,_data_Forecast!$D$3:$M$3,0)),_data_Forecast!$O:$O,$C$5,_data_Forecast!$P:$P,O$11,_data_Forecast!$N:$N,$B$5,_data_Forecast!$Q:$Q,$D$5,_data_Forecast!$C:$C,$N27)=0,\"NA\",SUMIFS(INDEX(_data_Forecast!$D:$M,0,MATCH($F$5,_data_Forecast!$D$3:$M$3,0)),_data_Forecast!$O:$O,$C$5,_data_Forecast!$P:$P,O$11,_data_Forecast!$N:$N,$B$5,_data_Forecast!$Q:$Q,$D$5,_data_Forecast!$C:$C,$N27))","v":1.28739122030783E-2},{"$f":"IF(SUMIFS(INDEX(_data_Forecast!$D:$M,0,MATCH($F$5,_data_Forecast!$D$3:$M$3,0)),_data_Forecast!$O:$O,$C$5,_data_Forecast!$P:$P,P$11,_data_Forecast!$N:$N,$B$5,_data_Forecast!$Q:$Q,$D$5,_data_Forecast!$C:$C,$N27)=0,\"NA\",SUMIFS(INDEX(_data_Forecast!$D:$M,0,MATCH($F$5,_data_Forecast!$D$3:$M$3,0)),_data_Forecast!$O:$O,$C$5,_data_Forecast!$P:$P,P$11,_data_Forecast!$N:$N,$B$5,_data_Forecast!$Q:$Q,$D$5,_data_Forecast!$C:$C,$N27))","v":1.27596330971431E-2}]
[null,null,null,null,null,null,null,null,null,null,null,null,null,"80-84",{"$f":"IF(SUMIFS(INDEX(_data_Forecast!$D:$M,0,MATCH($F$5,_data_Forecast!$D$3:$M$3,0)),_data_Forecast!$O:$O,$C$5,_data_Forecast!$P:$P,O$11,_data_Forecast!$N:$N,$B$5,_data_Forecast!$Q:$Q,$D$5,_data_Forecast!$C:$C,$N28)=0,\"NA\",SUMIFS(INDEX(_data_Forecast!$D:$M,0,MATCH($F$5,_data_Forecast!$D$3:$M$3,0)),_data_Forecast!$O:$O,$C$5,_data_Forecast!$P:$P,O$11,_data_Forecast!$N:$N,$B$5,_data_Forecast!$Q:$Q,$D$5,_data_Forecast!$C:$C,$N28))","v":1.8668319561904699E-2},{"$f":"IF(SUMIFS(INDEX(_data_Forecast!$D:$M,0,MATCH($F$5,_data_Forecast!$D$3:$M$3,0)),_data_Forecast!$O:$O,$C$5,_data_Forecast!$P:$P,P$11,_data_Forecast!$N:$N,$B$5,_data_Forecast!$Q:$Q,$D$5,_data_Forecast!$C:$C,$N28)=0,\"NA\",SUMIFS(INDEX(_data_Forecast!$D:$M,0,MATCH($F$5,_data_Forecast!$D$3:$M$3,0)),_data_Forecast!$O:$O,$C$5,_data_Forecast!$P:$P,P$11,_data_Forecast!$N:$N,$B$5,_data_Forecast!$Q:$Q,$D$5,_data_Forecast!$C:$C,$N28))","v":1.4301903558910801E-2}]
[null,null,null,null,null,null,null,null,null,null,null,null,null,"85+",{"$f":"IF(SUMIFS(INDEX(_data_Forecast!$D:$M,0,MATCH($F$5,_data_Forecast!$D$3:$M$3,0)),_data_Forecast!$O:$O,$C$5,_data_Forecast!$P:$P,O$11,_data_Forecast!$N:$N,$B$5,_data_Forecast!$Q:$Q,$D$5,_data_Forecast!$C:$C,$N29)=0,\"NA\",SUMIFS(INDEX(_data_Forecast!$D:$M,0,MATCH($F$5,_data_Forecast!$D$3:$M$3,0)),_data_Forecast!$O:$O,$C$5,_data_Forecast!$P:$P,O$11,_data_Forecast!$N:$N,$B$5,_data_Forecast!$Q:$Q,$D$5,_data_Forecast!$C:$C,$N29))","v":2.74181514802391E-2},{"$f":"IF(SUMIFS(INDEX(_data_Forecast!$D:$M,0,MATCH($F$5,_data_Forecast!$D$3:$M$3,0)),_data_Forecast!$O:$O,$C$5,_data_Forecast!$P:$P,P$11,_data_Forecast!$N:$N,$B$5,_data_Forecast!$Q:$Q,$D$5,_data_Forecast!$C:$C,$N29)=0,\"NA\",SUMIFS(INDEX(_data_Forecast!$D:$M,0,MATCH($F$5,_data_Forecast!$D$3:$M$3,0)),_data_Forecast!$O:$O,$C$5,_data_Forecast!$P:$P,P$11,_data_Forecast!$N:$N,$B$5,_data_Forecast!$Q:$Q,$D$5,_data_Forecast!$C:$C,$N29))","v":1.70933134064538E-2}]
[]
[]
[]
[]
[null,{"$f":"setChartAxis(\"Area_comparison\",\"Chart 1\",\"Min\",\"Value\",\"Primary\",C34)","v":"Value Primary Min: 0.000014374"},{"$f":"ROUNDDOWN(MIN(O12:P29)*1000000000,0)/1000000000*0.5","v":1.4374E-5}]
[null,{"$f":"setChartAxis(\"Area_comparison\",\"Chart 1\",\"Max\",\"Value\",\"Primary\",C35)","v":"Value Primary Max: 0.041127228"},{"$f":"ROUNDUP(MAX(O12:P29)*1000000000,0)/1000000000*1.5","v":4.1127228000000002E-2}]
[null,{"$f":"All_series!B36","v":"Test!1"}]

{"sheet":"_data_Forecast","index":8,"n_rows":2801,"n_cols":20,"rows_kept":2801,"cut":false,"hidden":true,"merged":[]}
[null,null,null,null,null,null,null,null,null,null,null,null,null,null,null,null,null,null,{"$f":"MAX(S4:S2801)","v":0.204337213889111},{"$f":"_xlfn.MINIFS(T4:T2801,T4:T2801,\">0\")","v":6.2116482925979896E-7}]
[null,null,null,null,null,null,null,null,null,null,null,null,null,2,{"$f":"N2+1","v":3},{"$f":"O2+1","v":4},{"$f":"P2+1","v":5}]
[null,"File Name",null,2020,2021,2022,2023,2024,2025,2026,2027,2028,2029,"Gender","Region","Area","Cause"]
[null,"all_m_Central Rural cancer.csv","1-4",3.0352088802720799E-5,3.02748008830295E-5,3.0205384120937501E-5,3.0099387895211602E-5,3.00310436457791E-5,2.9955151914077699E-5,2.98693116931757E-5,2.9793935700311999E-5,2.9714232544716001E-5,2.9626706214108999E-5,{"$f":"IF($B4=\"\",\"\",VLOOKUP($B4,_tbl!$A:$E,N$2,0))","v":"Male"},{"$f":"IF($B4=\"\",\"\",VLOOKUP($B4,_tbl!$A:$E,O$2,0))","v":"Central"},{"$f":"IF($B4=\"\",\"\",VLOOKUP($B4,_tbl!$A:$E,P$2,0))","v":"Rural"},{"$f":"IF($B4=\"\",\"\",VLOOKUP($B4,_tbl!$A:$E,Q$2,0))","v":"Cancer"},null,{"$f":"MAX(D4:M4)","v":3.0352088802720799E-5},{"$f":"MIN(D4:M4)","v":2.9626706214108999E-5}]
[null,"all_m_Central Rural cancer.csv","5-9",3.2207671111565997E-5,3.2132343512727998E-5,3.2068455660562503E-5,3.2014295238260999E-5,3.1957748675236998E-5,3.19054214580909E-5,3.1852470722055497E-5,3.1801210668766702E-5,3.17459842620662E-5,3.16928369798992E-5,{"$f":"IF($B5=\"\",\"\",VLOOKUP($B5,_tbl!$A:$E,N$2,0))","v":"Male"},{"$f":"IF($B5=\"\",\"\",VLOOKUP($B5,_tbl!$A:$E,O$2,0))","v":"Central"},{"$f":"IF($B5=\"\",\"\",VLOOKUP($B5,_tbl!$A:$E,P$2,0))","v":"Rural"},{"$f":"IF($B5=\"\",\"\",VLOOKUP($B5,_tbl!$A:$E,Q$2,0))","v":"Cancer"},null,{"$f":"MAX(D5:M5)","v":3.2207671111565997E-5},{"$f":"MIN(D5:M5)","v":3.16928369798992E-5}]
[null,"all_m_Central Rural cancer.csv","10-14",3.8582319900540998E-5,3.8341808587650698E-5,3.80125685185223E-5,3.7673047516373699E-5,3.7517151275512001E-5,3.7513281628556797E-5,3.75927590868764E-5,3.7722458215311298E-5,3.7833593564001398E-5,3.7896751187186901E-5,{"$f":"IF($B6=\"\",\"\",VLOOKUP($B6,_tbl!$A:$E,N$2,0))","v":"Male"},{"$f":"IF($B6=\"\",\"\",VLOOKUP($B6,_tbl!$A:$E,O$2,0))","v":"Central"},{"$f":"IF($B6=\"\",\"\",VLOOKUP($B6,_tbl!$A:$E,P$2,0))","v":"Rural"},{"$f":"IF($B6=\"\",\"\",VLOOKUP($B6,_tbl!$A:$E,Q$2,0))","v":"Cancer"},null,3.8582319900540998E-5,3.7513281628556797E-5]
[null,"all_m_Central Rural cancer.csv","15-19",5.0828737225265198E-5,5.0655619398591E-5,5.04663746202708E-5,5.0210832250196902E-5,5.0128752593352403E-5,5.0156589806949597E-5,5.02565742258135E-5,5.0387405303321101E-5,5.05045539066573E-5,5.0574365042120799E-5,{"$f":"IF($B7=\"\",\"\",VLOOKUP($B7,_tbl!$A:$E,N$2,0))","v":"Male"},{"$f":"IF($B7=\"\",\"\",VLOOKUP($B7,_tbl!$A:$E,O$2,0))","v":"Central"},{"$f":"IF($B7=\"\",\"\",VLOOKUP($B7,_tbl!$A:$E,P$2,0))","v":"Rural"},{"$f":"IF($B7=\"\",\"\",VLOOKUP($B7,_tbl!$A:$E,Q$2,0))","v":"Cancer"},null,5.0828737225265198E-5,5.0128752593352403E-5]
[null,"all_m_Central Rural cancer.csv","20-24",7.5506908333281697E-5,7.4770197302626295E-5,7.3688587754705206E-5,7.2623182905611202E-5,7.2021757196752002E-5,7.1857366238315594E-5,7.2010413990750897E-5,7.2252211562152195E-5,7.2444577316727396E-5,7.2503293604898701E-5,{"$f":"IF($B8=\"\",\"\",VLOOKUP($B8,_tbl!$A:$E,N$2,0))","v":"Male"},{"$f":"IF($B8=\"\",\"\",VLOOKUP($B8,_tbl!$A:$E,O$2,0))","v":"Central"},{"$f":"IF($B8=\"\",\"\",VLOOKUP($B8,_tbl!$A:$E,P$2,0))","v":"Rural"},{"$f":"IF($B8=\"\",\"\",VLOOKUP($B8,_tbl!$A:$E,Q$2,0))","v":"Cancer"},null,7.5506908333281697E-5,7.1857366238315594E-5]
[null,"all_m_Central Rural cancer.csv","25-29",1.1709244017627399E-4,1.1637307762810799E-4,1.15377404378214E-4,1.1439127218299801E-4,1.138421381531E-4,1.13680794139196E-4,1.1382050731761599E-4,1.14035596235318E-4,1.14211795775904E-4,1.14258076776886E-4,{"$f":"IF($B9=\"\",\"\",VLOOKUP($B9,_tbl!$A:$E,N$2,0))","v":"Male"},{"$f":"IF($B9=\"\",\"\",VLOOKUP($B9,_tbl!$A:$E,O$2,0))","v":"Central"},{"$f":"IF($B9=\"\",\"\",VLOOKUP($B9,_tbl!$A:$E,P$2,0))","v":"Rural"},{"$f":"IF($B9=\"\",\"\",VLOOKUP($B9,_tbl!$A:$E,Q$2,0))","v":"Cancer"},null,1.1709244017627399E-4,1.13680794139196E-4]
[null,"all_m_Central Rural cancer.csv","30-34",1.9825530326516099E-4,1.9726151677696899E-4,1.9598934128896899E-4,1.94755870160194E-4,1.93970794420682E-4,1.9359063026446401E-4,1.93507722431123E-4,1.93502910703756E-4,1.9344114265797E-4,1.93245686645757E-4,{"$f":"IF($B10=\"\",\"\",VLOOKUP($B10,_tbl!$A:$E,N$2,0))","v":"Male"},{"$f":"IF($B10=\"\",\"\",VLOOKUP($B10,_tbl!$A:$E,O$2,0))","v":"Central"},{"$f":"IF($B10=\"\",\"\",VLOOKUP($B10,_tbl!$A:$E,P$2,0))","v":"Rural"},{"$f":"IF($B10=\"\",\"\",VLOOKUP($B10,_tbl!$A:$E,Q$2,0))","v":"Cancer"},null,1.9825530326516099E-4,1.93245686645757E-4]
[null,"all_m_Central Rural cancer.csv","35-39",3.43603227383475E-4,3.4109802754682801E-4,3.3850215489840901E-4,3.3553976848805101E-4,3.3330828642663701E-4,3.3121910430285298E-4,3.2962362459066199E-4,3.2789884407009E-4,3.2622728470933402E-4,3.2425933828798901E-4,{"$f":"IF($B11=\"\",\"\",VLOOKUP($B11,_tbl!$A:$E,N$2,0))","v":"Male"},{"$f":"IF($B11=\"\",\"\",VLOOKUP($B11,_tbl!$A:$E,O$2,0))","v":"Central"},{"$f":"IF($B11=\"\",\"\",VLOOKUP($B11,_tbl!$A:$E,P$2,0))","v":"Rural"},{"$f":"IF($B11=\"\",\"\",VLOOKUP($B11,_tbl!$A:$E,Q$2,0))","v":"Cancer"},null,3.43603227383475E-4,3.2425933828798901E-4]
[null,"all_m_Central Rural cancer.csv","40-44",5.87955650533748E-4,5.81915562428641E-4,5.7671647235810002E-4,5.6942083449676201E-4,5.6359949573852295E-4,5.5693009763065396E-4,5.5130538774128904E-4,5.4494628502909303E-4,5.3901394738477303E-4,5.3238656122164103E-4,{"$f":"IF($B12=\"\",\"\",VLOOKUP($B12,_tbl!$A:$E,N$2,0))","v":"Male"},{"$f":"IF($B12=\"\",\"\",VLOOKUP($B12,_tbl!$A:$E,O$2,0))","v":"Central"},{"$f":"IF($B12=\"\",\"\",VLOOKUP($B12,_tbl!$A:$E,P$2,0))","v":"Rural"},{"$f":"IF($B12=\"\",\"\",VLOOKUP($B12,_tbl!$A:$E,Q$2,0))","v":"Cancer"},null,5.87955650533748E-4,5.3238656122164103E-4]
[null,"all_m_Central Rural cancer.csv","45-49",1.0175274631188599E-3,1.0106178089314599E-3,1.00114086082783E-3,9.9020460947221809E-4,9.7841498808986399E-4,9.6484857422977704E-4,9.5106704389380005E-4,9.36441750890144E-4,9.2251577003698204E-4,9.0867633849902197E-4,{"$f":"IF($B13=\"\",\"\",VLOOKUP($B13,_tbl!$A:$E,N$2,0))","v":"Male"},{"$f":"IF($B13=\"\",\"\",VLOOKUP($B13,_tbl!$A:$E,O$2,0))","v":"Central"},{"$f":"IF($B13=\"\",\"\",VLOOKUP($B13,_tbl!$A:$E,P$2,0))","v":"Rural"},{"$f":"IF($B13=\"\",\"\",VLOOKUP($B13,_tbl!$A:$E,Q$2,0))","v":"Cancer"},null,1.0175274631188599E-3,9.0867633849902197E-4]
[null,"all_m_Central Rural cancer.csv","50-54",1.8031544113227601E-3,1.7937737941160999E-3,1.77901604927095E-3,1.76334864460025E-3,1.7463332709536799E-3,1.7279841305825501E-3,1.70942141890204E-3,1.69012464956754E-3,1.67135137342221E-3,1.65243856274213E-3,{"$f":"IF($B14=\"\",\"\",VLOOKUP($B14,_tbl!$A:$E,N$2,0))","v":"Male"},{"$f":"IF($B14=\"\",\"\",VLOOKUP($B14,_tbl!$A:$E,O$2,0))","v":"Central"},{"$f":"IF($B14=\"\",\"\",VLOOKUP($B14,_tbl!$A:$E,P$2,0))","v":"Rural"},{"$f":"IF($B14=\"\",\"\",VLOOKUP($B14,_tbl!$A:$E,Q$2,0))","v":"Cancer"},null,1.8031544113227601E-3,1.65243856274213E-3]
[null,"all_m_Central Rural cancer.csv","55-59",2.8853088943055901E-3,2.8579545401597501E-3,2.82491531120842E-3,2.7956501923454098E-3,2.7647928587819499E-3,2.73526833327807E-3,2.7054331158886898E-3,2.6762142189535099E-3,2.6470612577074201E-3,2.6182153572824099E-3,{"$f":"IF($B15=\"\",\"\",VLOOKUP($B15,_tbl!$A:$E,N$2,0))","v":"Male"},{"$f":"IF($B15=\"\",\"\",VLOOKUP($B15,_tbl!$A:$E,O$2,0))","v":"Central"},{"$f":"IF($B15=\"\",\"\",VLOOKUP($B15,_tbl!$A:$E,P$2,0))","v":"Rural"},{"$f":"IF($B15=\"\",\"\",VLOOKUP($B15,_tbl!$A:$E,Q$2,0))","v":"Cancer"},null,2.8853088943055901E-3,2.6182153572824099E-3]
[null,"all_m_Central Rural cancer.csv","60-64",4.6522982675617098E-3,4.6157936171201102E-3,4.57740365632221E-3,4.5420824720122897E-3,4.5046608489710798E-3,4.4677936924444103E-3,4.4303685910556997E-3,4.3935800538865699E-3,4.3571795616042996E-3,4.3214963574507203E-3,{"$f":"IF($B16=\"\",\"\",VLOOKUP($B16,_tbl!$A:$E,N$2,0))","v":"Male"},{"$f":"IF($B16=\"\",\"\",VLOOKUP($B16,_tbl!$A:$E,O$2,0))","v":"Central"},{"$f":"IF($B16=\"\",\"\",VLOOKUP($B16,_tbl!$A:$E,P$2,0))","v":"Rural"},{"$f":"IF($B16=\"\",\"\",VLOOKUP($B16,_tbl!$A:$E,Q$2,0))","v":"Cancer"},null,4.6522982675617098E-3,4.3214963574507203E-3]
[null,"all_m_Central Rural cancer.csv","65-69",7.1264454462202304E-3,7.09015567252054E-3,7.0513784329180804E-3,7.0155758556528502E-3,6.9769763312058503E-3,6.9390874219785901E-3,6.9006965620072502E-3,6.8631814722119799E-3,6.8260503493537596E-3,6.7895936360207699E-3,{"$f":"IF($B17=\"\",\"\",VLOOKUP($B17,_tbl!$A:$E,N$2,0))","v":"Male"},{"$f":"IF($B17=\"\",\"\",VLOOKUP($B17,_tbl!$A:$E,O$2,0))","v":"Central"},{"$f":"IF($B17=\"\",\"\",VLOOKUP($B17,_tbl!$A:$E,P$2,0))","v":"Rural"},{"$f":"IF($B17=\"\",\"\",VLOOKUP($B17,_tbl!$A:$E,Q$2,0))","v":"Cancer"},null,7.1264454462202304E-3,6.7895936360207699E-3]
[null,"all_m_Central Rural cancer.csv","70-74",9.8943655253988603E-3,9.8478428746576301E-3,9.7898871997766299E-3,9.7367375304541898E-3,9.6773193943904701E-3,9.6187965633249498E-3,9.5585489754503195E-3,9.4994484755607407E-3,9.4407154150120392E-3,9.3832523464968901E-3,{"$f":"IF($B18=\"\",\"\",VLOOKUP($B18,_tbl!$A:$E,N$2,0))","v":"Male"},{"$f":"IF($B18=\"\",\"\",VLOOKUP($B18,_tbl!$A:$E,O$2,0))","v":"Central"},{"$f":"IF($B18=\"\",\"\",VLOOKUP($B18,_tbl!$A:$E,P$2,0))","v":"Rural"},{"$f":"IF($B18=\"\",\"\",VLOOKUP($B18,_tbl!$A:$E,Q$2,0))","v":"Cancer"},null,9.8943655253988603E-3,9.3832523464968901E-3]
[null,"all_m_Central Rural cancer.csv","75-79",1.2859019900413601E-2,1.2818702178711099E-2,1.27596330971431E-2,1.2709563377507E-2,1.2648132974210999E-2,1.25848750523325E-2,1.25164696521385E-2,1.2448047207835201E-2,1.2380444796136199E-2,1.2315655147265099E-2,{"$f":"IF($B19=\"\",\"\",VLOOKUP($B19,_tbl!$A:$E,N$2,0))","v":"Male"},{"$f":"IF($B19=\"\",\"\",VLOOKUP($B19,_tbl!$A:$E,O$2,0))","v":"Central"},{"$f":"IF($B19=\"\",\"\",VLOOKUP($B19,_tbl!$A:$E,P$2,0))","v":"Rural"},{"$f":"IF($B19=\"\",\"\",VLOOKUP($B19,_tbl!$A:$E,Q$2,0))","v":"Cancer"},null,1.2859019900413601E-2,1.2315655147265099E-2]
[null,"all_m_Central Rural cancer.csv","80-84",1.4875636191188899E-2,1.45770886785303E-2,1.4301903558910801E-2,1.40615667008208E-2,1.38530859391458E-2,1.36890653205904E-2,1.3559429841319699E-2,1.34478357604483E-2,1.33279056734207E-2,1.3181036473817499E-2,{"$f":"IF($B20=\"\",\"\",VLOOKUP($B20,_tbl!$A:$E,N$2,0))","v":"Male"},{"$f":"IF($B20=\"\",\"\",VLOOKUP($B20,_tbl!$A:$E,O$2,0))","v":"Central"},{"$f":"IF($B20=\"\",\"\",VLOOKUP($B20,_tbl!$A:$E,P$2,0))","v":"Rural"},{"$f":"IF($B20=\"\",\"\",VLOOKUP($B20,_tbl!$A:$E,Q$2,0))","v":"Cancer"},null,1.4875636191188899E-2,1.3181036473817499E-2]
[null,"all_m_Central Rural cancer.csv","85+",1.7691354134072901E-2,1.7340858377016401E-2,1.70933134064538E-2,1.6885865861738399E-2,1.6718758574417798E-2,1.65699288934202E-2,1.6443361126621502E-2,1.6323758279470101E-2,1.6208326367859498E-2,1.6084439217957502E-2,{"$f":"IF($B21=\"\",\"\",VLOOKUP($B21,_tbl!$A:$E,N$2,0))","v":"Male"},{"$f":"IF($B21=\"\",\"\",VLOOKUP($B21,_tbl!$A:$E,O$2,0))","v":"Central"},{"$f":"IF($B21=\"\",\"\",VLOOKUP($B21,_tbl!$A:$E,P$2,0))","v":"Rural"},{"$f":"IF($B21=\"\",\"\",VLOOKUP($B21,_tbl!$A:$E,Q$2,0))","v":"Cancer"},null,1.7691354134072901E-2,1.6084439217957502E-2]
[null,null,null,null,null,null,null,null,null,null,null,null,null,{"$f":"IF($B22=\"\",\"\",VLOOKUP($B22,_tbl!$A:$E,N$2,0))","v":""},{"$f":"IF($B22=\"\",\"\",VLOOKUP($B22,_tbl!$A:$E,O$2,0))","v":""},{"$f":"IF($B22=\"\",\"\",VLOOKUP($B22,_tbl!$A:$E,P$2,0))","v":""},{"$f":"IF($B22=\"\",\"\",VLOOKUP($B22,_tbl!$A:$E,Q$2,0))","v":""}]
[null,null,null,2020,2021,2022,2023,2024,2025,2026,2027,2028,2029,{"$f":"IF($B23=\"\",\"\",VLOOKUP($B23,_tbl!$A:$E,N$2,0))","v":""},{"$f":"IF($B23=\"\",\"\",VLOOKUP($B23,_tbl!$A:$E,O$2,0))","v":""},{"$f":"IF($B23=\"\",\"\",VLOOKUP($B23,_tbl!$A:$E,P$2,0))","v":""},{"$f":"IF($B23=\"\",\"\",VLOOKUP($B23,_tbl!$A:$E,Q$2,0))","v":""}]
[null,"all_m_Central Rural circulatory.csv","1-4",1.5168655306700199E-5,1.4943687675939E-5,1.47929172165282E-5,1.4588204513114101E-5,1.4446768283800299E-5,1.43367444111646E-5,1.42126109736565E-5,1.4117923778993E-5,1.40128194698365E-5,1.3894359076458699E-5,{"$f":"IF($B24=\"\",\"\",VLOOKUP($B24,_tbl!$A:$E,N$2,0))","v":"Male"},{"$f":"IF($B24=\"\",\"\",VLOOKUP($B24,_tbl!$A:$E,O$2,0))","v":"Central"},{"$f":"IF($B24=\"\",\"\",VLOOKUP($B24,_tbl!$A:$E,P$2,0))","v":"Rural"},{"$f":"IF($B24=\"\",\"\",VLOOKUP($B24,_tbl!$A:$E,Q$2,0))","v":"Circulatory"},null,{"$f":"MAX(D24:M24)","v":1.5168655306700199E-5},{"$f":"MIN(D24:M24)","v":1.3894359076458699E-5}]
[null,"all_m_Central Rural circulatory.csv","5-9",1.2708251028204401E-5,1.26600164851148E-5,1.2611958847126E-5,1.2568277576073299E-5,1.2525315836306599E-5,1.2486259969377701E-5,1.2446185064202101E-5,1.2408279265033099E-5,1.2368466261995201E-5,1.2327588179086E-5,{"$f":"IF($B25=\"\",\"\",VLOOKUP($B25,_tbl!$A:$E,N$2,0))","v":"Male"},{"$f":"IF($B25=\"\",\"\",VLOOKUP($B25,_tbl!$A:$E,O$2,0))","v":"Central"},{"$f":"IF($B25=\"\",\"\",VLOOKUP($B25,_tbl!$A:$E,P$2,0))","v":"Rural"},{"$f":"IF($B25=\"\",\"\",VLOOKUP($B25,_tbl!$A:$E,Q$2,0))","v":"Circulatory"},null,1.2708251028204401E-5,1.2327588179086E-5]
[null,"all_m_Central Rural circulatory.csv","10-14",1.8124495308313601E-5,1.80830865947766E-5,1.80289343012015E-5,1.7978844779893099E-5,1.79518728087142E-5,1.79474076984874E-5,1.7955209049562098E-5,1.7969605921935802E-5,1.7980704232142599E-5,1.7985092916309099E-5,{"$f":"IF($B26=\"\",\"\",VLOOKUP($B26,_tbl!$A:$E,N$2,0))","v":"Male"},{"$f":"IF($B26=\"\",\"\",VLOOKUP($B26,_tbl!$A:$E,O$2,0))","v":"Central"},{"$f":"IF($B26=\"\",\"\",VLOOKUP($B26,_tbl!$A:$E,P$2,0))","v":"Rural"},{"$f":"IF($B26=\"\",\"\",VLOOKUP($B26,_tbl!$A:$E,Q$2,0))","v":"Circulatory"},null,1.8124495308313601E-5,1.79474076984874E-5]
[null,"all_m_Central Rural circulatory.csv","15-19",2.9952453185238499E-5,2.9929848422196201E-5,2.9893121807271301E-5,2.9865609275872599E-5,2.98536785003821E-5,2.9862587318594E-5,2.9882876280338299E-5,2.9907171967039299E-5,2.99270656977734E-5,2.9939381006893701E-5,{"$f":"IF($B27=\"\",\"\",VLOOKUP($B27,_tbl!$A:$E,N$2,0))","v":"Male"},{"$f":"IF($B27=\"\",\"\",VLOOKUP($B27,_tbl!$A:$E,O$2,0))","v":"Central"},{"$f":"IF($B27=\"\",\"\",VLOOKUP($B27,_tbl!$A:$E,P$2,0))","v":"Rural"},{"$f":"IF($B27=\"\",\"\",VLOOKUP($B27,_tbl!$A:$E,Q$2,0))","v":"Circulatory"},null,2.9952453185238499E-5,2.98536785003821E-5]
[null,"all_m_Central Rural circulatory.csv","20-24",5.40338128555515E-5,5.3593936149500001E-5,5.2890253610922102E-5,5.2225618673576903E-5,5.1790282768562502E-5,5.1601790273857899E-5,5.1576583258009201E-5,5.1603105019766599E-5,5.1595950701968399E-5,5.1515162418751697E-5,{"$f":"IF($B28=\"\",\"\",VLOOKUP($B28,_tbl!$A:$E,N$2,0))","v":"Male"},{"$f":"IF($B28=\"\",\"\",VLOOKUP($B28,_tbl!$A:$E,O$2,0))","v":"Central"},{"$f":"IF($B28=\"\",\"\",VLOOKUP($B28,_tbl!$A:$E,P$2,0))","v":"Rural"},{"$f":"IF($B28=\"\",\"\",VLOOKUP($B28,_tbl!$A:$E,Q$2,0))","v":"Circulatory"},null,5.40338128555515E-5,5.1515162418751697E-5]
[null,"all_m_Central Rural circulatory.csv","25-29",1.0303135184365801E-4,1.02090294949483E-4,1.00636921336587E-4,9.92223400146516E-5,9.8306296234496802E-5,9.7849086300024003E-5,9.7739886681353795E-5,9.7717660324212098E-5,9.7656643924948507E-5,9.7439737613989704E-5,{"$f":"IF($B29=\"\",\"\",VLOOKUP($B29,_tbl!$A:$E,N$2,0))","v":"Male"},{"$f":"IF($B29=\"\",\"\",VLOOKUP($B29,_tbl!$A:$E,O$2,0))","v":"Central"},{"$f":"IF($B29=\"\",\"\",VLOOKUP($B29,_tbl!$A:$E,P$2,0))","v":"Rural"},{"$f":"IF($B29=\"\",\"\",VLOOKUP($B29,_tbl!$A:$E,Q$2,0))","v":"Circulatory"},null,1.0303135184365801E-4,9.7439737613989704E-5]
[null,"all_m_Central Rural circulatory.csv","30-34",2.1024619069355801E-4,2.07283480055455E-4,2.0328992481632099E-4,1.9953811500449201E-4,1.9703022485558801E-4,1.95765864825468E-4,1.95351879218068E-4,1.9519760232544699E-4,1.94889538409392E-4,1.9422686099115501E-4,{"$f":"IF($B30=\"\",\"\",VLOOKUP($B30,_tbl!$A:$E,N$2,0))","v":"Male"},{"$f":"IF($B30=\"\",\"\",VLOOKUP($B30,_tbl!$A:$E,O$2,0))","v":"Central"},{"$f":"IF($B30=\"\",\"\",VLOOKUP($B30,_tbl!$A:$E,P$2,0))","v":"Rural"},{"$f":"IF($B30=\"\",\"\",VLOOKUP($B30,_tbl!$A:$E,Q$2,0))","v":"Circulatory"},null,2.1024619069355801E-4,1.9422686099115501E-4]
[null,"all_m_Central Rural circulatory.csv","35-39",3.7546219835404301E-4,3.70768444131635E-4,3.6669785941775102E-4,3.6120536804060198E-4,3.57978620326716E-4,3.5484294737661099E-4,3.53158632515077E-4,3.5103970922040201E-4,3.4923357414094497E-4,3.4668358837911802E-4,{"$f":"IF($B31=\"\",\"\",VLOOKUP($B31,_tbl!$A:$E,N$2,0))","v":"Male"},{"$f":"IF($B31=\"\",\"\",VLOOKUP($B31,_tbl!$A:$E,O$2,0))","v":"Central"},{"$f":"IF($B31=\"\",\"\",VLOOKUP($B31,_tbl!$A:$E,P$2,0))","v":"Rural"},{"$f":"IF($B31=\"\",\"\",VLOOKUP($B31,_tbl!$A:$E,Q$2,0))","v":"Circulatory"},null,3.7546219835404301E-4,3.4668358837911802E-4]
[null,"all_m_Central Rural circulatory.csv","40-44",6.5584020702134699E-4,6.5524869469035004E-4,6.5408904677368904E-4,6.5260706398009903E-4,6.5118154043805403E-4,6.4926579971761797E-4,6.4741972946151299E-4,6.4524410242575397E-4,6.4329551375649796E-4,6.4128368506047599E-4,{"$f":"IF($B32=\"\",\"\",VLOOKUP($B32,_tbl!$A:$E,N$2,0))","v":"Male"},{"$f":"IF($B32=\"\",\"\",VLOOKUP($B32,_tbl!$A:$E,O$2,0))","v":"Central"},{"$f":"IF($B32=\"\",\"\",VLOOKUP($B32,_tbl!$A:$E,P$2,0))","v":"Rural"},{"$f":"IF($B32=\"\",\"\",VLOOKUP($B32,_tbl!$A:$E,Q$2,0))","v":"Circulatory"},null,6.5584020702134699E-4,6.4128368506047599E-4]
[null,"all_m_Central Rural circulatory.csv","45-49",1.1279964919863499E-3,1.12591685973408E-3,1.1195661829446601E-3,1.11325754204188E-3,1.10552703239547E-3,1.0970471599053299E-3,1.0879631866335599E-3,1.0784551532537099E-3,1.0691031063662601E-3,1.05984862266434E-3,{"$f":"IF($B33=\"\",\"\",VLOOKUP($B33,_tbl!$A:$E,N$2,0))","v":"Male"},{"$f":"IF($B33=\"\",\"\",VLOOKUP($B33,_tbl!$A:$E,O$2,0))","v":"Central"},{"$f":"IF($B33=\"\",\"\",VLOOKUP($B33,_tbl!$A:$E,P$2,0))","v":"Rural"},{"$f":"IF($B33=\"\",\"\",VLOOKUP($B33,_tbl!$A:$E,Q$2,0))","v":"Circulatory"},null,1.1279964919863499E-3,1.05984862266434E-3]
[null,"all_m_Central Rural circulatory.csv","50-54",1.9840087318769798E-3,1.9697315817769402E-3,1.95122754890417E-3,1.9314683052450499E-3,1.91159806862115E-3,1.88985372231527E-3,1.86879802323145E-3,1.8464452851033801E-3,1.8252055608333E-3,1.80336571341772E-3,{"$f":"IF($B34=\"\",\"\",VLOOKUP($B34,_tbl!$A:$E,N$2,0))","v":"Male"},{"$f":"IF($B34=\"\",\"\",VLOOKUP($B34,_tbl!$A:$E,O$2,0))","v":"Central"},{"$f":"IF($B34=\"\",\"\",VLOOKUP($B34,_tbl!$A:$E,P$2,0))","v":"Rural"},{"$f":"IF($B34=\"\",\"\",VLOOKUP($B34,_tbl!$A:$E,Q$2,0))","v":"Circulatory"},null,1.9840087318769798E-3,1.80336571341772E-3]
[null,"all_m_Central Rural circulatory.csv","55-59",3.2321950326687399E-3,3.1842240842981902E-3,3.1320528194489598E-3,3.0836425840182501E-3,3.0355243799007302E-3,2.9882526796761498E-3,2.9419983258440899E-3,2.89566303501079E-3,2.85026052301948E-3,2.80455821399041E-3,{"$f":"IF($B35=\"\",\"\",VLOOKUP($B35,_tbl!$A:$E,N$2,0))","v":"Male"},{"$f":"IF($B35=\"\",\"\",VLOOKUP($B35,_tbl!$A:$E,O$2,0))","v":"Central"},{"$f":"IF($B35=\"\",\"\",VLOOKUP($B35,_tbl!$A:$E,P$2,0))","v":"Rural"},{"$f":"IF($B35=\"\",\"\",VLOOKUP($B35,_tbl!$A:$E,Q$2,0))","v":"Circulatory"},null,3.2321950326687399E-3,2.80455821399041E-3]
[null,"all_m_Central Rural circulatory.csv","60-64",5.060806804299E-3,4.9324462231931203E-3,4.8023023137002104E-3,4.67841072068618E-3,4.5521102407918004E-3,4.4250174340895402E-3,4.29716340108052E-3,4.1691256326694499E-3,4.0432464000444502E-3,3.91906508347949E-3,{"$f":"IF($B36=\"\",\"\",VLOOKUP($B36,_tbl!$A:$E,N$2,0))","v":"Male"},{"$f":"IF($B36=\"\",\"\",VLOOKUP($B36,_tbl!$A:$E,O$2,0))","v":"Central"},{"$f":"IF($B36=\"\",\"\",VLOOKUP($B36,_tbl!$A:$E,P$2,0))","v":"Rural"},{"$f":"IF($B36=\"\",\"\",VLOOKUP($B36,_tbl!$A:$E,Q$2,0))","v":"Circulatory"},null,5.060806804299E-3,3.91906508347949E-3]
[null,"all_m_Central Rural circulatory.csv","65-69",8.5851137475279303E-3,8.36986801941806E-3,8.1531293607576393E-3,7.9353683980008301E-3,7.7023193988774901E-3,7.45407240040447E-3,7.1976201533395E-3,6.9372388583080896E-3,6.6841615074676401E-3,6.4389833467612297E-3,{"$f":"IF($B37=\"\",\"\",VLOOKUP($B37,_tbl!$A:$E,N$2,0))","v":"Male"},{"$f":"IF($B37=\"\",\"\",VLOOKUP($B37,_tbl!$A:$E,O$2,0))","v":"Central"},{"$f":"IF($B37=\"\",\"\",VLOOKUP($B37,_tbl!$A:$E,P$2,0))","v":"Rural"},{"$f":"IF($B37=\"\",\"\",VLOOKUP($B37,_tbl!$A:$E,Q$2,0))","v":"Circulatory"},null,8.5851137475279303E-3,6.4389833467612297E-3]
[null,"all_m_Central Rural circulatory.csv","70-74",1.51709012886779E-2,1.4743562680398699E-2,1.4292660699243599E-2,1.38388710812097E-2,1.33566539198933E-2,1.28546082895087E-2,1.23432248931822E-2,1.18279263483533E-2,1.1323603951742801E-2,1.0829019049100601E-2,{"$f":"IF($B38=\"\",\"\",VLOOKUP($B38,_tbl!$A:$E,N$2,0))","v":"Male"},{"$f":"IF($B38=\"\",\"\",VLOOKUP($B38,_tbl!$A:$E,O$2,0))","v":"Central"},{"$f":"IF($B38=\"\",\"\",VLOOKUP($B38,_tbl!$A:$E,P$2,0))","v":"Rural"},{"$f":"IF($B38=\"\",\"\",VLOOKUP($B38,_tbl!$A:$E,Q$2,0))","v":"Circulatory"},null,1.51709012886779E-2,1.0829019049100601E-2]
[null,"all_m_Central Rural circulatory.csv","75-79",3.0309748756610199E-2,2.94520486655197E-2,2.8558700123852001E-2,2.7711908214145299E-2,2.6902513836070601E-2,2.6148292506670199E-2,2.54418693409274E-2,2.4749214953266999E-2,2.40496843471633E-2,2.3313314345257002E-2,{"$f":"IF($B39=\"\",\"\",VLOOKUP($B39,_tbl!$A:$E,N$2,0))","v":"Male"},{"$f":"IF($B39=\"\",\"\",VLOOKUP($B39,_tbl!$A:$E,O$2,0))","v":"Central"},{"$f":"IF($B39=\"\",\"\",VLOOKUP($B39,_tbl!$A:$E,P$2,0))","v":"Rural"},{"$f":"IF($B39=\"\",\"\",VLOOKUP($B39,_tbl!$A:$E,Q$2,0))","v":"Circulatory"},null,3.0309748756610199E-2,2.3313314345257002E-2]
[null,"all_m_Central Rural circulatory.csv","80-84",6.0289740232609502E-2,5.8075690465685503E-2,5.6472283170175802E-2,5.4898331975863399E-2,5.36894118056064E-2,5.2642223695458797E-2,5.1780786258178703E-2,5.0959613710222403E-2,5.0110612037775899E-2,4.9155477152845101E-2,{"$f":"IF($B40=\"\",\"\",VLOOKUP($B40,_tbl!$A:$E,N$2,0))","v":"Male"},{"$f":"IF($B40=\"\",\"\",VLOOKUP($B40,_tbl!$A:$E,O$2,0))","v":"Central"},{"$f":"IF($B40=\"\",\"\",VLOOKUP($B40,_tbl!$A:$E,P$2,0))","v":"Rural"},{"$f":"IF($B40=\"\",\"\",VLOOKUP($B40,_tbl!$A:$E,Q$2,0))","v":"Circulatory"},null,6.0289740232609502E-2,4.9155477152845101E-2]
[null,"all_m_Central Rural circulatory.csv","85+",0.117347426535198,0.111589878507129,0.10755267368320499,0.103927661738508,0.10149435979176299,9.9572215693854493E-2,9.8228278375086894E-2,9.6974024670891307E-2,9.5678731835201994E-2,9.4049769050632198E-2,{"$f":"IF($B41=\"\",\"\",VLOOKUP($B41,_tbl!$A:$E,N$2,0))","v":"Male"},{"$f":"IF($B41=\"\",\"\",VLOOKUP($B41,_tbl!$A:$E,O$2,0))","v":"Central"},{"$f":"IF($B41=\"\",\"\",VLOOKUP($B41,_tbl!$A:$E,P$2,0))","v":"Rural"},{"$f":"IF($B41=\"\",\"\",VLOOKUP($B41,_tbl!$A:$E,Q$2,0))","v":"Circulatory"},null,0.117347426535198,9.4049769050632198E-2]
[null,null,null,null,null,null,null,null,null,null,null,null,null,{"$f":"IF($B42=\"\",\"\",VLOOKUP($B42,_tbl!$A:$E,N$2,0))","v":""},{"$f":"IF($B42=\"\",\"\",VLOOKUP($B42,_tbl!$A:$E,O$2,0))","v":""},{"$f":"IF($B42=\"\",\"\",VLOOKUP($B42,_tbl!$A:$E,P$2,0))","v":""},{"$f":"IF($B42=\"\",\"\",VLOOKUP($B42,_tbl!$A:$E,Q$2,0))","v":""}]
[null,null,null,2020,2021,2022,2023,2024,2025,2026,2027,2028,2029,{"$f":"IF($B43=\"\",\"\",VLOOKUP($B43,_tbl!$A:$E,N$2,0))","v":""},{"$f":"IF($B43=\"\",\"\",VLOOKUP($B43,_tbl!$A:$E,O$2,0))","v":""},{"$f":"IF($B43=\"\",\"\",VLOOKUP($B43,_tbl!$A:$E,P$2,0))","v":""},{"$f":"IF($B43=\"\",\"\",VLOOKUP($B43,_tbl!$A:$E,Q$2,0))","v":""}]
[null,"all_m_Central Rural congenital.csv","1-4",6.3040189671956993E-5,6.1791681787032204E-5,5.7666641767885701E-5,5.48963935672664E-5,5.2401882797196999E-5,4.9480131390151499E-5,4.7448871414933102E-5,4.4880663966011502E-5,4.2852744721447198E-5,4.0657910607588798E-5,{"$f":"IF($B44=\"\",\"\",VLOOKUP($B44,_tbl!$A:$E,N$2,0))","v":"Male"},{"$f":"IF($B44=\"\",\"\",VLOOKUP($B44,_tbl!$A:$E,O$2,0))","v":"Central"},{"$f":"IF($B44=\"\",\"\",VLOOKUP($B44,_tbl!$A:$E,P$2,0))","v":"Rural"},{"$f":"IF($B44=\"\",\"\",VLOOKUP($B44,_tbl!$A:$E,Q$2,0))","v":"Congenital"},null,{"$f":"MAX(D44:M44)","v":6.3040189671956993E-5},{"$f":"MIN(D44:M44)","v":4.0657910607588798E-5}]
[null,"all_m_Central Rural congenital.csv","5-9",1.30868128727197E-5,1.2865062698714099E-5,1.1890217166905399E-5,1.1316205935595701E-5,1.0756645865849801E-5,1.004806138146E-5,9.6045106506596104E-6,8.9811810496878008E-6,8.5188893642899892E-6,8.0284855659925298E-6,{"$f":"IF($B45=\"\",\"\",VLOOKUP($B45,_tbl!$A:$E,N$2,0))","v":"Male"},{"$f":"IF($B45=\"\",\"\",VLOOKUP($B45,_tbl!$A:$E,O$2,0))","v":"Central"},{"$f":"IF($B45=\"\",\"\",VLOOKUP($B45,_tbl!$A:$E,P$2,0))","v":"Rural"},{"$f":"IF($B45=\"\",\"\",VLOOKUP($B45,_tbl!$A:$E,Q$2,0))","v":"Congenital"},null,1.30868128727197E-5,8.0284855659925298E-6]
[null,"all_m_Central Rural congenital.csv","10-14",1.3097919763161501E-5,1.2968761667835701E-5,1.23820735311315E-5,1.19908454975905E-5,1.16778032752548E-5,1.1308514173812399E-5,1.1132063354520001E-5,1.08413407450849E-5,1.0644080368198801E-5,1.03948732652086E-5,{"$f":"IF($B46=\"\",\"\",VLOOKUP($B46,_tbl!$A:$E,N$2,0))","v":"Male"},{"$f":"IF($B46=\"\",\"\",VLOOKUP($B46,_tbl!$A:$E,O$2,0))","v":"Central"},{"$f":"IF($B46=\"\",\"\",VLOOKUP($B46,_tbl!$A:$E,P$2,0))","v":"Rural"},{"$f":"IF($B46=\"\",\"\",VLOOKUP($B46,_tbl!$A:$E,Q$2,0))","v":"Congenital"},null,1.3097919763161501E-5,1.03948732652086E-5]
[null,"all_m_Central Rural congenital.csv","15-19",1.12480842606752E-5,1.1117374895227599E-5,1.0533711692762E-5,1.0158161234511201E-5,9.8218852852768805E-6,9.4325569019423999E-6,9.2118840932601607E-6,8.8847328757217608E-6,8.6402803400492096E-6,8.3580710074935695E-6,{"$f":"IF($B47=\"\",\"\",VLOOKUP($B47,_tbl!$A:$E,N$2,0))","v":"Male"},{"$f":"IF($B47=\"\",\"\",VLOOKUP($B47,_tbl!$A:$E,O$2,0))","v":"Central"},{"$f":"IF($B47=\"\",\"\",VLOOKUP($B47,_tbl!$A:$E,P$2,0))","v":"Rural"},{"$f":"IF($B47=\"\",\"\",VLOOKUP($B47,_tbl!$A:$E,Q$2,0))","v":"Congenital"},null,1.12480842606752E-5,8.3580710074935695E-6]
[null,"all_m_Central Rural congenital.csv","20-24",9.7537731704285508E-6,9.56181466472441E-6,9.0248968656932894E-6,8.6177291234666495E-6,8.3319407921692698E-6,8.0741097229186096E-6,8.0067993181594408E-6,7.8678286683995494E-6,7.7805945172140994E-6,7.6371191206442804E-6,{"$f":"IF($B48=\"\",\"\",VLOOKUP($B48,_tbl!$A:$E,N$2,0))","v":"Male"},{"$f":"IF($B48=\"\",\"\",VLOOKUP($B48,_tbl!$A:$E,O$2,0))","v":"Central"},{"$f":"IF($B48=\"\",\"\",VLOOKUP($B48,_tbl!$A:$E,P$2,0))","v":"Rural"},{"$f":"IF($B48=\"\",\"\",VLOOKUP($B48,_tbl!$A:$E,Q$2,0))","v":"Congenital"},null,9.7537731704285508E-6,7.6371191206442804E-6]
[null,"all_m_Central Rural congenital.csv","25-29",1.0984630952312201E-5,1.0718480916976501E-5,1.0371067017342099E-5,1.0007218518454E-5,9.8202469850274304E-6,9.8109723636644207E-6,9.9023741988808296E-6,1.00454917334477E-5,1.01588553876216E-5,1.02240813992948E-5,{"$f":"IF($B49=\"\",\"\",VLOOKUP($B49,_tbl!$A:$E,N$2,0))","v":"Male"},{"$f":"IF($B49=\"\",\"\",VLOOKUP($B49,_tbl!$A:$E,O$2,0))","v":"Central"},{"$f":"IF($B49=\"\",\"\",VLOOKUP($B49,_tbl!$A:$E,P$2,0))","v":"Rural"},{"$f":"IF($B49=\"\",\"\",VLOOKUP($B49,_tbl!$A:$E,Q$2,0))","v":"Congenital"},null,1.0984630952312201E-5,9.8109723636644207E-6]
[null,"all_m_Central Rural congenital.csv",null,null,null,null,null,null,null,null,null,null,null,{"$f":"IF($B50=\"\",\"\",VLOOKUP($B50,_tbl!$A:$E,N$2,0))","v":"Male"},{"$f":"IF($B50=\"\",\"\",VLOOKUP($B50,_tbl!$A:$E,O$2,0))","v":"Central"},{"$f":"IF($B50=\"\",\"\",VLOOKUP($B50,_tbl!$A:$E,P$2,0))","v":"Rural"},{"$f":"IF($B50=\"\",\"\",VLOOKUP($B50,_tbl!$A:$E,Q$2,0))","v":"Congenital"},null,0,0]
[null,"all_m_Central Rural congenital.csv",null,null,null,null,null,null,null,null,null,null,null,{"$f":"IF($B51=\"\",\"\",VLOOKUP($B51,_tbl!$A:$E,N$2,0))","v":"Male"},{"$f":"IF($B51=\"\",\"\",VLOOKUP($B51,_tbl!$A:$E,O$2,0))","v":"Central"},{"$f":"IF($B51=\"\",\"\",VLOOKUP($B51,_tbl!$A:$E,P$2,0))","v":"Rural"},{"$f":"IF($B51=\"\",\"\",VLOOKUP($B51,_tbl!$A:$E,Q$2,0))","v":"Congenital"},null,0,0]
[null,"all_m_Central Rural congenital.csv",null,null,null,null,null,null,null,null,null,null,null,{"$f":"IF($B52=\"\",\"\",VLOOKUP($B52,_tbl!$A:$E,N$2,0))","v":"Male"},{"$f":"IF($B52=\"\",\"\",VLOOKUP($B52,_tbl!$A:$E,O$2,0))","v":"Central"},{"$f":"IF($B52=\"\",\"\",VLOOKUP($B52,_tbl!$A:$E,P$2,0))","v":"Rural"},{"$f":"IF($B52=\"\",\"\",VLOOKUP($B52,_tbl!$A:$E,Q$2,0))","v":"Congenital"},null,0,0]
[null,"all_m_Central Rural congenital.csv",null,null,null,null,null,null,null,null,null,null,null,{"$f":"IF($B53=\"\",\"\",VLOOKUP($B53,_tbl!$A:$E,N$2,0))","v":"Male"},{"$f":"IF($B53=\"\",\"\",VLOOKUP($B53,_tbl!$A:$E,O$2,0))","v":"Central"},{"$f":"IF($B53=\"\",\"\",VLOOKUP($B53,_tbl!$A:$E,P$2,0))","v":"Rural"},{"$f":"IF($B53=\"\",\"\",VLOOKUP($B53,_tbl!$A:$E,Q$2,0))","v":"Congenital"},null,0,0]
[null,"all_m_Central Rural congenital.csv",null,null,null,null,null,null,null,null,null,null,null,{"$f":"IF($B54=\"\",\"\",VLOOKUP($B54,_tbl!$A:$E,N$2,0))","v":"Male"},{"$f":"IF($B54=\"\",\"\",VLOOKUP($B54,_tbl!$A:$E,O$2,0))","v":"Central"},{"$f":"IF($B54=\"\",\"\",VLOOKUP($B54,_tbl!$A:$E,P$2,0))","v":"Rural"},{"$f":"IF($B54=\"\",\"\",VLOOKUP($B54,_tbl!$A:$E,Q$2,0))","v":"Congenital"},null,0,0]
[null,"all_m_Central Rural congenital.csv",null,null,null,null,null,null,null,null,null,null,null,{"$f":"IF($B55=\"\",\"\",VLOOKUP($B55,_tbl!$A:$E,N$2,0))","v":"Male"},{"$f":"IF($B55=\"\",\"\",VLOOKUP($B55,_tbl!$A:$E,O$2,0))","v":"Central"},{"$f":"IF($B55=\"\",\"\",VLOOKUP($B55,_tbl!$A:$E,P$2,0))","v":"Rural"},{"$f":"IF($B55=\"\",\"\",VLOOKUP($B55,_tbl!$A:$E,Q$2,0))","v":"Congenital"},null,0,0]
[null,"all_m_Central Rural congenital.csv",null,null,null,null,null,null,null,null,null,null,null,{"$f":"IF($B56=\"\",\"\",VLOOKUP($B56,_tbl!$A:$E,N$2,0))","v":"Male"},{"$f":"IF($B56=\"\",\"\",VLOOKUP($B56,_tbl!$A:$E,O$2,0))","v":"Central"},{"$f":"IF($B56=\"\",\"\",VLOOKUP($B56,_tbl!$A:$E,P$2,0))","v":"Rural"},{"$f":"IF($B56=\"\",\"\",VLOOKUP($B56,_tbl!$A:$E,Q$2,0))","v":"Congenital"},null,0,0]
[null,"all_m_Central Rural congenital.csv",null,null,null,null,null,null,null,null,null,null,null,{"$f":"IF($B57=\"\",\"\",VLOOKUP($B57,_tbl!$A:$E,N$2,0))","v":"Male"},{"$f":"IF($B57=\"\",\"\",VLOOKUP($B57,_tbl!$A:$E,O$2,0))","v":"Central"},{"$f":"IF($B57=\"\",\"\",VLOOKUP($B57,_tbl!$A:$E,P$2,0))","v":"Rural"},{"$f":"IF($B57=\"\",\"\",VLOOKUP($B57,_tbl!$A:$E,Q$2,0))","v":"Congenital"},null,0,0]
[null,"all_m_Central Rural congenital.csv",null,null,null,null,null,null,null,null,null,null,null,{"$f":"IF($B58=\"\",\"\",VLOOKUP($B58,_tbl!$A:$E,N$2,0))","v":"Male"},{"$f":"IF($B58=\"\",\"\",VLOOKUP($B58,_tbl!$A:$E,O$2,0))","v":"Central"},{"$f":"IF($B58=\"\",\"\",VLOOKUP($B58,_tbl!$A:$E,P$2,0))","v":"Rural"},{"$f":"IF($B58=\"\",\"\",VLOOKUP($B58,_tbl!$A:$E,Q$2,0))","v":"Congenital"},null,0,0]
[null,"all_m_Central Rural congenital.csv",null,null,null,null,null,null,null,null,null,null,null,{"$f":"IF($B59=\"\",\"\",VLOOKUP($B59,_tbl!$A:$E,N$2,0))","v":"Male"},{"$f":"IF($B59=\"\",\"\",VLOOKUP($B59,_tbl!$A:$E,O$2,0))","v":"Central"},{"$f":"IF($B59=\"\",\"\",VLOOKUP($B59,_tbl!$A:$E,P$2,0))","v":"Rural"},{"$f":"IF($B59=\"\",\"\",VLOOKUP($B59,_tbl!$A:$E,Q$2,0))","v":"Congenital"},null,0,0]
[null,"all_m_Central Rural congenital.csv",null,null,null,null,null,null,null,null,null,null,null,{"$f":"IF($B60=\"\",\"\",VLOOKUP($B60,_tbl!$A:$E,N$2,0))","v":"Male"},{"$f":"IF($B60=\"\",\"\",VLOOKUP($B60,_tbl!$A:$E,O$2,0))","v":"Central"},{"$f":"IF($B60=\"\",\"\",VLOOKUP($B60,_tbl!$A:$E,P$2,0))","v":"Rural"},{"$f":"IF($B60=\"\",\"\",VLOOKUP($B60,_tbl!$A:$E,Q$2,0))","v":"Congenital"},null,0,0]
[null,"all_m_Central Rural congenital.csv",null,null,null,null,null,null,null,null,null,null,null,{"$f":"IF($B61=\"\",\"\",VLOOKUP($B61,_tbl!$A:$E,N$2,0))","v":"Male"},{"$f":"IF($B61=\"\",\"\",VLOOKUP($B61,_tbl!$A:$E,O$2,0))","v":"Central"},{"$f":"IF($B61=\"\",\"\",VLOOKUP($B61,_tbl!$A:$E,P$2,0))","v":"Rural"},{"$f":"IF($B61=\"\",\"\",VLOOKUP($B61,_tbl!$A:$E,Q$2,0))","v":"Congenital"},null,0,0]
[null,null,null,null,null,null,null,null,null,null,null,null,null,{"$f":"IF($B62=\"\",\"\",VLOOKUP($B62,_tbl!$A:$E,N$2,0))","v":""},{"$f":"IF($B62=\"\",\"\",VLOOKUP($B62,_tbl!$A:$E,O$2,0))","v":""},{"$f":"IF($B62=\"\",\"\",VLOOKUP($B62,_tbl!$A:$E,P$2,0))","v":""},{"$f":"IF($B62=\"\",\"\",VLOOKUP($B62,_tbl!$A:$E,Q$2,0))","v":""}]
[null,null,null,2020,2021,2022,2023,2024,2025,2026,2027,2028,2029,{"$f":"IF($B63=\"\",\"\",VLOOKUP($B63,_tbl!$A:$E,N$2,0))","v":""},{"$f":"IF($B63=\"\",\"\",VLOOKUP($B63,_tbl!$A:$E,O$2,0))","v":""},{"$f":"IF($B63=\"\",\"\",VLOOKUP($B63,_tbl!$A:$E,P$2,0))","v":""},{"$f":"IF($B63=\"\",\"\",VLOOKUP($B63,_tbl!$A:$E,Q$2,0))","v":""}]
[null,"all_m_Central Rural diabetes.csv","30-34",6.5486545691303299E-6,6.4321578872655197E-6,6.2893470357230897E-6,6.1459442346973504E-6,6.06513659942203E-6,6.0356004481107896E-6,6.0443315156523898E-6,6.0620327121190096E-6,6.0722389109115201E-6,6.0657005376483401E-6,{"$f":"IF($B64=\"\",\"\",VLOOKUP($B64,_tbl!$A:$E,N$2,0))","v":"Male"},{"$f":"IF($B64=\"\",\"\",VLOOKUP($B64,_tbl!$A:$E,O$2,0))","v":"Central"},{"$f":"IF($B64=\"\",\"\",VLOOKUP($B64,_tbl!$A:$E,P$2,0))","v":"Rural"},{"$f":"IF($B64=\"\",\"\",VLOOKUP($B64,_tbl!$A:$E,Q$2,0))","v":"Diabetes"},null,{"$f":"MAX(D64:M64)","v":6.5486545691303299E-6},{"$f":"MIN(D64:M64)","v":6.0356004481107896E-6}]
[null,"all_m_Central Rural diabetes.csv","35-39",1.28114992407761E-5,1.29058360181588E-5,1.2968971832027901E-5,1.30637793826122E-5,1.31281771659948E-5,1.3203421402730301E-5,1.3259165250133901E-5,1.3325993174234299E-5,1.3385547122819501E-5,1.3456456233537701E-5,{"$f":"IF($B65=\"\",\"\",VLOOKUP($B65,_tbl!$A:$E,N$2,0))","v":"Male"},{"$f":"IF($B65=\"\",\"\",VLOOKUP($B65,_tbl!$A:$E,O$2,0))","v":"Central"},{"$f":"IF($B65=\"\",\"\",VLOOKUP($B65,_tbl!$A:$E,P$2,0))","v":"Rural"},{"$f":"IF($B65=\"\",\"\",VLOOKUP($B65,_tbl!$A:$E,Q$2,0))","v":"Diabetes"},null,1.3456456233537701E-5,1.28114992407761E-5]
[null,"all_m_Central Rural diabetes.csv","40-44",2.4628088168007599E-5,2.46222615049005E-5,2.4648824735182602E-5,2.4634566596058501E-5,2.46315945585569E-5,2.4619439404107601E-5,2.4610479692417501E-5,2.4598456137390999E-5,2.45839425644965E-5,2.45660574701715E-5,{"$f":"IF($B66=\"\",\"\",VLOOKUP($B66,_tbl!$A:$E,N$2,0))","v":"Male"},{"$f":"IF($B66=\"\",\"\",VLOOKUP($B66,_tbl!$A:$E,O$2,0))","v":"Central"},{"$f":"IF($B66=\"\",\"\",VLOOKUP($B66,_tbl!$A:$E,P$2,0))","v":"Rural"},{"$f":"IF($B66=\"\",\"\",VLOOKUP($B66,_tbl!$A:$E,Q$2,0))","v":"Diabetes"},null,2.4648824735182602E-5,2.45660574701715E-5]
[null,"all_m_Central Rural diabetes.csv","45-49",4.2282994092100303E-5,4.23042866802141E-5,4.2027243025626698E-5,4.1830600507327598E-5,4.1560472936370298E-5,4.1331327986891899E-5,4.1078033927670402E-5,4.0834944923663101E-5,4.0569715776751899E-5,4.0296380876764903E-5,{"$f":"IF($B67=\"\",\"\",VLOOKUP($B67,_tbl!$A:$E,N$2,0))","v":"Male"},{"$f":"IF($B67=\"\",\"\",VLOOKUP($B67,_tbl!$A:$E,O$2,0))","v":"Central"},{"$f":"IF($B67=\"\",\"\",VLOOKUP($B67,_tbl!$A:$E,P$2,0))","v":"Rural"},{"$f":"IF($B67=\"\",\"\",VLOOKUP($B67,_tbl!$A:$E,Q$2,0))","v":"Diabetes"},null,4.23042866802141E-5,4.0296380876764903E-5]
[null,"all_m_Central Rural diabetes.csv","50-54",7.8263764620556804E-5,7.8071028804867107E-5,7.7619941391470396E-5,7.7272958937056201E-5,7.68592795865553E-5,7.6476671309681405E-5,7.6072345188968907E-5,7.5676384924832201E-5,7.5272550365884004E-5,7.4869668465193102E-5,{"$f":"IF($B68=\"\",\"\",VLOOKUP($B68,_tbl!$A:$E,N$2,0))","v":"Male"},{"$f":"IF($B68=\"\",\"\",VLOOKUP($B68,_tbl!$A:$E,O$2,0))","v":"Central"},{"$f":"IF($B68=\"\",\"\",VLOOKUP($B68,_tbl!$A:$E,P$2,0))","v":"Rural"},{"$f":"IF($B68=\"\",\"\",VLOOKUP($B68,_tbl!$A:$E,Q$2,0))","v":"Diabetes"},null,7.8263764620556804E-5,7.4869668465193102E-5]
[null,"all_m_Central Rural diabetes.csv","55-59",1.4297416431793499E-4,1.4375429078502901E-4,1.4435463729655301E-4,1.44819123302851E-4,1.45176079784375E-4,1.45495861393996E-4,1.4575990243480299E-4,1.46022763262193E-4,1.4625271634465401E-4,1.46487909480456E-4,{"$f":"IF($B69=\"\",\"\",VLOOKUP($B69,_tbl!$A:$E,N$2,0))","v":"Male"},{"$f":"IF($B69=\"\",\"\",VLOOKUP($B69,_tbl!$A:$E,O$2,0))","v":"Central"},{"$f":"IF($B69=\"\",\"\",VLOOKUP($B69,_tbl!$A:$E,P$2,0))","v":"Rural"},{"$f":"IF($B69=\"\",\"\",VLOOKUP($B69,_tbl!$A:$E,Q$2,0))","v":"Diabetes"},null,1.46487909480456E-4,1.4297416431793499E-4]
[null,"all_m_Central Rural diabetes.csv","60-64",2.4627473968559402E-4,2.4758220583260702E-4,2.4888074680749002E-4,2.5012009194867301E-4,2.5138440861463898E-4,2.52657059150237E-4,2.5392122498891698E-4,2.5518488527161799E-4,2.5641973325750802E-4,2.5764624545288501E-4,{"$f":"IF($B70=\"\",\"\",VLOOKUP($B70,_tbl!$A:$E,N$2,0))","v":"Male"},{"$f":"IF($B70=\"\",\"\",VLOOKUP($B70,_tbl!$A:$E,O$2,0))","v":"Central"},{"$f":"IF($B70=\"\",\"\",VLOOKUP($B70,_tbl!$A:$E,P$2,0))","v":"Rural"},{"$f":"IF($B70=\"\",\"\",VLOOKUP($B70,_tbl!$A:$E,Q$2,0))","v":"Diabetes"},null,2.5764624545288501E-4,2.4627473968559402E-4]
[null,"all_m_Central Rural diabetes.csv","65-69",3.8370693194893999E-4,3.8438640142293202E-4,3.8517963643552199E-4,3.8597300414905102E-4,3.86785148910732E-4,3.8759055171552802E-4,3.8838280887051402E-4,3.8917420521340502E-4,3.8995780233264598E-4,3.9074835437233498E-4,{"$f":"IF($B71=\"\",\"\",VLOOKUP($B71,_tbl!$A:$E,N$2,0))","v":"Male"},{"$f":"IF($B71=\"\",\"\",VLOOKUP($B71,_tbl!$A:$E,O$2,0))","v":"Central"},{"$f":"IF($B71=\"\",\"\",VLOOKUP($B71,_tbl!$A:$E,P$2,0))","v":"Rural"},{"$f":"IF($B71=\"\",\"\",VLOOKUP($B71,_tbl!$A:$E,Q$2,0))","v":"Diabetes"},null,3.9074835437233498E-4,3.8370693194893999E-4]
[null,"all_m_Central Rural diabetes.csv","70-74",5.7658086757370996E-4,5.77819895039599E-4,5.7920616722057698E-4,5.8044778205158603E-4,5.81605419893763E-4,5.8264144106016198E-4,5.8358619709948005E-4,5.8448103712287398E-4,5.8534618660981499E-4,5.8621366046452902E-4,{"$f":"IF($B72=\"\",\"\",VLOOKUP($B72,_tbl!$A:$E,N$2,0))","v":"Male"},{"$f":"IF($B72=\"\",\"\",VLOOKUP($B72,_tbl!$A:$E,O$2,0))","v":"Central"},{"$f":"IF($B72=\"\",\"\",VLOOKUP($B72,_tbl!$A:$E,P$2,0))","v":"Rural"},{"$f":"IF($B72=\"\",\"\",VLOOKUP($B72,_tbl!$A:$E,Q$2,0))","v":"Diabetes"},null,5.8621366046452902E-4,5.7658086757370996E-4]
[null,"all_m_Central Rural diabetes.csv","75-79",8.1581927656607003E-4,8.1380766242297796E-4,8.11563911855183E-4,8.0968896082285501E-4,8.0855024598487505E-4,8.0820898187450297E-4,8.0835509863945898E-4,8.0861455815182698E-4,8.08547577749885E-4,8.0794940577322998E-4,{"$f":"IF($B73=\"\",\"\",VLOOKUP($B73,_tbl!$A:$E,N$2,0))","v":"Male"},{"$f":"IF($B73=\"\",\"\",VLOOKUP($B73,_tbl!$A:$E,O$2,0))","v":"Central"},{"$f":"IF($B73=\"\",\"\",VLOOKUP($B73,_tbl!$A:$E,P$2,0))","v":"Rural"},{"$f":"IF($B73=\"\",\"\",VLOOKUP($B73,_tbl!$A:$E,Q$2,0))","v":"Diabetes"},null,8.1581927656607003E-4,8.0794940577322998E-4]
[null,"all_m_Central Rural diabetes.csv","80-84",1.12690623867205E-3,1.11949863355591E-3,1.1088369259754599E-3,1.1012871117915099E-3,1.09611635664272E-3,1.09502440173701E-3,1.0965263471963899E-3,1.09926852928603E-3,1.1009348284060801E-3,1.10010955580401E-3,{"$f":"IF($B74=\"\",\"\",VLOOKUP($B74,_tbl!$A:$E,N$2,0))","v":"Male"},{"$f":"IF($B74=\"\",\"\",VLOOKUP($B74,_tbl!$A:$E,O$2,0))","v":"Central"},{"$f":"IF($B74=\"\",\"\",VLOOKUP($B74,_tbl!$A:$E,P$2,0))","v":"Rural"},{"$f":"IF($B74=\"\",\"\",VLOOKUP($B74,_tbl!$A:$E,Q$2,0))","v":"Diabetes"},null,1.12690623867205E-3,1.09502440173701E-3]
[null,"all_m_Central Rural diabetes.csv","85+",1.4847647174731601E-3,1.4761470653952299E-3,1.4695461210106999E-3,1.46502237983743E-3,1.4607532046171799E-3,1.45613970745291E-3,1.45106416148784E-3,1.44559928432459E-3,1.4405505779688801E-3,1.4362794904537301E-3,{"$f":"IF($B75=\"\",\"\",VLOOKUP($B75,_tbl!$A:$E,N$2,0))","v":"Male"},{"$f":"IF($B75=\"\",\"\",VLOOKUP($B75,_tbl!$A:$E,O$2,0))","v":"Central"},{"$f":"IF($B75=\"\",\"\",VLOOKUP($B75,_tbl!$A:$E,P$2,0))","v":"Rural"},{"$f":"IF($B75=\"\",\"\",VLOOKUP($B75,_tbl!$A:$E,Q$2,0))","v":"Diabetes"},null,1.4847647174731601E-3,1.4362794904537301E-3]
[null,"all_m_Central Rural diabetes.csv",null,null,null,null,null,null,null,null,null,null,null,{"$f":"IF($B76=\"\",\"\",VLOOKUP($B76,_tbl!$A:$E,N$2,0))","v":"Male"},{"$f":"IF($B76=\"\",\"\",VLOOKUP($B76,_tbl!$A:$E,O$2,0))","v":"Central"},{"$f":"IF($B76=\"\",\"\",VLOOKUP($B76,_tbl!$A:$E,P$2,0))","v":"Rural"},{"$f":"IF($B76=\"\",\"\",VLOOKUP($B76,_tbl!$A:$E,Q$2,0))","v":"Diabetes"},null,0,0]
[null,"all_m_Central Rural diabetes.csv",null,null,null,null,null,null,null,null,null,null,null,{"$f":"IF($B77=\"\",\"\",VLOOKUP($B77,_tbl!$A:$E,N$2,0))","v":"Male"},{"$f":"IF($B77=\"\",\"\",VLOOKUP($B77,_tbl!$A:$E,O$2,0))","v":"Central"},{"$f":"IF($B77=\"\",\"\",VLOOKUP($B77,_tbl!$A:$E,P$2,0))","v":"Rural"},{"$f":"IF($B77=\"\",\"\",VLOOKUP($B77,_tbl!$A:$E,Q$2,0))","v":"Diabetes"},null,0,0]
[null,"all_m_Central Rural diabetes.csv",null,null,null,null,null,null,null,null,null,null,null,{"$f":"IF($B78=\"\",\"\",VLOOKUP($B78,_tbl!$A:$E,N$2,0))","v":"Male"},{"$f":"IF($B78=\"\",\"\",VLOOKUP($B78,_tbl!$A:$E,O$2,0))","v":"Central"},{"$f":"IF($B78=\"\",\"\",VLOOKUP($B78,_tbl!$A:$E,P$2,0))","v":"Rural"},{"$f":"IF($B78=\"\",\"\",VLOOKUP($B78,_tbl!$A:$E,Q$2,0))","v":"Diabetes"},null,0,0]
[null,"all_m_Central Rural diabetes.csv",null,null,null,null,null,null,null,null,null,null,null,{"$f":"IF($B79=\"\",\"\",VLOOKUP($B79,_tbl!$A:$E,N$2,0))","v":"Male"},{"$f":"IF($B79=\"\",\"\",VLOOKUP($B79,_tbl!$A:$E,O$2,0))","v":"Central"},{"$f":"IF($B79=\"\",\"\",VLOOKUP($B79,_tbl!$A:$E,P$2,0))","v":"Rural"},{"$f":"IF($B79=\"\",\"\",VLOOKUP($B79,_tbl!$A:$E,Q$2,0))","v":"Diabetes"},null,0,0]
[null,"all_m_Central Rural diabetes.csv",null,null,null,null,null,null,null,null,null,null,null,{"$f":"IF($B80=\"\",\"\",VLOOKUP($B80,_tbl!$A:$E,N$2,0))","v":"Male"},{"$f":"IF($B80=\"\",\"\",VLOOKUP($B80,_tbl!$A:$E,O$2,0))","v":"Central"},{"$f":"IF($B80=\"\",\"\",VLOOKUP($B80,_tbl!$A:$E,P$2,0))","v":"Rural"},{"$f":"IF($B80=\"\",\"\",VLOOKUP($B80,_tbl!$A:$E,Q$2,0))","v":"Diabetes"},null,0,0]
[null,"all_m_Central Rural diabetes.csv",null,null,null,null,null,null,null,null,null,null,null,{"$f":"IF($B81=\"\",\"\",VLOOKUP($B81,_tbl!$A:$E,N$2,0))","v":"Male"},{"$f":"IF($B81=\"\",\"\",VLOOKUP($B81,_tbl!$A:$E,O$2,0))","v":"Central"},{"$f":"IF($B81=\"\",\"\",VLOOKUP($B81,_tbl!$A:$E,P$2,0))","v":"Rural"},{"$f":"IF($B81=\"\",\"\",VLOOKUP($B81,_tbl!$A:$E,Q$2,0))","v":"Diabetes"},null,0,0]
[null,null,null,null,null,null,null,null,null,null,null,null,null,{"$f":"IF($B82=\"\",\"\",VLOOKUP($B82,_tbl!$A:$E,N$2,0))","v":""},{"$f":"IF($B82=\"\",\"\",VLOOKUP($B82,_tbl!$A:$E,O$2,0))","v":""},{"$f":"IF($B82=\"\",\"\",VLOOKUP($B82,_tbl!$A:$E,P$2,0))","v":""},{"$f":"IF($B82=\"\",\"\",VLOOKUP($B82,_tbl!$A:$E,Q$2,0))","v":""}]
[null,null,null,2020,2021,2022,2023,2024,2025,2026,2027,2028,2029,{"$f":"IF($B83=\"\",\"\",VLOOKUP($B83,_tbl!$A:$E,N$2,0))","v":""},{"$f":"IF($B83=\"\",\"\",VLOOKUP($B83,_tbl!$A:$E,O$2,0))","v":""},{"$f":"IF($B83=\"\",\"\",VLOOKUP($B83,_tbl!$A:$E,P$2,0))","v":""},{"$f":"IF($B83=\"\",\"\",VLOOKUP($B83,_tbl!$A:$E,Q$2,0))","v":""}]
[null,"all_m_Central Rural digestive.csv","1-4",6.7179894786174803E-6,6.1562738319313901E-6,5.6689803365592502E-6,5.2020738499189503E-6,4.7953610729696004E-6,4.44420650837159E-6,4.1093617707621603E-6,3.81803395702355E-6,3.5455872471102202E-6,3.2901622697702902E-6,{"$f":"IF($B84=\"\",\"\",VLOOKUP($B84,_tbl!$A:$E,N$2,0))","v":"Male"},{"$f":"IF($B84=\"\",\"\",VLOOKUP($B84,_tbl!$A:$E,O$2,0))","v":"Central"},{"$f":"IF($B84=\"\",\"\",VLOOKUP($B84,_tbl!$A:$E,P$2,0))","v":"Rural"},{"$f":"IF($B84=\"\",\"\",VLOOKUP($B84,_tbl!$A:$E,Q$2,0))","v":"Digestive"},null,{"$f":"MAX(D84:M84)","v":6.7179894786174803E-6},{"$f":"MIN(D84:M84)","v":3.2901622697702902E-6}]
[null,"all_m_Central Rural digestive.csv","5-9",2.0206951657086999E-6,1.82439330730144E-6,1.65504387338321E-6,1.4966830649479899E-6,1.3582490671838599E-6,1.23300270986788E-6,1.1195234575148401E-6,1.0181564619781801E-6,9.2721853164354205E-7,8.4465264507370901E-7,{"$f":"IF($B85=\"\",\"\",VLOOKUP($B85,_tbl!$A:$E,N$2,0))","v":"Male"},{"$f":"IF($B85=\"\",\"\",VLOOKUP($B85,_tbl!$A:$E,O$2,0))","v":"Central"},{"$f":"IF($B85=\"\",\"\",VLOOKUP($B85,_tbl!$A:$E,P$2,0))","v":"Rural"},{"$f":"IF($B85=\"\",\"\",VLOOKUP($B85,_tbl!$A:$E,Q$2,0))","v":"Digestive"},null,2.0206951657086999E-6,8.4465264507370901E-7]
[null,"all_m_Central Rural digestive.csv","10-14",1.81962288615566E-6,1.6558277641103301E-6,1.5082025456249799E-6,1.37058803580118E-6,1.2486052316145701E-6,1.1385140645386401E-6,1.0385898436326E-6,9.48402265647637E-7,8.66170731682598E-7,7.9031188181259405E-7,{"$f":"IF($B86=\"\",\"\",VLOOKUP($B86,_tbl!$A:$E,N$2,0))","v":"Male"},{"$f":"IF($B86=\"\",\"\",VLOOKUP($B86,_tbl!$A:$E,O$2,0))","v":"Central"},{"$f":"IF($B86=\"\",\"\",VLOOKUP($B86,_tbl!$A:$E,P$2,0))","v":"Rural"},{"$f":"IF($B86=\"\",\"\",VLOOKUP($B86,_tbl!$A:$E,Q$2,0))","v":"Digestive"},null,1.81962288615566E-6,7.9031188181259405E-7]
[null,"all_m_Central Rural digestive.csv","15-19",2.5888331290996601E-6,2.39393574880985E-6,2.2145245613882098E-6,2.0448931337414402E-6,1.8913142220178799E-6,1.7504823078868999E-6,1.6212682403092799E-6,1.5021135466541301E-6,1.39159740799635E-6,1.2885518628383899E-6,{"$f":"IF($B87=\"\",\"\",VLOOKUP($B87,_tbl!$A:$E,N$2,0))","v":"Male"},{"$f":"IF($B87=\"\",\"\",VLOOKUP($B87,_tbl!$A:$E,O$2,0))","v":"Central"},{"$f":"IF($B87=\"\",\"\",VLOOKUP($B87,_tbl!$A:$E,P$2,0))","v":"Rural"},{"$f":"IF($B87=\"\",\"\",VLOOKUP($B87,_tbl!$A:$E,Q$2,0))","v":"Digestive"},null,2.5888331290996601E-6,1.2885518628383899E-6]
[null,"all_m_Central Rural digestive.csv","20-24",4.8570040487286098E-6,4.5560289204827503E-6,4.2604103332565697E-6,3.9764799923265399E-6,3.7265960214699799E-6,3.5068704962108201E-6,3.3125913048815001E-6,3.1333999433084401E-6,2.9638710278312402E-6,2.80008597436207E-6,{"$f":"IF($B88=\"\",\"\",VLOOKUP($B88,_tbl!$A:$E,N$2,0))","v":"Male"},{"$f":"IF($B88=\"\",\"\",VLOOKUP($B88,_tbl!$A:$E,O$2,0))","v":"Central"},{"$f":"IF($B88=\"\",\"\",VLOOKUP($B88,_tbl!$A:$E,P$2,0))","v":"Rural"},{"$f":"IF($B88=\"\",\"\",VLOOKUP($B88,_tbl!$A:$E,Q$2,0))","v":"Digestive"},null,4.8570040487286098E-6,2.80008597436207E-6]
[null,"all_m_Central Rural digestive.csv","25-29",9.8078788433193392E-6,9.3638134007000595E-6,8.9206243844618897E-6,8.4974201297188106E-6,8.1035432391938192E-6,7.7383508291251903E-6,7.3976326710438201E-6,7.0752481934519999E-6,6.7684838541481102E-6,6.4746261546373504E-6,{"$f":"IF($B89=\"\",\"\",VLOOKUP($B89,_tbl!$A:$E,N$2,0))","v":"Male"},{"$f":"IF($B89=\"\",\"\",VLOOKUP($B89,_tbl!$A:$E,O$2,0))","v":"Central"},{"$f":"IF($B89=\"\",\"\",VLOOKUP($B89,_tbl!$A:$E,P$2,0))","v":"Rural"},{"$f":"IF($B89=\"\",\"\",VLOOKUP($B89,_tbl!$A:$E,Q$2,0))","v":"Digestive"},null,9.8078788433193392E-6,6.4746261546373504E-6]
[null,"all_m_Central Rural digestive.csv","30-34",1.97716526779898E-5,1.8885911340642599E-5,1.7962587611243001E-5,1.7095027111804299E-5,1.63032534031373E-5,1.5594877531076399E-5,1.49470670622415E-5,1.43372841354632E-5,1.3747244478966699E-5,1.3169185619167899E-5,{"$f":"IF($B90=\"\",\"\",VLOOKUP($B90,_tbl!$A:$E,N$2,0))","v":"Male"},{"$f":"IF($B90=\"\",\"\",VLOOKUP($B90,_tbl!$A:$E,O$2,0))","v":"Central"},{"$f":"IF($B90=\"\",\"\",VLOOKUP($B90,_tbl!$A:$E,P$2,0))","v":"Rural"},{"$f":"IF($B90=\"\",\"\",VLOOKUP($B90,_tbl!$A:$E,Q$2,0))","v":"Digestive"},null,1.97716526779898E-5,1.3169185619167899E-5]
[null,"all_m_Central Rural digestive.csv","35-39",3.7356717414174602E-5,3.5661221632320199E-5,3.4033673181611398E-5,3.2373650220042302E-5,3.0903827770775202E-5,2.95012177069323E-5,2.8229593135552599E-5,2.6983942284259001E-5,2.5795371487140399E-5,2.4610171526573499E-5,{"$f":"IF($B91=\"\",\"\",VLOOKUP($B91,_tbl!$A:$E,N$2,0))","v":"Male"},{"$f":"IF($B91=\"\",\"\",VLOOKUP($B91,_tbl!$A:$E,O$2,0))","v":"Central"},{"$f":"IF($B91=\"\",\"\",VLOOKUP($B91,_tbl!$A:$E,P$2,0))","v":"Rural"},{"$f":"IF($B91=\"\",\"\",VLOOKUP($B91,_tbl!$A:$E,Q$2,0))","v":"Digestive"},null,3.7356717414174602E-5,2.4610171526573499E-5]
[null,"all_m_Central Rural digestive.csv","40-44",5.862162447521E-5,5.5762069119968002E-5,5.3219755582736603E-5,5.05578516731922E-5,4.8075556060859403E-5,4.5531504686657701E-5,4.3121192101778498E-5,4.0724364959307402E-5,3.8474835986928199E-5,3.6295239067619498E-5,{"$f":"IF($B92=\"\",\"\",VLOOKUP($B92,_tbl!$A:$E,N$2,0))","v":"Male"},{"$f":"IF($B92=\"\",\"\",VLOOKUP($B92,_tbl!$A:$E,O$2,0))","v":"Central"},{"$f":"IF($B92=\"\",\"\",VLOOKUP($B92,_tbl!$A:$E,P$2,0))","v":"Rural"},{"$f":"IF($B92=\"\",\"\",VLOOKUP($B92,_tbl!$A:$E,Q$2,0))","v":"Digestive"},null,5.862162447521E-5,3.6295239067619498E-5]
[null,"all_m_Central Rural digestive.csv","45-49",8.8645914818309893E-5,8.4335946848826894E-5,8.0176405906739602E-5,7.6135964850835203E-5,7.2278918271363897E-5,6.8553906194677395E-5,6.5008642746116894E-5,6.1593072355795595E-5,5.8332412931214602E-5,5.5185393731115597E-5,{"$f":"IF($B93=\"\",\"\",VLOOKUP($B93,_tbl!$A:$E,N$2,0))","v":"Male"},{"$f":"IF($B93=\"\",\"\",VLOOKUP($B93,_tbl!$A:$E,O$2,0))","v":"Central"},{"$f":"IF($B93=\"\",\"\",VLOOKUP($B93,_tbl!$A:$E,P$2,0))","v":"Rural"},{"$f":"IF($B93=\"\",\"\",VLOOKUP($B93,_tbl!$A:$E,Q$2,0))","v":"Digestive"},null,8.8645914818309893E-5,5.5185393731115597E-5]
[null,"all_m_Central Rural digestive.csv","50-54",1.22949070870229E-4,1.1716236474568101E-4,1.1126145231335699E-4,1.0579416224750501E-4,1.00461610694129E-4,9.5474400198965005E-5,9.0674681522182797E-5,8.6158832538421501E-5,8.1821554736959603E-5,7.7712450127410704E-5,{"$f":"IF($B94=\"\",\"\",VLOOKUP($B94,_tbl!$A:$E,N$2,0))","v":"Male"},{"$f":"IF($B94=\"\",\"\",VLOOKUP($B94,_tbl!$A:$E,O$2,0))","v":"Central"},{"$f":"IF($B94=\"\",\"\",VLOOKUP($B94,_tbl!$A:$E,P$2,0))","v":"Rural"},{"$f":"IF($B94=\"\",\"\",VLOOKUP($B94,_tbl!$A:$E,Q$2,0))","v":"Digestive"},null,1.22949070870229E-4,7.7712450127410704E-5]
[null,"all_m_Central Rural digestive.csv","55-59",1.5146774147688899E-4,1.4229083755688899E-4,1.3338858463070601E-4,1.2512599773548E-4,1.17198063359103E-4,1.0978379773306099E-4,1.02720801152492E-4,9.6104914245134906E-5,8.9825007089392605E-5,8.3930087235018896E-5,{"$f":"IF($B95=\"\",\"\",VLOOKUP($B95,_tbl!$A:$E,N$2,0))","v":"Male"},{"$f":"IF($B95=\"\",\"\",VLOOKUP($B95,_tbl!$A:$E,O$2,0))","v":"Central"},{"$f":"IF($B95=\"\",\"\",VLOOKUP($B95,_tbl!$A:$E,P$2,0))","v":"Rural"},{"$f":"IF($B95=\"\",\"\",VLOOKUP($B95,_tbl!$A:$E,Q$2,0))","v":"Digestive"},null,1.5146774147688899E-4,8.3930087235018896E-5]
[null,"all_m_Central Rural digestive.csv","60-64",1.94158057633326E-4,1.8086191965254299E-4,1.68473029885617E-4,1.5684051524577399E-4,1.4587232979887499E-4,1.3558896567811399E-4,1.2592399554616399E-4,1.16901873055294E-4,1.0844733323790199E-4,1.00560355002256E-4,{"$f":"IF($B96=\"\",\"\",VLOOKUP($B96,_tbl!$A:$E,N$2,0))","v":"Male"},{"$f":"IF($B96=\"\",\"\",VLOOKUP($B96,_tbl!$A:$E,O$2,0))","v":"Central"},{"$f":"IF($B96=\"\",\"\",VLOOKUP($B96,_tbl!$A:$E,P$2,0))","v":"Rural"},{"$f":"IF($B96=\"\",\"\",VLOOKUP($B96,_tbl!$A:$E,Q$2,0))","v":"Digestive"},null,1.94158057633326E-4,1.00560355002256E-4]
[null,"all_m_Central Rural digestive.csv","65-69",2.56755980440453E-4,2.37562602657097E-4,2.1974899311431599E-4,2.03075761214234E-4,1.87395810636543E-4,1.72709699076265E-4,1.58945096652185E-4,1.46132428464676E-4,1.34196454473626E-4,1.2312836323744199E-4,{"$f":"IF($B97=\"\",\"\",VLOOKUP($B97,_tbl!$A:$E,N$2,0))","v":"Male"},{"$f":"IF($B97=\"\",\"\",VLOOKUP($B97,_tbl!$A:$E,O$2,0))","v":"Central"},{"$f":"IF($B97=\"\",\"\",VLOOKUP($B97,_tbl!$A:$E,P$2,0))","v":"Rural"},{"$f":"IF($B97=\"\",\"\",VLOOKUP($B97,_tbl!$A:$E,Q$2,0))","v":"Digestive"},null,2.56755980440453E-4,1.2312836323744199E-4]
[null,"all_m_Central Rural digestive.csv","70-74",3.7301446123591103E-4,3.4399498576793302E-4,3.1643867560115498E-4,2.9085507272993201E-4,2.6672268940233302E-4,2.4417498843226599E-4,2.23006068640649E-4,2.03230415107007E-4,1.8474017177790901E-4,1.6749318818820301E-4,{"$f":"IF($B98=\"\",\"\",VLOOKUP($B98,_tbl!$A:$E,N$2,0))","v":"Male"},{"$f":"IF($B98=\"\",\"\",VLOOKUP($B98,_tbl!$A:$E,O$2,0))","v":"Central"},{"$f":"IF($B98=\"\",\"\",VLOOKUP($B98,_tbl!$A:$E,P$2,0))","v":"Rural"},{"$f":"IF($B98=\"\",\"\",VLOOKUP($B98,_tbl!$A:$E,Q$2,0))","v":"Digestive"},null,3.7301446123591103E-4,1.6749318818820301E-4]
[null,"all_m_Central Rural digestive.csv","75-79",5.9558329455899602E-4,5.5105318925756798E-4,5.0841144400436502E-4,4.6879888479837701E-4,4.3049072246238398E-4,3.9409450537592199E-4,3.5947542200522801E-4,3.26907242239696E-4,2.9641830013037499E-4,2.67942354165171E-4,{"$f":"IF($B99=\"\",\"\",VLOOKUP($B99,_tbl!$A:$E,N$2,0))","v":"Male"},{"$f":"IF($B99=\"\",\"\",VLOOKUP($B99,_tbl!$A:$E,O$2,0))","v":"Central"},{"$f":"IF($B99=\"\",\"\",VLOOKUP($B99,_tbl!$A:$E,P$2,0))","v":"Rural"},{"$f":"IF($B99=\"\",\"\",VLOOKUP($B99,_tbl!$A:$E,Q$2,0))","v":"Digestive"},null,5.9558329455899602E-4,2.67942354165171E-4]
[null,"all_m_Central Rural digestive.csv","80-84",1.00768694418267E-3,9.4256770187279204E-4,8.8305081271420499E-4,8.27125651454988E-4,7.6849547549755399E-4,7.0826382711709605E-4,6.4718369165314802E-4,5.8817528065513295E-4,5.3352008477639901E-4,4.8491924837631598E-4,{"$f":"IF($B100=\"\",\"\",VLOOKUP($B100,_tbl!$A:$E,N$2,0))","v":"Male"},{"$f":"IF($B100=\"\",\"\",VLOOKUP($B100,_tbl!$A:$E,O$2,0))","v":"Central"},{"$f":"IF($B100=\"\",\"\",VLOOKUP($B100,_tbl!$A:$E,P$2,0))","v":"Rural"},{"$f":"IF($B100=\"\",\"\",VLOOKUP($B100,_tbl!$A:$E,Q$2,0))","v":"Digestive"},null,1.00768694418267E-3,4.8491924837631598E-4]
[null,"all_m_Central Rural digestive.csv","85+",1.7348335893861201E-3,1.61949539996884E-3,1.52679536143837E-3,1.4390320509427199E-3,1.3479266833868601E-3,1.2500386894967401E-3,1.14758948611426E-3,1.04530803444261E-3,9.5062534733113605E-4,8.6892913159927602E-4,{"$f":"IF($B101=\"\",\"\",VLOOKUP($B101,_tbl!$A:$E,N$2,0))","v":"Male"},{"$f":"IF($B101=\"\",\"\",VLOOKUP($B101,_tbl!$A:$E,O$2,0))","v":"Central"},{"$f":"IF($B101=\"\",\"\",VLOOKUP($B101,_tbl!$A:$E,P$2,0))","v":"Rural"},{"$f":"IF($B101=\"\",\"\",VLOOKUP($B101,_tbl!$A:$E,Q$2,0))","v":"Digestive"},null,1.7348335893861201E-3,8.6892913159927602E-4]
[null,null,null,null,null,null,null,null,null,null,null,null,null,{"$f":"IF($B102=\"\",\"\",VLOOKUP($B102,_tbl!$A:$E,N$2,0))","v":""},{"$f":"IF($B102=\"\",\"\",VLOOKUP($B102,_tbl!$A:$E,O$2,0))","v":""},{"$f":"IF($B102=\"\",\"\",VLOOKUP($B102,_tbl!$A:$E,P$2,0))","v":""},{"$f":"IF($B102=\"\",\"\",VLOOKUP($B102,_tbl!$A:$E,Q$2,0))","v":""}]
[null,null,null,2020,2021,2022,2023,2024,2025,2026,2027,2028,2029,{"$f":"IF($B103=\"\",\"\",VLOOKUP($B103,_tbl!$A:$E,N$2,0))","v":""},{"$f":"IF($B103=\"\",\"\",VLOOKUP($B103,_tbl!$A:$E,O$2,0))","v":""},{"$f":"IF($B103=\"\",\"\",VLOOKUP($B103,_tbl!$A:$E,P$2,0))","v":""},{"$f":"IF($B103=\"\",\"\",VLOOKUP($B103,_tbl!$A:$E,Q$2,0))","v":""}]
[null,"all_m_Central Rural external.csv","1-4",2.4239029173413101E-4,2.31840174585762E-4,2.24916589231073E-4,2.16422230016018E-4,2.08589435581168E-4,2.0084642351253E-4,1.9238265738711599E-4,1.84665107642055E-4,1.77083643069174E-4,1.69758168386772E-4,{"$f":"IF($B104=\"\",\"\",VLOOKUP($B104,_tbl!$A:$E,N$2,0))","v":"Male"},{"$f":"IF($B104=\"\",\"\",VLOOKUP($B104,_tbl!$A:$E,O$2,0))","v":"Central"},{"$f":"IF($B104=\"\",\"\",VLOOKUP($B104,_tbl!$A:$E,P$2,0))","v":"Rural"},{"$f":"IF($B104=\"\",\"\",VLOOKUP($B104,_tbl!$A:$E,Q$2,0))","v":"External"},null,{"$f":"MAX(D104:M104)","v":2.4239029173413101E-4},{"$f":"MIN(D104:M104)","v":1.69758168386772E-4}]
[null,"all_m_Central Rural external.csv","5-9",1.9011178887415301E-4,1.8594551819774499E-4,1.83372553903378E-4,1.79777225600444E-4,1.7684639049274299E-4,1.7405661054125499E-4,1.7089738539192301E-4,1.6809770785217401E-4,1.6525875223787699E-4,1.6234552538678401E-4,{"$f":"IF($B105=\"\",\"\",VLOOKUP($B105,_tbl!$A:$E,N$2,0))","v":"Male"},{"$f":"IF($B105=\"\",\"\",VLOOKUP($B105,_tbl!$A:$E,O$2,0))","v":"Central"},{"$f":"IF($B105=\"\",\"\",VLOOKUP($B105,_tbl!$A:$E,P$2,0))","v":"Rural"},{"$f":"IF($B105=\"\",\"\",VLOOKUP($B105,_tbl!$A:$E,Q$2,0))","v":"External"},null,1.9011178887415301E-4,1.6234552538678401E-4]
[null,"all_m_Central Rural external.csv","10-14",1.6563761903395799E-4,1.6076465560418301E-4,1.57392802172212E-4,1.53348168431638E-4,1.4938925495317201E-4,1.4510583327579101E-4,1.40345552745331E-4,1.3575576271963801E-4,1.31250411922646E-4,1.2685911528106399E-4,{"$f":"IF($B106=\"\",\"\",VLOOKUP($B106,_tbl!$A:$E,N$2,0))","v":"Male"},{"$f":"IF($B106=\"\",\"\",VLOOKUP($B106,_tbl!$A:$E,O$2,0))","v":"Central"},{"$f":"IF($B106=\"\",\"\",VLOOKUP($B106,_tbl!$A:$E,P$2,0))","v":"Rural"},{"$f":"IF($B106=\"\",\"\",VLOOKUP($B106,_tbl!$A:$E,Q$2,0))","v":"External"},null,1.6563761903395799E-4,1.2685911528106399E-4]
[null,"all_m_Central Rural external.csv","15-19",1.9777782658188901E-4,1.9138121910987501E-4,1.8638959379748001E-4,1.80792574894297E-4,1.7477101384896101E-4,1.6808018321708999E-4,1.60833640876128E-4,1.5365681061262201E-4,1.4668125182443201E-4,1.4003461661389599E-4,{"$f":"IF($B107=\"\",\"\",VLOOKUP($B107,_tbl!$A:$E,N$2,0))","v":"Male"},{"$f":"IF($B107=\"\",\"\",VLOOKUP($B107,_tbl!$A:$E,O$2,0))","v":"Central"},{"$f":"IF($B107=\"\",\"\",VLOOKUP($B107,_tbl!$A:$E,P$2,0))","v":"Rural"},{"$f":"IF($B107=\"\",\"\",VLOOKUP($B107,_tbl!$A:$E,Q$2,0))","v":"External"},null,1.9777782658188901E-4,1.4003461661389599E-4]
[null,"all_m_Central Rural external.csv","20-24",2.5467211285994503E-4,2.4907434567783798E-4,2.4604211297495998E-4,2.4218040030880999E-4,2.3612624664725001E-4,2.2762869783626101E-4,2.17568520799659E-4,2.0712447034803701E-4,1.9712775878028799E-4,1.8796440221140301E-4,{"$f":"IF($B108=\"\",\"\",VLOOKUP($B108,_tbl!$A:$E,N$2,0))","v":"Male"},{"$f":"IF($B108=\"\",\"\",VLOOKUP($B108,_tbl!$A:$E,O$2,0))","v":"Central"},{"$f":"IF($B108=\"\",\"\",VLOOKUP($B108,_tbl!$A:$E,P$2,0))","v":"Rural"},{"$f":"IF($B108=\"\",\"\",VLOOKUP($B108,_tbl!$A:$E,Q$2,0))","v":"External"},null,2.5467211285994503E-4,1.8796440221140301E-4]
[null,"all_m_Central Rural external.csv","25-29",3.3295938859963502E-4,3.2380966743165702E-4,3.1769700000200602E-4,3.1042015341199399E-4,3.0156288086759697E-4,2.90197457981156E-4,2.7759436628126702E-4,2.6449400476697099E-4,2.5197782594069303E-4,2.4014577238178899E-4,{"$f":"IF($B109=\"\",\"\",VLOOKUP($B109,_tbl!$A:$E,N$2,0))","v":"Male"},{"$f":"IF($B109=\"\",\"\",VLOOKUP($B109,_tbl!$A:$E,O$2,0))","v":"Central"},{"$f":"IF($B109=\"\",\"\",VLOOKUP($B109,_tbl!$A:$E,P$2,0))","v":"Rural"},{"$f":"IF($B109=\"\",\"\",VLOOKUP($B109,_tbl!$A:$E,Q$2,0))","v":"External"},null,3.3295938859963502E-4,2.4014577238178899E-4]
[null,"all_m_Central Rural external.csv","30-34",4.1736677296583599E-4,4.0627865187484999E-4,3.9892329481175902E-4,3.90721596526517E-4,3.7956436796872498E-4,3.65145672372037E-4,3.4870347638339601E-4,3.3173566391170799E-4,3.1540971113546898E-4,3.0023966612127402E-4,{"$f":"IF($B110=\"\",\"\",VLOOKUP($B110,_tbl!$A:$E,N$2,0))","v":"Male"},{"$f":"IF($B110=\"\",\"\",VLOOKUP($B110,_tbl!$A:$E,O$2,0))","v":"Central"},{"$f":"IF($B110=\"\",\"\",VLOOKUP($B110,_tbl!$A:$E,P$2,0))","v":"Rural"},{"$f":"IF($B110=\"\",\"\",VLOOKUP($B110,_tbl!$A:$E,Q$2,0))","v":"External"},null,4.1736677296583599E-4,3.0023966612127402E-4]
[null,"all_m_Central Rural external.csv","35-39",4.64950011597058E-4,4.5002665727193498E-4,4.3866332497828202E-4,4.2615745329768599E-4,4.11772727205097E-4,3.9469099184761701E-4,3.7649679910218398E-4,3.5788576968548598E-4,3.4017546035944502E-4,3.2345746720899001E-4,{"$f":"IF($B111=\"\",\"\",VLOOKUP($B111,_tbl!$A:$E,N$2,0))","v":"Male"},{"$f":"IF($B111=\"\",\"\",VLOOKUP($B111,_tbl!$A:$E,O$2,0))","v":"Central"},{"$f":"IF($B111=\"\",\"\",VLOOKUP($B111,_tbl!$A:$E,P$2,0))","v":"Rural"},{"$f":"IF($B111=\"\",\"\",VLOOKUP($B111,_tbl!$A:$E,Q$2,0))","v":"External"},null,4.64950011597058E-4,3.2345746720899001E-4]
[null,"all_m_Central Rural external.csv","40-44",5.2408034416507102E-4,5.0105550256925599E-4,4.8121643073929701E-4,4.5854711431543999E-4,4.3633359646103601E-4,4.1179707630155003E-4,3.8776725228845002E-4,3.6308773209358199E-4,3.3972983085367702E-4,3.1679478014178301E-4,{"$f":"IF($B112=\"\",\"\",VLOOKUP($B112,_tbl!$A:$E,N$2,0))","v":"Male"},{"$f":"IF($B112=\"\",\"\",VLOOKUP($B112,_tbl!$A:$E,O$2,0))","v":"Central"},{"$f":"IF($B112=\"\",\"\",VLOOKUP($B112,_tbl!$A:$E,P$2,0))","v":"Rural"},{"$f":"IF($B112=\"\",\"\",VLOOKUP($B112,_tbl!$A:$E,Q$2,0))","v":"External"},null,5.2408034416507102E-4,3.1679478014178301E-4]
[null,"all_m_Central Rural external.csv","45-49",5.9953426171084102E-4,5.7541866973676004E-4,5.5062328826679496E-4,5.2539252358292795E-4,4.9946899663332598E-4,4.7227139862969102E-4,4.4513266125852899E-4,4.17840760359445E-4,3.9168508234880899E-4,3.6625660575411503E-4,{"$f":"IF($B113=\"\",\"\",VLOOKUP($B113,_tbl!$A:$E,N$2,0))","v":"Male"},{"$f":"IF($B113=\"\",\"\",VLOOKUP($B113,_tbl!$A:$E,O$2,0))","v":"Central"},{"$f":"IF($B113=\"\",\"\",VLOOKUP($B113,_tbl!$A:$E,P$2,0))","v":"Rural"},{"$f":"IF($B113=\"\",\"\",VLOOKUP($B113,_tbl!$A:$E,Q$2,0))","v":"External"},null,5.9953426171084102E-4,3.6625660575411503E-4]
[null,"all_m_Central Rural external.csv","50-54",7.3843080375644605E-4,7.1784112486901301E-4,6.9548809905111602E-4,6.7436530663573895E-4,6.5223294366600004E-4,6.30050291765905E-4,6.0761673119092601E-4,5.8549356367884099E-4,5.6384404856974705E-4,5.4281130585489797E-4,{"$f":"IF($B114=\"\",\"\",VLOOKUP($B114,_tbl!$A:$E,N$2,0))","v":"Male"},{"$f":"IF($B114=\"\",\"\",VLOOKUP($B114,_tbl!$A:$E,O$2,0))","v":"Central"},{"$f":"IF($B114=\"\",\"\",VLOOKUP($B114,_tbl!$A:$E,P$2,0))","v":"Rural"},{"$f":"IF($B114=\"\",\"\",VLOOKUP($B114,_tbl!$A:$E,Q$2,0))","v":"External"},null,7.3843080375644605E-4,5.4281130585489797E-4]
[null,"all_m_Central Rural external.csv","55-59",8.5534094449333305E-4,8.3049606338527805E-4,8.0418048892135505E-4,7.7962849552431503E-4,7.55659841223721E-4,7.32942377220932E-4,7.1090909106150504E-4,6.8947683981861803E-4,6.6840594292474703E-4,6.4759246929699504E-4,{"$f":"IF($B115=\"\",\"\",VLOOKUP($B115,_tbl!$A:$E,N$2,0))","v":"Male"},{"$f":"IF($B115=\"\",\"\",VLOOKUP($B115,_tbl!$A:$E,O$2,0))","v":"Central"},{"$f":"IF($B115=\"\",\"\",VLOOKUP($B115,_tbl!$A:$E,P$2,0))","v":"Rural"},{"$f":"IF($B115=\"\",\"\",VLOOKUP($B115,_tbl!$A:$E,Q$2,0))","v":"External"},null,8.5534094449333305E-4,6.4759246929699504E-4]
[null,"all_m_Central Rural external.csv","60-64",1.02498262370756E-3,9.9403579788140991E-4,9.5709845762199095E-4,9.2251096049618896E-4,8.9213120856353396E-4,8.6683683783777003E-4,8.4488759132996004E-4,8.2455630952121795E-4,8.04217641493254E-4,7.83069917703077E-4,{"$f":"IF($B116=\"\",\"\",VLOOKUP($B116,_tbl!$A:$E,N$2,0))","v":"Male"},{"$f":"IF($B116=\"\",\"\",VLOOKUP($B116,_tbl!$A:$E,O$2,0))","v":"Central"},{"$f":"IF($B116=\"\",\"\",VLOOKUP($B116,_tbl!$A:$E,P$2,0))","v":"Rural"},{"$f":"IF($B116=\"\",\"\",VLOOKUP($B116,_tbl!$A:$E,Q$2,0))","v":"External"},null,1.02498262370756E-3,7.83069917703077E-4]
[null,"all_m_Central Rural external.csv","65-69",1.2476805304755601E-3,1.1961179927488901E-3,1.12972741232507E-3,1.0692828845952299E-3,1.0211492247645601E-3,9.8642617600219404E-4,9.6053794342742095E-4,9.3860284309317402E-4,9.1624374074918298E-4,8.9131410338996796E-4,{"$f":"IF($B117=\"\",\"\",VLOOKUP($B117,_tbl!$A:$E,N$2,0))","v":"Male"},{"$f":"IF($B117=\"\",\"\",VLOOKUP($B117,_tbl!$A:$E,O$2,0))","v":"Central"},{"$f":"IF($B117=\"\",\"\",VLOOKUP($B117,_tbl!$A:$E,P$2,0))","v":"Rural"},{"$f":"IF($B117=\"\",\"\",VLOOKUP($B117,_tbl!$A:$E,Q$2,0))","v":"External"},null,1.2476805304755601E-3,8.9131410338996796E-4]
[null,"all_m_Central Rural external.csv","70-74",1.6678561703850701E-3,1.5735418105258601E-3,1.4521853261517199E-3,1.34599462432148E-3,1.26761426043918E-3,1.2172172635071001E-3,1.1852150084056699E-3,1.1612186746045299E-3,1.1365001011163099E-3,1.1064730074666299E-3,{"$f":"IF($B118=\"\",\"\",VLOOKUP($B118,_tbl!$A:$E,N$2,0))","v":"Male"},{"$f":"IF($B118=\"\",\"\",VLOOKUP($B118,_tbl!$A:$E,O$2,0))","v":"Central"},{"$f":"IF($B118=\"\",\"\",VLOOKUP($B118,_tbl!$A:$E,P$2,0))","v":"Rural"},{"$f":"IF($B118=\"\",\"\",VLOOKUP($B118,_tbl!$A:$E,Q$2,0))","v":"External"},null,1.6678561703850701E-3,1.1064730074666299E-3]
[null,"all_m_Central Rural external.csv","75-79",2.3790849149058699E-3,2.2097960522415401E-3,1.99781947401863E-3,1.81740073405407E-3,1.6905487226087899E-3,1.61344657402749E-3,1.56910769651349E-3,1.53910460238761E-3,1.5088719936502801E-3,1.4703766351648101E-3,{"$f":"IF($B119=\"\",\"\",VLOOKUP($B119,_tbl!$A:$E,N$2,0))","v":"Male"},{"$f":"IF($B119=\"\",\"\",VLOOKUP($B119,_tbl!$A:$E,O$2,0))","v":"Central"},{"$f":"IF($B119=\"\",\"\",VLOOKUP($B119,_tbl!$A:$E,P$2,0))","v":"Rural"},{"$f":"IF($B119=\"\",\"\",VLOOKUP($B119,_tbl!$A:$E,Q$2,0))","v":"External"},null,2.3790849149058699E-3,1.4703766351648101E-3]
[null,"all_m_Central Rural external.csv","80-84",3.3913724573863299E-3,3.0636344056382599E-3,2.6683645495167501E-3,2.3447630225859701E-3,2.1240409304417499E-3,1.9922847977129898E-3,1.9157623287013501E-3,1.86311408565179E-3,1.81018081152052E-3,1.74515320402334E-3,{"$f":"IF($B120=\"\",\"\",VLOOKUP($B120,_tbl!$A:$E,N$2,0))","v":"Male"},{"$f":"IF($B120=\"\",\"\",VLOOKUP($B120,_tbl!$A:$E,O$2,0))","v":"Central"},{"$f":"IF($B120=\"\",\"\",VLOOKUP($B120,_tbl!$A:$E,P$2,0))","v":"Rural"},{"$f":"IF($B120=\"\",\"\",VLOOKUP($B120,_tbl!$A:$E,Q$2,0))","v":"External"},null,3.3913724573863299E-3,1.74515320402334E-3]
[null,"all_m_Central Rural external.csv","85+",4.8038158243569797E-3,4.1539848820910403E-3,3.4118127730514E-3,2.8279295900966901E-3,2.4502564300083098E-3,2.2390820748825701E-3,2.13026142615818E-3,2.0631918830207501E-3,1.9927098943665301E-3,1.89477416647633E-3,{"$f":"IF($B121=\"\",\"\",VLOOKUP($B121,_tbl!$A:$E,N$2,0))","v":"Male"},{"$f":"IF($B121=\"\",\"\",VLOOKUP($B121,_tbl!$A:$E,O$2,0))","v":"Central"},{"$f":"IF($B121=\"\",\"\",VLOOKUP($B121,_tbl!$A:$E,P$2,0))","v":"Rural"},{"$f":"IF($B121=\"\",\"\",VLOOKUP($B121,_tbl!$A:$E,Q$2,0))","v":"External"},null,4.8038158243569797E-3,1.89477416647633E-3]
[null,null,null,null,null,null,null,null,null,null,null,null,null,{"$f":"IF($B122=\"\",\"\",VLOOKUP($B122,_tbl!$A:$E,N$2,0))","v":""},{"$f":"IF($B122=\"\",\"\",VLOOKUP($B122,_tbl!$A:$E,O$2,0))","v":""},{"$f":"IF($B122=\"\",\"\",VLOOKUP($B122,_tbl!$A:$E,P$2,0))","v":""},{"$f":"IF($B122=\"\",\"\",VLOOKUP($B122,_tbl!$A:$E,Q$2,0))","v":""}]
[null,null,null,2020,2021,2022,2023,2024,2025,2026,2027,2028,2029,{"$f":"IF($B123=\"\",\"\",VLOOKUP($B123,_tbl!$A:$E,N$2,0))","v":""},{"$f":"IF($B123=\"\",\"\",VLOOKUP($B123,_tbl!$A:$E,O$2,0))","v":""},{"$f":"IF($B123=\"\",\"\",VLOOKUP($B123,_tbl!$A:$E,P$2,0))","v":""},{"$f":"IF($B123=\"\",\"\",VLOOKUP($B123,_tbl!$A:$E,Q$2,0))","v":""}]
[null,"all_m_Central Rural infectious.csv","1-4",7.8710350644800695E-5,7.5801668408895698E-5,7.3306618910827406E-5,7.0033764233425294E-5,6.7186340939445096E-5,6.4537672245456806E-5,6.1742704876293299E-5,5.9238779767956799E-5,5.6733351139222097E-5,5.4206979579523497E-5,{"$f":"IF($B124=\"\",\"\",VLOOKUP($B124,_tbl!$A:$E,N$2,0))","v":"Male"},{"$f":"IF($B124=\"\",\"\",VLOOKUP($B124,_tbl!$A:$E,O$2,0))","v":"Central"},{"$f":"IF($B124=\"\",\"\",VLOOKUP($B124,_tbl!$A:$E,P$2,0))","v":"Rural"},{"$f":"IF($B124=\"\",\"\",VLOOKUP($B124,_tbl!$A:$E,Q$2,0))","v":"Infectious"},null,{"$f":"MAX(D124:M124)","v":7.8710350644800695E-5},{"$f":"MIN(D124:M124)","v":5.4206979579523497E-5}]
[null,"all_m_Central Rural infectious.csv","5-9",1.6624997744279498E-5,1.6448968270250199E-5,1.61942199700746E-5,1.5872742719303499E-5,1.5517451391047401E-5,1.51381234320758E-5,1.4736577730123299E-5,1.4331085065275499E-5,1.39196168065814E-5,1.35056917940091E-5,{"$f":"IF($B125=\"\",\"\",VLOOKUP($B125,_tbl!$A:$E,N$2,0))","v":"Male"},{"$f":"IF($B125=\"\",\"\",VLOOKUP($B125,_tbl!$A:$E,O$2,0))","v":"Central"},{"$f":"IF($B125=\"\",\"\",VLOOKUP($B125,_tbl!$A:$E,P$2,0))","v":"Rural"},{"$f":"IF($B125=\"\",\"\",VLOOKUP($B125,_tbl!$A:$E,Q$2,0))","v":"Infectious"},null,1.6624997744279498E-5,1.35056917940091E-5]
[null,"all_m_Central Rural infectious.csv","10-14",1.07333128673339E-5,1.0353772581308099E-5,9.9748675670712293E-6,9.5901938460863499E-6,9.2283788805139602E-6,8.8859186811475805E-6,8.5532006382634303E-6,8.2354643600233608E-6,7.9241273548308207E-6,7.6150568391769003E-6,{"$f":"IF($B126=\"\",\"\",VLOOKUP($B126,_tbl!$A:$E,N$2,0))","v":"Male"},{"$f":"IF($B126=\"\",\"\",VLOOKUP($B126,_tbl!$A:$E,O$2,0))","v":"Central"},{"$f":"IF($B126=\"\",\"\",VLOOKUP($B126,_tbl!$A:$E,P$2,0))","v":"Rural"},{"$f":"IF($B126=\"\",\"\",VLOOKUP($B126,_tbl!$A:$E,Q$2,0))","v":"Infectious"},null,1.07333128673339E-5,7.6150568391769003E-6]
[null,"all_m_Central Rural infectious.csv","15-19",1.0785284781510999E-5,1.01292646011952E-5,9.5032086750896594E-6,8.9169841687667093E-6,8.4079317913566104E-6,7.9652602413198903E-6,7.5670983381142898E-6,7.2013408257005896E-6,6.8503160995037596E-6,6.5059818170593699E-6,{"$f":"IF($B127=\"\",\"\",VLOOKUP($B127,_tbl!$A:$E,N$2,0))","v":"Male"},{"$f":"IF($B127=\"\",\"\",VLOOKUP($B127,_tbl!$A:$E,O$2,0))","v":"Central"},{"$f":"IF($B127=\"\",\"\",VLOOKUP($B127,_tbl!$A:$E,P$2,0))","v":"Rural"},{"$f":"IF($B127=\"\",\"\",VLOOKUP($B127,_tbl!$A:$E,Q$2,0))","v":"Infectious"},null,1.0785284781510999E-5,6.5059818170593699E-6]
[null,"all_m_Central Rural infectious.csv","20-24",1.45676854426313E-5,1.3610622284314899E-5,1.26129484731928E-5,1.17162152962395E-5,1.09791941809205E-5,1.0407206162921701E-5,9.9459328377792698E-6,9.5405953987615692E-6,9.1449935848388304E-6,8.7394029780110903E-6,{"$f":"IF($B128=\"\",\"\",VLOOKUP($B128,_tbl!$A:$E,N$2,0))","v":"Male"},{"$f":"IF($B128=\"\",\"\",VLOOKUP($B128,_tbl!$A:$E,O$2,0))","v":"Central"},{"$f":"IF($B128=\"\",\"\",VLOOKUP($B128,_tbl!$A:$E,P$2,0))","v":"Rural"},{"$f":"IF($B128=\"\",\"\",VLOOKUP($B128,_tbl!$A:$E,Q$2,0))","v":"Infectious"},null,1.45676854426313E-5,8.7394029780110903E-6]
[null,"all_m_Central Rural infectious.csv","25-29",2.0749353152752702E-5,1.9724585721091199E-5,1.87575002432606E-5,1.7894519419386E-5,1.7106872798172899E-5,1.63983252023996E-5,1.5744207263209E-5,1.5132087246872601E-5,1.45461480607101E-5,1.39814657784871E-5,{"$f":"IF($B129=\"\",\"\",VLOOKUP($B129,_tbl!$A:$E,N$2,0))","v":"Male"},{"$f":"IF($B129=\"\",\"\",VLOOKUP($B129,_tbl!$A:$E,O$2,0))","v":"Central"},{"$f":"IF($B129=\"\",\"\",VLOOKUP($B129,_tbl!$A:$E,P$2,0))","v":"Rural"},{"$f":"IF($B129=\"\",\"\",VLOOKUP($B129,_tbl!$A:$E,Q$2,0))","v":"Infectious"},null,2.0749353152752702E-5,1.39814657784871E-5]
[null,"all_m_Central Rural infectious.csv","30-34",3.1292044174546702E-5,2.9863976090584599E-5,2.8581893068752901E-5,2.7355615980242401E-5,2.6246569388123299E-5,2.5210242005002098E-5,2.42498981882708E-5,2.33362334348275E-5,2.2462564707903698E-5,2.1617323531461001E-5,{"$f":"IF($B130=\"\",\"\",VLOOKUP($B130,_tbl!$A:$E,N$2,0))","v":"Male"},{"$f":"IF($B130=\"\",\"\",VLOOKUP($B130,_tbl!$A:$E,O$2,0))","v":"Central"},{"$f":"IF($B130=\"\",\"\",VLOOKUP($B130,_tbl!$A:$E,P$2,0))","v":"Rural"},{"$f":"IF($B130=\"\",\"\",VLOOKUP($B130,_tbl!$A:$E,Q$2,0))","v":"Infectious"},null,3.1292044174546702E-5,2.1617323531461001E-5]
[null,"all_m_Central Rural infectious.csv","35-39",4.7030723878860603E-5,4.4867975676526499E-5,4.2899862678201603E-5,4.1012965740142898E-5,3.9288007102722199E-5,3.7681175063822597E-5,3.61821647514411E-5,3.4767461409588103E-5,3.3408641850229903E-5,3.2101114865772503E-5,{"$f":"IF($B131=\"\",\"\",VLOOKUP($B131,_tbl!$A:$E,N$2,0))","v":"Male"},{"$f":"IF($B131=\"\",\"\",VLOOKUP($B131,_tbl!$A:$E,O$2,0))","v":"Central"},{"$f":"IF($B131=\"\",\"\",VLOOKUP($B131,_tbl!$A:$E,P$2,0))","v":"Rural"},{"$f":"IF($B131=\"\",\"\",VLOOKUP($B131,_tbl!$A:$E,Q$2,0))","v":"Infectious"},null,4.7030723878860603E-5,3.2101114865772503E-5]
[null,"all_m_Central Rural infectious.csv","40-44",6.4206284262345597E-5,6.0408347712554199E-5,5.7221338321212103E-5,5.4005728567972502E-5,5.1155645653659403E-5,4.8417516154233701E-5,4.59226489585511E-5,4.3522997340690897E-5,4.1254842092165599E-5,3.9038383565414898E-5,{"$f":"IF($B132=\"\",\"\",VLOOKUP($B132,_tbl!$A:$E,N$2,0))","v":"Male"},{"$f":"IF($B132=\"\",\"\",VLOOKUP($B132,_tbl!$A:$E,O$2,0))","v":"Central"},{"$f":"IF($B132=\"\",\"\",VLOOKUP($B132,_tbl!$A:$E,P$2,0))","v":"Rural"},{"$f":"IF($B132=\"\",\"\",VLOOKUP($B132,_tbl!$A:$E,Q$2,0))","v":"Infectious"},null,6.4206284262345597E-5,3.9038383565414898E-5]
[null,"all_m_Central Rural infectious.csv","45-49",8.8735179171927996E-5,8.38305155061609E-5,7.8764116519121303E-5,7.4311709795097102E-5,7.0224889355731106E-5,6.6557771304466104E-5,6.3192988447426503E-5,5.9997870572083398E-5,5.6922150443010298E-5,5.3870384775243098E-5,{"$f":"IF($B133=\"\",\"\",VLOOKUP($B133,_tbl!$A:$E,N$2,0))","v":"Male"},{"$f":"IF($B133=\"\",\"\",VLOOKUP($B133,_tbl!$A:$E,O$2,0))","v":"Central"},{"$f":"IF($B133=\"\",\"\",VLOOKUP($B133,_tbl!$A:$E,P$2,0))","v":"Rural"},{"$f":"IF($B133=\"\",\"\",VLOOKUP($B133,_tbl!$A:$E,Q$2,0))","v":"Infectious"},null,8.8735179171927996E-5,5.3870384775243098E-5]
[null,"all_m_Central Rural infectious.csv","50-54",1.2555650064277699E-4,1.18566721055492E-4,1.1165554939478399E-4,1.05615369521233E-4,9.9981113412628996E-5,9.4873740016298495E-5,9.0108359036932697E-5,8.5620608942136404E-5,8.13325485083838E-5,7.7183272378360693E-5,{"$f":"IF($B134=\"\",\"\",VLOOKUP($B134,_tbl!$A:$E,N$2,0))","v":"Male"},{"$f":"IF($B134=\"\",\"\",VLOOKUP($B134,_tbl!$A:$E,O$2,0))","v":"Central"},{"$f":"IF($B134=\"\",\"\",VLOOKUP($B134,_tbl!$A:$E,P$2,0))","v":"Rural"},{"$f":"IF($B134=\"\",\"\",VLOOKUP($B134,_tbl!$A:$E,Q$2,0))","v":"Infectious"},null,1.2555650064277699E-4,7.7183272378360693E-5]
[null,"all_m_Central Rural infectious.csv","55-59",1.64138594249207E-4,1.5391511984604099E-4,1.44343313727673E-4,1.35621572874584E-4,1.2744882892952301E-4,1.1982326838779201E-4,1.12625472085466E-4,1.0582125275767499E-4,9.9363964146760995E-5,9.3223163711597405E-5,{"$f":"IF($B135=\"\",\"\",VLOOKUP($B135,_tbl!$A:$E,N$2,0))","v":"Male"},{"$f":"IF($B135=\"\",\"\",VLOOKUP($B135,_tbl!$A:$E,O$2,0))","v":"Central"},{"$f":"IF($B135=\"\",\"\",VLOOKUP($B135,_tbl!$A:$E,P$2,0))","v":"Rural"},{"$f":"IF($B135=\"\",\"\",VLOOKUP($B135,_tbl!$A:$E,Q$2,0))","v":"Infectious"},null,1.64138594249207E-4,9.3223163711597405E-5]
[null,"all_m_Central Rural infectious.csv","60-64",2.0462795663482101E-4,1.8808157705910299E-4,1.72854410600123E-4,1.58886436904931E-4,1.45815092501279E-4,1.33539479496388E-4,1.2191981855052501E-4,1.1090309182650399E-4,1.00448957626284E-4,9.0520415153171898E-5,{"$f":"IF($B136=\"\",\"\",VLOOKUP($B136,_tbl!$A:$E,N$2,0))","v":"Male"},{"$f":"IF($B136=\"\",\"\",VLOOKUP($B136,_tbl!$A:$E,O$2,0))","v":"Central"},{"$f":"IF($B136=\"\",\"\",VLOOKUP($B136,_tbl!$A:$E,P$2,0))","v":"Rural"},{"$f":"IF($B136=\"\",\"\",VLOOKUP($B136,_tbl!$A:$E,Q$2,0))","v":"Infectious"},null,2.0462795663482101E-4,9.0520415153171898E-5]
[null,"all_m_Central Rural infectious.csv","65-69",2.8687535779098198E-4,2.6124777626573798E-4,2.3744865441515601E-4,2.1546015574246301E-4,1.9466622878524999E-4,1.74969522824473E-4,1.56237455734364E-4,1.3842085701938199E-4,1.2154116987111799E-4,1.05533254204064E-4,{"$f":"IF($B137=\"\",\"\",VLOOKUP($B137,_tbl!$A:$E,N$2,0))","v":"Male"},{"$f":"IF($B137=\"\",\"\",VLOOKUP($B137,_tbl!$A:$E,O$2,0))","v":"Central"},{"$f":"IF($B137=\"\",\"\",VLOOKUP($B137,_tbl!$A:$E,P$2,0))","v":"Rural"},{"$f":"IF($B137=\"\",\"\",VLOOKUP($B137,_tbl!$A:$E,Q$2,0))","v":"Infectious"},null,2.8687535779098198E-4,1.05533254204064E-4]
[null,"all_m_Central Rural infectious.csv","70-74",4.6715222727826899E-4,4.2494758216701599E-4,3.8417832845255101E-4,3.46331936945475E-4,3.1004148608910798E-4,2.7562227268879402E-4,2.4276766093451099E-4,2.1145559104418499E-4,1.8164640193129599E-4,1.53214060105607E-4,{"$f":"IF($B138=\"\",\"\",VLOOKUP($B138,_tbl!$A:$E,N$2,0))","v":"Male"},{"$f":"IF($B138=\"\",\"\",VLOOKUP($B138,_tbl!$A:$E,O$2,0))","v":"Central"},{"$f":"IF($B138=\"\",\"\",VLOOKUP($B138,_tbl!$A:$E,P$2,0))","v":"Rural"},{"$f":"IF($B138=\"\",\"\",VLOOKUP($B138,_tbl!$A:$E,Q$2,0))","v":"Infectious"},null,4.6715222727826899E-4,1.53214060105607E-4]
[null,"all_m_Central Rural infectious.csv","75-79",9.6225279255828097E-4,8.9877162805250598E-4,8.3790337166963298E-4,7.8027070859811303E-4,7.2253064578292104E-4,6.65654415557056E-4,6.1025696792646E-4,5.5723080474620503E-4,5.0742338539818104E-4,4.6084100815892701E-4,{"$f":"IF($B139=\"\",\"\",VLOOKUP($B139,_tbl!$A:$E,N$2,0))","v":"Male"},{"$f":"IF($B139=\"\",\"\",VLOOKUP($B139,_tbl!$A:$E,O$2,0))","v":"Central"},{"$f":"IF($B139=\"\",\"\",VLOOKUP($B139,_tbl!$A:$E,P$2,0))","v":"Rural"},{"$f":"IF($B139=\"\",\"\",VLOOKUP($B139,_tbl!$A:$E,Q$2,0))","v":"Infectious"},null,9.6225279255828097E-4,4.6084100815892701E-4]
[null,"all_m_Central Rural infectious.csv","80-84",2.1528220104008399E-3,2.00375843687902E-3,1.8737434927113201E-3,1.7472337317680699E-3,1.6337489709281701E-3,1.5230055032767701E-3,1.41562711162407E-3,1.3095483105390799E-3,1.2077545434319801E-3,1.11195060568441E-3,{"$f":"IF($B140=\"\",\"\",VLOOKUP($B140,_tbl!$A:$E,N$2,0))","v":"Male"},{"$f":"IF($B140=\"\",\"\",VLOOKUP($B140,_tbl!$A:$E,O$2,0))","v":"Central"},{"$f":"IF($B140=\"\",\"\",VLOOKUP($B140,_tbl!$A:$E,P$2,0))","v":"Rural"},{"$f":"IF($B140=\"\",\"\",VLOOKUP($B140,_tbl!$A:$E,Q$2,0))","v":"Infectious"},null,2.1528220104008399E-3,1.11195060568441E-3]
[null,"all_m_Central Rural infectious.csv","85+",4.8211019116216197E-3,4.6307462824819899E-3,4.4706944431408104E-3,4.3002003286193597E-3,4.1114119076311097E-3,3.8895828090126502E-3,3.6420893041997802E-3,3.3836084784450199E-3,3.1418238556697102E-3,2.9380451039725201E-3,{"$f":"IF($B141=\"\",\"\",VLOOKUP($B141,_tbl!$A:$E,N$2,0))","v":"Male"},{"$f":"IF($B141=\"\",\"\",VLOOKUP($B141,_tbl!$A:$E,O$2,0))","v":"Central"},{"$f":"IF($B141=\"\",\"\",VLOOKUP($B141,_tbl!$A:$E,P$2,0))","v":"Rural"},{"$f":"IF($B141=\"\",\"\",VLOOKUP($B141,_tbl!$A:$E,Q$2,0))","v":"Infectious"},null,4.8211019116216197E-3,2.9380451039725201E-3]
[null,null,null,null,null,null,null,null,null,null,null,null,null,{"$f":"IF($B142=\"\",\"\",VLOOKUP($B142,_tbl!$A:$E,N$2,0))","v":""},{"$f":"IF($B142=\"\",\"\",VLOOKUP($B142,_tbl!$A:$E,O$2,0))","v":""},{"$f":"IF($B142=\"\",\"\",VLOOKUP($B142,_tbl!$A:$E,P$2,0))","v":""},{"$f":"IF($B142=\"\",\"\",VLOOKUP($B142,_tbl!$A:$E,Q$2,0))","v":""}]
[null,null,null,2020,2021,2022,2023,2024,2025,2026,2027,2028,2029,{"$f":"IF($B143=\"\",\"\",VLOOKUP($B143,_tbl!$A:$E,N$2,0))","v":""},{"$f":"IF($B143=\"\",\"\",VLOOKUP($B143,_tbl!$A:$E,O$2,0))","v":""},{"$f":"IF($B143=\"\",\"\",VLOOKUP($B143,_tbl!$A:$E,P$2,0))","v":""},{"$f":"IF($B143=\"\",\"\",VLOOKUP($B143,_tbl!$A:$E,Q$2,0))","v":""}]
[null,"all_m_Central Rural mental.csv","1-4",2.39697529200401E-5,2.38855778560782E-5,2.38191032813827E-5,2.3725569995022401E-5,2.36624398839587E-5,2.3601159715196401E-5,2.35298784508667E-5,2.34705855037912E-5,2.3407116321761002E-5,2.33384825010767E-5,{"$f":"IF($B144=\"\",\"\",VLOOKUP($B144,_tbl!$A:$E,N$2,0))","v":"Male"},{"$f":"IF($B144=\"\",\"\",VLOOKUP($B144,_tbl!$A:$E,O$2,0))","v":"Central"},{"$f":"IF($B144=\"\",\"\",VLOOKUP($B144,_tbl!$A:$E,P$2,0))","v":"Rural"},{"$f":"IF($B144=\"\",\"\",VLOOKUP($B144,_tbl!$A:$E,Q$2,0))","v":"Mental"},null,{"$f":"MAX(D144:M144)","v":2.39697529200401E-5},{"$f":"MIN(D144:M144)","v":2.33384825010767E-5}]
[null,"all_m_Central Rural mental.csv","5-9",1.5445609292789499E-5,1.54067810612778E-5,1.5376903296186402E-5,1.5334553543439898E-5,1.5308203746541601E-5,1.52864835703415E-5,1.52624102502423E-5,1.5243912313046201E-5,1.5223967060757501E-5,1.51985521099137E-5,{"$f":"IF($B145=\"\",\"\",VLOOKUP($B145,_tbl!$A:$E,N$2,0))","v":"Male"},{"$f":"IF($B145=\"\",\"\",VLOOKUP($B145,_tbl!$A:$E,O$2,0))","v":"Central"},{"$f":"IF($B145=\"\",\"\",VLOOKUP($B145,_tbl!$A:$E,P$2,0))","v":"Rural"},{"$f":"IF($B145=\"\",\"\",VLOOKUP($B145,_tbl!$A:$E,Q$2,0))","v":"Mental"},null,1.5445609292789499E-5,1.51985521099137E-5]
[null,"all_m_Central Rural mental.csv","10-14",1.7105761758128299E-5,1.7051295443901701E-5,1.7027885025820399E-5,1.6951541203282999E-5,1.6964723570594001E-5,1.7020146404222699E-5,1.7107461758912202E-5,1.7209382026012601E-5,1.73041543117581E-5,1.7377217466555698E-5,{"$f":"IF($B146=\"\",\"\",VLOOKUP($B146,_tbl!$A:$E,N$2,0))","v":"Male"},{"$f":"IF($B146=\"\",\"\",VLOOKUP($B146,_tbl!$A:$E,O$2,0))","v":"Central"},{"$f":"IF($B146=\"\",\"\",VLOOKUP($B146,_tbl!$A:$E,P$2,0))","v":"Rural"},{"$f":"IF($B146=\"\",\"\",VLOOKUP($B146,_tbl!$A:$E,Q$2,0))","v":"Mental"},null,1.7377217466555698E-5,1.6951541203282999E-5]
[null,"all_m_Central Rural mental.csv","15-19",1.84555113683883E-5,1.83940988305725E-5,1.8300042167806801E-5,1.8205986563701599E-5,1.8152249772095302E-5,1.8137741955197201E-5,1.8145788280100699E-5,1.8164823681230001E-5,1.8180015895581599E-5,1.8188618035475098E-5,{"$f":"IF($B147=\"\",\"\",VLOOKUP($B147,_tbl!$A:$E,N$2,0))","v":"Male"},{"$f":"IF($B147=\"\",\"\",VLOOKUP($B147,_tbl!$A:$E,O$2,0))","v":"Central"},{"$f":"IF($B147=\"\",\"\",VLOOKUP($B147,_tbl!$A:$E,P$2,0))","v":"Rural"},{"$f":"IF($B147=\"\",\"\",VLOOKUP($B147,_tbl!$A:$E,Q$2,0))","v":"Mental"},null,1.84555113683883E-5,1.8137741955197201E-5]
[null,"all_m_Central Rural mental.csv","20-24",1.99388491349683E-5,1.9832403823434001E-5,1.9603764908489099E-5,1.94181748191733E-5,1.9269280167661899E-5,1.91893219917042E-5,1.9142324595356701E-5,1.911178434179E-5,1.9070335680247601E-5,1.9012629093836899E-5,{"$f":"IF($B148=\"\",\"\",VLOOKUP($B148,_tbl!$A:$E,N$2,0))","v":"Male"},{"$f":"IF($B148=\"\",\"\",VLOOKUP($B148,_tbl!$A:$E,O$2,0))","v":"Central"},{"$f":"IF($B148=\"\",\"\",VLOOKUP($B148,_tbl!$A:$E,P$2,0))","v":"Rural"},{"$f":"IF($B148=\"\",\"\",VLOOKUP($B148,_tbl!$A:$E,Q$2,0))","v":"Mental"},null,1.99388491349683E-5,1.9012629093836899E-5]
[null,"all_m_Central Rural mental.csv","25-29",2.1347355718980599E-5,2.1335988660340402E-5,2.12836523029298E-5,2.1256299886397E-5,2.1198888000390199E-5,2.1134295930425799E-5,2.10559378423217E-5,2.0977664394476798E-5,2.08995429554842E-5,2.0824822032675402E-5,{"$f":"IF($B149=\"\",\"\",VLOOKUP($B149,_tbl!$A:$E,N$2,0))","v":"Male"},{"$f":"IF($B149=\"\",\"\",VLOOKUP($B149,_tbl!$A:$E,O$2,0))","v":"Central"},{"$f":"IF($B149=\"\",\"\",VLOOKUP($B149,_tbl!$A:$E,P$2,0))","v":"Rural"},{"$f":"IF($B149=\"\",\"\",VLOOKUP($B149,_tbl!$A:$E,Q$2,0))","v":"Mental"},null,2.1347355718980599E-5,2.0824822032675402E-5]
[null,"all_m_Central Rural mental.csv","30-34",2.38534916112234E-5,2.38835931975738E-5,2.39150128737958E-5,2.3953068436925E-5,2.3954937761427699E-5,2.3933821802388299E-5,2.3893231546963799E-5,2.38497252752495E-5,2.3809716581388399E-5,2.3777834945575901E-5,{"$f":"IF($B150=\"\",\"\",VLOOKUP($B150,_tbl!$A:$E,N$2,0))","v":"Male"},{"$f":"IF($B150=\"\",\"\",VLOOKUP($B150,_tbl!$A:$E,O$2,0))","v":"Central"},{"$f":"IF($B150=\"\",\"\",VLOOKUP($B150,_tbl!$A:$E,P$2,0))","v":"Rural"},{"$f":"IF($B150=\"\",\"\",VLOOKUP($B150,_tbl!$A:$E,Q$2,0))","v":"Mental"},null,2.3954937761427699E-5,2.3777834945575901E-5]
[null,"all_m_Central Rural mental.csv","35-39",2.6291442905207701E-5,2.6262488550521998E-5,2.6190851647604599E-5,2.6145051909021401E-5,2.6091465673254899E-5,2.6054124167310299E-5,2.6016661334941101E-5,2.5984430898614001E-5,2.5947540433655198E-5,2.59079231256713E-5,{"$f":"IF($B151=\"\",\"\",VLOOKUP($B151,_tbl!$A:$E,N$2,0))","v":"Male"},{"$f":"IF($B151=\"\",\"\",VLOOKUP($B151,_tbl!$A:$E,O$2,0))","v":"Central"},{"$f":"IF($B151=\"\",\"\",VLOOKUP($B151,_tbl!$A:$E,P$2,0))","v":"Rural"},{"$f":"IF($B151=\"\",\"\",VLOOKUP($B151,_tbl!$A:$E,Q$2,0))","v":"Mental"},null,2.6291442905207701E-5,2.59079231256713E-5]
[null,"all_m_Central Rural mental.csv","40-44",2.7975164925007301E-5,2.76937845596522E-5,2.7436490343476498E-5,2.7127952502208901E-5,2.6895826002497601E-5,2.66628236770331E-5,2.6486803405125701E-5,2.6291719158898702E-5,2.6106913606870099E-5,2.5884612942771701E-5,{"$f":"IF($B152=\"\",\"\",VLOOKUP($B152,_tbl!$A:$E,N$2,0))","v":"Male"},{"$f":"IF($B152=\"\",\"\",VLOOKUP($B152,_tbl!$A:$E,O$2,0))","v":"Central"},{"$f":"IF($B152=\"\",\"\",VLOOKUP($B152,_tbl!$A:$E,P$2,0))","v":"Rural"},{"$f":"IF($B152=\"\",\"\",VLOOKUP($B152,_tbl!$A:$E,Q$2,0))","v":"Mental"},null,2.7975164925007301E-5,2.5884612942771701E-5]
[null,"all_m_Central Rural mental.csv","45-49",3.3569863633133198E-5,3.3679838632506498E-5,3.3713036604582803E-5,3.3790261826468601E-5,3.3883506593962499E-5,3.4006434767226899E-5,3.41425258219797E-5,3.4276213284723902E-5,3.44002932959692E-5,3.4504703604149099E-5,{"$f":"IF($B153=\"\",\"\",VLOOKUP($B153,_tbl!$A:$E,N$2,0))","v":"Male"},{"$f":"IF($B153=\"\",\"\",VLOOKUP($B153,_tbl!$A:$E,O$2,0))","v":"Central"},{"$f":"IF($B153=\"\",\"\",VLOOKUP($B153,_tbl!$A:$E,P$2,0))","v":"Rural"},{"$f":"IF($B153=\"\",\"\",VLOOKUP($B153,_tbl!$A:$E,Q$2,0))","v":"Mental"},null,3.4504703604149099E-5,3.3569863633133198E-5]
[null,"all_m_Central Rural mental.csv","50-54",4.0487855698509297E-5,4.05195458027992E-5,4.0496922923232901E-5,4.0500857347928798E-5,4.0506526441326399E-5,4.0520459125303502E-5,4.0541961964323103E-5,4.0558455495762101E-5,4.0575762480952898E-5,4.0582585948661199E-5,{"$f":"IF($B154=\"\",\"\",VLOOKUP($B154,_tbl!$A:$E,N$2,0))","v":"Male"},{"$f":"IF($B154=\"\",\"\",VLOOKUP($B154,_tbl!$A:$E,O$2,0))","v":"Central"},{"$f":"IF($B154=\"\",\"\",VLOOKUP($B154,_tbl!$A:$E,P$2,0))","v":"Rural"},{"$f":"IF($B154=\"\",\"\",VLOOKUP($B154,_tbl!$A:$E,Q$2,0))","v":"Mental"},null,4.0582585948661199E-5,4.0487855698509297E-5]
[null,"all_m_Central Rural mental.csv","55-59",5.25972902185754E-5,5.2599638557849002E-5,5.2549990537318497E-5,5.2512139720070903E-5,5.2456129525214102E-5,5.2402764877132501E-5,5.2342798899011698E-5,5.2283789823193001E-5,5.2222905751934598E-5,5.2163007060207198E-5,{"$f":"IF($B155=\"\",\"\",VLOOKUP($B155,_tbl!$A:$E,N$2,0))","v":"Male"},{"$f":"IF($B155=\"\",\"\",VLOOKUP($B155,_tbl!$A:$E,O$2,0))","v":"Central"},{"$f":"IF($B155=\"\",\"\",VLOOKUP($B155,_tbl!$A:$E,P$2,0))","v":"Rural"},{"$f":"IF($B155=\"\",\"\",VLOOKUP($B155,_tbl!$A:$E,Q$2,0))","v":"Mental"},null,5.2599638557849002E-5,5.2163007060207198E-5]
[null,"all_m_Central Rural mental.csv","60-64",7.4407754459031403E-5,7.4377697104933006E-5,7.4307832661243603E-5,7.4237434669854405E-5,7.4146137426252105E-5,7.4054891559988494E-5,7.3954562453797394E-5,7.3856468416959699E-5,7.3755078271098507E-5,7.36565380005322E-5,{"$f":"IF($B156=\"\",\"\",VLOOKUP($B156,_tbl!$A:$E,N$2,0))","v":"Male"},{"$f":"IF($B156=\"\",\"\",VLOOKUP($B156,_tbl!$A:$E,O$2,0))","v":"Central"},{"$f":"IF($B156=\"\",\"\",VLOOKUP($B156,_tbl!$A:$E,P$2,0))","v":"Rural"},{"$f":"IF($B156=\"\",\"\",VLOOKUP($B156,_tbl!$A:$E,Q$2,0))","v":"Mental"},null,7.4407754459031403E-5,7.36565380005322E-5]
[null,"all_m_Central Rural mental.csv","65-69",1.1660745882119E-4,1.1637434355368501E-4,1.16131534424678E-4,1.15860234121337E-4,1.15575370652805E-4,1.15279373394209E-4,1.1498508510504801E-4,1.14690317464532E-4,1.14400341693245E-4,1.1411009951085101E-4,{"$f":"IF($B157=\"\",\"\",VLOOKUP($B157,_tbl!$A:$E,N$2,0))","v":"Male"},{"$f":"IF($B157=\"\",\"\",VLOOKUP($B157,_tbl!$A:$E,O$2,0))","v":"Central"},{"$f":"IF($B157=\"\",\"\",VLOOKUP($B157,_tbl!$A:$E,P$2,0))","v":"Rural"},{"$f":"IF($B157=\"\",\"\",VLOOKUP($B157,_tbl!$A:$E,Q$2,0))","v":"Mental"},null,1.1660745882119E-4,1.1411009951085101E-4]
[null,"all_m_Central Rural mental.csv","70-74",2.1443934308905299E-4,2.1373250223630699E-4,2.1302116789058599E-4,2.1228853580252299E-4,2.1152690384608499E-4,2.1073887587626E-4,2.0995386864052499E-4,2.09167499308211E-4,2.08406112078911E-4,2.07656879833023E-4,{"$f":"IF($B158=\"\",\"\",VLOOKUP($B158,_tbl!$A:$E,N$2,0))","v":"Male"},{"$f":"IF($B158=\"\",\"\",VLOOKUP($B158,_tbl!$A:$E,O$2,0))","v":"Central"},{"$f":"IF($B158=\"\",\"\",VLOOKUP($B158,_tbl!$A:$E,P$2,0))","v":"Rural"},{"$f":"IF($B158=\"\",\"\",VLOOKUP($B158,_tbl!$A:$E,Q$2,0))","v":"Mental"},null,2.1443934308905299E-4,2.07656879833023E-4]
[null,"all_m_Central Rural mental.csv","75-79",4.6729609879006301E-4,4.6714631659217602E-4,4.6661711886284199E-4,4.6636345523452702E-4,4.6600761413697597E-4,4.6577907280092402E-4,4.6548222690971002E-4,4.6519105726741802E-4,4.6481760688897399E-4,4.6440692713522601E-4,{"$f":"IF($B159=\"\",\"\",VLOOKUP($B159,_tbl!$A:$E,N$2,0))","v":"Male"},{"$f":"IF($B159=\"\",\"\",VLOOKUP($B159,_tbl!$A:$E,O$2,0))","v":"Central"},{"$f":"IF($B159=\"\",\"\",VLOOKUP($B159,_tbl!$A:$E,P$2,0))","v":"Rural"},{"$f":"IF($B159=\"\",\"\",VLOOKUP($B159,_tbl!$A:$E,Q$2,0))","v":"Mental"},null,4.6729609879006301E-4,4.6440692713522601E-4]
[null,"all_m_Central Rural mental.csv","80-84",9.6310903237009095E-4,9.30411396713982E-4,9.0555039225814196E-4,8.8234921032309904E-4,8.5901238801143801E-4,8.3437179321626403E-4,8.0889666366140201E-4,7.8332517005258104E-4,7.5866796947202499E-4,7.3554617920854905E-4,{"$f":"IF($B160=\"\",\"\",VLOOKUP($B160,_tbl!$A:$E,N$2,0))","v":"Male"},{"$f":"IF($B160=\"\",\"\",VLOOKUP($B160,_tbl!$A:$E,O$2,0))","v":"Central"},{"$f":"IF($B160=\"\",\"\",VLOOKUP($B160,_tbl!$A:$E,P$2,0))","v":"Rural"},{"$f":"IF($B160=\"\",\"\",VLOOKUP($B160,_tbl!$A:$E,Q$2,0))","v":"Mental"},null,9.6310903237009095E-4,7.3554617920854905E-4]
[null,"all_m_Central Rural mental.csv","85+",2.4182313294337202E-3,2.3936633587616401E-3,2.4172971151834701E-3,2.43021729128782E-3,2.41671395240102E-3,2.36638376783986E-3,2.2904856914167299E-3,2.20307509865777E-3,2.1281069211974701E-3,2.0809132651573099E-3,{"$f":"IF($B161=\"\",\"\",VLOOKUP($B161,_tbl!$A:$E,N$2,0))","v":"Male"},{"$f":"IF($B161=\"\",\"\",VLOOKUP($B161,_tbl!$A:$E,O$2,0))","v":"Central"},{"$f":"IF($B161=\"\",\"\",VLOOKUP($B161,_tbl!$A:$E,P$2,0))","v":"Rural"},{"$f":"IF($B161=\"\",\"\",VLOOKUP($B161,_tbl!$A:$E,Q$2,0))","v":"Mental"},null,2.43021729128782E-3,2.0809132651573099E-3]
[null,null,null,null,null,null,null,null,null,null,null,null,null,{"$f":"IF($B162=\"\",\"\",VLOOKUP($B162,_tbl!$A:$E,N$2,0))","v":""},{"$f":"IF($B162=\"\",\"\",VLOOKUP($B162,_tbl!$A:$E,O$2,0))","v":""},{"$f":"IF($B162=\"\",\"\",VLOOKUP($B162,_tbl!$A:$E,P$2,0))","v":""},{"$f":"IF($B162=\"\",\"\",VLOOKUP($B162,_tbl!$A:$E,Q$2,0))","v":""}]
[null,null,null,2020,2021,2022,2023,2024,2025,2026,2027,2028,2029,{"$f":"IF($B163=\"\",\"\",VLOOKUP($B163,_tbl!$A:$E,N$2,0))","v":""},{"$f":"IF($B163=\"\",\"\",VLOOKUP($B163,_tbl!$A:$E,O$2,0))","v":""},{"$f":"IF($B163=\"\",\"\",VLOOKUP($B163,_tbl!$A:$E,P$2,0))","v":""},{"$f":"IF($B163=\"\",\"\",VLOOKUP($B163,_tbl!$A:$E,Q$2,0))","v":""}]
[null,"all_m_Central Rural other.csv","1-4",6.1362335712514997E-5,6.0147611342434099E-5,5.9768168928191003E-5,5.8691937749960201E-5,5.8131429693902601E-5,5.7745284419856601E-5,5.7174740257939899E-5,5.6814602726973103E-5,5.64033262472004E-5,5.5870729038640599E-5,{"$f":"IF($B164=\"\",\"\",VLOOKUP($B164,_tbl!$A:$E,N$2,0))","v":"Male"},{"$f":"IF($B164=\"\",\"\",VLOOKUP($B164,_tbl!$A:$E,O$2,0))","v":"Central"},{"$f":"IF($B164=\"\",\"\",VLOOKUP($B164,_tbl!$A:$E,P$2,0))","v":"Rural"},{"$f":"IF($B164=\"\",\"\",VLOOKUP($B164,_tbl!$A:$E,Q$2,0))","v":"Other"},null,{"$f":"MAX(D164:M164)","v":6.1362335712514997E-5},{"$f":"MIN(D164:M164)","v":5.5870729038640599E-5}]
[null,"all_m_Central Rural other.csv","5-9",2.09685383434837E-5,2.0811336707664E-5,2.07684432858425E-5,2.0636685320987398E-5,2.05602891223651E-5,2.0479103913162598E-5,2.0378689140040399E-5,2.0292988669618201E-5,2.0204867944785801E-5,2.0104826438900901E-5,{"$f":"IF($B165=\"\",\"\",VLOOKUP($B165,_tbl!$A:$E,N$2,0))","v":"Male"},{"$f":"IF($B165=\"\",\"\",VLOOKUP($B165,_tbl!$A:$E,O$2,0))","v":"Central"},{"$f":"IF($B165=\"\",\"\",VLOOKUP($B165,_tbl!$A:$E,P$2,0))","v":"Rural"},{"$f":"IF($B165=\"\",\"\",VLOOKUP($B165,_tbl!$A:$E,Q$2,0))","v":"Other"},null,2.09685383434837E-5,2.0104826438900901E-5]
[null,"all_m_Central Rural other.csv","10-14",1.8489451448899099E-5,1.8330338805480201E-5,1.8137250878567801E-5,1.79270969363923E-5,1.78239112790386E-5,1.7806419502999601E-5,1.7831861042930399E-5,1.78872726482412E-5,1.79327008204146E-5,1.7948660692729799E-5,{"$f":"IF($B166=\"\",\"\",VLOOKUP($B166,_tbl!$A:$E,N$2,0))","v":"Male"},{"$f":"IF($B166=\"\",\"\",VLOOKUP($B166,_tbl!$A:$E,O$2,0))","v":"Central"},{"$f":"IF($B166=\"\",\"\",VLOOKUP($B166,_tbl!$A:$E,P$2,0))","v":"Rural"},{"$f":"IF($B166=\"\",\"\",VLOOKUP($B166,_tbl!$A:$E,Q$2,0))","v":"Other"},null,1.8489451448899099E-5,1.7806419502999601E-5]
[null,"all_m_Central Rural other.csv","15-19",2.2553579215650498E-5,2.2424063427375501E-5,2.2251764619085401E-5,2.2053435969706198E-5,2.19844732814913E-5,2.20210917465388E-5,2.21198390091706E-5,2.2246169335303798E-5,2.23599040047161E-5,2.2437419225209599E-5,{"$f":"IF($B167=\"\",\"\",VLOOKUP($B167,_tbl!$A:$E,N$2,0))","v":"Male"},{"$f":"IF($B167=\"\",\"\",VLOOKUP($B167,_tbl!$A:$E,O$2,0))","v":"Central"},{"$f":"IF($B167=\"\",\"\",VLOOKUP($B167,_tbl!$A:$E,P$2,0))","v":"Rural"},{"$f":"IF($B167=\"\",\"\",VLOOKUP($B167,_tbl!$A:$E,Q$2,0))","v":"Other"},null,2.2553579215650498E-5,2.19844732814913E-5]
[null,"all_m_Central Rural other.csv","20-24",3.1144838425810697E-5,3.0491758243313501E-5,2.9433190779692199E-5,2.8428724107513699E-5,2.7853724194545998E-5,2.77230116879283E-5,2.7892177799879102E-5,2.8156172444800101E-5,2.8367837663798902E-5,2.8454887943407701E-5,{"$f":"IF($B168=\"\",\"\",VLOOKUP($B168,_tbl!$A:$E,N$2,0))","v":"Male"},{"$f":"IF($B168=\"\",\"\",VLOOKUP($B168,_tbl!$A:$E,O$2,0))","v":"Central"},{"$f":"IF($B168=\"\",\"\",VLOOKUP($B168,_tbl!$A:$E,P$2,0))","v":"Rural"},{"$f":"IF($B168=\"\",\"\",VLOOKUP($B168,_tbl!$A:$E,Q$2,0))","v":"Other"},null,3.1144838425810697E-5,2.77230116879283E-5]
[null,"all_m_Central Rural other.csv","25-29",4.3533115786639999E-5,4.2915281981289601E-5,4.1987641208662097E-5,4.1101719712624003E-5,4.0597244740627501E-5,4.0464302775534202E-5,4.0601583943618598E-5,4.08153477771375E-5,4.0990639417060402E-5,4.1055711635229097E-5,{"$f":"IF($B169=\"\",\"\",VLOOKUP($B169,_tbl!$A:$E,N$2,0))","v":"Male"},{"$f":"IF($B169=\"\",\"\",VLOOKUP($B169,_tbl!$A:$E,O$2,0))","v":"Central"},{"$f":"IF($B169=\"\",\"\",VLOOKUP($B169,_tbl!$A:$E,P$2,0))","v":"Rural"},{"$f":"IF($B169=\"\",\"\",VLOOKUP($B169,_tbl!$A:$E,Q$2,0))","v":"Other"},null,4.3533115786639999E-5,4.0464302775534202E-5]
[null,"all_m_Central Rural other.csv","30-34",6.49415745554019E-5,6.4067447650790902E-5,6.2977983274733503E-5,6.1903367394019294E-5,6.1235888075510095E-5,6.0921319225752503E-5,6.0867123456567199E-5,6.0878163391857101E-5,6.0838112104809E-5,6.0681785762427703E-5,{"$f":"IF($B170=\"\",\"\",VLOOKUP($B170,_tbl!$A:$E,N$2,0))","v":"Male"},{"$f":"IF($B170=\"\",\"\",VLOOKUP($B170,_tbl!$A:$E,O$2,0))","v":"Central"},{"$f":"IF($B170=\"\",\"\",VLOOKUP($B170,_tbl!$A:$E,P$2,0))","v":"Rural"},{"$f":"IF($B170=\"\",\"\",VLOOKUP($B170,_tbl!$A:$E,Q$2,0))","v":"Other"},null,6.49415745554019E-5,6.0681785762427703E-5]
[null,"all_m_Central Rural other.csv","35-39",8.0455740266317105E-5,7.9658944508802796E-5,7.8942304203041003E-5,7.8023841293438405E-5,7.7395961546855701E-5,7.6756008834826705E-5,7.6310944121214198E-5,7.5792766705529003E-5,7.5325973873388699E-5,7.47533290567882E-5,{"$f":"IF($B171=\"\",\"\",VLOOKUP($B171,_tbl!$A:$E,N$2,0))","v":"Male"},{"$f":"IF($B171=\"\",\"\",VLOOKUP($B171,_tbl!$A:$E,O$2,0))","v":"Central"},{"$f":"IF($B171=\"\",\"\",VLOOKUP($B171,_tbl!$A:$E,P$2,0))","v":"Rural"},{"$f":"IF($B171=\"\",\"\",VLOOKUP($B171,_tbl!$A:$E,Q$2,0))","v":"Other"},null,8.0455740266317105E-5,7.47533290567882E-5]
[null,"all_m_Central Rural other.csv","40-44",1.05757830265885E-4,1.0596307191352899E-4,1.05903247181049E-4,1.05885156733326E-4,1.05788405526208E-4,1.0564426027498199E-4,1.05462424078943E-4,1.0524720395126501E-4,1.0504841264748601E-4,1.0485812849130601E-4,{"$f":"IF($B172=\"\",\"\",VLOOKUP($B172,_tbl!$A:$E,N$2,0))","v":"Male"},{"$f":"IF($B172=\"\",\"\",VLOOKUP($B172,_tbl!$A:$E,O$2,0))","v":"Central"},{"$f":"IF($B172=\"\",\"\",VLOOKUP($B172,_tbl!$A:$E,P$2,0))","v":"Rural"},{"$f":"IF($B172=\"\",\"\",VLOOKUP($B172,_tbl!$A:$E,Q$2,0))","v":"Other"},null,1.0596307191352899E-4,1.0485812849130601E-4]
[null,"all_m_Central Rural other.csv","45-49",1.5183755243178501E-4,1.5211943147621401E-4,1.5183635919891199E-4,1.51783203319268E-4,1.51541955572942E-4,1.5144704029274299E-4,1.5125586261961901E-4,1.5112649464551499E-4,1.5091223053900201E-4,1.50711646299803E-4,{"$f":"IF($B173=\"\",\"\",VLOOKUP($B173,_tbl!$A:$E,N$2,0))","v":"Male"},{"$f":"IF($B173=\"\",\"\",VLOOKUP($B173,_tbl!$A:$E,O$2,0))","v":"Central"},{"$f":"IF($B173=\"\",\"\",VLOOKUP($B173,_tbl!$A:$E,P$2,0))","v":"Rural"},{"$f":"IF($B173=\"\",\"\",VLOOKUP($B173,_tbl!$A:$E,Q$2,0))","v":"Other"},null,1.5211943147621401E-4,1.50711646299803E-4]
[null,"all_m_Central Rural other.csv","50-54",2.3366382180566199E-4,2.3406024624355901E-4,2.3360957188378601E-4,2.3341935469045399E-4,2.3292584525799799E-4,2.3257918489574299E-4,2.32092124657099E-4,2.3167707836969001E-4,2.3116391188691401E-4,2.3067645107997101E-4,{"$f":"IF($B174=\"\",\"\",VLOOKUP($B174,_tbl!$A:$E,N$2,0))","v":"Male"},{"$f":"IF($B174=\"\",\"\",VLOOKUP($B174,_tbl!$A:$E,O$2,0))","v":"Central"},{"$f":"IF($B174=\"\",\"\",VLOOKUP($B174,_tbl!$A:$E,P$2,0))","v":"Rural"},{"$f":"IF($B174=\"\",\"\",VLOOKUP($B174,_tbl!$A:$E,Q$2,0))","v":"Other"},null,2.3406024624355901E-4,2.3067645107997101E-4]
[null,"all_m_Central Rural other.csv","55-59",3.54081452935231E-4,3.5391894158997298E-4,3.53011845133307E-4,3.52479940353602E-4,3.5165387978636101E-4,3.5097101614054203E-4,3.5015843457727802E-4,3.4942573925539198E-4,3.48638716920103E-4,3.4790821998911098E-4,{"$f":"IF($B175=\"\",\"\",VLOOKUP($B175,_tbl!$A:$E,N$2,0))","v":"Male"},{"$f":"IF($B175=\"\",\"\",VLOOKUP($B175,_tbl!$A:$E,O$2,0))","v":"Central"},{"$f":"IF($B175=\"\",\"\",VLOOKUP($B175,_tbl!$A:$E,P$2,0))","v":"Rural"},{"$f":"IF($B175=\"\",\"\",VLOOKUP($B175,_tbl!$A:$E,Q$2,0))","v":"Other"},null,3.54081452935231E-4,3.4790821998911098E-4]
[null,"all_m_Central Rural other.csv","60-64",5.2855489765017195E-4,5.2880995272427695E-4,5.2841241044343696E-4,5.2814426221767003E-4,5.2759044402992002E-4,5.2713304324448205E-4,5.2657620718982395E-4,5.2608499806731197E-4,5.2552824715111602E-4,5.2499079967889301E-4,{"$f":"IF($B176=\"\",\"\",VLOOKUP($B176,_tbl!$A:$E,N$2,0))","v":"Male"},{"$f":"IF($B176=\"\",\"\",VLOOKUP($B176,_tbl!$A:$E,O$2,0))","v":"Central"},{"$f":"IF($B176=\"\",\"\",VLOOKUP($B176,_tbl!$A:$E,P$2,0))","v":"Rural"},{"$f":"IF($B176=\"\",\"\",VLOOKUP($B176,_tbl!$A:$E,Q$2,0))","v":"Other"},null,5.2880995272427695E-4,5.2499079967889301E-4]
[null,"all_m_Central Rural other.csv","65-69",7.5669728551074002E-4,7.5643115957424901E-4,7.5505932865277197E-4,7.5370839927076105E-4,7.5207290853956401E-4,7.5067464739356302E-4,7.4923695489172702E-4,7.4791047428041102E-4,7.4644399399171604E-4,7.4492146269051801E-4,{"$f":"IF($B177=\"\",\"\",VLOOKUP($B177,_tbl!$A:$E,N$2,0))","v":"Male"},{"$f":"IF($B177=\"\",\"\",VLOOKUP($B177,_tbl!$A:$E,O$2,0))","v":"Central"},{"$f":"IF($B177=\"\",\"\",VLOOKUP($B177,_tbl!$A:$E,P$2,0))","v":"Rural"},{"$f":"IF($B177=\"\",\"\",VLOOKUP($B177,_tbl!$A:$E,Q$2,0))","v":"Other"},null,7.5669728551074002E-4,7.4492146269051801E-4]
[null,"all_m_Central Rural other.csv","70-74",1.2050201704146099E-3,1.20334818687114E-3,1.19989161846063E-3,1.19662568077694E-3,1.1927486316465001E-3,1.18888349266034E-3,1.1848596857136501E-3,1.1808263381068401E-3,1.1767718046845001E-3,1.17271063378385E-3,{"$f":"IF($B178=\"\",\"\",VLOOKUP($B178,_tbl!$A:$E,N$2,0))","v":"Male"},{"$f":"IF($B178=\"\",\"\",VLOOKUP($B178,_tbl!$A:$E,O$2,0))","v":"Central"},{"$f":"IF($B178=\"\",\"\",VLOOKUP($B178,_tbl!$A:$E,P$2,0))","v":"Rural"},{"$f":"IF($B178=\"\",\"\",VLOOKUP($B178,_tbl!$A:$E,Q$2,0))","v":"Other"},null,1.2050201704146099E-3,1.17271063378385E-3]
[null,"all_m_Central Rural other.csv","75-79",2.2844412396801801E-3,2.2885535257071501E-3,2.2926944861146499E-3,2.2955278704050899E-3,2.2948465968568401E-3,2.2912993525915902E-3,2.28635986193957E-3,2.2810320145896499E-3,2.2767327967065099E-3,2.2735326088824401E-3,{"$f":"IF($B179=\"\",\"\",VLOOKUP($B179,_tbl!$A:$E,N$2,0))","v":"Male"},{"$f":"IF($B179=\"\",\"\",VLOOKUP($B179,_tbl!$A:$E,O$2,0))","v":"Central"},{"$f":"IF($B179=\"\",\"\",VLOOKUP($B179,_tbl!$A:$E,P$2,0))","v":"Rural"},{"$f":"IF($B179=\"\",\"\",VLOOKUP($B179,_tbl!$A:$E,Q$2,0))","v":"Other"},null,2.2955278704050899E-3,2.2735326088824401E-3]
[null,"all_m_Central Rural other.csv","80-84",4.6987292761773497E-3,4.6116796486781299E-3,4.5422856525114503E-3,4.4794514964073698E-3,4.4325732317676897E-3,4.3922180954825999E-3,4.3565401920026099E-3,4.3205102037300203E-3,4.2832399392154098E-3,4.2439754748156101E-3,{"$f":"IF($B180=\"\",\"\",VLOOKUP($B180,_tbl!$A:$E,N$2,0))","v":"Male"},{"$f":"IF($B180=\"\",\"\",VLOOKUP($B180,_tbl!$A:$E,O$2,0))","v":"Central"},{"$f":"IF($B180=\"\",\"\",VLOOKUP($B180,_tbl!$A:$E,P$2,0))","v":"Rural"},{"$f":"IF($B180=\"\",\"\",VLOOKUP($B180,_tbl!$A:$E,Q$2,0))","v":"Other"},null,4.6987292761773497E-3,4.2439754748156101E-3]
[null,"all_m_Central Rural other.csv","85+",9.7152403450514301E-3,9.5487466121023708E-3,9.5806720163647604E-3,9.5682671107413797E-3,9.4742861729518301E-3,9.2480011059232203E-3,8.9335206869562596E-3,8.5753198389165192E-3,8.2618340016835795E-3,8.0468320157947703E-3,{"$f":"IF($B181=\"\",\"\",VLOOKUP($B181,_tbl!$A:$E,N$2,0))","v":"Male"},{"$f":"IF($B181=\"\",\"\",VLOOKUP($B181,_tbl!$A:$E,O$2,0))","v":"Central"},{"$f":"IF($B181=\"\",\"\",VLOOKUP($B181,_tbl!$A:$E,P$2,0))","v":"Rural"},{"$f":"IF($B181=\"\",\"\",VLOOKUP($B181,_tbl!$A:$E,Q$2,0))","v":"Other"},null,9.7152403450514301E-3,8.0468320157947703E-3]
[null,null,null,null,null,null,null,null,null,null,null,null,null,{"$f":"IF($B182=\"\",\"\",VLOOKUP($B182,_tbl!$A:$E,N$2,0))","v":""},{"$f":"IF($B182=\"\",\"\",VLOOKUP($B182,_tbl!$A:$E,O$2,0))","v":""},{"$f":"IF($B182=\"\",\"\",VLOOKUP($B182,_tbl!$A:$E,P$2,0))","v":""},{"$f":"IF($B182=\"\",\"\",VLOOKUP($B182,_tbl!$A:$E,Q$2,0))","v":""}]
[null,null,null,2020,2021,2022,2023,2024,2025,2026,2027,2028,2029,{"$f":"IF($B183=\"\",\"\",VLOOKUP($B183,_tbl!$A:$E,N$2,0))","v":""},{"$f":"IF($B183=\"\",\"\",VLOOKUP($B183,_tbl!$A:$E,O$2,0))","v":""},{"$f":"IF($B183=\"\",\"\",VLOOKUP($B183,_tbl!$A:$E,P$2,0))","v":""},{"$f":"IF($B183=\"\",\"\",VLOOKUP($B183,_tbl!$A:$E,Q$2,0))","v":""}]
[null,"all_m_Central Rural respiratory.csv","1-4",2.20528181843305E-6,2.05871469916022E-6,1.8147753697681499E-6,1.65800798497638E-6,1.4832458726472901E-6,1.33781355595422E-6,1.2041031899129199E-6,1.08281232790644E-6,9.6660595320205895E-7,8.6188933589336895E-7,{"$f":"IF($B184=\"\",\"\",VLOOKUP($B184,_tbl!$A:$E,N$2,0))","v":"Male"},{"$f":"IF($B184=\"\",\"\",VLOOKUP($B184,_tbl!$A:$E,O$2,0))","v":"Central"},{"$f":"IF($B184=\"\",\"\",VLOOKUP($B184,_tbl!$A:$E,P$2,0))","v":"Rural"},{"$f":"IF($B184=\"\",\"\",VLOOKUP($B184,_tbl!$A:$E,Q$2,0))","v":"Respiratory"},null,{"$f":"MAX(D184:M184)","v":2.20528181843305E-6},{"$f":"MIN(D184:M184)","v":8.6188933589336895E-7}]
[null,"all_m_Central Rural respiratory.csv","5-9",1.7984489377633501E-6,1.7242430791763199E-6,1.5959990793749499E-6,1.5067233025283899E-6,1.4053454725644599E-6,1.3179003529006901E-6,1.23095166174421E-6,1.1510946776983699E-6,1.0747346614533601E-6,1.0038748201786801E-6,{"$f":"IF($B185=\"\",\"\",VLOOKUP($B185,_tbl!$A:$E,N$2,0))","v":"Male"},{"$f":"IF($B185=\"\",\"\",VLOOKUP($B185,_tbl!$A:$E,O$2,0))","v":"Central"},{"$f":"IF($B185=\"\",\"\",VLOOKUP($B185,_tbl!$A:$E,P$2,0))","v":"Rural"},{"$f":"IF($B185=\"\",\"\",VLOOKUP($B185,_tbl!$A:$E,Q$2,0))","v":"Respiratory"},null,1.7984489377633501E-6,1.0038748201786801E-6]
[null,"all_m_Central Rural respiratory.csv","10-14",2.01293644946824E-6,1.9601375409209301E-6,1.8564085051538E-6,1.7738423210013601E-6,1.6988596683117801E-6,1.64368143394268E-6,1.59493899618599E-6,1.55444235576313E-6,1.51524649591907E-6,1.47585905824292E-6,{"$f":"IF($B186=\"\",\"\",VLOOKUP($B186,_tbl!$A:$E,N$2,0))","v":"Male"},{"$f":"IF($B186=\"\",\"\",VLOOKUP($B186,_tbl!$A:$E,O$2,0))","v":"Central"},{"$f":"IF($B186=\"\",\"\",VLOOKUP($B186,_tbl!$A:$E,P$2,0))","v":"Rural"},{"$f":"IF($B186=\"\",\"\",VLOOKUP($B186,_tbl!$A:$E,Q$2,0))","v":"Respiratory"},null,2.01293644946824E-6,1.47585905824292E-6]
[null,"all_m_Central Rural respiratory.csv","15-19",2.5611568981513901E-6,2.4854985126960301E-6,2.3566261539361098E-6,2.2582671820347002E-6,2.1604719676509702E-6,2.0847451418768001E-6,2.0130397421264099E-6,1.9491609161475599E-6,1.8849085130372E-6,1.81894298063486E-6,{"$f":"IF($B187=\"\",\"\",VLOOKUP($B187,_tbl!$A:$E,N$2,0))","v":"Male"},{"$f":"IF($B187=\"\",\"\",VLOOKUP($B187,_tbl!$A:$E,O$2,0))","v":"Central"},{"$f":"IF($B187=\"\",\"\",VLOOKUP($B187,_tbl!$A:$E,P$2,0))","v":"Rural"},{"$f":"IF($B187=\"\",\"\",VLOOKUP($B187,_tbl!$A:$E,Q$2,0))","v":"Respiratory"},null,2.5611568981513901E-6,1.81894298063486E-6]
[null,"all_m_Central Rural respiratory.csv","20-24",3.7519030447853699E-6,3.6156208825327798E-6,3.3966752836038899E-6,3.2143678303914398E-6,3.05406750384422E-6,2.9393607586435599E-6,2.8474059925103998E-6,2.76738445140856E-6,2.6843801595919301E-6,2.5934078180958801E-6,{"$f":"IF($B188=\"\",\"\",VLOOKUP($B188,_tbl!$A:$E,N$2,0))","v":"Male"},{"$f":"IF($B188=\"\",\"\",VLOOKUP($B188,_tbl!$A:$E,O$2,0))","v":"Central"},{"$f":"IF($B188=\"\",\"\",VLOOKUP($B188,_tbl!$A:$E,P$2,0))","v":"Rural"},{"$f":"IF($B188=\"\",\"\",VLOOKUP($B188,_tbl!$A:$E,Q$2,0))","v":"Respiratory"},null,3.7519030447853699E-6,2.5934078180958801E-6]
[null,"all_m_Central Rural respiratory.csv","25-29",5.7202294224283997E-6,5.5985692075377802E-6,5.4058959941301397E-6,5.2543814457807801E-6,5.0959190064780598E-6,4.9593597125963297E-6,4.8274553308111699E-6,4.7037855376875097E-6,4.5830785747773804E-6,4.4641698868627096E-6,{"$f":"IF($B189=\"\",\"\",VLOOKUP($B189,_tbl!$A:$E,N$2,0))","v":"Male"},{"$f":"IF($B189=\"\",\"\",VLOOKUP($B189,_tbl!$A:$E,O$2,0))","v":"Central"},{"$f":"IF($B189=\"\",\"\",VLOOKUP($B189,_tbl!$A:$E,P$2,0))","v":"Rural"},{"$f":"IF($B189=\"\",\"\",VLOOKUP($B189,_tbl!$A:$E,Q$2,0))","v":"Respiratory"},null,5.7202294224283997E-6,4.4641698868627096E-6]
[null,"all_m_Central Rural respiratory.csv","30-34",1.01896702757259E-5,9.9261424476953404E-6,9.4498894851663003E-6,9.0970250379083492E-6,8.7133674624607192E-6,8.3921843965880107E-6,8.0759465317785897E-6,7.7824806546215095E-6,7.4894664900204798E-6,7.2016737072495897E-6,{"$f":"IF($B190=\"\",\"\",VLOOKUP($B190,_tbl!$A:$E,N$2,0))","v":"Male"},{"$f":"IF($B190=\"\",\"\",VLOOKUP($B190,_tbl!$A:$E,O$2,0))","v":"Central"},{"$f":"IF($B190=\"\",\"\",VLOOKUP($B190,_tbl!$A:$E,P$2,0))","v":"Rural"},{"$f":"IF($B190=\"\",\"\",VLOOKUP($B190,_tbl!$A:$E,Q$2,0))","v":"Respiratory"},null,1.01896702757259E-5,7.2016737072495897E-6]
[null,"all_m_Central Rural respiratory.csv","35-39",1.7443529814345501E-5,1.6896390149412399E-5,1.5989524320091602E-5,1.52986106338215E-5,1.45495433610116E-5,1.39050559317292E-5,1.3266920573744001E-5,1.2666616428591701E-5,1.2065657900682199E-5,1.1470955866906599E-5,{"$f":"IF($B191=\"\",\"\",VLOOKUP($B191,_tbl!$A:$E,N$2,0))","v":"Male"},{"$f":"IF($B191=\"\",\"\",VLOOKUP($B191,_tbl!$A:$E,O$2,0))","v":"Central"},{"$f":"IF($B191=\"\",\"\",VLOOKUP($B191,_tbl!$A:$E,P$2,0))","v":"Rural"},{"$f":"IF($B191=\"\",\"\",VLOOKUP($B191,_tbl!$A:$E,Q$2,0))","v":"Respiratory"},null,1.7443529814345501E-5,1.1470955866906599E-5]
[null,"all_m_Central Rural respiratory.csv","40-44",3.1464863250061903E-5,3.0366045198370502E-5,2.8676940608638502E-5,2.7374821805168701E-5,2.6009479889791199E-5,2.4837230641781199E-5,2.3711271094785201E-5,2.2656357159244001E-5,2.1613247698553601E-5,2.05715798553862E-5,{"$f":"IF($B192=\"\",\"\",VLOOKUP($B192,_tbl!$A:$E,N$2,0))","v":"Male"},{"$f":"IF($B192=\"\",\"\",VLOOKUP($B192,_tbl!$A:$E,O$2,0))","v":"Central"},{"$f":"IF($B192=\"\",\"\",VLOOKUP($B192,_tbl!$A:$E,P$2,0))","v":"Rural"},{"$f":"IF($B192=\"\",\"\",VLOOKUP($B192,_tbl!$A:$E,Q$2,0))","v":"Respiratory"},null,3.1464863250061903E-5,2.05715798553862E-5]
[null,"all_m_Central Rural respiratory.csv","45-49",5.6481346820445501E-5,5.4131071249498103E-5,5.0141244227421699E-5,4.6985193158179303E-5,4.3605504034182901E-5,4.0569233729752902E-5,3.7594371620920701E-5,3.4719547150968898E-5,3.1889958101440801E-5,2.9059874853504901E-5,{"$f":"IF($B193=\"\",\"\",VLOOKUP($B193,_tbl!$A:$E,N$2,0))","v":"Male"},{"$f":"IF($B193=\"\",\"\",VLOOKUP($B193,_tbl!$A:$E,O$2,0))","v":"Central"},{"$f":"IF($B193=\"\",\"\",VLOOKUP($B193,_tbl!$A:$E,P$2,0))","v":"Rural"},{"$f":"IF($B193=\"\",\"\",VLOOKUP($B193,_tbl!$A:$E,Q$2,0))","v":"Respiratory"},null,5.6481346820445501E-5,2.9059874853504901E-5]
[null,"all_m_Central Rural respiratory.csv","50-54",1.21489065347268E-4,1.16945963749302E-4,1.08935015220183E-4,1.02669768781845E-4,9.5770594317566893E-5,8.9502202960865397E-5,8.3281967020361496E-5,7.72829881606507E-5,7.1413479941541305E-5,6.5613264536798605E-5,{"$f":"IF($B194=\"\",\"\",VLOOKUP($B194,_tbl!$A:$E,N$2,0))","v":"Male"},{"$f":"IF($B194=\"\",\"\",VLOOKUP($B194,_tbl!$A:$E,O$2,0))","v":"Central"},{"$f":"IF($B194=\"\",\"\",VLOOKUP($B194,_tbl!$A:$E,P$2,0))","v":"Rural"},{"$f":"IF($B194=\"\",\"\",VLOOKUP($B194,_tbl!$A:$E,Q$2,0))","v":"Respiratory"},null,1.21489065347268E-4,6.5613264536798605E-5]
[null,"all_m_Central Rural respiratory.csv","55-59",2.41094373077072E-4,2.3032055790630501E-4,2.12092141209182E-4,1.98846001511589E-4,1.8386329492212501E-4,1.7065593064621799E-4,1.57265841370533E-4,1.4468968246639301E-4,1.32377584521405E-4,1.2060132828746901E-4,{"$f":"IF($B195=\"\",\"\",VLOOKUP($B195,_tbl!$A:$E,N$2,0))","v":"Male"},{"$f":"IF($B195=\"\",\"\",VLOOKUP($B195,_tbl!$A:$E,O$2,0))","v":"Central"},{"$f":"IF($B195=\"\",\"\",VLOOKUP($B195,_tbl!$A:$E,P$2,0))","v":"Rural"},{"$f":"IF($B195=\"\",\"\",VLOOKUP($B195,_tbl!$A:$E,Q$2,0))","v":"Respiratory"},null,2.41094373077072E-4,1.2060132828746901E-4]
[null,"all_m_Central Rural respiratory.csv","60-64",4.7172492598427398E-4,4.38613680270986E-4,3.8862550316028901E-4,3.5124936788546697E-4,3.1022457128313999E-4,2.7380333487676199E-4,2.37148721839332E-4,2.0256376782754599E-4,1.6871903216689101E-4,1.3626790454028499E-4,{"$f":"IF($B196=\"\",\"\",VLOOKUP($B196,_tbl!$A:$E,N$2,0))","v":"Male"},{"$f":"IF($B196=\"\",\"\",VLOOKUP($B196,_tbl!$A:$E,O$2,0))","v":"Central"},{"$f":"IF($B196=\"\",\"\",VLOOKUP($B196,_tbl!$A:$E,P$2,0))","v":"Rural"},{"$f":"IF($B196=\"\",\"\",VLOOKUP($B196,_tbl!$A:$E,Q$2,0))","v":"Respiratory"},null,4.7172492598427398E-4,1.3626790454028499E-4]
[null,"all_m_Central Rural respiratory.csv","65-69",1.03384147335701E-3,9.5496836079647001E-4,8.3613340579239402E-4,7.4464252025592797E-4,6.4439560024752895E-4,5.5407736739738502E-4,4.6339576604773498E-4,3.7724697069718401E-4,2.9304097484685E-4,2.1195906512193899E-4,{"$f":"IF($B197=\"\",\"\",VLOOKUP($B197,_tbl!$A:$E,N$2,0))","v":"Male"},{"$f":"IF($B197=\"\",\"\",VLOOKUP($B197,_tbl!$A:$E,O$2,0))","v":"Central"},{"$f":"IF($B197=\"\",\"\",VLOOKUP($B197,_tbl!$A:$E,P$2,0))","v":"Rural"},{"$f":"IF($B197=\"\",\"\",VLOOKUP($B197,_tbl!$A:$E,Q$2,0))","v":"Respiratory"},null,1.03384147335701E-3,2.1195906512193899E-4]
[null,"all_m_Central Rural respiratory.csv","70-74",3.00253702211359E-3,2.9011039053030499E-3,2.7283307003753299E-3,2.6049024650211501E-3,2.46615247262363E-3,2.34583177839055E-3,2.2255079821997099E-3,2.1144676940492101E-3,2.0073151066717001E-3,1.90646904899755E-3,{"$f":"IF($B198=\"\",\"\",VLOOKUP($B198,_tbl!$A:$E,N$2,0))","v":"Male"},{"$f":"IF($B198=\"\",\"\",VLOOKUP($B198,_tbl!$A:$E,O$2,0))","v":"Central"},{"$f":"IF($B198=\"\",\"\",VLOOKUP($B198,_tbl!$A:$E,P$2,0))","v":"Rural"},{"$f":"IF($B198=\"\",\"\",VLOOKUP($B198,_tbl!$A:$E,Q$2,0))","v":"Respiratory"},null,3.00253702211359E-3,1.90646904899755E-3]
[null,"all_m_Central Rural respiratory.csv","75-79",6.3759938174502203E-3,6.16444816568084E-3,5.8038054267536797E-3,5.54591118514335E-3,5.2557371971446E-3,5.0038652439227298E-3,4.7517516517905801E-3,4.5188699118675103E-3,4.2939308288057398E-3,4.0820312445024303E-3,{"$f":"IF($B199=\"\",\"\",VLOOKUP($B199,_tbl!$A:$E,N$2,0))","v":"Male"},{"$f":"IF($B199=\"\",\"\",VLOOKUP($B199,_tbl!$A:$E,O$2,0))","v":"Central"},{"$f":"IF($B199=\"\",\"\",VLOOKUP($B199,_tbl!$A:$E,P$2,0))","v":"Rural"},{"$f":"IF($B199=\"\",\"\",VLOOKUP($B199,_tbl!$A:$E,Q$2,0))","v":"Respiratory"},null,6.3759938174502203E-3,4.0820312445024303E-3]
[null,"all_m_Central Rural respiratory.csv","80-84",1.2139961390286299E-2,1.1366483971726699E-2,1.0391915440865301E-2,9.6403188228371007E-3,8.8827649724349898E-3,8.2247099444590997E-3,7.5891852054937002E-3,6.9943924539033302E-3,6.4112271150402198E-3,5.8419755868711204E-3,{"$f":"IF($B200=\"\",\"\",VLOOKUP($B200,_tbl!$A:$E,N$2,0))","v":"Male"},{"$f":"IF($B200=\"\",\"\",VLOOKUP($B200,_tbl!$A:$E,O$2,0))","v":"Central"},{"$f":"IF($B200=\"\",\"\",VLOOKUP($B200,_tbl!$A:$E,P$2,0))","v":"Rural"},{"$f":"IF($B200=\"\",\"\",VLOOKUP($B200,_tbl!$A:$E,Q$2,0))","v":"Respiratory"},null,1.2139961390286299E-2,5.8419755868711204E-3]
[null,"all_m_Central Rural respiratory.csv","85+",2.3752301410067601E-2,2.1938942422239299E-2,1.9829408785804602E-2,1.8235064282736298E-2,1.6696122860278498E-2,1.5388354150546599E-2,1.4164846093284901E-2,1.30297322434133E-2,1.1924316773698601E-2,1.08248087996488E-2,{"$f":"IF($B201=\"\",\"\",VLOOKUP($B201,_tbl!$A:$E,N$2,0))","v":"Male"},{"$f":"IF($B201=\"\",\"\",VLOOKUP($B201,_tbl!$A:$E,O$2,0))","v":"Central"},{"$f":"IF($B201=\"\",\"\",VLOOKUP($B201,_tbl!$A:$E,P$2,0))","v":"Rural"},{"$f":"IF($B201=\"\",\"\",VLOOKUP($B201,_tbl!$A:$E,Q$2,0))","v":"Respiratory"},null,2.3752301410067601E-2,1.08248087996488E-2]
[null,null,null,null,null,null,null,null,null,null,null,null,null,{"$f":"IF($B202=\"\",\"\",VLOOKUP($B202,_tbl!$A:$E,N$2,0))","v":""},{"$f":"IF($B202=\"\",\"\",VLOOKUP($B202,_tbl!$A:$E,O$2,0))","v":""},{"$f":"IF($B202=\"\",\"\",VLOOKUP($B202,_tbl!$A:$E,P$2,0))","v":""},{"$f":"IF($B202=\"\",\"\",VLOOKUP($B202,_tbl!$A:$E,Q$2,0))","v":""}]
[null,null,null,2020,2021,2022,2023,2024,2025,2026,2027,2028,2029,{"$f":"IF($B203=\"\",\"\",VLOOKUP($B203,_tbl!$A:$E,N$2,0))","v":""},{"$f":"IF($B203=\"\",\"\",VLOOKUP($B203,_tbl!$A:$E,O$2,0))","v":""},{"$f":"IF($B203=\"\",\"\",VLOOKUP($B203,_tbl!$A:$E,P$2,0))","v":""},{"$f":"IF($B203=\"\",\"\",VLOOKUP($B203,_tbl!$A:$E,Q$2,0))","v":""}]
[null,"all_m_Central Rural.csv","1-4",5.2391693608991601E-4,5.0690019107026303E-4,4.9195917916315299E-4,4.75317569804913E-4,4.6072794777086702E-4,4.4628458767275901E-4,4.3167424001465599E-4,4.1788244537102203E-4,4.0471942671366999E-4,3.9150538700983298E-4,{"$f":"IF($B204=\"\",\"\",VLOOKUP($B204,_tbl!$A:$E,N$2,0))","v":"Male"},{"$f":"IF($B204=\"\",\"\",VLOOKUP($B204,_tbl!$A:$E,O$2,0))","v":"Central"},{"$f":"IF($B204=\"\",\"\",VLOOKUP($B204,_tbl!$A:$E,P$2,0))","v":"Rural"},{"$f":"IF($B204=\"\",\"\",VLOOKUP($B204,_tbl!$A:$E,Q$2,0))","v":"Total"},null,{"$f":"MAX(D204:M204)","v":5.2391693608991601E-4},{"$f":"MIN(D204:M204)","v":3.9150538700983298E-4}]
[null,"all_m_Central Rural.csv","5-9",3.04972813370668E-4,2.9981866331997098E-4,2.9553379508283302E-4,2.9052339230158097E-4,2.8623563966983899E-4,2.81950967328532E-4,2.7752870406850503E-4,2.73325616023278E-4,2.6924249713144999E-4,2.6505203391983802E-4,{"$f":"IF($B205=\"\",\"\",VLOOKUP($B205,_tbl!$A:$E,N$2,0))","v":"Male"},{"$f":"IF($B205=\"\",\"\",VLOOKUP($B205,_tbl!$A:$E,O$2,0))","v":"Central"},{"$f":"IF($B205=\"\",\"\",VLOOKUP($B205,_tbl!$A:$E,P$2,0))","v":"Rural"},{"$f":"IF($B205=\"\",\"\",VLOOKUP($B205,_tbl!$A:$E,Q$2,0))","v":"Total"},null,3.04972813370668E-4,2.6505203391983802E-4]
[null,"all_m_Central Rural.csv","10-14",2.8560343941595902E-4,2.79509684590167E-4,2.7432099304530499E-4,2.6860416856805999E-4,2.6350056094272598E-4,2.5836971686349803E-4,2.5315163651621399E-4,2.4812413125765802E-4,2.43251189801594E-4,2.3834293858828601E-4,{"$f":"IF($B206=\"\",\"\",VLOOKUP($B206,_tbl!$A:$E,N$2,0))","v":"Male"},{"$f":"IF($B206=\"\",\"\",VLOOKUP($B206,_tbl!$A:$E,O$2,0))","v":"Central"},{"$f":"IF($B206=\"\",\"\",VLOOKUP($B206,_tbl!$A:$E,P$2,0))","v":"Rural"},{"$f":"IF($B206=\"\",\"\",VLOOKUP($B206,_tbl!$A:$E,Q$2,0))","v":"Total"},null,2.8560343941595902E-4,2.3834293858828601E-4]
[null,"all_m_Central Rural.csv","15-19",3.4675146664586801E-4,3.3891092294653901E-4,3.3190896809509102E-4,3.24506744672829E-4,3.1717177126258401E-4,3.0949123863739599E-4,3.0165200908536101E-4,2.9389972906374099E-4,2.8641989368974699E-4,2.7914594759162101E-4,{"$f":"IF($B207=\"\",\"\",VLOOKUP($B207,_tbl!$A:$E,N$2,0))","v":"Male"},{"$f":"IF($B207=\"\",\"\",VLOOKUP($B207,_tbl!$A:$E,O$2,0))","v":"Central"},{"$f":"IF($B207=\"\",\"\",VLOOKUP($B207,_tbl!$A:$E,P$2,0))","v":"Rural"},{"$f":"IF($B207=\"\",\"\",VLOOKUP($B207,_tbl!$A:$E,Q$2,0))","v":"Total"},null,3.4675146664586801E-4,2.7914594759162101E-4]
[null,"all_m_Central Rural.csv","20-24",4.6822688731613102E-4,4.59106727948767E-4,4.5095284098451501E-4,4.4240089305711E-4,4.3315308947317602E-4,4.2292773516876199E-4,4.12302749896986E-4,4.0155695217842401E-4,3.9118029943250698E-4,3.81220391163411E-4,{"$f":"IF($B208=\"\",\"\",VLOOKUP($B208,_tbl!$A:$E,N$2,0))","v":"Male"},{"$f":"IF($B208=\"\",\"\",VLOOKUP($B208,_tbl!$A:$E,O$2,0))","v":"Central"},{"$f":"IF($B208=\"\",\"\",VLOOKUP($B208,_tbl!$A:$E,P$2,0))","v":"Rural"},{"$f":"IF($B208=\"\",\"\",VLOOKUP($B208,_tbl!$A:$E,Q$2,0))","v":"Total"},null,4.6822688731613102E-4,3.81220391163411E-4]
[null,"all_m_Central Rural.csv","25-29",6.6522574449599998E-4,6.5192975989718303E-4,6.4043770686759397E-4,6.2804532472200399E-4,6.1563403002508398E-4,6.0223294523412097E-4,5.8868395153012303E-4,5.7499688620957505E-4,5.6179301389134705E-4,5.4886846365985096E-4,{"$f":"IF($B209=\"\",\"\",VLOOKUP($B209,_tbl!$A:$E,N$2,0))","v":"Male"},{"$f":"IF($B209=\"\",\"\",VLOOKUP($B209,_tbl!$A:$E,O$2,0))","v":"Central"},{"$f":"IF($B209=\"\",\"\",VLOOKUP($B209,_tbl!$A:$E,P$2,0))","v":"Rural"},{"$f":"IF($B209=\"\",\"\",VLOOKUP($B209,_tbl!$A:$E,Q$2,0))","v":"Total"},null,6.6522574449599998E-4,5.4886846365985096E-4]
[null,"all_m_Central Rural.csv","30-34",9.8246535478857294E-4,9.6388287732182695E-4,9.4737927426646299E-4,9.3056562988679903E-4,9.1308453993507504E-4,8.9459021287088803E-4,8.7564067633406103E-4,8.5668209654505005E-4,8.3815973547683004E-4,8.2022571786171598E-4,{"$f":"IF($B210=\"\",\"\",VLOOKUP($B210,_tbl!$A:$E,N$2,0))","v":"Male"},{"$f":"IF($B210=\"\",\"\",VLOOKUP($B210,_tbl!$A:$E,O$2,0))","v":"Central"},{"$f":"IF($B210=\"\",\"\",VLOOKUP($B210,_tbl!$A:$E,P$2,0))","v":"Rural"},{"$f":"IF($B210=\"\",\"\",VLOOKUP($B210,_tbl!$A:$E,Q$2,0))","v":"Total"},null,9.8246535478857294E-4,8.2022571786171598E-4]
[null,"all_m_Central Rural.csv","35-39",1.4054050908542601E-3,1.3781459854861401E-3,1.3548885271570199E-3,1.32882048900542E-3,1.30441661657906E-3,1.27785404663443E-3,1.25254450537495E-3,1.22634553387679E-3,1.2015650518776399E-3,1.17670034455135E-3,{"$f":"IF($B211=\"\",\"\",VLOOKUP($B211,_tbl!$A:$E,N$2,0))","v":"Male"},{"$f":"IF($B211=\"\",\"\",VLOOKUP($B211,_tbl!$A:$E,O$2,0))","v":"Central"},{"$f":"IF($B211=\"\",\"\",VLOOKUP($B211,_tbl!$A:$E,P$2,0))","v":"Rural"},{"$f":"IF($B211=\"\",\"\",VLOOKUP($B211,_tbl!$A:$E,Q$2,0))","v":"Total"},null,1.4054050908542601E-3,1.17670034455135E-3]
[null,"all_m_Central Rural.csv","40-44",2.0805300570666801E-3,2.0430353396972199E-3,2.0091285466433801E-3,1.9701610906702298E-3,1.93367114032919E-3,1.8937057484886199E-3,1.8558071888228501E-3,1.8163192182552299E-3,1.7791214865914499E-3,1.7416790278165699E-3,{"$f":"IF($B212=\"\",\"\",VLOOKUP($B212,_tbl!$A:$E,N$2,0))","v":"Male"},{"$f":"IF($B212=\"\",\"\",VLOOKUP($B212,_tbl!$A:$E,O$2,0))","v":"Central"},{"$f":"IF($B212=\"\",\"\",VLOOKUP($B212,_tbl!$A:$E,P$2,0))","v":"Rural"},{"$f":"IF($B212=\"\",\"\",VLOOKUP($B212,_tbl!$A:$E,Q$2,0))","v":"Total"},null,2.0805300570666801E-3,1.7416790278165699E-3]
[null,"all_m_Central Rural.csv","45-49",3.2066110677837498E-3,3.1623544287957199E-3,3.1079887375216899E-3,3.0536916085542099E-3,2.9965062638832099E-3,2.9366328470405599E-3,2.8764353169696199E-3,2.8152858074360501E-3,2.7563307198394402E-3,2.6984099510580502E-3,{"$f":"IF($B213=\"\",\"\",VLOOKUP($B213,_tbl!$A:$E,N$2,0))","v":"Male"},{"$f":"IF($B213=\"\",\"\",VLOOKUP($B213,_tbl!$A:$E,O$2,0))","v":"Central"},{"$f":"IF($B213=\"\",\"\",VLOOKUP($B213,_tbl!$A:$E,P$2,0))","v":"Rural"},{"$f":"IF($B213=\"\",\"\",VLOOKUP($B213,_tbl!$A:$E,Q$2,0))","v":"Total"},null,3.2066110677837498E-3,2.6984099510580502E-3]
[null,"all_m_Central Rural.csv","50-54",5.2480040259411899E-3,5.1866723711637497E-3,5.10931015035305E-3,5.0344547280070599E-3,4.9566692529510398E-3,4.8773148031705802E-3,4.7986076127142898E-3,4.7190378467812499E-3,4.6419807907458997E-3,4.5652532745511501E-3,{"$f":"IF($B214=\"\",\"\",VLOOKUP($B214,_tbl!$A:$E,N$2,0))","v":"Male"},{"$f":"IF($B214=\"\",\"\",VLOOKUP($B214,_tbl!$A:$E,O$2,0))","v":"Central"},{"$f":"IF($B214=\"\",\"\",VLOOKUP($B214,_tbl!$A:$E,P$2,0))","v":"Rural"},{"$f":"IF($B214=\"\",\"\",VLOOKUP($B214,_tbl!$A:$E,Q$2,0))","v":"Total"},null,5.2480040259411899E-3,4.5652532745511501E-3]
[null,"all_m_Central Rural.csv","55-59",8.0791984877425799E-3,7.9494740740853106E-3,7.80088913211348E-3,7.6683260473861502E-3,7.5337733562131099E-3,7.4055960293538904E-3,7.27921378331387E-3,7.1557022355928897E-3,7.0344086184258997E-3,6.9146797563336797E-3,{"$f":"IF($B215=\"\",\"\",VLOOKUP($B215,_tbl!$A:$E,N$2,0))","v":"Male"},{"$f":"IF($B215=\"\",\"\",VLOOKUP($B215,_tbl!$A:$E,O$2,0))","v":"Central"},{"$f":"IF($B215=\"\",\"\",VLOOKUP($B215,_tbl!$A:$E,P$2,0))","v":"Rural"},{"$f":"IF($B215=\"\",\"\",VLOOKUP($B215,_tbl!$A:$E,Q$2,0))","v":"Total"},null,8.0791984877425799E-3,6.9146797563336797E-3]
[null,"all_m_Central Rural.csv","60-64",1.24578360276155E-2,1.2200602670839099E-2,1.19183583612026E-2,1.1662482262067E-2,1.14039352819805E-2,1.1156424738377701E-2,1.09118641140347E-2,1.0672757080542499E-2,1.0437961984852801E-2,1.02072736164613E-2,{"$f":"IF($B216=\"\",\"\",VLOOKUP($B216,_tbl!$A:$E,N$2,0))","v":"Male"},{"$f":"IF($B216=\"\",\"\",VLOOKUP($B216,_tbl!$A:$E,O$2,0))","v":"Central"},{"$f":"IF($B216=\"\",\"\",VLOOKUP($B216,_tbl!$A:$E,P$2,0))","v":"Rural"},{"$f":"IF($B216=\"\",\"\",VLOOKUP($B216,_tbl!$A:$E,Q$2,0))","v":"Total"},null,1.24578360276155E-2,1.02072736164613E-2]
[null,"all_m_Central Rural.csv","65-69",1.9793724212093002E-2,1.93671123289577E-2,1.8883936758835599E-2,1.8438947213002699E-2,1.7981336022620299E-2,1.75348871601867E-2,1.70900378260757E-2,1.6652598426752801E-2,1.62260363347798E-2,1.5810291685309098E-2,{"$f":"IF($B217=\"\",\"\",VLOOKUP($B217,_tbl!$A:$E,N$2,0))","v":"Male"},{"$f":"IF($B217=\"\",\"\",VLOOKUP($B217,_tbl!$A:$E,O$2,0))","v":"Central"},{"$f":"IF($B217=\"\",\"\",VLOOKUP($B217,_tbl!$A:$E,P$2,0))","v":"Rural"},{"$f":"IF($B217=\"\",\"\",VLOOKUP($B217,_tbl!$A:$E,Q$2,0))","v":"Total"},null,1.9793724212093002E-2,1.5810291685309098E-2]
[null,"all_m_Central Rural.csv","70-74",3.2571867076167001E-2,3.18298944229672E-2,3.0955799883172801E-2,3.0153054709312999E-2,2.9330385178224401E-2,2.8538514965449201E-2,2.7756670340266701E-2,2.69922220732569E-2,2.6245045251625299E-2,2.5512501874436801E-2,{"$f":"IF($B218=\"\",\"\",VLOOKUP($B218,_tbl!$A:$E,N$2,0))","v":"Male"},{"$f":"IF($B218=\"\",\"\",VLOOKUP($B218,_tbl!$A:$E,O$2,0))","v":"Central"},{"$f":"IF($B218=\"\",\"\",VLOOKUP($B218,_tbl!$A:$E,P$2,0))","v":"Rural"},{"$f":"IF($B218=\"\",\"\",VLOOKUP($B218,_tbl!$A:$E,Q$2,0))","v":"Total"},null,3.2571867076167001E-2,2.5512501874436801E-2]
[null,"all_m_Central Rural.csv","75-79",5.70492400915334E-2,5.5664327384185502E-2,5.4037148454274E-2,5.2605433390708702E-2,5.1219358555258998E-2,4.9975515705152899E-2,4.8809127918790399E-2,4.7694212352352203E-2,4.6586871632629499E-2,4.5456049676304303E-2,{"$f":"IF($B219=\"\",\"\",VLOOKUP($B219,_tbl!$A:$E,N$2,0))","v":"Male"},{"$f":"IF($B219=\"\",\"\",VLOOKUP($B219,_tbl!$A:$E,O$2,0))","v":"Central"},{"$f":"IF($B219=\"\",\"\",VLOOKUP($B219,_tbl!$A:$E,P$2,0))","v":"Rural"},{"$f":"IF($B219=\"\",\"\",VLOOKUP($B219,_tbl!$A:$E,Q$2,0))","v":"Total"},null,5.70492400915334E-2,4.5456049676304303E-2]
[null,"all_m_Central Rural.csv","80-84",0.10064596377327401,9.6690813339280604E-2,9.3147933995639295E-2,8.9982427723852398E-2,8.7339250070476507E-2,8.5101167379051004E-2,8.3169937639831104E-2,8.1365783504488601E-2,7.9544043003059201E-2,7.7600143481446004E-2,{"$f":"IF($B220=\"\",\"\",VLOOKUP($B220,_tbl!$A:$E,N$2,0))","v":"Male"},{"$f":"IF($B220=\"\",\"\",VLOOKUP($B220,_tbl!$A:$E,O$2,0))","v":"Central"},{"$f":"IF($B220=\"\",\"\",VLOOKUP($B220,_tbl!$A:$E,P$2,0))","v":"Rural"},{"$f":"IF($B220=\"\",\"\",VLOOKUP($B220,_tbl!$A:$E,Q$2,0))","v":"Total"},null,0.10064596377327401,7.7600143481446004E-2]
[null,"all_m_Central Rural.csv","85+",0.18376906979666199,0.17469246290718601,0.16735221370565301,0.161079260634509,0.156170589577456,0.151979726892429,0.14843149635132599,0.14504361781158201,0.14172702557497699,0.13822479024169301,{"$f":"IF($B221=\"\",\"\",VLOOKUP($B221,_tbl!$A:$E,N$2,0))","v":"Male"},{"$f":"IF($B221=\"\",\"\",VLOOKUP($B221,_tbl!$A:$E,O$2,0))","v":"Central"},{"$f":"IF($B221=\"\",\"\",VLOOKUP($B221,_tbl!$A:$E,P$2,0))","v":"Rural"},{"$f":"IF($B221=\"\",\"\",VLOOKUP($B221,_tbl!$A:$E,Q$2,0))","v":"Total"},null,0.18376906979666199,0.13822479024169301]
[null,null,null,null,null,null,null,null,null,null,null,null,null,{"$f":"IF($B222=\"\",\"\",VLOOKUP($B222,_tbl!$A:$E,N$2,0))","v":""},{"$f":"IF($B222=\"\",\"\",VLOOKUP($B222,_tbl!$A:$E,O$2,0))","v":""},{"$f":"IF($B222=\"\",\"\",VLOOKUP($B222,_tbl!$A:$E,P$2,0))","v":""},{"$f":"IF($B222=\"\",\"\",VLOOKUP($B222,_tbl!$A:$E,Q$2,0))","v":""}]
[null,null,null,2020,2021,2022,2023,2024,2025,2026,2027,2028,2029,{"$f":"IF($B223=\"\",\"\",VLOOKUP($B223,_tbl!$A:$E,N$2,0))","v":""},{"$f":"IF($B223=\"\",\"\",VLOOKUP($B223,_tbl!$A:$E,O$2,0))","v":""},{"$f":"IF($B223=\"\",\"\",VLOOKUP($B223,_tbl!$A:$E,P$2,0))","v":""},{"$f":"IF($B223=\"\",\"\",VLOOKUP($B223,_tbl!$A:$E,Q$2,0))","v":""}]
[null,"all_m_Central Urban cancer.csv","1-4",2.88033163865135E-5,2.8956401112225E-5,2.9108575587888E-5,2.91859751835601E-5,2.93082244429787E-5,2.93740137182651E-5,2.9431529230504299E-5,2.9481685941868801E-5,2.9536183096925401E-5,2.9574246604221501E-5,{"$f":"IF($B224=\"\",\"\",VLOOKUP($B224,_tbl!$A:$E,N$2,0))","v":"Male"},{"$f":"IF($B224=\"\",\"\",VLOOKUP($B224,_tbl!$A:$E,O$2,0))","v":"Central"},{"$f":"IF($B224=\"\",\"\",VLOOKUP($B224,_tbl!$A:$E,P$2,0))","v":"Urban"},{"$f":"IF($B224=\"\",\"\",VLOOKUP($B224,_tbl!$A:$E,Q$2,0))","v":"Cancer"},null,{"$f":"MAX(D224:M224)","v":2.9574246604221501E-5},{"$f":"MIN(D224:M224)","v":2.88033163865135E-5}]
[null,"all_m_Central Urban cancer.csv","5-9",2.8732573383886E-5,2.8737855794984001E-5,2.87483394565916E-5,2.8725562812145501E-5,2.8727721949522799E-5,2.8726440667942199E-5,2.8713941921208698E-5,2.8708687721171599E-5,2.8704401377338801E-5,2.8691219439822101E-5,{"$f":"IF($B225=\"\",\"\",VLOOKUP($B225,_tbl!$A:$E,N$2,0))","v":"Male"},{"$f":"IF($B225=\"\",\"\",VLOOKUP($B225,_tbl!$A:$E,O$2,0))","v":"Central"},{"$f":"IF($B225=\"\",\"\",VLOOKUP($B225,_tbl!$A:$E,P$2,0))","v":"Urban"},{"$f":"IF($B225=\"\",\"\",VLOOKUP($B225,_tbl!$A:$E,Q$2,0))","v":"Cancer"},null,2.87483394565916E-5,2.8691219439822101E-5]
[null,"all_m_Central Urban cancer.csv","10-14",3.2268753098738702E-5,3.2249778481483801E-5,3.2245080037416399E-5,3.2176587336357702E-5,3.2155489831661499E-5,3.2131684210022597E-5,3.2093331299932399E-5,3.2068039570284697E-5,3.2047203861599903E-5,3.2012074438332801E-5,{"$f":"IF($B226=\"\",\"\",VLOOKUP($B226,_tbl!$A:$E,N$2,0))","v":"Male"},{"$f":"IF($B226=\"\",\"\",VLOOKUP($B226,_tbl!$A:$E,O$2,0))","v":"Central"},{"$f":"IF($B226=\"\",\"\",VLOOKUP($B226,_tbl!$A:$E,P$2,0))","v":"Urban"},{"$f":"IF($B226=\"\",\"\",VLOOKUP($B226,_tbl!$A:$E,Q$2,0))","v":"Cancer"},null,3.2268753098738702E-5,3.2012074438332801E-5]
[null,"all_m_Central Urban cancer.csv","15-19",3.8397022956439001E-5,3.8370037779399001E-5,3.8355944491891098E-5,3.8316155743609297E-5,3.8308641797931199E-5,3.8306022003054701E-5,3.8310560736205499E-5,3.8318136333154897E-5,3.8325075805613499E-5,3.83209383313848E-5,{"$f":"IF($B227=\"\",\"\",VLOOKUP($B227,_tbl!$A:$E,N$2,0))","v":"Male"},{"$f":"IF($B227=\"\",\"\",VLOOKUP($B227,_tbl!$A:$E,O$2,0))","v":"Central"},{"$f":"IF($B227=\"\",\"\",VLOOKUP($B227,_tbl!$A:$E,P$2,0))","v":"Urban"},{"$f":"IF($B227=\"\",\"\",VLOOKUP($B227,_tbl!$A:$E,Q$2,0))","v":"Cancer"},null,3.8397022956439001E-5,3.8306022003054701E-5]
[null,"all_m_Central Urban cancer.csv","20-24",5.0255357505840598E-5,5.0011975573212403E-5,4.9788381706409399E-5,4.9520008687854303E-5,4.9366715490668301E-5,4.9262041534539097E-5,4.9231460582606603E-5,4.9199772203435697E-5,4.9164530906139098E-5,4.9088493265478303E-5,{"$f":"IF($B228=\"\",\"\",VLOOKUP($B228,_tbl!$A:$E,N$2,0))","v":"Male"},{"$f":"IF($B228=\"\",\"\",VLOOKUP($B228,_tbl!$A:$E,O$2,0))","v":"Central"},{"$f":"IF($B228=\"\",\"\",VLOOKUP($B228,_tbl!$A:$E,P$2,0))","v":"Urban"},{"$f":"IF($B228=\"\",\"\",VLOOKUP($B228,_tbl!$A:$E,Q$2,0))","v":"Cancer"},null,5.0255357505840598E-5,4.9088493265478303E-5]
[null,"all_m_Central Urban cancer.csv","25-29",7.7843269344315494E-5,7.7315299403587996E-5,7.6805641441605907E-5,7.61540974249516E-5,7.57948501331092E-5,7.5537159435808406E-5,7.5447722104699194E-5,7.5356984099743307E-5,7.5279365652901196E-5,7.5103601752106507E-5,{"$f":"IF($B229=\"\",\"\",VLOOKUP($B229,_tbl!$A:$E,N$2,0))","v":"Male"},{"$f":"IF($B229=\"\",\"\",VLOOKUP($B229,_tbl!$A:$E,O$2,0))","v":"Central"},{"$f":"IF($B229=\"\",\"\",VLOOKUP($B229,_tbl!$A:$E,P$2,0))","v":"Urban"},{"$f":"IF($B229=\"\",\"\",VLOOKUP($B229,_tbl!$A:$E,Q$2,0))","v":"Cancer"},null,7.7843269344315494E-5,7.5103601752106507E-5]
[null,"all_m_Central Urban cancer.csv","30-34",1.3692941771123199E-4,1.35925372645781E-4,1.3466897346240699E-4,1.3347227583402301E-4,1.3254304955183401E-4,1.31892294969682E-4,1.31428338128245E-4,1.31023377508759E-4,1.30581884525652E-4,1.3005930923397799E-4,{"$f":"IF($B230=\"\",\"\",VLOOKUP($B230,_tbl!$A:$E,N$2,0))","v":"Male"},{"$f":"IF($B230=\"\",\"\",VLOOKUP($B230,_tbl!$A:$E,O$2,0))","v":"Central"},{"$f":"IF($B230=\"\",\"\",VLOOKUP($B230,_tbl!$A:$E,P$2,0))","v":"Urban"},{"$f":"IF($B230=\"\",\"\",VLOOKUP($B230,_tbl!$A:$E,Q$2,0))","v":"Cancer"},null,1.3692941771123199E-4,1.3005930923397799E-4]
[null,"all_m_Central Urban cancer.csv","35-39",2.3494266188478101E-4,2.3306095903417599E-4,2.3169640129407299E-4,2.29734300844221E-4,2.2843839164914001E-4,2.26936268758705E-4,2.25873965494457E-4,2.24588722946899E-4,2.2347982726026301E-4,2.22141860498298E-4,{"$f":"IF($B231=\"\",\"\",VLOOKUP($B231,_tbl!$A:$E,N$2,0))","v":"Male"},{"$f":"IF($B231=\"\",\"\",VLOOKUP($B231,_tbl!$A:$E,O$2,0))","v":"Central"},{"$f":"IF($B231=\"\",\"\",VLOOKUP($B231,_tbl!$A:$E,P$2,0))","v":"Urban"},{"$f":"IF($B231=\"\",\"\",VLOOKUP($B231,_tbl!$A:$E,Q$2,0))","v":"Cancer"},null,2.3494266188478101E-4,2.22141860498298E-4]
[null,"all_m_Central Urban cancer.csv","40-44",4.1641511321721902E-4,4.0958745322261899E-4,4.0667613693015799E-4,4.0044636626299302E-4,3.9668342341094102E-4,3.9138769659800799E-4,3.8768066256052299E-4,3.8301693401900398E-4,3.79197963667783E-4,3.7462895710217503E-4,{"$f":"IF($B232=\"\",\"\",VLOOKUP($B232,_tbl!$A:$E,N$2,0))","v":"Male"},{"$f":"IF($B232=\"\",\"\",VLOOKUP($B232,_tbl!$A:$E,O$2,0))","v":"Central"},{"$f":"IF($B232=\"\",\"\",VLOOKUP($B232,_tbl!$A:$E,P$2,0))","v":"Urban"},{"$f":"IF($B232=\"\",\"\",VLOOKUP($B232,_tbl!$A:$E,Q$2,0))","v":"Cancer"},null,4.1641511321721902E-4,3.7462895710217503E-4]
[null,"all_m_Central Urban cancer.csv","45-49",8.0921928442913998E-4,8.0201381175237199E-4,7.9495190299484395E-4,7.8635607355392705E-4,7.7944201264161603E-4,7.7161506727555298E-4,7.6515921830238004E-4,7.5781244507121704E-4,7.5119808134150299E-4,7.4375275500199601E-4,{"$f":"IF($B233=\"\",\"\",VLOOKUP($B233,_tbl!$A:$E,N$2,0))","v":"Male"},{"$f":"IF($B233=\"\",\"\",VLOOKUP($B233,_tbl!$A:$E,O$2,0))","v":"Central"},{"$f":"IF($B233=\"\",\"\",VLOOKUP($B233,_tbl!$A:$E,P$2,0))","v":"Urban"},{"$f":"IF($B233=\"\",\"\",VLOOKUP($B233,_tbl!$A:$E,Q$2,0))","v":"Cancer"},null,8.0921928442913998E-4,7.4375275500199601E-4]
[null,"all_m_Central Urban cancer.csv","50-54",1.6305859427988799E-3,1.62002842875522E-3,1.6086246441683501E-3,1.5958733634743E-3,1.5846377676126001E-3,1.5719777732613701E-3,1.5607920444342101E-3,1.54832782754156E-3,1.53693651312601E-3,1.5245319627809899E-3,{"$f":"IF($B234=\"\",\"\",VLOOKUP($B234,_tbl!$A:$E,N$2,0))","v":"Male"},{"$f":"IF($B234=\"\",\"\",VLOOKUP($B234,_tbl!$A:$E,O$2,0))","v":"Central"},{"$f":"IF($B234=\"\",\"\",VLOOKUP($B234,_tbl!$A:$E,P$2,0))","v":"Urban"},{"$f":"IF($B234=\"\",\"\",VLOOKUP($B234,_tbl!$A:$E,Q$2,0))","v":"Cancer"},null,1.6305859427988799E-3,1.5245319627809899E-3]
[null,"all_m_Central Urban cancer.csv","55-59",2.9645389561881799E-3,2.9480724329869002E-3,2.9290016905980502E-3,2.9075916455077E-3,2.8866538945796099E-3,2.8637060450059501E-3,2.8418273264032498E-3,2.81847233120803E-3,2.7962085417424301E-3,2.77297348254732E-3,{"$f":"IF($B235=\"\",\"\",VLOOKUP($B235,_tbl!$A:$E,N$2,0))","v":"Male"},{"$f":"IF($B235=\"\",\"\",VLOOKUP($B235,_tbl!$A:$E,O$2,0))","v":"Central"},{"$f":"IF($B235=\"\",\"\",VLOOKUP($B235,_tbl!$A:$E,P$2,0))","v":"Urban"},{"$f":"IF($B235=\"\",\"\",VLOOKUP($B235,_tbl!$A:$E,Q$2,0))","v":"Cancer"},null,2.9645389561881799E-3,2.77297348254732E-3]
[null,"all_m_Central Urban cancer.csv","60-64",4.7192612080136902E-3,4.70348978657482E-3,4.6805289032656096E-3,4.6524611572545801E-3,4.6235835297868998E-3,4.5917967143602996E-3,4.5605721699364804E-3,4.5272504964561497E-3,4.4946083019677301E-3,4.4605481239717E-3,{"$f":"IF($B236=\"\",\"\",VLOOKUP($B236,_tbl!$A:$E,N$2,0))","v":"Male"},{"$f":"IF($B236=\"\",\"\",VLOOKUP($B236,_tbl!$A:$E,O$2,0))","v":"Central"},{"$f":"IF($B236=\"\",\"\",VLOOKUP($B236,_tbl!$A:$E,P$2,0))","v":"Urban"},{"$f":"IF($B236=\"\",\"\",VLOOKUP($B236,_tbl!$A:$E,Q$2,0))","v":"Cancer"},null,4.7192612080136902E-3,4.4605481239717E-3]
[null,"all_m_Central Urban cancer.csv","65-69",6.5965200292556203E-3,6.5597184499379003E-3,6.5105626374435902E-3,6.4557667327595197E-3,6.4001680181383202E-3,6.3418012400657201E-3,6.2846534250572501E-3,6.2252632819203802E-3,6.16693201851886E-3,6.10700722447021E-3,{"$f":"IF($B237=\"\",\"\",VLOOKUP($B237,_tbl!$A:$E,N$2,0))","v":"Male"},{"$f":"IF($B237=\"\",\"\",VLOOKUP($B237,_tbl!$A:$E,O$2,0))","v":"Central"},{"$f":"IF($B237=\"\",\"\",VLOOKUP($B237,_tbl!$A:$E,P$2,0))","v":"Urban"},{"$f":"IF($B237=\"\",\"\",VLOOKUP($B237,_tbl!$A:$E,Q$2,0))","v":"Cancer"},null,6.5965200292556203E-3,6.10700722447021E-3]
[null,"all_m_Central Urban cancer.csv","70-74",9.2174546902140699E-3,9.1741803182861497E-3,9.1158768191842397E-3,9.0575996696833291E-3,8.9963761344784305E-3,8.9334639703616305E-3,8.8706768852184793E-3,8.8064830286214493E-3,8.7434868511186096E-3,8.6799964424682102E-3,{"$f":"IF($B238=\"\",\"\",VLOOKUP($B238,_tbl!$A:$E,N$2,0))","v":"Male"},{"$f":"IF($B238=\"\",\"\",VLOOKUP($B238,_tbl!$A:$E,O$2,0))","v":"Central"},{"$f":"IF($B238=\"\",\"\",VLOOKUP($B238,_tbl!$A:$E,P$2,0))","v":"Urban"},{"$f":"IF($B238=\"\",\"\",VLOOKUP($B238,_tbl!$A:$E,Q$2,0))","v":"Cancer"},null,9.2174546902140699E-3,8.6799964424682102E-3]
[null,"all_m_Central Urban cancer.csv","75-79",1.3037924582585601E-2,1.2961340625330799E-2,1.28739122030783E-2,1.27919436260641E-2,1.2708464249962199E-2,1.26260414444966E-2,1.2544529560027801E-2,1.2463418917841401E-2,1.23836831762536E-2,1.23042467088707E-2,{"$f":"IF($B239=\"\",\"\",VLOOKUP($B239,_tbl!$A:$E,N$2,0))","v":"Male"},{"$f":"IF($B239=\"\",\"\",VLOOKUP($B239,_tbl!$A:$E,O$2,0))","v":"Central"},{"$f":"IF($B239=\"\",\"\",VLOOKUP($B239,_tbl!$A:$E,P$2,0))","v":"Urban"},{"$f":"IF($B239=\"\",\"\",VLOOKUP($B239,_tbl!$A:$E,Q$2,0))","v":"Cancer"},null,1.3037924582585601E-2,1.23042467088707E-2]
[null,"all_m_Central Urban cancer.csv","80-84",1.8974039615182799E-2,1.8812356378867599E-2,1.8668319561904699E-2,1.8544575304340599E-2,1.8440445691410401E-2,1.8348596246499999E-2,1.8263904441831999E-2,1.8180819661445101E-2,1.8096157807485001E-2,1.8007951247749201E-2,{"$f":"IF($B240=\"\",\"\",VLOOKUP($B240,_tbl!$A:$E,N$2,0))","v":"Male"},{"$f":"IF($B240=\"\",\"\",VLOOKUP($B240,_tbl!$A:$E,O$2,0))","v":"Central"},{"$f":"IF($B240=\"\",\"\",VLOOKUP($B240,_tbl!$A:$E,P$2,0))","v":"Urban"},{"$f":"IF($B240=\"\",\"\",VLOOKUP($B240,_tbl!$A:$E,Q$2,0))","v":"Cancer"},null,1.8974039615182799E-2,1.8007951247749201E-2]
[null,"all_m_Central Urban cancer.csv","85+",2.6830803783200002E-2,2.7060212201640899E-2,2.74181514802391E-2,2.7649003511779499E-2,2.7662174661180702E-2,2.7488579131994099E-2,2.7207389248126001E-2,2.6901903415814901E-2,2.6655775564873498E-2,2.6512315582414899E-2,{"$f":"IF($B241=\"\",\"\",VLOOKUP($B241,_tbl!$A:$E,N$2,0))","v":"Male"},{"$f":"IF($B241=\"\",\"\",VLOOKUP($B241,_tbl!$A:$E,O$2,0))","v":"Central"},{"$f":"IF($B241=\"\",\"\",VLOOKUP($B241,_tbl!$A:$E,P$2,0))","v":"Urban"},{"$f":"IF($B241=\"\",\"\",VLOOKUP($B241,_tbl!$A:$E,Q$2,0))","v":"Cancer"},null,2.7662174661180702E-2,2.6512315582414899E-2]
[null,null,null,null,null,null,null,null,null,null,null,null,null,{"$f":"IF($B242=\"\",\"\",VLOOKUP($B242,_tbl!$A:$E,N$2,0))","v":""},{"$f":"IF($B242=\"\",\"\",VLOOKUP($B242,_tbl!$A:$E,O$2,0))","v":""},{"$f":"IF($B242=\"\",\"\",VLOOKUP($B242,_tbl!$A:$E,P$2,0))","v":""},{"$f":"IF($B242=\"\",\"\",VLOOKUP($B242,_tbl!$A:$E,Q$2,0))","v":""}]
[null,null,null,2020,2021,2022,2023,2024,2025,2026,2027,2028,2029,{"$f":"IF($B243=\"\",\"\",VLOOKUP($B243,_tbl!$A:$E,N$2,0))","v":""},{"$f":"IF($B243=\"\",\"\",VLOOKUP($B243,_tbl!$A:$E,O$2,0))","v":""},{"$f":"IF($B243=\"\",\"\",VLOOKUP($B243,_tbl!$A:$E,P$2,0))","v":""},{"$f":"IF($B243=\"\",\"\",VLOOKUP($B243,_tbl!$A:$E,Q$2,0))","v":""}]
[null,"all_m_Central Urban circulatory.csv","1-4",1.2417945225020499E-5,1.2466621701209499E-5,1.25536498184133E-5,1.2607342703394999E-5,1.26734550961603E-5,1.27321939184657E-5,1.27871309391427E-5,1.28407132459614E-5,1.2896707940727501E-5,1.29470444960912E-5,{"$f":"IF($B244=\"\",\"\",VLOOKUP($B244,_tbl!$A:$E,N$2,0))","v":"Male"},{"$f":"IF($B244=\"\",\"\",VLOOKUP($B244,_tbl!$A:$E,O$2,0))","v":"Central"},{"$f":"IF($B244=\"\",\"\",VLOOKUP($B244,_tbl!$A:$E,P$2,0))","v":"Urban"},{"$f":"IF($B244=\"\",\"\",VLOOKUP($B244,_tbl!$A:$E,Q$2,0))","v":"Circulatory"},null,{"$f":"MAX(D244:M244)","v":1.29470444960912E-5},{"$f":"MIN(D244:M244)","v":1.2417945225020499E-5}]
[null,"all_m_Central Urban circulatory.csv","5-9",1.39892174594868E-5,1.3964178640886599E-5,1.3924918117476701E-5,1.3896898727096099E-5,1.38666959477092E-5,1.3841785524951501E-5,1.38176619444119E-5,1.3795720109319099E-5,1.37733941999446E-5,1.37513174914558E-5,{"$f":"IF($B245=\"\",\"\",VLOOKUP($B245,_tbl!$A:$E,N$2,0))","v":"Male"},{"$f":"IF($B245=\"\",\"\",VLOOKUP($B245,_tbl!$A:$E,O$2,0))","v":"Central"},{"$f":"IF($B245=\"\",\"\",VLOOKUP($B245,_tbl!$A:$E,P$2,0))","v":"Urban"},{"$f":"IF($B245=\"\",\"\",VLOOKUP($B245,_tbl!$A:$E,Q$2,0))","v":"Circulatory"},null,1.39892174594868E-5,1.37513174914558E-5]
[null,"all_m_Central Urban circulatory.csv","10-14",1.78728388061048E-5,1.7882143853512001E-5,1.78556493168234E-5,1.78100853148541E-5,1.77901035598259E-5,1.7773279829458901E-5,1.7750164148881599E-5,1.7736114963221899E-5,1.7725326213974701E-5,1.77068852423011E-5,{"$f":"IF($B246=\"\",\"\",VLOOKUP($B246,_tbl!$A:$E,N$2,0))","v":"Male"},{"$f":"IF($B246=\"\",\"\",VLOOKUP($B246,_tbl!$A:$E,O$2,0))","v":"Central"},{"$f":"IF($B246=\"\",\"\",VLOOKUP($B246,_tbl!$A:$E,P$2,0))","v":"Urban"},{"$f":"IF($B246=\"\",\"\",VLOOKUP($B246,_tbl!$A:$E,Q$2,0))","v":"Circulatory"},null,1.7882143853512001E-5,1.77068852423011E-5]
[null,"all_m_Central Urban circulatory.csv","15-19",2.6155530912123098E-5,2.5665056872227399E-5,2.5165377363738501E-5,2.45930686301322E-5,2.4226375218368601E-5,2.3971054993295499E-5,2.3775941373997998E-5,2.3621622357632399E-5,2.3445992312730399E-5,2.3192643265205599E-5,{"$f":"IF($B247=\"\",\"\",VLOOKUP($B247,_tbl!$A:$E,N$2,0))","v":"Male"},{"$f":"IF($B247=\"\",\"\",VLOOKUP($B247,_tbl!$A:$E,O$2,0))","v":"Central"},{"$f":"IF($B247=\"\",\"\",VLOOKUP($B247,_tbl!$A:$E,P$2,0))","v":"Urban"},{"$f":"IF($B247=\"\",\"\",VLOOKUP($B247,_tbl!$A:$E,Q$2,0))","v":"Circulatory"},null,2.6155530912123098E-5,2.3192643265205599E-5]
[null,"all_m_Central Urban circulatory.csv","20-24",4.4266977496105298E-5,4.35566369410294E-5,4.2758913200966899E-5,4.1910900651067503E-5,4.1343878522993699E-5,4.0941614471796897E-5,4.0732713101539199E-5,4.0537104784662299E-5,4.0338178397019202E-5,4.0047711847076501E-5,{"$f":"IF($B248=\"\",\"\",VLOOKUP($B248,_tbl!$A:$E,N$2,0))","v":"Male"},{"$f":"IF($B248=\"\",\"\",VLOOKUP($B248,_tbl!$A:$E,O$2,0))","v":"Central"},{"$f":"IF($B248=\"\",\"\",VLOOKUP($B248,_tbl!$A:$E,P$2,0))","v":"Urban"},{"$f":"IF($B248=\"\",\"\",VLOOKUP($B248,_tbl!$A:$E,Q$2,0))","v":"Circulatory"},null,4.4266977496105298E-5,4.0047711847076501E-5]
[null,"all_m_Central Urban circulatory.csv","25-29",8.1408942584383704E-5,8.1098619964869306E-5,8.0880338706232696E-5,8.0515770083483198E-5,8.0349748111168201E-5,8.0198087341721699E-5,8.01464825218451E-5,8.0076566786901399E-5,8.0030277659677996E-5,7.9921523822086004E-5,{"$f":"IF($B249=\"\",\"\",VLOOKUP($B249,_tbl!$A:$E,N$2,0))","v":"Male"},{"$f":"IF($B249=\"\",\"\",VLOOKUP($B249,_tbl!$A:$E,O$2,0))","v":"Central"},{"$f":"IF($B249=\"\",\"\",VLOOKUP($B249,_tbl!$A:$E,P$2,0))","v":"Urban"},{"$f":"IF($B249=\"\",\"\",VLOOKUP($B249,_tbl!$A:$E,Q$2,0))","v":"Circulatory"},null,8.1408942584383704E-5,7.9921523822086004E-5]
[null,"all_m_Central Urban circulatory.csv","30-34",1.6235809951979199E-4,1.6098059606622E-4,1.5967069887529801E-4,1.58196946224106E-4,1.5734781034705599E-4,1.5687692707949899E-4,1.56756802755636E-4,1.5669314387425101E-4,1.5657790986204701E-4,1.56320170109879E-4,{"$f":"IF($B250=\"\",\"\",VLOOKUP($B250,_tbl!$A:$E,N$2,0))","v":"Male"},{"$f":"IF($B250=\"\",\"\",VLOOKUP($B250,_tbl!$A:$E,O$2,0))","v":"Central"},{"$f":"IF($B250=\"\",\"\",VLOOKUP($B250,_tbl!$A:$E,P$2,0))","v":"Urban"},{"$f":"IF($B250=\"\",\"\",VLOOKUP($B250,_tbl!$A:$E,Q$2,0))","v":"Circulatory"},null,1.6235809951979199E-4,1.56320170109879E-4]
[null,"all_m_Central Urban circulatory.csv","35-39",3.2279190550682898E-4,3.1645659615065299E-4,3.1306826627758798E-4,3.0704837855751398E-4,3.0363197692679901E-4,2.9915306626228101E-4,2.9631573354674598E-4,2.9257543033445101E-4,2.8956013037379798E-4,2.85716977482347E-4,{"$f":"IF($B251=\"\",\"\",VLOOKUP($B251,_tbl!$A:$E,N$2,0))","v":"Male"},{"$f":"IF($B251=\"\",\"\",VLOOKUP($B251,_tbl!$A:$E,O$2,0))","v":"Central"},{"$f":"IF($B251=\"\",\"\",VLOOKUP($B251,_tbl!$A:$E,P$2,0))","v":"Urban"},{"$f":"IF($B251=\"\",\"\",VLOOKUP($B251,_tbl!$A:$E,Q$2,0))","v":"Circulatory"},null,3.2279190550682898E-4,2.85716977482347E-4]
[null,"all_m_Central Urban circulatory.csv","40-44",5.7421342643696805E-4,5.5933588188385999E-4,5.5082131045203903E-4,5.3695050966214302E-4,5.2827323792471498E-4,5.17151748289827E-4,5.0953440315446897E-4,5.0002538852395896E-4,4.92209473283595E-4,4.8263718980092103E-4,{"$f":"IF($B252=\"\",\"\",VLOOKUP($B252,_tbl!$A:$E,N$2,0))","v":"Male"},{"$f":"IF($B252=\"\",\"\",VLOOKUP($B252,_tbl!$A:$E,O$2,0))","v":"Central"},{"$f":"IF($B252=\"\",\"\",VLOOKUP($B252,_tbl!$A:$E,P$2,0))","v":"Urban"},{"$f":"IF($B252=\"\",\"\",VLOOKUP($B252,_tbl!$A:$E,Q$2,0))","v":"Circulatory"},null,5.7421342643696805E-4,4.8263718980092103E-4]
[null,"all_m_Central Urban circulatory.csv","45-49",9.6312623224533995E-4,9.2973028798008404E-4,9.0452517362707603E-4,8.6966711953307795E-4,8.4240633931893902E-4,8.09181091459356E-4,7.8163892049013905E-4,7.5011152504436804E-4,7.2251481025872302E-4,6.9224789545818503E-4,{"$f":"IF($B253=\"\",\"\",VLOOKUP($B253,_tbl!$A:$E,N$2,0))","v":"Male"},{"$f":"IF($B253=\"\",\"\",VLOOKUP($B253,_tbl!$A:$E,O$2,0))","v":"Central"},{"$f":"IF($B253=\"\",\"\",VLOOKUP($B253,_tbl!$A:$E,P$2,0))","v":"Urban"},{"$f":"IF($B253=\"\",\"\",VLOOKUP($B253,_tbl!$A:$E,Q$2,0))","v":"Circulatory"},null,9.6312623224533995E-4,6.9224789545818503E-4]
[null,"all_m_Central Urban circulatory.csv","50-54",1.7831316688260101E-3,1.7550589608985999E-3,1.73102137603813E-3,1.69909531863371E-3,1.6719296307617401E-3,1.63945299007298E-3,1.6109001014077101E-3,1.5788327141916299E-3,1.5498602868744E-3,1.5186419249941E-3,{"$f":"IF($B254=\"\",\"\",VLOOKUP($B254,_tbl!$A:$E,N$2,0))","v":"Male"},{"$f":"IF($B254=\"\",\"\",VLOOKUP($B254,_tbl!$A:$E,O$2,0))","v":"Central"},{"$f":"IF($B254=\"\",\"\",VLOOKUP($B254,_tbl!$A:$E,P$2,0))","v":"Urban"},{"$f":"IF($B254=\"\",\"\",VLOOKUP($B254,_tbl!$A:$E,Q$2,0))","v":"Circulatory"},null,1.7831316688260101E-3,1.5186419249941E-3]
[null,"all_m_Central Urban circulatory.csv","55-59",3.0372635489496801E-3,3.0198983230530899E-3,3.0020456436815101E-3,2.9746821047228998E-3,2.9487421410770002E-3,2.9175166243437002E-3,2.8882519037917698E-3,2.85588944874921E-3,2.8253187036564901E-3,2.7927960472843801E-3,{"$f":"IF($B255=\"\",\"\",VLOOKUP($B255,_tbl!$A:$E,N$2,0))","v":"Male"},{"$f":"IF($B255=\"\",\"\",VLOOKUP($B255,_tbl!$A:$E,O$2,0))","v":"Central"},{"$f":"IF($B255=\"\",\"\",VLOOKUP($B255,_tbl!$A:$E,P$2,0))","v":"Urban"},{"$f":"IF($B255=\"\",\"\",VLOOKUP($B255,_tbl!$A:$E,Q$2,0))","v":"Circulatory"},null,3.0372635489496801E-3,2.7927960472843801E-3]
[null,"all_m_Central Urban circulatory.csv","60-64",4.81631289731114E-3,4.80710239094572E-3,4.7922930937805697E-3,4.7656985630270604E-3,4.7389754879722601E-3,4.7063186627614101E-3,4.6746518918975299E-3,4.6394042183438497E-3,4.6051982216303603E-3,4.5687630829815201E-3,{"$f":"IF($B256=\"\",\"\",VLOOKUP($B256,_tbl!$A:$E,N$2,0))","v":"Male"},{"$f":"IF($B256=\"\",\"\",VLOOKUP($B256,_tbl!$A:$E,O$2,0))","v":"Central"},{"$f":"IF($B256=\"\",\"\",VLOOKUP($B256,_tbl!$A:$E,P$2,0))","v":"Urban"},{"$f":"IF($B256=\"\",\"\",VLOOKUP($B256,_tbl!$A:$E,Q$2,0))","v":"Circulatory"},null,4.81631289731114E-3,4.5687630829815201E-3]
[null,"all_m_Central Urban circulatory.csv","65-69",7.2396403638729902E-3,7.1483389550459501E-3,7.0442257920365304E-3,6.9284371896897101E-3,6.8176281549623798E-3,6.7012773424793603E-3,6.5912702834259101E-3,6.4758563469580997E-3,6.36399871262938E-3,6.2471441702274698E-3,{"$f":"IF($B257=\"\",\"\",VLOOKUP($B257,_tbl!$A:$E,N$2,0))","v":"Male"},{"$f":"IF($B257=\"\",\"\",VLOOKUP($B257,_tbl!$A:$E,O$2,0))","v":"Central"},{"$f":"IF($B257=\"\",\"\",VLOOKUP($B257,_tbl!$A:$E,P$2,0))","v":"Urban"},{"$f":"IF($B257=\"\",\"\",VLOOKUP($B257,_tbl!$A:$E,Q$2,0))","v":"Circulatory"},null,7.2396403638729902E-3,6.2471441702274698E-3]
[null,"all_m_Central Urban circulatory.csv","70-74",1.16605931854159E-2,1.13230251572786E-2,1.0979165467591199E-2,1.0613749109438899E-2,1.02671813201293E-2,9.9006587333138295E-3,9.5549089873801507E-3,9.19440540721796E-3,8.8519610539658494E-3,8.5008603434279604E-3,{"$f":"IF($B258=\"\",\"\",VLOOKUP($B258,_tbl!$A:$E,N$2,0))","v":"Male"},{"$f":"IF($B258=\"\",\"\",VLOOKUP($B258,_tbl!$A:$E,O$2,0))","v":"Central"},{"$f":"IF($B258=\"\",\"\",VLOOKUP($B258,_tbl!$A:$E,P$2,0))","v":"Urban"},{"$f":"IF($B258=\"\",\"\",VLOOKUP($B258,_tbl!$A:$E,Q$2,0))","v":"Circulatory"},null,1.16605931854159E-2,8.5008603434279604E-3]
[null,"all_m_Central Urban circulatory.csv","75-79",2.2734153508141199E-2,2.2173634132953202E-2,2.1737993971164299E-2,2.1187561975484898E-2,2.0594238145985901E-2,1.9858943998617099E-2,1.9127230525874301E-2,1.83556705378481E-2,1.7657434060729501E-2,1.6983857241895099E-2,{"$f":"IF($B259=\"\",\"\",VLOOKUP($B259,_tbl!$A:$E,N$2,0))","v":"Male"},{"$f":"IF($B259=\"\",\"\",VLOOKUP($B259,_tbl!$A:$E,O$2,0))","v":"Central"},{"$f":"IF($B259=\"\",\"\",VLOOKUP($B259,_tbl!$A:$E,P$2,0))","v":"Urban"},{"$f":"IF($B259=\"\",\"\",VLOOKUP($B259,_tbl!$A:$E,Q$2,0))","v":"Circulatory"},null,2.2734153508141199E-2,1.6983857241895099E-2]
[null,"all_m_Central Urban circulatory.csv","80-84",5.1884113815888103E-2,5.2105389387648401E-2,5.2538331441659598E-2,5.2741229923519498E-2,5.2446723629137298E-2,5.1657017939198802E-2,5.0517235272241702E-2,4.9275405971885802E-2,4.8186167791251198E-2,4.7421075780402E-2,{"$f":"IF($B260=\"\",\"\",VLOOKUP($B260,_tbl!$A:$E,N$2,0))","v":"Male"},{"$f":"IF($B260=\"\",\"\",VLOOKUP($B260,_tbl!$A:$E,O$2,0))","v":"Central"},{"$f":"IF($B260=\"\",\"\",VLOOKUP($B260,_tbl!$A:$E,P$2,0))","v":"Urban"},{"$f":"IF($B260=\"\",\"\",VLOOKUP($B260,_tbl!$A:$E,Q$2,0))","v":"Circulatory"},null,5.2741229923519498E-2,4.7421075780402E-2]
[null,"all_m_Central Urban circulatory.csv","85+",0.108024525488238,0.109291468961511,0.110886653401238,0.11195023854834001,0.11216873223903299,0.111631221118666,0.110652340052954,0.109534683761168,0.108645283410771,0.10815879926534799,{"$f":"IF($B261=\"\",\"\",VLOOKUP($B261,_tbl!$A:$E,N$2,0))","v":"Male"},{"$f":"IF($B261=\"\",\"\",VLOOKUP($B261,_tbl!$A:$E,O$2,0))","v":"Central"},{"$f":"IF($B261=\"\",\"\",VLOOKUP($B261,_tbl!$A:$E,P$2,0))","v":"Urban"},{"$f":"IF($B261=\"\",\"\",VLOOKUP($B261,_tbl!$A:$E,Q$2,0))","v":"Circulatory"},null,0.11216873223903299,0.108024525488238]
[null,null,null,null,null,null,null,null,null,null,null,null,null,{"$f":"IF($B262=\"\",\"\",VLOOKUP($B262,_tbl!$A:$E,N$2,0))","v":""},{"$f":"IF($B262=\"\",\"\",VLOOKUP($B262,_tbl!$A:$E,O$2,0))","v":""},{"$f":"IF($B262=\"\",\"\",VLOOKUP($B262,_tbl!$A:$E,P$2,0))","v":""},{"$f":"IF($B262=\"\",\"\",VLOOKUP($B262,_tbl!$A:$E,Q$2,0))","v":""}]
[null,null,null,2020,2021,2022,2023,2024,2025,2026,2027,2028,2029,{"$f":"IF($B263=\"\",\"\",VLOOKUP($B263,_tbl!$A:$E,N$2,0))","v":""},{"$f":"IF($B263=\"\",\"\",VLOOKUP($B263,_tbl!$A:$E,O$2,0))","v":""},{"$f":"IF($B263=\"\",\"\",VLOOKUP($B263,_tbl!$A:$E,P$2,0))","v":""},{"$f":"IF($B263=\"\",\"\",VLOOKUP($B263,_tbl!$A:$E,Q$2,0))","v":""}]
[null,"all_m_Central Urban congenital.csv","1-4",6.8996420980296604E-5,6.7034012605474602E-5,6.1332510596706397E-5,6.6023993079153106E-5,6.4252452891522103E-5,6.1692090931398294E-5,6.3823407182902903E-5,6.2451415491959999E-5,6.1220286974708103E-5,6.1965049962347702E-5,{"$f":"IF($B264=\"\",\"\",VLOOKUP($B264,_tbl!$A:$E,N$2,0))","v":"Male"},{"$f":"IF($B264=\"\",\"\",VLOOKUP($B264,_tbl!$A:$E,O$2,0))","v":"Central"},{"$f":"IF($B264=\"\",\"\",VLOOKUP($B264,_tbl!$A:$E,P$2,0))","v":"Urban"},{"$f":"IF($B264=\"\",\"\",VLOOKUP($B264,_tbl!$A:$E,Q$2,0))","v":"Congenital"},null,{"$f":"MAX(D264:M264)","v":6.8996420980296604E-5},{"$f":"MIN(D264:M264)","v":6.1220286974708103E-5}]
[null,"all_m_Central Urban congenital.csv","5-9",1.8454717309858399E-5,1.7791411362572999E-5,1.5636845477067102E-5,1.7663098021477101E-5,1.7066285732929602E-5,1.61631807603188E-5,1.71412773408294E-5,1.6707449309418299E-5,1.6338004696328499E-5,1.67649696204536E-5,{"$f":"IF($B265=\"\",\"\",VLOOKUP($B265,_tbl!$A:$E,N$2,0))","v":"Male"},{"$f":"IF($B265=\"\",\"\",VLOOKUP($B265,_tbl!$A:$E,O$2,0))","v":"Central"},{"$f":"IF($B265=\"\",\"\",VLOOKUP($B265,_tbl!$A:$E,P$2,0))","v":"Urban"},{"$f":"IF($B265=\"\",\"\",VLOOKUP($B265,_tbl!$A:$E,Q$2,0))","v":"Congenital"},null,1.8454717309858399E-5,1.5636845477067102E-5]
[null,"all_m_Central Urban congenital.csv","10-14",1.3418778186112701E-5,1.2884901115174101E-5,1.13488019334425E-5,1.25737784148332E-5,1.21198509078124E-5,1.15142563324479E-5,1.2168608832452099E-5,1.1911613808601401E-5,1.1688993980908101E-5,1.19746222955047E-5,{"$f":"IF($B266=\"\",\"\",VLOOKUP($B266,_tbl!$A:$E,N$2,0))","v":"Male"},{"$f":"IF($B266=\"\",\"\",VLOOKUP($B266,_tbl!$A:$E,O$2,0))","v":"Central"},{"$f":"IF($B266=\"\",\"\",VLOOKUP($B266,_tbl!$A:$E,P$2,0))","v":"Urban"},{"$f":"IF($B266=\"\",\"\",VLOOKUP($B266,_tbl!$A:$E,Q$2,0))","v":"Congenital"},null,1.3418778186112701E-5,1.13488019334425E-5]
[null,"all_m_Central Urban congenital.csv","15-19",9.0127275788768494E-6,8.6123415879075499E-6,7.5246298588012504E-6,8.2781722415449295E-6,7.9179250755933208E-6,7.4531727084067001E-6,7.8278724553880501E-6,7.59606238787555E-6,7.3832449240395503E-6,7.5056075880310698E-6,{"$f":"IF($B267=\"\",\"\",VLOOKUP($B267,_tbl!$A:$E,N$2,0))","v":"Male"},{"$f":"IF($B267=\"\",\"\",VLOOKUP($B267,_tbl!$A:$E,O$2,0))","v":"Central"},{"$f":"IF($B267=\"\",\"\",VLOOKUP($B267,_tbl!$A:$E,P$2,0))","v":"Urban"},{"$f":"IF($B267=\"\",\"\",VLOOKUP($B267,_tbl!$A:$E,Q$2,0))","v":"Congenital"},null,9.0127275788768494E-6,7.3832449240395503E-6]
[null,"all_m_Central Urban congenital.csv","20-24",7.1688267446663103E-6,7.0877320756529797E-6,6.9917036782572502E-6,6.8870724789147897E-6,6.8342353044335198E-6,6.8203341905940999E-6,6.8401659995089298E-6,6.8668288481391003E-6,6.8895454288269903E-6,6.8977089845469999E-6,{"$f":"IF($B268=\"\",\"\",VLOOKUP($B268,_tbl!$A:$E,N$2,0))","v":"Male"},{"$f":"IF($B268=\"\",\"\",VLOOKUP($B268,_tbl!$A:$E,O$2,0))","v":"Central"},{"$f":"IF($B268=\"\",\"\",VLOOKUP($B268,_tbl!$A:$E,P$2,0))","v":"Urban"},{"$f":"IF($B268=\"\",\"\",VLOOKUP($B268,_tbl!$A:$E,Q$2,0))","v":"Congenital"},null,7.1688267446663103E-6,6.8203341905940999E-6]
[null,"all_m_Central Urban congenital.csv","25-29",6.9693562257235699E-6,6.9098588948014904E-6,6.6297502352901499E-6,7.08287259887821E-6,7.0493172021329502E-6,6.9254418303514197E-6,7.1253196461093398E-6,7.0645853877145296E-6,7.0210601911187698E-6,7.1263811082857802E-6,{"$f":"IF($B269=\"\",\"\",VLOOKUP($B269,_tbl!$A:$E,N$2,0))","v":"Male"},{"$f":"IF($B269=\"\",\"\",VLOOKUP($B269,_tbl!$A:$E,O$2,0))","v":"Central"},{"$f":"IF($B269=\"\",\"\",VLOOKUP($B269,_tbl!$A:$E,P$2,0))","v":"Urban"},{"$f":"IF($B269=\"\",\"\",VLOOKUP($B269,_tbl!$A:$E,Q$2,0))","v":"Congenital"},null,7.1263811082857802E-6,6.6297502352901499E-6]
[null,"all_m_Central Urban congenital.csv",null,null,null,null,null,null,null,null,null,null,null,{"$f":"IF($B270=\"\",\"\",VLOOKUP($B270,_tbl!$A:$E,N$2,0))","v":"Male"},{"$f":"IF($B270=\"\",\"\",VLOOKUP($B270,_tbl!$A:$E,O$2,0))","v":"Central"},{"$f":"IF($B270=\"\",\"\",VLOOKUP($B270,_tbl!$A:$E,P$2,0))","v":"Urban"},{"$f":"IF($B270=\"\",\"\",VLOOKUP($B270,_tbl!$A:$E,Q$2,0))","v":"Congenital"},null,0,0]
[null,"all_m_Central Urban congenital.csv",null,null,null,null,null,null,null,null,null,null,null,{"$f":"IF($B271=\"\",\"\",VLOOKUP($B271,_tbl!$A:$E,N$2,0))","v":"Male"},{"$f":"IF($B271=\"\",\"\",VLOOKUP($B271,_tbl!$A:$E,O$2,0))","v":"Central"},{"$f":"IF($B271=\"\",\"\",VLOOKUP($B271,_tbl!$A:$E,P$2,0))","v":"Urban"},{"$f":"IF($B271=\"\",\"\",VLOOKUP($B271,_tbl!$A:$E,Q$2,0))","v":"Congenital"},null,0,0]
[null,"all_m_Central Urban congenital.csv",null,null,null,null,null,null,null,null,null,null,null,{"$f":"IF($B272=\"\",\"\",VLOOKUP($B272,_tbl!$A:$E,N$2,0))","v":"Male"},{"$f":"IF($B272=\"\",\"\",VLOOKUP($B272,_tbl!$A:$E,O$2,0))","v":"Central"},{"$f":"IF($B272=\"\",\"\",VLOOKUP($B272,_tbl!$A:$E,P$2,0))","v":"Urban"},{"$f":"IF($B272=\"\",\"\",VLOOKUP($B272,_tbl!$A:$E,Q$2,0))","v":"Congenital"},null,0,0]
[null,"all_m_Central Urban congenital.csv",null,null,null,null,null,null,null,null,null,null,null,{"$f":"IF($B273=\"\",\"\",VLOOKUP($B273,_tbl!$A:$E,N$2,0))","v":"Male"},{"$f":"IF($B273=\"\",\"\",VLOOKUP($B273,_tbl!$A:$E,O$2,0))","v":"Central"},{"$f":"IF($B273=\"\",\"\",VLOOKUP($B273,_tbl!$A:$E,P$2,0))","v":"Urban"},{"$f":"IF($B273=\"\",\"\",VLOOKUP($B273,_tbl!$A:$E,Q$2,0))","v":"Congenital"},null,0,0]
[null,"all_m_Central Urban congenital.csv",null,null,null,null,null,null,null,null,null,null,null,{"$f":"IF($B274=\"\",\"\",VLOOKUP($B274,_tbl!$A:$E,N$2,0))","v":"Male"},{"$f":"IF($B274=\"\",\"\",VLOOKUP($B274,_tbl!$A:$E,O$2,0))","v":"Central"},{"$f":"IF($B274=\"\",\"\",VLOOKUP($B274,_tbl!$A:$E,P$2,0))","v":"Urban"},{"$f":"IF($B274=\"\",\"\",VLOOKUP($B274,_tbl!$A:$E,Q$2,0))","v":"Congenital"},null,0,0]
[null,"all_m_Central Urban congenital.csv",null,null,null,null,null,null,null,null,null,null,null,{"$f":"IF($B275=\"\",\"\",VLOOKUP($B275,_tbl!$A:$E,N$2,0))","v":"Male"},{"$f":"IF($B275=\"\",\"\",VLOOKUP($B275,_tbl!$A:$E,O$2,0))","v":"Central"},{"$f":"IF($B275=\"\",\"\",VLOOKUP($B275,_tbl!$A:$E,P$2,0))","v":"Urban"},{"$f":"IF($B275=\"\",\"\",VLOOKUP($B275,_tbl!$A:$E,Q$2,0))","v":"Congenital"},null,0,0]
[null,"all_m_Central Urban congenital.csv",null,null,null,null,null,null,null,null,null,null,null,{"$f":"IF($B276=\"\",\"\",VLOOKUP($B276,_tbl!$A:$E,N$2,0))","v":"Male"},{"$f":"IF($B276=\"\",\"\",VLOOKUP($B276,_tbl!$A:$E,O$2,0))","v":"Central"},{"$f":"IF($B276=\"\",\"\",VLOOKUP($B276,_tbl!$A:$E,P$2,0))","v":"Urban"},{"$f":"IF($B276=\"\",\"\",VLOOKUP($B276,_tbl!$A:$E,Q$2,0))","v":"Congenital"},null,0,0]
[null,"all_m_Central Urban congenital.csv",null,null,null,null,null,null,null,null,null,null,null,{"$f":"IF($B277=\"\",\"\",VLOOKUP($B277,_tbl!$A:$E,N$2,0))","v":"Male"},{"$f":"IF($B277=\"\",\"\",VLOOKUP($B277,_tbl!$A:$E,O$2,0))","v":"Central"},{"$f":"IF($B277=\"\",\"\",VLOOKUP($B277,_tbl!$A:$E,P$2,0))","v":"Urban"},{"$f":"IF($B277=\"\",\"\",VLOOKUP($B277,_tbl!$A:$E,Q$2,0))","v":"Congenital"},null,0,0]
[null,"all_m_Central Urban congenital.csv",null,null,null,null,null,null,null,null,null,null,null,{"$f":"IF($B278=\"\",\"\",VLOOKUP($B278,_tbl!$A:$E,N$2,0))","v":"Male"},{"$f":"IF($B278=\"\",\"\",VLOOKUP($B278,_tbl!$A:$E,O$2,0))","v":"Central"},{"$f":"IF($B278=\"\",\"\",VLOOKUP($B278,_tbl!$A:$E,P$2,0))","v":"Urban"},{"$f":"IF($B278=\"\",\"\",VLOOKUP($B278,_tbl!$A:$E,Q$2,0))","v":"Congenital"},null,0,0]
[null,"all_m_Central Urban congenital.csv",null,null,null,null,null,null,null,null,null,null,null,{"$f":"IF($B279=\"\",\"\",VLOOKUP($B279,_tbl!$A:$E,N$2,0))","v":"Male"},{"$f":"IF($B279=\"\",\"\",VLOOKUP($B279,_tbl!$A:$E,O$2,0))","v":"Central"},{"$f":"IF($B279=\"\",\"\",VLOOKUP($B279,_tbl!$A:$E,P$2,0))","v":"Urban"},{"$f":"IF($B279=\"\",\"\",VLOOKUP($B279,_tbl!$A:$E,Q$2,0))","v":"Congenital"},null,0,0]
[null,"all_m_Central Urban congenital.csv",null,null,null,null,null,null,null,null,null,null,null,{"$f":"IF($B280=\"\",\"\",VLOOKUP($B280,_tbl!$A:$E,N$2,0))","v":"Male"},{"$f":"IF($B280=\"\",\"\",VLOOKUP($B280,_tbl!$A:$E,O$2,0))","v":"Central"},{"$f":"IF($B280=\"\",\"\",VLOOKUP($B280,_tbl!$A:$E,P$2,0))","v":"Urban"},{"$f":"IF($B280=\"\",\"\",VLOOKUP($B280,_tbl!$A:$E,Q$2,0))","v":"Congenital"},null,0,0]
[null,"all_m_Central Urban congenital.csv",null,null,null,null,null,null,null,null,null,null,null,{"$f":"IF($B281=\"\",\"\",VLOOKUP($B281,_tbl!$A:$E,N$2,0))","v":"Male"},{"$f":"IF($B281=\"\",\"\",VLOOKUP($B281,_tbl!$A:$E,O$2,0))","v":"Central"},{"$f":"IF($B281=\"\",\"\",VLOOKUP($B281,_tbl!$A:$E,P$2,0))","v":"Urban"},{"$f":"IF($B281=\"\",\"\",VLOOKUP($B281,_tbl!$A:$E,Q$2,0))","v":"Congenital"},null,0,0]
[null,null,null,null,null,null,null,null,null,null,null,null,null,{"$f":"IF($B282=\"\",\"\",VLOOKUP($B282,_tbl!$A:$E,N$2,0))","v":""},{"$f":"IF($B282=\"\",\"\",VLOOKUP($B282,_tbl!$A:$E,O$2,0))","v":""},{"$f":"IF($B282=\"\",\"\",VLOOKUP($B282,_tbl!$A:$E,P$2,0))","v":""},{"$f":"IF($B282=\"\",\"\",VLOOKUP($B282,_tbl!$A:$E,Q$2,0))","v":""}]
[null,null,null,2020,2021,2022,2023,2024,2025,2026,2027,2028,2029,{"$f":"IF($B283=\"\",\"\",VLOOKUP($B283,_tbl!$A:$E,N$2,0))","v":""},{"$f":"IF($B283=\"\",\"\",VLOOKUP($B283,_tbl!$A:$E,O$2,0))","v":""},{"$f":"IF($B283=\"\",\"\",VLOOKUP($B283,_tbl!$A:$E,P$2,0))","v":""},{"$f":"IF($B283=\"\",\"\",VLOOKUP($B283,_tbl!$A:$E,Q$2,0))","v":""}]
[null,"all_m_Central Urban diabetes.csv","30-34",5.7552476894549601E-6,5.6939246576090402E-6,5.6481850810956503E-6,5.5861502335114404E-6,5.5712910922444501E-6,5.5810933609897303E-6,5.6165604898978302E-6,5.6552169326026102E-6,5.6904968559992102E-6,5.7153480486415402E-6,{"$f":"IF($B284=\"\",\"\",VLOOKUP($B284,_tbl!$A:$E,N$2,0))","v":"Male"},{"$f":"IF($B284=\"\",\"\",VLOOKUP($B284,_tbl!$A:$E,O$2,0))","v":"Central"},{"$f":"IF($B284=\"\",\"\",VLOOKUP($B284,_tbl!$A:$E,P$2,0))","v":"Urban"},{"$f":"IF($B284=\"\",\"\",VLOOKUP($B284,_tbl!$A:$E,Q$2,0))","v":"Diabetes"},null,{"$f":"MAX(D284:M284)","v":5.7552476894549601E-6},{"$f":"MIN(D284:M284)","v":5.5712910922444501E-6}]
[null,"all_m_Central Urban diabetes.csv","35-39",1.3057710325502299E-5,1.30779408370504E-5,1.3115399921316401E-5,1.31445878466855E-5,1.3174779344216399E-5,1.31930959799259E-5,1.3212409093268301E-5,1.32277172194457E-5,1.32485803337322E-5,1.32706086388927E-5,{"$f":"IF($B285=\"\",\"\",VLOOKUP($B285,_tbl!$A:$E,N$2,0))","v":"Male"},{"$f":"IF($B285=\"\",\"\",VLOOKUP($B285,_tbl!$A:$E,O$2,0))","v":"Central"},{"$f":"IF($B285=\"\",\"\",VLOOKUP($B285,_tbl!$A:$E,P$2,0))","v":"Urban"},{"$f":"IF($B285=\"\",\"\",VLOOKUP($B285,_tbl!$A:$E,Q$2,0))","v":"Diabetes"},null,1.32706086388927E-5,1.3057710325502299E-5]
[null,"all_m_Central Urban diabetes.csv","40-44",2.7165989317076E-5,2.6719435993885099E-5,2.6351088617776399E-5,2.5869855833322101E-5,2.5491177652567801E-5,2.5044456706404001E-5,2.4676678307723099E-5,2.4256922586062901E-5,2.38850963644101E-5,2.34732097346951E-5,{"$f":"IF($B286=\"\",\"\",VLOOKUP($B286,_tbl!$A:$E,N$2,0))","v":"Male"},{"$f":"IF($B286=\"\",\"\",VLOOKUP($B286,_tbl!$A:$E,O$2,0))","v":"Central"},{"$f":"IF($B286=\"\",\"\",VLOOKUP($B286,_tbl!$A:$E,P$2,0))","v":"Urban"},{"$f":"IF($B286=\"\",\"\",VLOOKUP($B286,_tbl!$A:$E,Q$2,0))","v":"Diabetes"},null,2.7165989317076E-5,2.34732097346951E-5]
[null,"all_m_Central Urban diabetes.csv","45-49",5.6567797968554402E-5,5.6472739177898697E-5,5.6146972461961598E-5,5.5844175953651601E-5,5.5489906410401797E-5,5.51327626795998E-5,5.4767230097708302E-5,5.4393132770199599E-5,5.4019952530558097E-5,5.3637693958397699E-5,{"$f":"IF($B287=\"\",\"\",VLOOKUP($B287,_tbl!$A:$E,N$2,0))","v":"Male"},{"$f":"IF($B287=\"\",\"\",VLOOKUP($B287,_tbl!$A:$E,O$2,0))","v":"Central"},{"$f":"IF($B287=\"\",\"\",VLOOKUP($B287,_tbl!$A:$E,P$2,0))","v":"Urban"},{"$f":"IF($B287=\"\",\"\",VLOOKUP($B287,_tbl!$A:$E,Q$2,0))","v":"Diabetes"},null,5.6567797968554402E-5,5.3637693958397699E-5]
[null,"all_m_Central Urban diabetes.csv","50-54",1.0674277932429299E-4,1.07153323855551E-4,1.07045271941298E-4,1.0729113400445499E-4,1.0731397875810999E-4,1.0755156053690501E-4,1.07655819797369E-4,1.0786757034027E-4,1.07964760703764E-4,1.08107100824577E-4,{"$f":"IF($B288=\"\",\"\",VLOOKUP($B288,_tbl!$A:$E,N$2,0))","v":"Male"},{"$f":"IF($B288=\"\",\"\",VLOOKUP($B288,_tbl!$A:$E,O$2,0))","v":"Central"},{"$f":"IF($B288=\"\",\"\",VLOOKUP($B288,_tbl!$A:$E,P$2,0))","v":"Urban"},{"$f":"IF($B288=\"\",\"\",VLOOKUP($B288,_tbl!$A:$E,Q$2,0))","v":"Diabetes"},null,1.08107100824577E-4,1.0674277932429299E-4]
[null,"all_m_Central Urban diabetes.csv","55-59",1.88443003128132E-4,1.8942291714267299E-4,1.9024696686994799E-4,1.90854820139595E-4,1.9136787715685701E-4,1.9179427685003599E-4,1.9217608299262301E-4,1.9252794213866199E-4,1.9286048358445901E-4,1.93185028110142E-4,{"$f":"IF($B289=\"\",\"\",VLOOKUP($B289,_tbl!$A:$E,N$2,0))","v":"Male"},{"$f":"IF($B289=\"\",\"\",VLOOKUP($B289,_tbl!$A:$E,O$2,0))","v":"Central"},{"$f":"IF($B289=\"\",\"\",VLOOKUP($B289,_tbl!$A:$E,P$2,0))","v":"Urban"},{"$f":"IF($B289=\"\",\"\",VLOOKUP($B289,_tbl!$A:$E,Q$2,0))","v":"Diabetes"},null,1.93185028110142E-4,1.88443003128132E-4]
[null,"all_m_Central Urban diabetes.csv","60-64",3.27716716488899E-4,3.3062827040746402E-4,3.3326074074643001E-4,3.3539419787208502E-4,3.3750216003941802E-4,3.3946237865086301E-4,3.4140103769379E-4,3.4325396473118498E-4,3.4505297169282298E-4,3.4678033029038698E-4,{"$f":"IF($B290=\"\",\"\",VLOOKUP($B290,_tbl!$A:$E,N$2,0))","v":"Male"},{"$f":"IF($B290=\"\",\"\",VLOOKUP($B290,_tbl!$A:$E,O$2,0))","v":"Central"},{"$f":"IF($B290=\"\",\"\",VLOOKUP($B290,_tbl!$A:$E,P$2,0))","v":"Urban"},{"$f":"IF($B290=\"\",\"\",VLOOKUP($B290,_tbl!$A:$E,Q$2,0))","v":"Diabetes"},null,3.4678033029038698E-4,3.27716716488899E-4]
[null,"all_m_Central Urban diabetes.csv","65-69",5.2476775751418504E-4,5.2653329532568799E-4,5.27396970009307E-4,5.28205867432302E-4,5.2892536223550404E-4,5.2967507240584202E-4,5.30296974484514E-4,5.3087445563444605E-4,5.3135257281787095E-4,5.3183911766388004E-4,{"$f":"IF($B291=\"\",\"\",VLOOKUP($B291,_tbl!$A:$E,N$2,0))","v":"Male"},{"$f":"IF($B291=\"\",\"\",VLOOKUP($B291,_tbl!$A:$E,O$2,0))","v":"Central"},{"$f":"IF($B291=\"\",\"\",VLOOKUP($B291,_tbl!$A:$E,P$2,0))","v":"Urban"},{"$f":"IF($B291=\"\",\"\",VLOOKUP($B291,_tbl!$A:$E,Q$2,0))","v":"Diabetes"},null,5.3183911766388004E-4,5.2476775751418504E-4]
[null,"all_m_Central Urban diabetes.csv","70-74",8.2701771931173896E-4,8.2451362653821305E-4,8.2076986414682696E-4,8.1707626877260597E-4,8.1307471239350096E-4,8.0899254404444797E-4,8.0478775091930997E-4,8.0052555950540897E-4,7.9628790965155505E-4,7.9210145814754499E-4,{"$f":"IF($B292=\"\",\"\",VLOOKUP($B292,_tbl!$A:$E,N$2,0))","v":"Male"},{"$f":"IF($B292=\"\",\"\",VLOOKUP($B292,_tbl!$A:$E,O$2,0))","v":"Central"},{"$f":"IF($B292=\"\",\"\",VLOOKUP($B292,_tbl!$A:$E,P$2,0))","v":"Urban"},{"$f":"IF($B292=\"\",\"\",VLOOKUP($B292,_tbl!$A:$E,Q$2,0))","v":"Diabetes"},null,8.2701771931173896E-4,7.9210145814754499E-4]
[null,"all_m_Central Urban diabetes.csv","75-79",1.3484284667943801E-3,1.3347919730929299E-3,1.3199648378632799E-3,1.30604866862328E-3,1.29327892043554E-3,1.28173927755092E-3,1.2710869688402899E-3,1.26075548691312E-3,1.25028971295664E-3,1.23935820826309E-3,{"$f":"IF($B293=\"\",\"\",VLOOKUP($B293,_tbl!$A:$E,N$2,0))","v":"Male"},{"$f":"IF($B293=\"\",\"\",VLOOKUP($B293,_tbl!$A:$E,O$2,0))","v":"Central"},{"$f":"IF($B293=\"\",\"\",VLOOKUP($B293,_tbl!$A:$E,P$2,0))","v":"Urban"},{"$f":"IF($B293=\"\",\"\",VLOOKUP($B293,_tbl!$A:$E,Q$2,0))","v":"Diabetes"},null,1.3484284667943801E-3,1.23935820826309E-3]
[null,"all_m_Central Urban diabetes.csv","80-84",2.2102118658547201E-3,2.2051308796618698E-3,2.1988024150229901E-3,2.1918974430333899E-3,2.1813060377714501E-3,2.1689527873910799E-3,2.1552560250884E-3,2.1417779251374498E-3,2.1291075042871501E-3,2.1177380898659199E-3,{"$f":"IF($B294=\"\",\"\",VLOOKUP($B294,_tbl!$A:$E,N$2,0))","v":"Male"},{"$f":"IF($B294=\"\",\"\",VLOOKUP($B294,_tbl!$A:$E,O$2,0))","v":"Central"},{"$f":"IF($B294=\"\",\"\",VLOOKUP($B294,_tbl!$A:$E,P$2,0))","v":"Urban"},{"$f":"IF($B294=\"\",\"\",VLOOKUP($B294,_tbl!$A:$E,Q$2,0))","v":"Diabetes"},null,2.2102118658547201E-3,2.1177380898659199E-3]
[null,"all_m_Central Urban diabetes.csv","85+",3.4030813372551102E-3,3.3670302935044699E-3,3.2962179805941902E-3,3.2471189799582402E-3,3.2194293764774098E-3,3.2334671632542199E-3,3.27953163811623E-3,3.3446359671125102E-3,3.3991983198694798E-3,3.4214844805193099E-3,{"$f":"IF($B295=\"\",\"\",VLOOKUP($B295,_tbl!$A:$E,N$2,0))","v":"Male"},{"$f":"IF($B295=\"\",\"\",VLOOKUP($B295,_tbl!$A:$E,O$2,0))","v":"Central"},{"$f":"IF($B295=\"\",\"\",VLOOKUP($B295,_tbl!$A:$E,P$2,0))","v":"Urban"},{"$f":"IF($B295=\"\",\"\",VLOOKUP($B295,_tbl!$A:$E,Q$2,0))","v":"Diabetes"},null,3.4214844805193099E-3,3.2194293764774098E-3]
[null,"all_m_Central Urban diabetes.csv",null,null,null,null,null,null,null,null,null,null,null,{"$f":"IF($B296=\"\",\"\",VLOOKUP($B296,_tbl!$A:$E,N$2,0))","v":"Male"},{"$f":"IF($B296=\"\",\"\",VLOOKUP($B296,_tbl!$A:$E,O$2,0))","v":"Central"},{"$f":"IF($B296=\"\",\"\",VLOOKUP($B296,_tbl!$A:$E,P$2,0))","v":"Urban"},{"$f":"IF($B296=\"\",\"\",VLOOKUP($B296,_tbl!$A:$E,Q$2,0))","v":"Diabetes"},null,0,0]
[null,"all_m_Central Urban diabetes.csv",null,null,null,null,null,null,null,null,null,null,null,{"$f":"IF($B297=\"\",\"\",VLOOKUP($B297,_tbl!$A:$E,N$2,0))","v":"Male"},{"$f":"IF($B297=\"\",\"\",VLOOKUP($B297,_tbl!$A:$E,O$2,0))","v":"Central"},{"$f":"IF($B297=\"\",\"\",VLOOKUP($B297,_tbl!$A:$E,P$2,0))","v":"Urban"},{"$f":"IF($B297=\"\",\"\",VLOOKUP($B297,_tbl!$A:$E,Q$2,0))","v":"Diabetes"},null,0,0]
[null,"all_m_Central Urban diabetes.csv",null,null,null,null,null,null,null,null,null,null,null,{"$f":"IF($B298=\"\",\"\",VLOOKUP($B298,_tbl!$A:$E,N$2,0))","v":"Male"},{"$f":"IF($B298=\"\",\"\",VLOOKUP($B298,_tbl!$A:$E,O$2,0))","v":"Central"},{"$f":"IF($B298=\"\",\"\",VLOOKUP($B298,_tbl!$A:$E,P$2,0))","v":"Urban"},{"$f":"IF($B298=\"\",\"\",VLOOKUP($B298,_tbl!$A:$E,Q$2,0))","v":"Diabetes"},null,0,0]
[null,"all_m_Central Urban diabetes.csv",null,null,null,null,null,null,null,null,null,null,null,{"$f":"IF($B299=\"\",\"\",VLOOKUP($B299,_tbl!$A:$E,N$2,0))","v":"Male"},{"$f":"IF($B299=\"\",\"\",VLOOKUP($B299,_tbl!$A:$E,O$2,0))","v":"Central"},{"$f":"IF($B299=\"\",\"\",VLOOKUP($B299,_tbl!$A:$E,P$2,0))","v":"Urban"},{"$f":"IF($B299=\"\",\"\",VLOOKUP($B299,_tbl!$A:$E,Q$2,0))","v":"Diabetes"},null,0,0]
[null,"all_m_Central Urban diabetes.csv",null,null,null,null,null,null,null,null,null,null,null,{"$f":"IF($B300=\"\",\"\",VLOOKUP($B300,_tbl!$A:$E,N$2,0))","v":"Male"},{"$f":"IF($B300=\"\",\"\",VLOOKUP($B300,_tbl!$A:$E,O$2,0))","v":"Central"},{"$f":"IF($B300=\"\",\"\",VLOOKUP($B300,_tbl!$A:$E,P$2,0))","v":"Urban"},{"$f":"IF($B300=\"\",\"\",VLOOKUP($B300,_tbl!$A:$E,Q$2,0))","v":"Diabetes"},null,0,0]
[null,"all_m_Central Urban diabetes.csv",null,null,null,null,null,null,null,null,null,null,null,{"$f":"IF($B301=\"\",\"\",VLOOKUP($B301,_tbl!$A:$E,N$2,0))","v":"Male"},{"$f":"IF($B301=\"\",\"\",VLOOKUP($B301,_tbl!$A:$E,O$2,0))","v":"Central"},{"$f":"IF($B301=\"\",\"\",VLOOKUP($B301,_tbl!$A:$E,P$2,0))","v":"Urban"},{"$f":"IF($B301=\"\",\"\",VLOOKUP($B301,_tbl!$A:$E,Q$2,0))","v":"Diabetes"},null,0,0]
[null,null,null,null,null,null,null,null,null,null,null,null,null,{"$f":"IF($B302=\"\",\"\",VLOOKUP($B302,_tbl!$A:$E,N$2,0))","v":""},{"$f":"IF($B302=\"\",\"\",VLOOKUP($B302,_tbl!$A:$E,O$2,0))","v":""},{"$f":"IF($B302=\"\",\"\",VLOOKUP($B302,_tbl!$A:$E,P$2,0))","v":""},{"$f":"IF($B302=\"\",\"\",VLOOKUP($B302,_tbl!$A:$E,Q$2,0))","v":""}]
[null,null,null,2020,2021,2022,2023,2024,2025,2026,2027,2028,2029,{"$f":"IF($B303=\"\",\"\",VLOOKUP($B303,_tbl!$A:$E,N$2,0))","v":""},{"$f":"IF($B303=\"\",\"\",VLOOKUP($B303,_tbl!$A:$E,O$2,0))","v":""},{"$f":"IF($B303=\"\",\"\",VLOOKUP($B303,_tbl!$A:$E,P$2,0))","v":""},{"$f":"IF($B303=\"\",\"\",VLOOKUP($B303,_tbl!$A:$E,Q$2,0))","v":""}]
[null,"all_m_Central Urban digestive.csv","1-4",6.69144931343607E-6,7.5254228070951E-6,6.1533058650901103E-6,6.6221120016521801E-6,5.6276544834223599E-6,5.8902669661955003E-6,5.1670904389022496E-6,5.2773458002182799E-6,4.7425817042167903E-6,4.7477872808223598E-6,{"$f":"IF($B304=\"\",\"\",VLOOKUP($B304,_tbl!$A:$E,N$2,0))","v":"Male"},{"$f":"IF($B304=\"\",\"\",VLOOKUP($B304,_tbl!$A:$E,O$2,0))","v":"Central"},{"$f":"IF($B304=\"\",\"\",VLOOKUP($B304,_tbl!$A:$E,P$2,0))","v":"Urban"},{"$f":"IF($B304=\"\",\"\",VLOOKUP($B304,_tbl!$A:$E,Q$2,0))","v":"Digestive"},null,{"$f":"MAX(D304:M304)","v":7.5254228070951E-6},{"$f":"MIN(D304:M304)","v":4.7425817042167903E-6}]
[null,"all_m_Central Urban digestive.csv","5-9",2.8595546634138401E-6,3.2861144338071499E-6,2.6678156529851901E-6,2.9193122467885101E-6,2.4717783838457101E-6,2.60892821927459E-6,2.2792084609764599E-6,2.3424265315699299E-6,2.0946798734305602E-6,2.1112175418607199E-6,{"$f":"IF($B305=\"\",\"\",VLOOKUP($B305,_tbl!$A:$E,N$2,0))","v":"Male"},{"$f":"IF($B305=\"\",\"\",VLOOKUP($B305,_tbl!$A:$E,O$2,0))","v":"Central"},{"$f":"IF($B305=\"\",\"\",VLOOKUP($B305,_tbl!$A:$E,P$2,0))","v":"Urban"},{"$f":"IF($B305=\"\",\"\",VLOOKUP($B305,_tbl!$A:$E,Q$2,0))","v":"Digestive"},null,3.2861144338071499E-6,2.0946798734305602E-6]
[null,"all_m_Central Urban digestive.csv","10-14",2.5075748562677799E-6,2.8204377494476401E-6,2.3313571436497699E-6,2.5088417764342898E-6,2.1491373832314802E-6,2.2476665228377499E-6,1.9782426852234902E-6,2.0207066018552802E-6,1.8156243543964901E-6,1.8189952414544701E-6,{"$f":"IF($B306=\"\",\"\",VLOOKUP($B306,_tbl!$A:$E,N$2,0))","v":"Male"},{"$f":"IF($B306=\"\",\"\",VLOOKUP($B306,_tbl!$A:$E,O$2,0))","v":"Central"},{"$f":"IF($B306=\"\",\"\",VLOOKUP($B306,_tbl!$A:$E,P$2,0))","v":"Urban"},{"$f":"IF($B306=\"\",\"\",VLOOKUP($B306,_tbl!$A:$E,Q$2,0))","v":"Digestive"},null,2.8204377494476401E-6,1.8156243543964901E-6]
[null,"all_m_Central Urban digestive.csv","15-19",2.93837774940409E-6,3.3042998739293901E-6,2.7610295278089198E-6,2.9755501679496299E-6,2.5772711432908401E-6,2.69700885520204E-6,2.3998798523578598E-6,2.4554984482962501E-6,2.22945967760223E-6,2.24242981477135E-6,{"$f":"IF($B307=\"\",\"\",VLOOKUP($B307,_tbl!$A:$E,N$2,0))","v":"Male"},{"$f":"IF($B307=\"\",\"\",VLOOKUP($B307,_tbl!$A:$E,O$2,0))","v":"Central"},{"$f":"IF($B307=\"\",\"\",VLOOKUP($B307,_tbl!$A:$E,P$2,0))","v":"Urban"},{"$f":"IF($B307=\"\",\"\",VLOOKUP($B307,_tbl!$A:$E,Q$2,0))","v":"Digestive"},null,3.3042998739293901E-6,2.22945967760223E-6]
[null,"all_m_Central Urban digestive.csv","20-24",4.6476121330789096E-6,5.1554655604314197E-6,4.3994165125570499E-6,4.7039363522142101E-6,4.1430566086443603E-6,4.3110236710167796E-6,3.8867910817184804E-6,3.9639002762300703E-6,3.63611621630689E-6,3.6535681886614801E-6,{"$f":"IF($B308=\"\",\"\",VLOOKUP($B308,_tbl!$A:$E,N$2,0))","v":"Male"},{"$f":"IF($B308=\"\",\"\",VLOOKUP($B308,_tbl!$A:$E,O$2,0))","v":"Central"},{"$f":"IF($B308=\"\",\"\",VLOOKUP($B308,_tbl!$A:$E,P$2,0))","v":"Urban"},{"$f":"IF($B308=\"\",\"\",VLOOKUP($B308,_tbl!$A:$E,Q$2,0))","v":"Digestive"},null,5.1554655604314197E-6,3.63611621630689E-6]
[null,"all_m_Central Urban digestive.csv","25-29",8.6310554318003996E-6,9.5575318292686193E-6,7.9990058946384701E-6,8.5034862372137292E-6,7.3643436487250601E-6,7.6681510611274996E-6,6.8518526590461098E-6,7.0087023944721501E-6,6.3845560062830603E-6,6.4129418977931802E-6,{"$f":"IF($B309=\"\",\"\",VLOOKUP($B309,_tbl!$A:$E,N$2,0))","v":"Male"},{"$f":"IF($B309=\"\",\"\",VLOOKUP($B309,_tbl!$A:$E,O$2,0))","v":"Central"},{"$f":"IF($B309=\"\",\"\",VLOOKUP($B309,_tbl!$A:$E,P$2,0))","v":"Urban"},{"$f":"IF($B309=\"\",\"\",VLOOKUP($B309,_tbl!$A:$E,Q$2,0))","v":"Digestive"},null,9.5575318292686193E-6,6.3845560062830603E-6]
[null,"all_m_Central Urban digestive.csv","30-34",1.41545089185879E-5,1.4187008453891301E-5,1.4179544799951099E-5,1.41974124644232E-5,1.41888608401661E-5,1.41773474562168E-5,1.41544451302911E-5,1.41330434069919E-5,1.4113606231967201E-5,1.41002697358971E-5,{"$f":"IF($B310=\"\",\"\",VLOOKUP($B310,_tbl!$A:$E,N$2,0))","v":"Male"},{"$f":"IF($B310=\"\",\"\",VLOOKUP($B310,_tbl!$A:$E,O$2,0))","v":"Central"},{"$f":"IF($B310=\"\",\"\",VLOOKUP($B310,_tbl!$A:$E,P$2,0))","v":"Urban"},{"$f":"IF($B310=\"\",\"\",VLOOKUP($B310,_tbl!$A:$E,Q$2,0))","v":"Digestive"},null,1.41974124644232E-5,1.41002697358971E-5]
[null,"all_m_Central Urban digestive.csv","35-39",3.1867349549110399E-5,3.6734902871854297E-5,2.8933361266615201E-5,3.1560481453255203E-5,2.59682263366403E-5,2.7341333863198899E-5,2.3301478141402701E-5,2.3852777506218599E-5,2.08099968890347E-5,2.0794478482590502E-5,{"$f":"IF($B311=\"\",\"\",VLOOKUP($B311,_tbl!$A:$E,N$2,0))","v":"Male"},{"$f":"IF($B311=\"\",\"\",VLOOKUP($B311,_tbl!$A:$E,O$2,0))","v":"Central"},{"$f":"IF($B311=\"\",\"\",VLOOKUP($B311,_tbl!$A:$E,P$2,0))","v":"Urban"},{"$f":"IF($B311=\"\",\"\",VLOOKUP($B311,_tbl!$A:$E,Q$2,0))","v":"Digestive"},null,3.6734902871854297E-5,2.0794478482590502E-5]
[null,"all_m_Central Urban digestive.csv","40-44",5.7101562186049403E-5,6.6077555027964396E-5,5.2392671481324397E-5,5.7580007366171198E-5,4.7730282376608097E-5,5.0494329226531401E-5,4.3288533743599099E-5,4.4488221164960103E-5,3.91012208713124E-5,3.9322357072849798E-5,{"$f":"IF($B312=\"\",\"\",VLOOKUP($B312,_tbl!$A:$E,N$2,0))","v":"Male"},{"$f":"IF($B312=\"\",\"\",VLOOKUP($B312,_tbl!$A:$E,O$2,0))","v":"Central"},{"$f":"IF($B312=\"\",\"\",VLOOKUP($B312,_tbl!$A:$E,P$2,0))","v":"Urban"},{"$f":"IF($B312=\"\",\"\",VLOOKUP($B312,_tbl!$A:$E,Q$2,0))","v":"Digestive"},null,6.6077555027964396E-5,3.91012208713124E-5]
[null,"all_m_Central Urban digestive.csv","45-49",9.2015072693637303E-5,1.0346495386005E-4,8.1730305895122294E-5,8.7364601187737802E-5,7.0522193988236295E-5,7.2223699837478593E-5,5.8807505762477202E-5,5.8089881530282499E-5,4.7295917701077301E-5,4.5241092157673002E-5,{"$f":"IF($B313=\"\",\"\",VLOOKUP($B313,_tbl!$A:$E,N$2,0))","v":"Male"},{"$f":"IF($B313=\"\",\"\",VLOOKUP($B313,_tbl!$A:$E,O$2,0))","v":"Central"},{"$f":"IF($B313=\"\",\"\",VLOOKUP($B313,_tbl!$A:$E,P$2,0))","v":"Urban"},{"$f":"IF($B313=\"\",\"\",VLOOKUP($B313,_tbl!$A:$E,Q$2,0))","v":"Digestive"},null,1.0346495386005E-4,4.5241092157673002E-5]
[null,"all_m_Central Urban digestive.csv","50-54",1.6062338666064001E-4,1.7219588798035501E-4,1.5100779797087E-4,1.5687472001887299E-4,1.3996713295506399E-4,1.42058588620988E-4,1.2827540470545501E-4,1.27898371359126E-4,1.1648850851636E-4,1.14561467808502E-4,{"$f":"IF($B314=\"\",\"\",VLOOKUP($B314,_tbl!$A:$E,N$2,0))","v":"Male"},{"$f":"IF($B314=\"\",\"\",VLOOKUP($B314,_tbl!$A:$E,O$2,0))","v":"Central"},{"$f":"IF($B314=\"\",\"\",VLOOKUP($B314,_tbl!$A:$E,P$2,0))","v":"Urban"},{"$f":"IF($B314=\"\",\"\",VLOOKUP($B314,_tbl!$A:$E,Q$2,0))","v":"Digestive"},null,1.7219588798035501E-4,1.14561467808502E-4]
[null,"all_m_Central Urban digestive.csv","55-59",2.3094587199052799E-4,2.3775775329159699E-4,2.2359945868095799E-4,2.2672087389921999E-4,2.14975535290312E-4,2.1572233136074701E-4,2.0583551594215399E-4,2.0498940386514099E-4,1.9650370717087299E-4,1.9455990412364899E-4,{"$f":"IF($B315=\"\",\"\",VLOOKUP($B315,_tbl!$A:$E,N$2,0))","v":"Male"},{"$f":"IF($B315=\"\",\"\",VLOOKUP($B315,_tbl!$A:$E,O$2,0))","v":"Central"},{"$f":"IF($B315=\"\",\"\",VLOOKUP($B315,_tbl!$A:$E,P$2,0))","v":"Urban"},{"$f":"IF($B315=\"\",\"\",VLOOKUP($B315,_tbl!$A:$E,Q$2,0))","v":"Digestive"},null,2.3775775329159699E-4,1.9455990412364899E-4]
[null,"all_m_Central Urban digestive.csv","60-64",2.84024635475477E-4,2.9077610370810902E-4,2.7634716960437598E-4,2.7951983262850601E-4,2.6751409306339998E-4,2.6826036688887701E-4,2.58101701975998E-4,2.5721231842331998E-4,2.4846502661301102E-4,2.4646037556573102E-4,{"$f":"IF($B316=\"\",\"\",VLOOKUP($B316,_tbl!$A:$E,N$2,0))","v":"Male"},{"$f":"IF($B316=\"\",\"\",VLOOKUP($B316,_tbl!$A:$E,O$2,0))","v":"Central"},{"$f":"IF($B316=\"\",\"\",VLOOKUP($B316,_tbl!$A:$E,P$2,0))","v":"Urban"},{"$f":"IF($B316=\"\",\"\",VLOOKUP($B316,_tbl!$A:$E,Q$2,0))","v":"Digestive"},null,2.9077610370810902E-4,2.4646037556573102E-4]
[null,"all_m_Central Urban digestive.csv","65-69",3.25831941319095E-4,3.4489275703935402E-4,3.1133405548199901E-4,3.2184893503728502E-4,2.9526831240285598E-4,3.0001668839772398E-4,2.78597633424257E-4,2.7945597688347902E-4,2.6181369395709899E-4,2.6000529316512499E-4,{"$f":"IF($B317=\"\",\"\",VLOOKUP($B317,_tbl!$A:$E,N$2,0))","v":"Male"},{"$f":"IF($B317=\"\",\"\",VLOOKUP($B317,_tbl!$A:$E,O$2,0))","v":"Central"},{"$f":"IF($B317=\"\",\"\",VLOOKUP($B317,_tbl!$A:$E,P$2,0))","v":"Urban"},{"$f":"IF($B317=\"\",\"\",VLOOKUP($B317,_tbl!$A:$E,Q$2,0))","v":"Digestive"},null,3.4489275703935402E-4,2.6000529316512499E-4]
[null,"all_m_Central Urban digestive.csv","70-74",3.9534402182033601E-4,4.3720481972640498E-4,3.6463397798864E-4,3.8740086648931399E-4,3.3186465709032802E-4,3.42130445991535E-4,2.98778685613159E-4,3.0090954046757703E-4,2.6628014700632799E-4,2.6309635302777503E-4,{"$f":"IF($B318=\"\",\"\",VLOOKUP($B318,_tbl!$A:$E,N$2,0))","v":"Male"},{"$f":"IF($B318=\"\",\"\",VLOOKUP($B318,_tbl!$A:$E,O$2,0))","v":"Central"},{"$f":"IF($B318=\"\",\"\",VLOOKUP($B318,_tbl!$A:$E,P$2,0))","v":"Urban"},{"$f":"IF($B318=\"\",\"\",VLOOKUP($B318,_tbl!$A:$E,Q$2,0))","v":"Digestive"},null,4.3720481972640498E-4,2.6309635302777503E-4]
[null,"all_m_Central Urban digestive.csv","75-79",7.0969815672644501E-4,7.9824288566684499E-4,6.7422241865649796E-4,7.27532213258033E-4,6.3593240279935601E-4,6.6458635778237002E-4,5.9505856025488196E-4,6.0796665390745405E-4,5.5506189737597499E-4,5.5902704923698897E-4,{"$f":"IF($B319=\"\",\"\",VLOOKUP($B319,_tbl!$A:$E,N$2,0))","v":"Male"},{"$f":"IF($B319=\"\",\"\",VLOOKUP($B319,_tbl!$A:$E,O$2,0))","v":"Central"},{"$f":"IF($B319=\"\",\"\",VLOOKUP($B319,_tbl!$A:$E,P$2,0))","v":"Urban"},{"$f":"IF($B319=\"\",\"\",VLOOKUP($B319,_tbl!$A:$E,Q$2,0))","v":"Digestive"},null,7.9824288566684499E-4,5.5506189737597499E-4]
[null,"all_m_Central Urban digestive.csv","80-84",1.19840793288843E-3,1.19019667712391E-3,1.1819158562174901E-3,1.1754213618329599E-3,1.1675891411898199E-3,1.15945210023674E-3,1.1506328624480101E-3,1.1419204456843599E-3,1.13350280502669E-3,1.12570938266539E-3,{"$f":"IF($B320=\"\",\"\",VLOOKUP($B320,_tbl!$A:$E,N$2,0))","v":"Male"},{"$f":"IF($B320=\"\",\"\",VLOOKUP($B320,_tbl!$A:$E,O$2,0))","v":"Central"},{"$f":"IF($B320=\"\",\"\",VLOOKUP($B320,_tbl!$A:$E,P$2,0))","v":"Urban"},{"$f":"IF($B320=\"\",\"\",VLOOKUP($B320,_tbl!$A:$E,Q$2,0))","v":"Digestive"},null,1.19840793288843E-3,1.12570938266539E-3]
[null,"all_m_Central Urban digestive.csv","85+",2.7548021006811199E-3,2.9765722674449701E-3,2.6914298386126901E-3,2.8364691365921602E-3,2.59308401041716E-3,2.6445796005113401E-3,2.4311210035371299E-3,2.4370662760985098E-3,2.2677401609304802E-3,2.26039792764116E-3,{"$f":"IF($B321=\"\",\"\",VLOOKUP($B321,_tbl!$A:$E,N$2,0))","v":"Male"},{"$f":"IF($B321=\"\",\"\",VLOOKUP($B321,_tbl!$A:$E,O$2,0))","v":"Central"},{"$f":"IF($B321=\"\",\"\",VLOOKUP($B321,_tbl!$A:$E,P$2,0))","v":"Urban"},{"$f":"IF($B321=\"\",\"\",VLOOKUP($B321,_tbl!$A:$E,Q$2,0))","v":"Digestive"},null,2.9765722674449701E-3,2.26039792764116E-3]
[null,null,null,null,null,null,null,null,null,null,null,null,null,{"$f":"IF($B322=\"\",\"\",VLOOKUP($B322,_tbl!$A:$E,N$2,0))","v":""},{"$f":"IF($B322=\"\",\"\",VLOOKUP($B322,_tbl!$A:$E,O$2,0))","v":""},{"$f":"IF($B322=\"\",\"\",VLOOKUP($B322,_tbl!$A:$E,P$2,0))","v":""},{"$f":"IF($B322=\"\",\"\",VLOOKUP($B322,_tbl!$A:$E,Q$2,0))","v":""}]
[null,null,null,2020,2021,2022,2023,2024,2025,2026,2027,2028,2029,{"$f":"IF($B323=\"\",\"\",VLOOKUP($B323,_tbl!$A:$E,N$2,0))","v":""},{"$f":"IF($B323=\"\",\"\",VLOOKUP($B323,_tbl!$A:$E,O$2,0))","v":""},{"$f":"IF($B323=\"\",\"\",VLOOKUP($B323,_tbl!$A:$E,P$2,0))","v":""},{"$f":"IF($B323=\"\",\"\",VLOOKUP($B323,_tbl!$A:$E,Q$2,0))","v":""}]
[null,"all_m_Central Urban external.csv","1-4",2.43367824002962E-4,2.3245888469046301E-4,2.24890028511287E-4,2.1351413261477801E-4,2.0548420093915399E-4,1.98180100911959E-4,1.89974612467854E-4,1.8315076243268701E-4,1.7648110548884599E-4,1.69177895506878E-4,{"$f":"IF($B324=\"\",\"\",VLOOKUP($B324,_tbl!$A:$E,N$2,0))","v":"Male"},{"$f":"IF($B324=\"\",\"\",VLOOKUP($B324,_tbl!$A:$E,O$2,0))","v":"Central"},{"$f":"IF($B324=\"\",\"\",VLOOKUP($B324,_tbl!$A:$E,P$2,0))","v":"Urban"},{"$f":"IF($B324=\"\",\"\",VLOOKUP($B324,_tbl!$A:$E,Q$2,0))","v":"External"},null,{"$f":"MAX(D324:M324)","v":2.43367824002962E-4},{"$f":"MIN(D324:M324)","v":1.69177895506878E-4}]
[null,"all_m_Central Urban external.csv","5-9",1.1079339769592E-4,1.06176054500904E-4,1.0295616401998999E-4,9.7711764217270697E-5,9.4051766861515395E-5,9.0445825953664396E-5,8.6422320297108098E-5,8.29387544791658E-5,7.9639312999196305E-5,7.5974949216375099E-5,{"$f":"IF($B325=\"\",\"\",VLOOKUP($B325,_tbl!$A:$E,N$2,0))","v":"Male"},{"$f":"IF($B325=\"\",\"\",VLOOKUP($B325,_tbl!$A:$E,O$2,0))","v":"Central"},{"$f":"IF($B325=\"\",\"\",VLOOKUP($B325,_tbl!$A:$E,P$2,0))","v":"Urban"},{"$f":"IF($B325=\"\",\"\",VLOOKUP($B325,_tbl!$A:$E,Q$2,0))","v":"External"},null,1.1079339769592E-4,7.5974949216375099E-5]
[null,"all_m_Central Urban external.csv","10-14",9.9757211543961195E-5,9.4134495312331396E-5,8.93359253953442E-5,8.3808920601851595E-5,7.9243577859548596E-5,7.4936014715381503E-5,7.0661435738355506E-5,6.6761577738108703E-5,6.3057966382858396E-5,5.9263877234018897E-5,{"$f":"IF($B326=\"\",\"\",VLOOKUP($B326,_tbl!$A:$E,N$2,0))","v":"Male"},{"$f":"IF($B326=\"\",\"\",VLOOKUP($B326,_tbl!$A:$E,O$2,0))","v":"Central"},{"$f":"IF($B326=\"\",\"\",VLOOKUP($B326,_tbl!$A:$E,P$2,0))","v":"Urban"},{"$f":"IF($B326=\"\",\"\",VLOOKUP($B326,_tbl!$A:$E,Q$2,0))","v":"External"},null,9.9757211543961195E-5,5.9263877234018897E-5]
[null,"all_m_Central Urban external.csv","15-19",1.10076551101923E-4,1.0089174265353601E-4,9.2977191996681399E-5,8.3830284132300806E-5,7.6890377298341405E-5,7.06869787004074E-5,6.5071748570992303E-5,6.0040697514622702E-5,5.5337471042361199E-5,5.03167554961789E-5,{"$f":"IF($B327=\"\",\"\",VLOOKUP($B327,_tbl!$A:$E,N$2,0))","v":"Male"},{"$f":"IF($B327=\"\",\"\",VLOOKUP($B327,_tbl!$A:$E,O$2,0))","v":"Central"},{"$f":"IF($B327=\"\",\"\",VLOOKUP($B327,_tbl!$A:$E,P$2,0))","v":"Urban"},{"$f":"IF($B327=\"\",\"\",VLOOKUP($B327,_tbl!$A:$E,Q$2,0))","v":"External"},null,1.10076551101923E-4,5.03167554961789E-5]
[null,"all_m_Central Urban external.csv","20-24",1.4066418343165301E-4,1.2720728490857899E-4,1.14251926586347E-4,1.01012342528502E-4,9.0575885140578406E-5,8.1711908990720602E-5,7.4809678132598694E-5,6.8335948288893403E-5,6.2288417368963294E-5,5.5904185287357403E-5,{"$f":"IF($B328=\"\",\"\",VLOOKUP($B328,_tbl!$A:$E,N$2,0))","v":"Male"},{"$f":"IF($B328=\"\",\"\",VLOOKUP($B328,_tbl!$A:$E,O$2,0))","v":"Central"},{"$f":"IF($B328=\"\",\"\",VLOOKUP($B328,_tbl!$A:$E,P$2,0))","v":"Urban"},{"$f":"IF($B328=\"\",\"\",VLOOKUP($B328,_tbl!$A:$E,Q$2,0))","v":"External"},null,1.4066418343165301E-4,5.5904185287357403E-5]
[null,"all_m_Central Urban external.csv","25-29",1.92738679817554E-4,1.78150009064862E-4,1.6392475875574001E-4,1.49326485196057E-4,1.3744147092743E-4,1.2689683826163899E-4,1.18125017232853E-4,1.0980269648341301E-4,1.02036008829169E-4,9.3929414925618103E-5,{"$f":"IF($B329=\"\",\"\",VLOOKUP($B329,_tbl!$A:$E,N$2,0))","v":"Male"},{"$f":"IF($B329=\"\",\"\",VLOOKUP($B329,_tbl!$A:$E,O$2,0))","v":"Central"},{"$f":"IF($B329=\"\",\"\",VLOOKUP($B329,_tbl!$A:$E,P$2,0))","v":"Urban"},{"$f":"IF($B329=\"\",\"\",VLOOKUP($B329,_tbl!$A:$E,Q$2,0))","v":"External"},null,1.92738679817554E-4,9.3929414925618103E-5]
[null,"all_m_Central Urban external.csv","30-34",2.4753600485143601E-4,2.3059842248573801E-4,2.1326928033502601E-4,1.9692082123805901E-4,1.8234136236961601E-4,1.6952519012842799E-4,1.5806729835241701E-4,1.47384963047676E-4,1.37063720085191E-4,1.2688220839341099E-4,{"$f":"IF($B330=\"\",\"\",VLOOKUP($B330,_tbl!$A:$E,N$2,0))","v":"Male"},{"$f":"IF($B330=\"\",\"\",VLOOKUP($B330,_tbl!$A:$E,O$2,0))","v":"Central"},{"$f":"IF($B330=\"\",\"\",VLOOKUP($B330,_tbl!$A:$E,P$2,0))","v":"Urban"},{"$f":"IF($B330=\"\",\"\",VLOOKUP($B330,_tbl!$A:$E,Q$2,0))","v":"External"},null,2.4753600485143601E-4,1.2688220839341099E-4]
[null,"all_m_Central Urban external.csv","35-39",2.7397485980086502E-4,2.5174985533061298E-4,2.3317604422605099E-4,2.13163699516237E-4,1.9639652481879901E-4,1.7950147343641099E-4,1.6487961255076699E-4,1.5013748548431101E-4,1.36666508395376E-4,1.2298533107325601E-4,{"$f":"IF($B331=\"\",\"\",VLOOKUP($B331,_tbl!$A:$E,N$2,0))","v":"Male"},{"$f":"IF($B331=\"\",\"\",VLOOKUP($B331,_tbl!$A:$E,O$2,0))","v":"Central"},{"$f":"IF($B331=\"\",\"\",VLOOKUP($B331,_tbl!$A:$E,P$2,0))","v":"Urban"},{"$f":"IF($B331=\"\",\"\",VLOOKUP($B331,_tbl!$A:$E,Q$2,0))","v":"External"},null,2.7397485980086502E-4,1.2298533107325601E-4]
[null,"all_m_Central Urban external.csv","40-44",3.0459603379044502E-4,2.8165936757840502E-4,2.6207735226737699E-4,2.4130880394572301E-4,2.2317229131281499E-4,2.0524670382865301E-4,1.89267590231986E-4,1.7352424325765299E-4,1.58846948916713E-4,1.4417772417787001E-4,{"$f":"IF($B332=\"\",\"\",VLOOKUP($B332,_tbl!$A:$E,N$2,0))","v":"Male"},{"$f":"IF($B332=\"\",\"\",VLOOKUP($B332,_tbl!$A:$E,O$2,0))","v":"Central"},{"$f":"IF($B332=\"\",\"\",VLOOKUP($B332,_tbl!$A:$E,P$2,0))","v":"Urban"},{"$f":"IF($B332=\"\",\"\",VLOOKUP($B332,_tbl!$A:$E,Q$2,0))","v":"External"},null,3.0459603379044502E-4,1.4417772417787001E-4]
[null,"all_m_Central Urban external.csv","45-49",3.8651963921484701E-4,3.6816699933356399E-4,3.5011214276902297E-4,3.3247079100662898E-4,3.1530434057225299E-4,2.9866167699387402E-4,2.82587057760925E-4,2.6707083175898298E-4,2.5211690845713101E-4,2.3769097355372501E-4,{"$f":"IF($B333=\"\",\"\",VLOOKUP($B333,_tbl!$A:$E,N$2,0))","v":"Male"},{"$f":"IF($B333=\"\",\"\",VLOOKUP($B333,_tbl!$A:$E,O$2,0))","v":"Central"},{"$f":"IF($B333=\"\",\"\",VLOOKUP($B333,_tbl!$A:$E,P$2,0))","v":"Urban"},{"$f":"IF($B333=\"\",\"\",VLOOKUP($B333,_tbl!$A:$E,Q$2,0))","v":"External"},null,3.8651963921484701E-4,2.3769097355372501E-4]
[null,"all_m_Central Urban external.csv","50-54",5.1081742777685799E-4,4.9914364743350705E-4,4.8724884988355797E-4,4.7540543575821698E-4,4.6363092553523301E-4,4.5204652465595199E-4,4.4064195394976898E-4,4.2946799465808598E-4,4.1849864304880702E-4,4.07757875497542E-4,{"$f":"IF($B334=\"\",\"\",VLOOKUP($B334,_tbl!$A:$E,N$2,0))","v":"Male"},{"$f":"IF($B334=\"\",\"\",VLOOKUP($B334,_tbl!$A:$E,O$2,0))","v":"Central"},{"$f":"IF($B334=\"\",\"\",VLOOKUP($B334,_tbl!$A:$E,P$2,0))","v":"Urban"},{"$f":"IF($B334=\"\",\"\",VLOOKUP($B334,_tbl!$A:$E,Q$2,0))","v":"External"},null,5.1081742777685799E-4,4.07757875497542E-4]
[null,"all_m_Central Urban external.csv","55-59",6.3450065991788095E-4,6.3120592763078796E-4,6.2738200890998202E-4,6.2296681479071805E-4,6.1836970778728897E-4,6.1357782656419602E-4,6.0874083824264205E-4,6.03841861134075E-4,5.9893561294294595E-4,5.9401095737354303E-4,{"$f":"IF($B335=\"\",\"\",VLOOKUP($B335,_tbl!$A:$E,N$2,0))","v":"Male"},{"$f":"IF($B335=\"\",\"\",VLOOKUP($B335,_tbl!$A:$E,O$2,0))","v":"Central"},{"$f":"IF($B335=\"\",\"\",VLOOKUP($B335,_tbl!$A:$E,P$2,0))","v":"Urban"},{"$f":"IF($B335=\"\",\"\",VLOOKUP($B335,_tbl!$A:$E,Q$2,0))","v":"External"},null,6.3450065991788095E-4,5.9401095737354303E-4]
[null,"all_m_Central Urban external.csv","60-64",7.1141512907946995E-4,7.1212714797181601E-4,7.1196446350622205E-4,7.1055757828355397E-4,7.08721688931115E-4,7.0635968831893401E-4,7.0384293942002797E-4,7.01121247689328E-4,6.9836235875283701E-4,6.9552249669987097E-4,{"$f":"IF($B336=\"\",\"\",VLOOKUP($B336,_tbl!$A:$E,N$2,0))","v":"Male"},{"$f":"IF($B336=\"\",\"\",VLOOKUP($B336,_tbl!$A:$E,O$2,0))","v":"Central"},{"$f":"IF($B336=\"\",\"\",VLOOKUP($B336,_tbl!$A:$E,P$2,0))","v":"Urban"},{"$f":"IF($B336=\"\",\"\",VLOOKUP($B336,_tbl!$A:$E,Q$2,0))","v":"External"},null,7.1212714797181601E-4,6.9552249669987097E-4]
[null,"all_m_Central Urban external.csv","65-69",7.6318459320598095E-4,7.5855430613197203E-4,7.52606226369864E-4,7.4513038579823298E-4,7.3713904051178397E-4,7.2850297799595095E-4,7.1971796403409196E-4,7.1071596610722796E-4,7.0174903841016805E-4,6.92761693081828E-4,{"$f":"IF($B337=\"\",\"\",VLOOKUP($B337,_tbl!$A:$E,N$2,0))","v":"Male"},{"$f":"IF($B337=\"\",\"\",VLOOKUP($B337,_tbl!$A:$E,O$2,0))","v":"Central"},{"$f":"IF($B337=\"\",\"\",VLOOKUP($B337,_tbl!$A:$E,P$2,0))","v":"Urban"},{"$f":"IF($B337=\"\",\"\",VLOOKUP($B337,_tbl!$A:$E,Q$2,0))","v":"External"},null,7.6318459320598095E-4,6.92761693081828E-4]
[null,"all_m_Central Urban external.csv","70-74",9.5472100303829505E-4,9.3742317741933796E-4,9.1919458730741399E-4,9.00780613580455E-4,8.8245480437931496E-4,8.6406945593231303E-4,8.4592101887401305E-4,8.2777540779998095E-4,8.0990398588304399E-4,7.9213149770343701E-4,{"$f":"IF($B338=\"\",\"\",VLOOKUP($B338,_tbl!$A:$E,N$2,0))","v":"Male"},{"$f":"IF($B338=\"\",\"\",VLOOKUP($B338,_tbl!$A:$E,O$2,0))","v":"Central"},{"$f":"IF($B338=\"\",\"\",VLOOKUP($B338,_tbl!$A:$E,P$2,0))","v":"Urban"},{"$f":"IF($B338=\"\",\"\",VLOOKUP($B338,_tbl!$A:$E,Q$2,0))","v":"External"},null,9.5472100303829505E-4,7.9213149770343701E-4]
[null,"all_m_Central Urban external.csv","75-79",1.41026710763684E-3,1.3800989107233101E-3,1.3524653872351599E-3,1.3239514452473701E-3,1.29350565360188E-3,1.2612777452924099E-3,1.2288184634837E-3,1.19694593711499E-3,1.1668978287712E-3,1.1387014704720901E-3,{"$f":"IF($B339=\"\",\"\",VLOOKUP($B339,_tbl!$A:$E,N$2,0))","v":"Male"},{"$f":"IF($B339=\"\",\"\",VLOOKUP($B339,_tbl!$A:$E,O$2,0))","v":"Central"},{"$f":"IF($B339=\"\",\"\",VLOOKUP($B339,_tbl!$A:$E,P$2,0))","v":"Urban"},{"$f":"IF($B339=\"\",\"\",VLOOKUP($B339,_tbl!$A:$E,Q$2,0))","v":"External"},null,1.41026710763684E-3,1.1387014704720901E-3]
[null,"all_m_Central Urban external.csv","80-84",2.1348616621905099E-3,2.1020322511521301E-3,2.0692596801146199E-3,2.0318949387871901E-3,1.9698975563186001E-3,1.8907935548024299E-3,1.7993246418038201E-3,1.70760811908982E-3,1.6242922534689399E-3,1.5556859159653301E-3,{"$f":"IF($B340=\"\",\"\",VLOOKUP($B340,_tbl!$A:$E,N$2,0))","v":"Male"},{"$f":"IF($B340=\"\",\"\",VLOOKUP($B340,_tbl!$A:$E,O$2,0))","v":"Central"},{"$f":"IF($B340=\"\",\"\",VLOOKUP($B340,_tbl!$A:$E,P$2,0))","v":"Urban"},{"$f":"IF($B340=\"\",\"\",VLOOKUP($B340,_tbl!$A:$E,Q$2,0))","v":"External"},null,2.1348616621905099E-3,1.5556859159653301E-3]
[null,"all_m_Central Urban external.csv","85+",3.4406620013853798E-3,3.33293273906687E-3,3.24088844589143E-3,3.1451587284129202E-3,3.0169580389585201E-3,2.8599127758103201E-3,2.6798095921212201E-3,2.4957675459547101E-3,2.32800440683567E-3,2.19347108124146E-3,{"$f":"IF($B341=\"\",\"\",VLOOKUP($B341,_tbl!$A:$E,N$2,0))","v":"Male"},{"$f":"IF($B341=\"\",\"\",VLOOKUP($B341,_tbl!$A:$E,O$2,0))","v":"Central"},{"$f":"IF($B341=\"\",\"\",VLOOKUP($B341,_tbl!$A:$E,P$2,0))","v":"Urban"},{"$f":"IF($B341=\"\",\"\",VLOOKUP($B341,_tbl!$A:$E,Q$2,0))","v":"External"},null,3.4406620013853798E-3,2.19347108124146E-3]
[null,null,null,null,null,null,null,null,null,null,null,null,null,{"$f":"IF($B342=\"\",\"\",VLOOKUP($B342,_tbl!$A:$E,N$2,0))","v":""},{"$f":"IF($B342=\"\",\"\",VLOOKUP($B342,_tbl!$A:$E,O$2,0))","v":""},{"$f":"IF($B342=\"\",\"\",VLOOKUP($B342,_tbl!$A:$E,P$2,0))","v":""},{"$f":"IF($B342=\"\",\"\",VLOOKUP($B342,_tbl!$A:$E,Q$2,0))","v":""}]
[null,null,null,2020,2021,2022,2023,2024,2025,2026,2027,2028,2029,{"$f":"IF($B343=\"\",\"\",VLOOKUP($B343,_tbl!$A:$E,N$2,0))","v":""},{"$f":"IF($B343=\"\",\"\",VLOOKUP($B343,_tbl!$A:$E,O$2,0))","v":""},{"$f":"IF($B343=\"\",\"\",VLOOKUP($B343,_tbl!$A:$E,P$2,0))","v":""},{"$f":"IF($B343=\"\",\"\",VLOOKUP($B343,_tbl!$A:$E,Q$2,0))","v":""}]
[null,"all_m_Central Urban infectious.csv","1-4",6.7709131300998501E-5,6.7042798473501103E-5,6.68802004586804E-5,6.6114469034907401E-5,6.5786800156192603E-5,6.5520067164925297E-5,6.5086832461199102E-5,6.4813897149310697E-5,6.4515900737873897E-5,6.41043067041891E-5,{"$f":"IF($B344=\"\",\"\",VLOOKUP($B344,_tbl!$A:$E,N$2,0))","v":"Male"},{"$f":"IF($B344=\"\",\"\",VLOOKUP($B344,_tbl!$A:$E,O$2,0))","v":"Central"},{"$f":"IF($B344=\"\",\"\",VLOOKUP($B344,_tbl!$A:$E,P$2,0))","v":"Urban"},{"$f":"IF($B344=\"\",\"\",VLOOKUP($B344,_tbl!$A:$E,Q$2,0))","v":"Infectious"},null,{"$f":"MAX(D344:M344)","v":6.7709131300998501E-5},{"$f":"MIN(D344:M344)","v":6.41043067041891E-5}]
[null,"all_m_Central Urban infectious.csv","5-9",1.5602537391440301E-5,1.5626259933734299E-5,1.5655584866240401E-5,1.5668142661279501E-5,1.5691368089925899E-5,1.5710606854378801E-5,1.5726780229241399E-5,1.5744112559154899E-5,1.5762093102676599E-5,1.5776614226805901E-5,{"$f":"IF($B345=\"\",\"\",VLOOKUP($B345,_tbl!$A:$E,N$2,0))","v":"Male"},{"$f":"IF($B345=\"\",\"\",VLOOKUP($B345,_tbl!$A:$E,O$2,0))","v":"Central"},{"$f":"IF($B345=\"\",\"\",VLOOKUP($B345,_tbl!$A:$E,P$2,0))","v":"Urban"},{"$f":"IF($B345=\"\",\"\",VLOOKUP($B345,_tbl!$A:$E,Q$2,0))","v":"Infectious"},null,1.5776614226805901E-5,1.5602537391440301E-5]
[null,"all_m_Central Urban infectious.csv","10-14",1.0755276287251999E-5,1.0693390510202801E-5,1.06648719730434E-5,1.06084891209018E-5,1.05818354043064E-5,1.05642052093395E-5,1.0545718140370201E-5,1.05347931955106E-5,1.05220007664737E-5,1.0498980400053599E-5,{"$f":"IF($B346=\"\",\"\",VLOOKUP($B346,_tbl!$A:$E,N$2,0))","v":"Male"},{"$f":"IF($B346=\"\",\"\",VLOOKUP($B346,_tbl!$A:$E,O$2,0))","v":"Central"},{"$f":"IF($B346=\"\",\"\",VLOOKUP($B346,_tbl!$A:$E,P$2,0))","v":"Urban"},{"$f":"IF($B346=\"\",\"\",VLOOKUP($B346,_tbl!$A:$E,Q$2,0))","v":"Infectious"},null,1.0755276287251999E-5,1.0498980400053599E-5]
[null,"all_m_Central Urban infectious.csv","15-19",1.0319301998862299E-5,1.03202483771798E-5,1.03343628378228E-5,1.0328784008592E-5,1.0336947940425E-5,1.03451839032356E-5,1.0352392946089601E-5,1.0361397782525101E-5,1.0372436258506799E-5,1.03794427960528E-5,{"$f":"IF($B347=\"\",\"\",VLOOKUP($B347,_tbl!$A:$E,N$2,0))","v":"Male"},{"$f":"IF($B347=\"\",\"\",VLOOKUP($B347,_tbl!$A:$E,O$2,0))","v":"Central"},{"$f":"IF($B347=\"\",\"\",VLOOKUP($B347,_tbl!$A:$E,P$2,0))","v":"Urban"},{"$f":"IF($B347=\"\",\"\",VLOOKUP($B347,_tbl!$A:$E,Q$2,0))","v":"Infectious"},null,1.03794427960528E-5,1.0319301998862299E-5]
[null,"all_m_Central Urban infectious.csv","20-24",1.36948387388327E-5,1.36504181638066E-5,1.3581130894581601E-5,1.3511017525503401E-5,1.3483322464265599E-5,1.3493080428509801E-5,1.35320420559312E-5,1.3577777303560001E-5,1.3621120293453899E-5,1.36528079069356E-5,{"$f":"IF($B348=\"\",\"\",VLOOKUP($B348,_tbl!$A:$E,N$2,0))","v":"Male"},{"$f":"IF($B348=\"\",\"\",VLOOKUP($B348,_tbl!$A:$E,O$2,0))","v":"Central"},{"$f":"IF($B348=\"\",\"\",VLOOKUP($B348,_tbl!$A:$E,P$2,0))","v":"Urban"},{"$f":"IF($B348=\"\",\"\",VLOOKUP($B348,_tbl!$A:$E,Q$2,0))","v":"Infectious"},null,1.36948387388327E-5,1.3483322464265599E-5]
[null,"all_m_Central Urban infectious.csv","25-29",2.0781376505822599E-5,2.0753383924646299E-5,2.0750258760492101E-5,2.0725224026990402E-5,2.0752214683813401E-5,2.0807044606861999E-5,2.08923933247007E-5,2.0981806161984402E-5,2.1069388835714299E-5,2.11446499525182E-5,{"$f":"IF($B349=\"\",\"\",VLOOKUP($B349,_tbl!$A:$E,N$2,0))","v":"Male"},{"$f":"IF($B349=\"\",\"\",VLOOKUP($B349,_tbl!$A:$E,O$2,0))","v":"Central"},{"$f":"IF($B349=\"\",\"\",VLOOKUP($B349,_tbl!$A:$E,P$2,0))","v":"Urban"},{"$f":"IF($B349=\"\",\"\",VLOOKUP($B349,_tbl!$A:$E,Q$2,0))","v":"Infectious"},null,2.11446499525182E-5,2.0725224026990402E-5]
[null,"all_m_Central Urban infectious.csv","30-34",3.2503093355814002E-5,3.2472587375941102E-5,3.2527297000643597E-5,3.2523662203955902E-5,3.2608429252512499E-5,3.2718529943372802E-5,3.2872289236783097E-5,3.3027022432259603E-5,3.31786745344061E-5,3.3313871659408699E-5,{"$f":"IF($B350=\"\",\"\",VLOOKUP($B350,_tbl!$A:$E,N$2,0))","v":"Male"},{"$f":"IF($B350=\"\",\"\",VLOOKUP($B350,_tbl!$A:$E,O$2,0))","v":"Central"},{"$f":"IF($B350=\"\",\"\",VLOOKUP($B350,_tbl!$A:$E,P$2,0))","v":"Urban"},{"$f":"IF($B350=\"\",\"\",VLOOKUP($B350,_tbl!$A:$E,Q$2,0))","v":"Infectious"},null,3.3313871659408699E-5,3.2472587375941102E-5]
[null,"all_m_Central Urban infectious.csv","35-39",5.1376448965176198E-5,5.1174144109725301E-5,5.11276666126903E-5,5.0940812432524403E-5,5.0873051156376097E-5,5.0752150256064303E-5,5.06975707932109E-5,5.0603308529497099E-5,5.0537913338234999E-5,5.0441471655872399E-5,{"$f":"IF($B351=\"\",\"\",VLOOKUP($B351,_tbl!$A:$E,N$2,0))","v":"Male"},{"$f":"IF($B351=\"\",\"\",VLOOKUP($B351,_tbl!$A:$E,O$2,0))","v":"Central"},{"$f":"IF($B351=\"\",\"\",VLOOKUP($B351,_tbl!$A:$E,P$2,0))","v":"Urban"},{"$f":"IF($B351=\"\",\"\",VLOOKUP($B351,_tbl!$A:$E,Q$2,0))","v":"Infectious"},null,5.1376448965176198E-5,5.0441471655872399E-5]
[null,"all_m_Central Urban infectious.csv","40-44",7.3316533259582895E-5,7.2703190564598605E-5,7.2301522777349795E-5,7.1697840688834494E-5,7.1279599218818505E-5,7.0800002158195795E-5,7.0448438175965794E-5,7.0039913279400305E-5,6.9674379167951998E-5,6.9236156498192605E-5,{"$f":"IF($B352=\"\",\"\",VLOOKUP($B352,_tbl!$A:$E,N$2,0))","v":"Male"},{"$f":"IF($B352=\"\",\"\",VLOOKUP($B352,_tbl!$A:$E,O$2,0))","v":"Central"},{"$f":"IF($B352=\"\",\"\",VLOOKUP($B352,_tbl!$A:$E,P$2,0))","v":"Urban"},{"$f":"IF($B352=\"\",\"\",VLOOKUP($B352,_tbl!$A:$E,Q$2,0))","v":"Infectious"},null,7.3316533259582895E-5,6.9236156498192605E-5]
[null,"all_m_Central Urban infectious.csv","45-49",1.06712956028821E-4,1.05847464446153E-4,1.0483403359263201E-4,1.03662368710716E-4,1.02387609322016E-4,1.00986074598235E-4,9.9559389256579199E-5,9.81028451800611E-5,9.6698271041857999E-5,9.5326282951015105E-5,{"$f":"IF($B353=\"\",\"\",VLOOKUP($B353,_tbl!$A:$E,N$2,0))","v":"Male"},{"$f":"IF($B353=\"\",\"\",VLOOKUP($B353,_tbl!$A:$E,O$2,0))","v":"Central"},{"$f":"IF($B353=\"\",\"\",VLOOKUP($B353,_tbl!$A:$E,P$2,0))","v":"Urban"},{"$f":"IF($B353=\"\",\"\",VLOOKUP($B353,_tbl!$A:$E,Q$2,0))","v":"Infectious"},null,1.06712956028821E-4,9.5326282951015105E-5]
[null,"all_m_Central Urban infectious.csv","50-54",1.58898447310232E-4,1.58052196545835E-4,1.5654482723905999E-4,1.5507924079658899E-4,1.5341474015452601E-4,1.5169774236648199E-4,1.4992053029724099E-4,1.48117858075266E-4,1.4633307366449099E-4,1.44557663237008E-4,{"$f":"IF($B354=\"\",\"\",VLOOKUP($B354,_tbl!$A:$E,N$2,0))","v":"Male"},{"$f":"IF($B354=\"\",\"\",VLOOKUP($B354,_tbl!$A:$E,O$2,0))","v":"Central"},{"$f":"IF($B354=\"\",\"\",VLOOKUP($B354,_tbl!$A:$E,P$2,0))","v":"Urban"},{"$f":"IF($B354=\"\",\"\",VLOOKUP($B354,_tbl!$A:$E,Q$2,0))","v":"Infectious"},null,1.58898447310232E-4,1.44557663237008E-4]
[null,"all_m_Central Urban infectious.csv","55-59",2.2010345169107501E-4,2.1861269336273699E-4,2.16363183637003E-4,2.1389455370054899E-4,2.1120106637073101E-4,2.0836690947518299E-4,2.0550341910102201E-4,2.0256597312303499E-4,1.9965710289786899E-4,1.9670664881573399E-4,{"$f":"IF($B355=\"\",\"\",VLOOKUP($B355,_tbl!$A:$E,N$2,0))","v":"Male"},{"$f":"IF($B355=\"\",\"\",VLOOKUP($B355,_tbl!$A:$E,O$2,0))","v":"Central"},{"$f":"IF($B355=\"\",\"\",VLOOKUP($B355,_tbl!$A:$E,P$2,0))","v":"Urban"},{"$f":"IF($B355=\"\",\"\",VLOOKUP($B355,_tbl!$A:$E,Q$2,0))","v":"Infectious"},null,2.2010345169107501E-4,1.9670664881573399E-4]
[null,"all_m_Central Urban infectious.csv","60-64",3.0101087817247202E-4,3.0000874409429501E-4,2.9785862041844E-4,2.9540148331538E-4,2.9259321584827199E-4,2.8962895403762998E-4,2.8657240853343301E-4,2.8341705394993398E-4,2.8024242099107299E-4,2.7700932216299001E-4,{"$f":"IF($B356=\"\",\"\",VLOOKUP($B356,_tbl!$A:$E,N$2,0))","v":"Male"},{"$f":"IF($B356=\"\",\"\",VLOOKUP($B356,_tbl!$A:$E,O$2,0))","v":"Central"},{"$f":"IF($B356=\"\",\"\",VLOOKUP($B356,_tbl!$A:$E,P$2,0))","v":"Urban"},{"$f":"IF($B356=\"\",\"\",VLOOKUP($B356,_tbl!$A:$E,Q$2,0))","v":"Infectious"},null,3.0101087817247202E-4,2.7700932216299001E-4]
[null,"all_m_Central Urban infectious.csv","65-69",4.1593780242385898E-4,4.1133119160428698E-4,4.0454255733317698E-4,3.9811403496911401E-4,3.91102455237864E-4,3.8423007984689299E-4,3.7723457389048998E-4,3.70248566626921E-4,3.6323738852876502E-4,3.5621507332571502E-4,{"$f":"IF($B357=\"\",\"\",VLOOKUP($B357,_tbl!$A:$E,N$2,0))","v":"Male"},{"$f":"IF($B357=\"\",\"\",VLOOKUP($B357,_tbl!$A:$E,O$2,0))","v":"Central"},{"$f":"IF($B357=\"\",\"\",VLOOKUP($B357,_tbl!$A:$E,P$2,0))","v":"Urban"},{"$f":"IF($B357=\"\",\"\",VLOOKUP($B357,_tbl!$A:$E,Q$2,0))","v":"Infectious"},null,4.1593780242385898E-4,3.5621507332571502E-4]
[null,"all_m_Central Urban infectious.csv","70-74",7.1131137840071295E-4,6.9998056811269903E-4,6.8394472731087095E-4,6.69604464190228E-4,6.5364579406867204E-4,6.38076786984224E-4,6.2209163719336498E-4,6.0627531932478003E-4,5.9050240106255601E-4,5.7491002513444898E-4,{"$f":"IF($B358=\"\",\"\",VLOOKUP($B358,_tbl!$A:$E,N$2,0))","v":"Male"},{"$f":"IF($B358=\"\",\"\",VLOOKUP($B358,_tbl!$A:$E,O$2,0))","v":"Central"},{"$f":"IF($B358=\"\",\"\",VLOOKUP($B358,_tbl!$A:$E,P$2,0))","v":"Urban"},{"$f":"IF($B358=\"\",\"\",VLOOKUP($B358,_tbl!$A:$E,Q$2,0))","v":"Infectious"},null,7.1131137840071295E-4,5.7491002513444898E-4]
[null,"all_m_Central Urban infectious.csv","75-79",1.5535550572554201E-3,1.5292476643226601E-3,1.49673745517535E-3,1.46783649197285E-3,1.4323306677124601E-3,1.3945425912657199E-3,1.3536909164154501E-3,1.3128317823559699E-3,1.27326467528185E-3,1.2362151087881E-3,{"$f":"IF($B359=\"\",\"\",VLOOKUP($B359,_tbl!$A:$E,N$2,0))","v":"Male"},{"$f":"IF($B359=\"\",\"\",VLOOKUP($B359,_tbl!$A:$E,O$2,0))","v":"Central"},{"$f":"IF($B359=\"\",\"\",VLOOKUP($B359,_tbl!$A:$E,P$2,0))","v":"Urban"},{"$f":"IF($B359=\"\",\"\",VLOOKUP($B359,_tbl!$A:$E,Q$2,0))","v":"Infectious"},null,1.5535550572554201E-3,1.2362151087881E-3]
[null,"all_m_Central Urban infectious.csv","80-84",4.5062213976315097E-3,4.5288593155778899E-3,4.5527977856281102E-3,4.5734652124866703E-3,4.5808602195714903E-3,4.5791505325899701E-3,4.57110416942688E-3,4.5624060530267199E-3,4.5564531882691696E-3,4.5553984665098798E-3,{"$f":"IF($B360=\"\",\"\",VLOOKUP($B360,_tbl!$A:$E,N$2,0))","v":"Male"},{"$f":"IF($B360=\"\",\"\",VLOOKUP($B360,_tbl!$A:$E,O$2,0))","v":"Central"},{"$f":"IF($B360=\"\",\"\",VLOOKUP($B360,_tbl!$A:$E,P$2,0))","v":"Urban"},{"$f":"IF($B360=\"\",\"\",VLOOKUP($B360,_tbl!$A:$E,Q$2,0))","v":"Infectious"},null,4.5808602195714903E-3,4.5062213976315097E-3]
[null,"all_m_Central Urban infectious.csv","85+",1.1924693272948299E-2,1.2018334854479999E-2,1.21390376255002E-2,1.2226086806665299E-2,1.22405388988192E-2,1.22064955056545E-2,1.21459730433749E-2,1.20861441298957E-2,1.2042790040717601E-2,1.20233904084956E-2,{"$f":"IF($B361=\"\",\"\",VLOOKUP($B361,_tbl!$A:$E,N$2,0))","v":"Male"},{"$f":"IF($B361=\"\",\"\",VLOOKUP($B361,_tbl!$A:$E,O$2,0))","v":"Central"},{"$f":"IF($B361=\"\",\"\",VLOOKUP($B361,_tbl!$A:$E,P$2,0))","v":"Urban"},{"$f":"IF($B361=\"\",\"\",VLOOKUP($B361,_tbl!$A:$E,Q$2,0))","v":"Infectious"},null,1.22405388988192E-2,1.1924693272948299E-2]
[null,null,null,null,null,null,null,null,null,null,null,null,null,{"$f":"IF($B362=\"\",\"\",VLOOKUP($B362,_tbl!$A:$E,N$2,0))","v":""},{"$f":"IF($B362=\"\",\"\",VLOOKUP($B362,_tbl!$A:$E,O$2,0))","v":""},{"$f":"IF($B362=\"\",\"\",VLOOKUP($B362,_tbl!$A:$E,P$2,0))","v":""},{"$f":"IF($B362=\"\",\"\",VLOOKUP($B362,_tbl!$A:$E,Q$2,0))","v":""}]
[null,null,null,2020,2021,2022,2023,2024,2025,2026,2027,2028,2029,{"$f":"IF($B363=\"\",\"\",VLOOKUP($B363,_tbl!$A:$E,N$2,0))","v":""},{"$f":"IF($B363=\"\",\"\",VLOOKUP($B363,_tbl!$A:$E,O$2,0))","v":""},{"$f":"IF($B363=\"\",\"\",VLOOKUP($B363,_tbl!$A:$E,P$2,0))","v":""},{"$f":"IF($B363=\"\",\"\",VLOOKUP($B363,_tbl!$A:$E,Q$2,0))","v":""}]
[null,"all_m_Central Urban mental.csv","1-4",3.1698928269997002E-5,3.1475960904852398E-5,3.1450135564813897E-5,3.1245338087807401E-5,3.1175054457724401E-5,3.1126993638167798E-5,3.1037236831875401E-5,3.09941839978497E-5,3.09446931164691E-5,3.0859340193015899E-5,{"$f":"IF($B364=\"\",\"\",VLOOKUP($B364,_tbl!$A:$E,N$2,0))","v":"Male"},{"$f":"IF($B364=\"\",\"\",VLOOKUP($B364,_tbl!$A:$E,O$2,0))","v":"Central"},{"$f":"IF($B364=\"\",\"\",VLOOKUP($B364,_tbl!$A:$E,P$2,0))","v":"Urban"},{"$f":"IF($B364=\"\",\"\",VLOOKUP($B364,_tbl!$A:$E,Q$2,0))","v":"Mental"},null,{"$f":"MAX(D364:M364)","v":3.1698928269997002E-5},{"$f":"MIN(D364:M364)","v":3.0859340193015899E-5}]
[null,"all_m_Central Urban mental.csv","5-9",1.62275633472375E-5,1.6138453607789999E-5,1.6052139179706E-5,1.59394758129134E-5,1.5857546184620702E-5,1.5785214953513399E-5,1.5700847156893201E-5,1.5631706126874502E-5,1.5562973780023601E-5,1.5483682054535E-5,{"$f":"IF($B365=\"\",\"\",VLOOKUP($B365,_tbl!$A:$E,N$2,0))","v":"Male"},{"$f":"IF($B365=\"\",\"\",VLOOKUP($B365,_tbl!$A:$E,O$2,0))","v":"Central"},{"$f":"IF($B365=\"\",\"\",VLOOKUP($B365,_tbl!$A:$E,P$2,0))","v":"Urban"},{"$f":"IF($B365=\"\",\"\",VLOOKUP($B365,_tbl!$A:$E,Q$2,0))","v":"Mental"},null,1.62275633472375E-5,1.5483682054535E-5]
[null,"all_m_Central Urban mental.csv","10-14",1.6252004332692499E-5,1.6151646112108001E-5,1.6115833380284901E-5,1.5979387314624099E-5,1.59306375009238E-5,1.5897555114331401E-5,1.5853760226997201E-5,1.58322734691654E-5,1.5812171160097201E-5,1.5763564961981201E-5,{"$f":"IF($B366=\"\",\"\",VLOOKUP($B366,_tbl!$A:$E,N$2,0))","v":"Male"},{"$f":"IF($B366=\"\",\"\",VLOOKUP($B366,_tbl!$A:$E,O$2,0))","v":"Central"},{"$f":"IF($B366=\"\",\"\",VLOOKUP($B366,_tbl!$A:$E,P$2,0))","v":"Urban"},{"$f":"IF($B366=\"\",\"\",VLOOKUP($B366,_tbl!$A:$E,Q$2,0))","v":"Mental"},null,1.6252004332692499E-5,1.5763564961981201E-5]
[null,"all_m_Central Urban mental.csv","15-19",1.7420592914649401E-5,1.7304735152002999E-5,1.7149067025916299E-5,1.702929324889E-5,1.6893476273114201E-5,1.6775196716420901E-5,1.6644076808192299E-5,1.6521461301149399E-5,1.6397616428642799E-5,1.6266784160957701E-5,{"$f":"IF($B367=\"\",\"\",VLOOKUP($B367,_tbl!$A:$E,N$2,0))","v":"Male"},{"$f":"IF($B367=\"\",\"\",VLOOKUP($B367,_tbl!$A:$E,O$2,0))","v":"Central"},{"$f":"IF($B367=\"\",\"\",VLOOKUP($B367,_tbl!$A:$E,P$2,0))","v":"Urban"},{"$f":"IF($B367=\"\",\"\",VLOOKUP($B367,_tbl!$A:$E,Q$2,0))","v":"Mental"},null,1.7420592914649401E-5,1.6266784160957701E-5]
[null,"all_m_Central Urban mental.csv","20-24",1.80458067909918E-5,1.8027984494016598E-5,1.7959349091773801E-5,1.79304675953878E-5,1.78406701308661E-5,1.7719408500724601E-5,1.7568071360455798E-5,1.74097844854258E-5,1.72577013673672E-5,1.71158639657436E-5,{"$f":"IF($B368=\"\",\"\",VLOOKUP($B368,_tbl!$A:$E,N$2,0))","v":"Male"},{"$f":"IF($B368=\"\",\"\",VLOOKUP($B368,_tbl!$A:$E,O$2,0))","v":"Central"},{"$f":"IF($B368=\"\",\"\",VLOOKUP($B368,_tbl!$A:$E,P$2,0))","v":"Urban"},{"$f":"IF($B368=\"\",\"\",VLOOKUP($B368,_tbl!$A:$E,Q$2,0))","v":"Mental"},null,1.80458067909918E-5,1.71158639657436E-5]
[null,"all_m_Central Urban mental.csv","25-29",1.9784509826711398E-5,1.974530123155E-5,1.9638564313933999E-5,1.9555535695803798E-5,1.9476947344918899E-5,1.94176721630655E-5,1.9367206876243901E-5,1.9321262051166699E-5,1.92752818304533E-5,1.92236623792785E-5,{"$f":"IF($B369=\"\",\"\",VLOOKUP($B369,_tbl!$A:$E,N$2,0))","v":"Male"},{"$f":"IF($B369=\"\",\"\",VLOOKUP($B369,_tbl!$A:$E,O$2,0))","v":"Central"},{"$f":"IF($B369=\"\",\"\",VLOOKUP($B369,_tbl!$A:$E,P$2,0))","v":"Urban"},{"$f":"IF($B369=\"\",\"\",VLOOKUP($B369,_tbl!$A:$E,Q$2,0))","v":"Mental"},null,1.9784509826711398E-5,1.92236623792785E-5]
[null,"all_m_Central Urban mental.csv","30-34",2.3398748432122099E-5,2.3335817290348401E-5,2.3226586642002399E-5,2.3134657530208601E-5,2.3075387391237499E-5,2.3054537094314498E-5,2.3057661183395401E-5,2.3069138012125602E-5,2.3076478237503198E-5,2.3074224115192499E-5,{"$f":"IF($B370=\"\",\"\",VLOOKUP($B370,_tbl!$A:$E,N$2,0))","v":"Male"},{"$f":"IF($B370=\"\",\"\",VLOOKUP($B370,_tbl!$A:$E,O$2,0))","v":"Central"},{"$f":"IF($B370=\"\",\"\",VLOOKUP($B370,_tbl!$A:$E,P$2,0))","v":"Urban"},{"$f":"IF($B370=\"\",\"\",VLOOKUP($B370,_tbl!$A:$E,Q$2,0))","v":"Mental"},null,2.3398748432122099E-5,2.3054537094314498E-5]
[null,"all_m_Central Urban mental.csv","35-39",2.8224625711019299E-5,2.8074695885157599E-5,2.7872824945552099E-5,2.7685366702351701E-5,2.75008740527779E-5,2.7329769150913101E-5,2.7167333583623699E-5,2.7003625027417801E-5,2.6838970873973701E-5,2.66659005482227E-5,{"$f":"IF($B371=\"\",\"\",VLOOKUP($B371,_tbl!$A:$E,N$2,0))","v":"Male"},{"$f":"IF($B371=\"\",\"\",VLOOKUP($B371,_tbl!$A:$E,O$2,0))","v":"Central"},{"$f":"IF($B371=\"\",\"\",VLOOKUP($B371,_tbl!$A:$E,P$2,0))","v":"Urban"},{"$f":"IF($B371=\"\",\"\",VLOOKUP($B371,_tbl!$A:$E,Q$2,0))","v":"Mental"},null,2.8224625711019299E-5,2.66659005482227E-5]
[null,"all_m_Central Urban mental.csv","40-44",3.2919882912695701E-5,3.2427511320642002E-5,3.1988382737645199E-5,3.1438996206347801E-5,3.1012397582460099E-5,3.0547001726382699E-5,3.0177101822894801E-5,2.9760634494516301E-5,2.9379622762296099E-5,2.8940829144937598E-5,{"$f":"IF($B372=\"\",\"\",VLOOKUP($B372,_tbl!$A:$E,N$2,0))","v":"Male"},{"$f":"IF($B372=\"\",\"\",VLOOKUP($B372,_tbl!$A:$E,O$2,0))","v":"Central"},{"$f":"IF($B372=\"\",\"\",VLOOKUP($B372,_tbl!$A:$E,P$2,0))","v":"Urban"},{"$f":"IF($B372=\"\",\"\",VLOOKUP($B372,_tbl!$A:$E,Q$2,0))","v":"Mental"},null,3.2919882912695701E-5,2.8940829144937598E-5]
[null,"all_m_Central Urban mental.csv","45-49",4.0637411472856002E-5,4.0362101964471701E-5,4.0131108604450803E-5,3.98232291462118E-5,3.9459506824371198E-5,3.9027622108106197E-5,3.8558341183288001E-5,3.8080971643961702E-5,3.7623585500212097E-5,3.7204197344980199E-5,{"$f":"IF($B373=\"\",\"\",VLOOKUP($B373,_tbl!$A:$E,N$2,0))","v":"Male"},{"$f":"IF($B373=\"\",\"\",VLOOKUP($B373,_tbl!$A:$E,O$2,0))","v":"Central"},{"$f":"IF($B373=\"\",\"\",VLOOKUP($B373,_tbl!$A:$E,P$2,0))","v":"Urban"},{"$f":"IF($B373=\"\",\"\",VLOOKUP($B373,_tbl!$A:$E,Q$2,0))","v":"Mental"},null,4.0637411472856002E-5,3.7204197344980199E-5]
[null,"all_m_Central Urban mental.csv","50-54",5.1252076257407503E-5,5.1187424607230801E-5,5.1145780004947898E-5,5.1041678143710601E-5,5.0879876705311801E-5,5.0690580855188103E-5,5.04555154668046E-5,5.0232032415037901E-5,5.0001331165170202E-5,4.9806502649990299E-5,{"$f":"IF($B374=\"\",\"\",VLOOKUP($B374,_tbl!$A:$E,N$2,0))","v":"Male"},{"$f":"IF($B374=\"\",\"\",VLOOKUP($B374,_tbl!$A:$E,O$2,0))","v":"Central"},{"$f":"IF($B374=\"\",\"\",VLOOKUP($B374,_tbl!$A:$E,P$2,0))","v":"Urban"},{"$f":"IF($B374=\"\",\"\",VLOOKUP($B374,_tbl!$A:$E,Q$2,0))","v":"Mental"},null,5.1252076257407503E-5,4.9806502649990299E-5]
[null,"all_m_Central Urban mental.csv","55-59",6.9441360715788105E-5,6.9523907719611395E-5,6.9610668100631194E-5,6.9695245634729505E-5,6.9753202929600107E-5,6.98306784456062E-5,6.9884638298649799E-5,6.99603409315957E-5,7.0016557641291598E-5,7.0088882362768202E-5,{"$f":"IF($B375=\"\",\"\",VLOOKUP($B375,_tbl!$A:$E,N$2,0))","v":"Male"},{"$f":"IF($B375=\"\",\"\",VLOOKUP($B375,_tbl!$A:$E,O$2,0))","v":"Central"},{"$f":"IF($B375=\"\",\"\",VLOOKUP($B375,_tbl!$A:$E,P$2,0))","v":"Urban"},{"$f":"IF($B375=\"\",\"\",VLOOKUP($B375,_tbl!$A:$E,Q$2,0))","v":"Mental"},null,7.0088882362768202E-5,6.9441360715788105E-5]
[null,"all_m_Central Urban mental.csv","60-64",1.01899112230128E-4,1.0212488377748E-4,1.0241018771777101E-4,1.02685887952945E-4,1.0295838152952299E-4,1.03237607632038E-4,1.0351539730805E-4,1.03805747090536E-4,1.04090318860378E-4,1.04378783326297E-4,{"$f":"IF($B376=\"\",\"\",VLOOKUP($B376,_tbl!$A:$E,N$2,0))","v":"Male"},{"$f":"IF($B376=\"\",\"\",VLOOKUP($B376,_tbl!$A:$E,O$2,0))","v":"Central"},{"$f":"IF($B376=\"\",\"\",VLOOKUP($B376,_tbl!$A:$E,P$2,0))","v":"Urban"},{"$f":"IF($B376=\"\",\"\",VLOOKUP($B376,_tbl!$A:$E,Q$2,0))","v":"Mental"},null,1.04378783326297E-4,1.01899112230128E-4]
[null,"all_m_Central Urban mental.csv","65-69",1.5497883953700001E-4,1.5429551449438201E-4,1.5343860035937399E-4,1.52674033818032E-4,1.51856559513191E-4,1.51088107490829E-4,1.5032296015070901E-4,1.49577160235315E-4,1.4882779784976301E-4,1.4807217664802001E-4,{"$f":"IF($B377=\"\",\"\",VLOOKUP($B377,_tbl!$A:$E,N$2,0))","v":"Male"},{"$f":"IF($B377=\"\",\"\",VLOOKUP($B377,_tbl!$A:$E,O$2,0))","v":"Central"},{"$f":"IF($B377=\"\",\"\",VLOOKUP($B377,_tbl!$A:$E,P$2,0))","v":"Urban"},{"$f":"IF($B377=\"\",\"\",VLOOKUP($B377,_tbl!$A:$E,Q$2,0))","v":"Mental"},null,1.5497883953700001E-4,1.4807217664802001E-4]
[null,"all_m_Central Urban mental.csv","70-74",2.7775319367147902E-4,2.7566023527947001E-4,2.7252592070350001E-4,2.69729830123024E-4,2.6658400113346099E-4,2.6351763635002899E-4,2.60353220629322E-4,2.5722050181692499E-4,2.5408875490949898E-4,2.5099434395519401E-4,{"$f":"IF($B378=\"\",\"\",VLOOKUP($B378,_tbl!$A:$E,N$2,0))","v":"Male"},{"$f":"IF($B378=\"\",\"\",VLOOKUP($B378,_tbl!$A:$E,O$2,0))","v":"Central"},{"$f":"IF($B378=\"\",\"\",VLOOKUP($B378,_tbl!$A:$E,P$2,0))","v":"Urban"},{"$f":"IF($B378=\"\",\"\",VLOOKUP($B378,_tbl!$A:$E,Q$2,0))","v":"Mental"},null,2.7775319367147902E-4,2.5099434395519401E-4]
[null,"all_m_Central Urban mental.csv","75-79",6.1058997738962402E-4,6.0958663094715895E-4,6.0737687070099901E-4,6.0541451067705303E-4,6.0129379791236197E-4,5.9621832166535801E-4,5.90290021125927E-4,5.8439051746435105E-4,5.78861329917937E-4,5.7394591275943202E-4,{"$f":"IF($B379=\"\",\"\",VLOOKUP($B379,_tbl!$A:$E,N$2,0))","v":"Male"},{"$f":"IF($B379=\"\",\"\",VLOOKUP($B379,_tbl!$A:$E,O$2,0))","v":"Central"},{"$f":"IF($B379=\"\",\"\",VLOOKUP($B379,_tbl!$A:$E,P$2,0))","v":"Urban"},{"$f":"IF($B379=\"\",\"\",VLOOKUP($B379,_tbl!$A:$E,Q$2,0))","v":"Mental"},null,6.1058997738962402E-4,5.7394591275943202E-4]
[null,"all_m_Central Urban mental.csv","80-84",1.5039025317762E-3,1.50771455709695E-3,1.50569535565229E-3,1.5053793146340699E-3,1.50268154886012E-3,1.5014666861883201E-3,1.5008365124494999E-3,1.5013424181159001E-3,1.5015578401607801E-3,1.50077885294798E-3,{"$f":"IF($B380=\"\",\"\",VLOOKUP($B380,_tbl!$A:$E,N$2,0))","v":"Male"},{"$f":"IF($B380=\"\",\"\",VLOOKUP($B380,_tbl!$A:$E,O$2,0))","v":"Central"},{"$f":"IF($B380=\"\",\"\",VLOOKUP($B380,_tbl!$A:$E,P$2,0))","v":"Urban"},{"$f":"IF($B380=\"\",\"\",VLOOKUP($B380,_tbl!$A:$E,Q$2,0))","v":"Mental"},null,1.50771455709695E-3,1.50077885294798E-3]
[null,"all_m_Central Urban mental.csv","85+",3.4164680884934901E-3,3.4391055567401701E-3,3.4531174797688799E-3,3.4611527173913602E-3,3.4571745357558502E-3,3.4569140397759999E-3,3.4638904424967401E-3,3.4794595317381399E-3,3.49465145243197E-3,3.50116990610098E-3,{"$f":"IF($B381=\"\",\"\",VLOOKUP($B381,_tbl!$A:$E,N$2,0))","v":"Male"},{"$f":"IF($B381=\"\",\"\",VLOOKUP($B381,_tbl!$A:$E,O$2,0))","v":"Central"},{"$f":"IF($B381=\"\",\"\",VLOOKUP($B381,_tbl!$A:$E,P$2,0))","v":"Urban"},{"$f":"IF($B381=\"\",\"\",VLOOKUP($B381,_tbl!$A:$E,Q$2,0))","v":"Mental"},null,3.50116990610098E-3,3.4164680884934901E-3]
[null,null,null,null,null,null,null,null,null,null,null,null,null,{"$f":"IF($B382=\"\",\"\",VLOOKUP($B382,_tbl!$A:$E,N$2,0))","v":""},{"$f":"IF($B382=\"\",\"\",VLOOKUP($B382,_tbl!$A:$E,O$2,0))","v":""},{"$f":"IF($B382=\"\",\"\",VLOOKUP($B382,_tbl!$A:$E,P$2,0))","v":""},{"$f":"IF($B382=\"\",\"\",VLOOKUP($B382,_tbl!$A:$E,Q$2,0))","v":""}]
[null,null,null,2020,2021,2022,2023,2024,2025,2026,2027,2028,2029,{"$f":"IF($B383=\"\",\"\",VLOOKUP($B383,_tbl!$A:$E,N$2,0))","v":""},{"$f":"IF($B383=\"\",\"\",VLOOKUP($B383,_tbl!$A:$E,O$2,0))","v":""},{"$f":"IF($B383=\"\",\"\",VLOOKUP($B383,_tbl!$A:$E,P$2,0))","v":""},{"$f":"IF($B383=\"\",\"\",VLOOKUP($B383,_tbl!$A:$E,Q$2,0))","v":""}]
[null,"all_m_Central Urban other.csv","1-4",2.8953512690652301E-5,2.82470751621536E-5,2.6272727908437199E-5,2.50495677330087E-5,2.3546852131876801E-5,2.24522122278436E-5,2.1202288534346099E-5,2.0168505885839899E-5,1.91442424427951E-5,1.8156004135381399E-5,{"$f":"IF($B384=\"\",\"\",VLOOKUP($B384,_tbl!$A:$E,N$2,0))","v":"Male"},{"$f":"IF($B384=\"\",\"\",VLOOKUP($B384,_tbl!$A:$E,O$2,0))","v":"Central"},{"$f":"IF($B384=\"\",\"\",VLOOKUP($B384,_tbl!$A:$E,P$2,0))","v":"Urban"},{"$f":"IF($B384=\"\",\"\",VLOOKUP($B384,_tbl!$A:$E,Q$2,0))","v":"Other"},null,{"$f":"MAX(D384:M384)","v":2.8953512690652301E-5},{"$f":"MIN(D384:M384)","v":1.8156004135381399E-5}]
[null,"all_m_Central Urban other.csv","5-9",1.5270701917427899E-5,1.49334040597192E-5,1.39664508027312E-5,1.33656641744326E-5,1.26193035925239E-5,1.2034422873516199E-5,1.13795312306651E-5,1.08120197068731E-5,1.02457870951999E-5,9.6990557749638505E-6,{"$f":"IF($B385=\"\",\"\",VLOOKUP($B385,_tbl!$A:$E,N$2,0))","v":"Male"},{"$f":"IF($B385=\"\",\"\",VLOOKUP($B385,_tbl!$A:$E,O$2,0))","v":"Central"},{"$f":"IF($B385=\"\",\"\",VLOOKUP($B385,_tbl!$A:$E,P$2,0))","v":"Urban"},{"$f":"IF($B385=\"\",\"\",VLOOKUP($B385,_tbl!$A:$E,Q$2,0))","v":"Other"},null,1.5270701917427899E-5,9.6990557749638505E-6]
[null,"all_m_Central Urban other.csv","10-14",1.5825784688283001E-5,1.5492499387347901E-5,1.4664035983810601E-5,1.4091566833105801E-5,1.3459838020064E-5,1.29967850977114E-5,1.24874601743393E-5,1.2062562153470999E-5,1.1630008434511201E-5,1.1188159317915701E-5,{"$f":"IF($B386=\"\",\"\",VLOOKUP($B386,_tbl!$A:$E,N$2,0))","v":"Male"},{"$f":"IF($B386=\"\",\"\",VLOOKUP($B386,_tbl!$A:$E,O$2,0))","v":"Central"},{"$f":"IF($B386=\"\",\"\",VLOOKUP($B386,_tbl!$A:$E,P$2,0))","v":"Urban"},{"$f":"IF($B386=\"\",\"\",VLOOKUP($B386,_tbl!$A:$E,Q$2,0))","v":"Other"},null,1.5825784688283001E-5,1.1188159317915701E-5]
[null,"all_m_Central Urban other.csv","15-19",1.7519748544753901E-5,1.7120473082314902E-5,1.6034211179649799E-5,1.5351776080301998E-5,1.4544827015539901E-5,1.3942064015572001E-5,1.33114060993317E-5,1.27645502520595E-5,1.2204749877074999E-5,1.16501736350567E-5,{"$f":"IF($B387=\"\",\"\",VLOOKUP($B387,_tbl!$A:$E,N$2,0))","v":"Male"},{"$f":"IF($B387=\"\",\"\",VLOOKUP($B387,_tbl!$A:$E,O$2,0))","v":"Central"},{"$f":"IF($B387=\"\",\"\",VLOOKUP($B387,_tbl!$A:$E,P$2,0))","v":"Urban"},{"$f":"IF($B387=\"\",\"\",VLOOKUP($B387,_tbl!$A:$E,Q$2,0))","v":"Other"},null,1.7519748544753901E-5,1.16501736350567E-5]
[null,"all_m_Central Urban other.csv","20-24",1.9731246764986399E-5,1.9391759935953999E-5,1.81289264056891E-5,1.7474867548832299E-5,1.65270107193668E-5,1.5781600441222699E-5,1.4960391457607001E-5,1.42291293377606E-5,1.3501228558789601E-5,1.2827760630873E-5,{"$f":"IF($B388=\"\",\"\",VLOOKUP($B388,_tbl!$A:$E,N$2,0))","v":"Male"},{"$f":"IF($B388=\"\",\"\",VLOOKUP($B388,_tbl!$A:$E,O$2,0))","v":"Central"},{"$f":"IF($B388=\"\",\"\",VLOOKUP($B388,_tbl!$A:$E,P$2,0))","v":"Urban"},{"$f":"IF($B388=\"\",\"\",VLOOKUP($B388,_tbl!$A:$E,Q$2,0))","v":"Other"},null,1.9731246764986399E-5,1.2827760630873E-5]
[null,"all_m_Central Urban other.csv","25-29",2.7346922358894701E-5,2.6616665692752899E-5,2.4644830369641699E-5,2.34140383464856E-5,2.1959719358132399E-5,2.08436922853743E-5,1.9722998990394299E-5,1.87255273009457E-5,1.7745403971133899E-5,1.6787182224040999E-5,{"$f":"IF($B389=\"\",\"\",VLOOKUP($B389,_tbl!$A:$E,N$2,0))","v":"Male"},{"$f":"IF($B389=\"\",\"\",VLOOKUP($B389,_tbl!$A:$E,O$2,0))","v":"Central"},{"$f":"IF($B389=\"\",\"\",VLOOKUP($B389,_tbl!$A:$E,P$2,0))","v":"Urban"},{"$f":"IF($B389=\"\",\"\",VLOOKUP($B389,_tbl!$A:$E,Q$2,0))","v":"Other"},null,2.7346922358894701E-5,1.6787182224040999E-5]
[null,"all_m_Central Urban other.csv","30-34",4.2555611856984303E-5,4.1473208343617702E-5,3.8521342300014403E-5,3.6707648617895097E-5,3.46120684406732E-5,3.3131539872157299E-5,3.1671000304254298E-5,3.04217801547225E-5,2.9142245005776101E-5,2.78951041962624E-5,{"$f":"IF($B390=\"\",\"\",VLOOKUP($B390,_tbl!$A:$E,N$2,0))","v":"Male"},{"$f":"IF($B390=\"\",\"\",VLOOKUP($B390,_tbl!$A:$E,O$2,0))","v":"Central"},{"$f":"IF($B390=\"\",\"\",VLOOKUP($B390,_tbl!$A:$E,P$2,0))","v":"Urban"},{"$f":"IF($B390=\"\",\"\",VLOOKUP($B390,_tbl!$A:$E,Q$2,0))","v":"Other"},null,4.2555611856984303E-5,2.78951041962624E-5]
[null,"all_m_Central Urban other.csv","35-39",5.43614987395433E-5,5.2974153831649199E-5,4.9395120797588001E-5,4.71511140058044E-5,4.4389803450000803E-5,4.21109450989457E-5,3.9783629222708898E-5,3.7624048152955403E-5,3.5518086323594202E-5,3.3478078834748503E-5,{"$f":"IF($B391=\"\",\"\",VLOOKUP($B391,_tbl!$A:$E,N$2,0))","v":"Male"},{"$f":"IF($B391=\"\",\"\",VLOOKUP($B391,_tbl!$A:$E,O$2,0))","v":"Central"},{"$f":"IF($B391=\"\",\"\",VLOOKUP($B391,_tbl!$A:$E,P$2,0))","v":"Urban"},{"$f":"IF($B391=\"\",\"\",VLOOKUP($B391,_tbl!$A:$E,Q$2,0))","v":"Other"},null,5.43614987395433E-5,3.3478078834748503E-5]
[null,"all_m_Central Urban other.csv","40-44",6.5590246545473599E-5,6.4024383949167594E-5,5.9584110037190403E-5,5.6930800707589898E-5,5.34936035168555E-5,5.0669694177717498E-5,4.7716555281324199E-5,4.5004053979748498E-5,4.23519192871031E-5,3.9823246068120403E-5,{"$f":"IF($B392=\"\",\"\",VLOOKUP($B392,_tbl!$A:$E,N$2,0))","v":"Male"},{"$f":"IF($B392=\"\",\"\",VLOOKUP($B392,_tbl!$A:$E,O$2,0))","v":"Central"},{"$f":"IF($B392=\"\",\"\",VLOOKUP($B392,_tbl!$A:$E,P$2,0))","v":"Urban"},{"$f":"IF($B392=\"\",\"\",VLOOKUP($B392,_tbl!$A:$E,Q$2,0))","v":"Other"},null,6.5590246545473599E-5,3.9823246068120403E-5]
[null,"all_m_Central Urban other.csv","45-49",8.7199254906712996E-5,8.5247506498969995E-5,7.9252035191598299E-5,7.5520422696351901E-5,7.0593692801984597E-5,6.6439344497366403E-5,6.2009705458552898E-5,5.7886967196660599E-5,5.3788840527201199E-5,4.9858939289093901E-5,{"$f":"IF($B393=\"\",\"\",VLOOKUP($B393,_tbl!$A:$E,N$2,0))","v":"Male"},{"$f":"IF($B393=\"\",\"\",VLOOKUP($B393,_tbl!$A:$E,O$2,0))","v":"Central"},{"$f":"IF($B393=\"\",\"\",VLOOKUP($B393,_tbl!$A:$E,P$2,0))","v":"Urban"},{"$f":"IF($B393=\"\",\"\",VLOOKUP($B393,_tbl!$A:$E,Q$2,0))","v":"Other"},null,8.7199254906712996E-5,4.9858939289093901E-5]
[null,"all_m_Central Urban other.csv","50-54",1.3677059417358201E-4,1.34926737007882E-4,1.27912876906315E-4,1.2377310324262599E-4,1.18055897646354E-4,1.1335909948747599E-4,1.08247479111493E-4,1.0353009739807599E-4,9.8759167231169296E-5,9.4166118243711405E-5,{"$f":"IF($B394=\"\",\"\",VLOOKUP($B394,_tbl!$A:$E,N$2,0))","v":"Male"},{"$f":"IF($B394=\"\",\"\",VLOOKUP($B394,_tbl!$A:$E,O$2,0))","v":"Central"},{"$f":"IF($B394=\"\",\"\",VLOOKUP($B394,_tbl!$A:$E,P$2,0))","v":"Urban"},{"$f":"IF($B394=\"\",\"\",VLOOKUP($B394,_tbl!$A:$E,Q$2,0))","v":"Other"},null,1.3677059417358201E-4,9.4166118243711405E-5]
[null,"all_m_Central Urban other.csv","55-59",2.10550866228491E-4,2.0916639927498899E-4,2.01229529805747E-4,1.9729816234408099E-4,1.91195584886996E-4,1.86548469689089E-4,1.81223849417439E-4,1.76501030361422E-4,1.71625841187244E-4,1.6706458752722199E-4,{"$f":"IF($B395=\"\",\"\",VLOOKUP($B395,_tbl!$A:$E,N$2,0))","v":"Male"},{"$f":"IF($B395=\"\",\"\",VLOOKUP($B395,_tbl!$A:$E,O$2,0))","v":"Central"},{"$f":"IF($B395=\"\",\"\",VLOOKUP($B395,_tbl!$A:$E,P$2,0))","v":"Urban"},{"$f":"IF($B395=\"\",\"\",VLOOKUP($B395,_tbl!$A:$E,Q$2,0))","v":"Other"},null,2.10550866228491E-4,1.6706458752722199E-4]
[null,"all_m_Central Urban other.csv","60-64",2.8790360996282E-4,2.8494453091137002E-4,2.7166580801954698E-4,2.6494110903815902E-4,2.5510741281388802E-4,2.4774308339914E-4,2.3950545772263401E-4,2.3223716554076501E-4,2.24781394067095E-4,2.17776515420897E-4,{"$f":"IF($B396=\"\",\"\",VLOOKUP($B396,_tbl!$A:$E,N$2,0))","v":"Male"},{"$f":"IF($B396=\"\",\"\",VLOOKUP($B396,_tbl!$A:$E,O$2,0))","v":"Central"},{"$f":"IF($B396=\"\",\"\",VLOOKUP($B396,_tbl!$A:$E,P$2,0))","v":"Urban"},{"$f":"IF($B396=\"\",\"\",VLOOKUP($B396,_tbl!$A:$E,Q$2,0))","v":"Other"},null,2.8790360996282E-4,2.17776515420897E-4]
[null,"all_m_Central Urban other.csv","65-69",3.4749982465642098E-4,3.3824294105926902E-4,3.1065076620475799E-4,2.9465484633053299E-4,2.7339168909866599E-4,2.5651537701886E-4,2.3842565866607601E-4,2.22096952338474E-4,2.05664781226955E-4,1.90043081082446E-4,{"$f":"IF($B397=\"\",\"\",VLOOKUP($B397,_tbl!$A:$E,N$2,0))","v":"Male"},{"$f":"IF($B397=\"\",\"\",VLOOKUP($B397,_tbl!$A:$E,O$2,0))","v":"Central"},{"$f":"IF($B397=\"\",\"\",VLOOKUP($B397,_tbl!$A:$E,P$2,0))","v":"Urban"},{"$f":"IF($B397=\"\",\"\",VLOOKUP($B397,_tbl!$A:$E,Q$2,0))","v":"Other"},null,3.4749982465642098E-4,1.90043081082446E-4]
[null,"all_m_Central Urban other.csv","70-74",5.2010238522529897E-4,5.0203640436468602E-4,4.5032539838694199E-4,4.1989055274463101E-4,3.7963694803093E-4,3.4693699326268E-4,3.1211552887790199E-4,2.8052447987973001E-4,2.4924746777739703E-4,2.1981200815919999E-4,{"$f":"IF($B398=\"\",\"\",VLOOKUP($B398,_tbl!$A:$E,N$2,0))","v":"Male"},{"$f":"IF($B398=\"\",\"\",VLOOKUP($B398,_tbl!$A:$E,O$2,0))","v":"Central"},{"$f":"IF($B398=\"\",\"\",VLOOKUP($B398,_tbl!$A:$E,P$2,0))","v":"Urban"},{"$f":"IF($B398=\"\",\"\",VLOOKUP($B398,_tbl!$A:$E,Q$2,0))","v":"Other"},null,5.2010238522529897E-4,2.1981200815919999E-4]
[null,"all_m_Central Urban other.csv","75-79",1.1555281158212899E-3,1.12038683246718E-3,1.0180658239239901E-3,9.5964327949366805E-4,8.8120363002641504E-4,8.1821647905252202E-4,7.5116854107331005E-4,6.9107348862667401E-4,6.32054921625672E-4,5.7713965542000902E-4,{"$f":"IF($B399=\"\",\"\",VLOOKUP($B399,_tbl!$A:$E,N$2,0))","v":"Male"},{"$f":"IF($B399=\"\",\"\",VLOOKUP($B399,_tbl!$A:$E,O$2,0))","v":"Central"},{"$f":"IF($B399=\"\",\"\",VLOOKUP($B399,_tbl!$A:$E,P$2,0))","v":"Urban"},{"$f":"IF($B399=\"\",\"\",VLOOKUP($B399,_tbl!$A:$E,Q$2,0))","v":"Other"},null,1.1555281158212899E-3,5.7713965542000902E-4]
[null,"all_m_Central Urban other.csv","80-84",3.1982676363298602E-3,3.1425483050697999E-3,2.93241515749379E-3,2.8196473187743001E-3,2.6403835836963101E-3,2.4820679755906999E-3,2.30024903885372E-3,2.1318354663613401E-3,1.9691062489985501E-3,1.8266195543601999E-3,{"$f":"IF($B400=\"\",\"\",VLOOKUP($B400,_tbl!$A:$E,N$2,0))","v":"Male"},{"$f":"IF($B400=\"\",\"\",VLOOKUP($B400,_tbl!$A:$E,O$2,0))","v":"Central"},{"$f":"IF($B400=\"\",\"\",VLOOKUP($B400,_tbl!$A:$E,P$2,0))","v":"Urban"},{"$f":"IF($B400=\"\",\"\",VLOOKUP($B400,_tbl!$A:$E,Q$2,0))","v":"Other"},null,3.1982676363298602E-3,1.8266195543601999E-3]
[null,"all_m_Central Urban other.csv","85+",9.6569442312379392E-3,9.6037086304738804E-3,9.2131756574603003E-3,9.0201309203345095E-3,8.6465960437965804E-3,8.3021480073362797E-3,7.8930464282748001E-3,7.5102887742638201E-3,7.1413411630317E-3,6.8216403647314702E-3,{"$f":"IF($B401=\"\",\"\",VLOOKUP($B401,_tbl!$A:$E,N$2,0))","v":"Male"},{"$f":"IF($B401=\"\",\"\",VLOOKUP($B401,_tbl!$A:$E,O$2,0))","v":"Central"},{"$f":"IF($B401=\"\",\"\",VLOOKUP($B401,_tbl!$A:$E,P$2,0))","v":"Urban"},{"$f":"IF($B401=\"\",\"\",VLOOKUP($B401,_tbl!$A:$E,Q$2,0))","v":"Other"},null,9.6569442312379392E-3,6.8216403647314702E-3]
[null,null,null,null,null,null,null,null,null,null,null,null,null,{"$f":"IF($B402=\"\",\"\",VLOOKUP($B402,_tbl!$A:$E,N$2,0))","v":""},{"$f":"IF($B402=\"\",\"\",VLOOKUP($B402,_tbl!$A:$E,O$2,0))","v":""},{"$f":"IF($B402=\"\",\"\",VLOOKUP($B402,_tbl!$A:$E,P$2,0))","v":""},{"$f":"IF($B402=\"\",\"\",VLOOKUP($B402,_tbl!$A:$E,Q$2,0))","v":""}]
[null,null,null,2020,2021,2022,2023,2024,2025,2026,2027,2028,2029,{"$f":"IF($B403=\"\",\"\",VLOOKUP($B403,_tbl!$A:$E,N$2,0))","v":""},{"$f":"IF($B403=\"\",\"\",VLOOKUP($B403,_tbl!$A:$E,O$2,0))","v":""},{"$f":"IF($B403=\"\",\"\",VLOOKUP($B403,_tbl!$A:$E,P$2,0))","v":""},{"$f":"IF($B403=\"\",\"\",VLOOKUP($B403,_tbl!$A:$E,Q$2,0))","v":""}]
[null,"all_m_Central Urban respiratory.csv","1-4",3.9264838112175099E-6,3.6274210619738201E-6,3.3011265175909698E-6,3.0635696051918601E-6,2.80507616952442E-6,2.5671112190791901E-6,2.36385205099566E-6,2.1635248017493198E-6,1.9725536088072002E-6,1.8061277521454801E-6,{"$f":"IF($B404=\"\",\"\",VLOOKUP($B404,_tbl!$A:$E,N$2,0))","v":"Male"},{"$f":"IF($B404=\"\",\"\",VLOOKUP($B404,_tbl!$A:$E,O$2,0))","v":"Central"},{"$f":"IF($B404=\"\",\"\",VLOOKUP($B404,_tbl!$A:$E,P$2,0))","v":"Urban"},{"$f":"IF($B404=\"\",\"\",VLOOKUP($B404,_tbl!$A:$E,Q$2,0))","v":"Respiratory"},null,{"$f":"MAX(D404:M404)","v":3.9264838112175099E-6},{"$f":"MIN(D404:M404)","v":1.8061277521454801E-6}]
[null,"all_m_Central Urban respiratory.csv","5-9",2.8076900696884998E-6,2.6251112593130701E-6,2.45741142286555E-6,2.3015855849050301E-6,2.1550503098161399E-6,2.0197523111966798E-6,1.8936847385392001E-6,1.7757048655233399E-6,1.66410142777827E-6,1.5592599927616399E-6,{"$f":"IF($B405=\"\",\"\",VLOOKUP($B405,_tbl!$A:$E,N$2,0))","v":"Male"},{"$f":"IF($B405=\"\",\"\",VLOOKUP($B405,_tbl!$A:$E,O$2,0))","v":"Central"},{"$f":"IF($B405=\"\",\"\",VLOOKUP($B405,_tbl!$A:$E,P$2,0))","v":"Urban"},{"$f":"IF($B405=\"\",\"\",VLOOKUP($B405,_tbl!$A:$E,Q$2,0))","v":"Respiratory"},null,2.8076900696884998E-6,1.5592599927616399E-6]
[null,"all_m_Central Urban respiratory.csv","10-14",1.9294509116528899E-6,1.8359371699424799E-6,1.7564715038718799E-6,1.6690165668202201E-6,1.5979511314481E-6,1.5292240271969101E-6,1.4682036516632501E-6,1.4120473303780299E-6,1.36245488965134E-6,1.3162305316494899E-6,{"$f":"IF($B406=\"\",\"\",VLOOKUP($B406,_tbl!$A:$E,N$2,0))","v":"Male"},{"$f":"IF($B406=\"\",\"\",VLOOKUP($B406,_tbl!$A:$E,O$2,0))","v":"Central"},{"$f":"IF($B406=\"\",\"\",VLOOKUP($B406,_tbl!$A:$E,P$2,0))","v":"Urban"},{"$f":"IF($B406=\"\",\"\",VLOOKUP($B406,_tbl!$A:$E,Q$2,0))","v":"Respiratory"},null,1.9294509116528899E-6,1.3162305316494899E-6]
[null,"all_m_Central Urban respiratory.csv","15-19",2.0150936222754601E-6,1.92374767122819E-6,1.8566516522291799E-6,1.7858782847461099E-6,1.72407748072059E-6,1.6593514977842101E-6,1.59992315897612E-6,1.5434400211799599E-6,1.49325262208782E-6,1.4470189359381001E-6,{"$f":"IF($B407=\"\",\"\",VLOOKUP($B407,_tbl!$A:$E,N$2,0))","v":"Male"},{"$f":"IF($B407=\"\",\"\",VLOOKUP($B407,_tbl!$A:$E,O$2,0))","v":"Central"},{"$f":"IF($B407=\"\",\"\",VLOOKUP($B407,_tbl!$A:$E,P$2,0))","v":"Urban"},{"$f":"IF($B407=\"\",\"\",VLOOKUP($B407,_tbl!$A:$E,Q$2,0))","v":"Respiratory"},null,2.0150936222754601E-6,1.4470189359381001E-6]
[null,"all_m_Central Urban respiratory.csv","20-24",2.2144908238323899E-6,2.0715881774726401E-6,1.98080082276475E-6,1.87966545427921E-6,1.79005083610711E-6,1.6921646904415101E-6,1.6006583783431E-6,1.51045712642696E-6,1.42963358981668E-6,1.3545440966824E-6,{"$f":"IF($B408=\"\",\"\",VLOOKUP($B408,_tbl!$A:$E,N$2,0))","v":"Male"},{"$f":"IF($B408=\"\",\"\",VLOOKUP($B408,_tbl!$A:$E,O$2,0))","v":"Central"},{"$f":"IF($B408=\"\",\"\",VLOOKUP($B408,_tbl!$A:$E,P$2,0))","v":"Urban"},{"$f":"IF($B408=\"\",\"\",VLOOKUP($B408,_tbl!$A:$E,Q$2,0))","v":"Respiratory"},null,2.2144908238323899E-6,1.3545440966824E-6]
[null,"all_m_Central Urban respiratory.csv","25-29",3.42726483439646E-6,3.1822024493366101E-6,2.9591467013108599E-6,2.7380582587275298E-6,2.5581019716844799E-6,2.4053332382169799E-6,2.2801379965427501E-6,2.16645726569458E-6,2.0600800863997499E-6,1.9541246315291399E-6,{"$f":"IF($B409=\"\",\"\",VLOOKUP($B409,_tbl!$A:$E,N$2,0))","v":"Male"},{"$f":"IF($B409=\"\",\"\",VLOOKUP($B409,_tbl!$A:$E,O$2,0))","v":"Central"},{"$f":"IF($B409=\"\",\"\",VLOOKUP($B409,_tbl!$A:$E,P$2,0))","v":"Urban"},{"$f":"IF($B409=\"\",\"\",VLOOKUP($B409,_tbl!$A:$E,Q$2,0))","v":"Respiratory"},null,3.42726483439646E-6,1.9541246315291399E-6]
[null,"all_m_Central Urban respiratory.csv","30-34",5.8736403995398002E-6,5.4894004046389996E-6,5.1092411165782302E-6,4.7468852546864604E-6,4.4404390157321597E-6,4.1785216491857297E-6,3.95465351507365E-6,3.7489332239326198E-6,3.5521263195011501E-6,3.3573703453060001E-6,{"$f":"IF($B410=\"\",\"\",VLOOKUP($B410,_tbl!$A:$E,N$2,0))","v":"Male"},{"$f":"IF($B410=\"\",\"\",VLOOKUP($B410,_tbl!$A:$E,O$2,0))","v":"Central"},{"$f":"IF($B410=\"\",\"\",VLOOKUP($B410,_tbl!$A:$E,P$2,0))","v":"Urban"},{"$f":"IF($B410=\"\",\"\",VLOOKUP($B410,_tbl!$A:$E,Q$2,0))","v":"Respiratory"},null,5.8736403995398002E-6,3.3573703453060001E-6]
[null,"all_m_Central Urban respiratory.csv","35-39",9.3321436983378E-6,8.7347460805912399E-6,8.1181043651742795E-6,7.5536927414828198E-6,7.0232392684445302E-6,6.54247618812175E-6,6.09415892933828E-6,5.6759310360250498E-6,5.2773180544566396E-6,4.8973863514423503E-6,{"$f":"IF($B411=\"\",\"\",VLOOKUP($B411,_tbl!$A:$E,N$2,0))","v":"Male"},{"$f":"IF($B411=\"\",\"\",VLOOKUP($B411,_tbl!$A:$E,O$2,0))","v":"Central"},{"$f":"IF($B411=\"\",\"\",VLOOKUP($B411,_tbl!$A:$E,P$2,0))","v":"Urban"},{"$f":"IF($B411=\"\",\"\",VLOOKUP($B411,_tbl!$A:$E,Q$2,0))","v":"Respiratory"},null,9.3321436983378E-6,4.8973863514423503E-6]
[null,"all_m_Central Urban respiratory.csv","40-44",1.61567504059646E-5,1.51528533572386E-5,1.3837045999559999E-5,1.27647535678401E-5,1.16598987972061E-5,1.0720686862119701E-5,9.7929700494347E-6,8.9469476776582394E-6,8.09629506589904E-6,7.2815717331764096E-6,{"$f":"IF($B412=\"\",\"\",VLOOKUP($B412,_tbl!$A:$E,N$2,0))","v":"Male"},{"$f":"IF($B412=\"\",\"\",VLOOKUP($B412,_tbl!$A:$E,O$2,0))","v":"Central"},{"$f":"IF($B412=\"\",\"\",VLOOKUP($B412,_tbl!$A:$E,P$2,0))","v":"Urban"},{"$f":"IF($B412=\"\",\"\",VLOOKUP($B412,_tbl!$A:$E,Q$2,0))","v":"Respiratory"},null,1.61567504059646E-5,7.2815717331764096E-6]
[null,"all_m_Central Urban respiratory.csv","45-49",3.5042026453335698E-5,3.3039465229875701E-5,3.1151345203446598E-5,2.9371126355483799E-5,2.7692642412577099E-5,2.6110079487901002E-5,2.4617955943232201E-5,2.32111034018013E-5,2.1884648846210399E-5,2.0633997739408098E-5,{"$f":"IF($B413=\"\",\"\",VLOOKUP($B413,_tbl!$A:$E,N$2,0))","v":"Male"},{"$f":"IF($B413=\"\",\"\",VLOOKUP($B413,_tbl!$A:$E,O$2,0))","v":"Central"},{"$f":"IF($B413=\"\",\"\",VLOOKUP($B413,_tbl!$A:$E,P$2,0))","v":"Urban"},{"$f":"IF($B413=\"\",\"\",VLOOKUP($B413,_tbl!$A:$E,Q$2,0))","v":"Respiratory"},null,3.5042026453335698E-5,2.0633997739408098E-5]
[null,"all_m_Central Urban respiratory.csv","50-54",8.2834007423491103E-5,7.9108063173366605E-5,7.5549715071090602E-5,7.2151424499097394E-5,6.8905991933263804E-5,6.5806541690197702E-5,6.2846507360606301E-5,6.00196178978825E-5,5.7319884332440201E-5,5.4741587083650103E-5,{"$f":"IF($B414=\"\",\"\",VLOOKUP($B414,_tbl!$A:$E,N$2,0))","v":"Male"},{"$f":"IF($B414=\"\",\"\",VLOOKUP($B414,_tbl!$A:$E,O$2,0))","v":"Central"},{"$f":"IF($B414=\"\",\"\",VLOOKUP($B414,_tbl!$A:$E,P$2,0))","v":"Urban"},{"$f":"IF($B414=\"\",\"\",VLOOKUP($B414,_tbl!$A:$E,Q$2,0))","v":"Respiratory"},null,8.2834007423491103E-5,5.4741587083650103E-5]
[null,"all_m_Central Urban respiratory.csv","55-59",2.0509737198253601E-4,1.9845627079383799E-4,1.9203021002507401E-4,1.85812226616822E-4,1.79795582975163E-4,1.73973759671057E-4,1.68340448376107E-4,1.6288954502707801E-4,1.5761514321173999E-4,1.52511527768879E-4,{"$f":"IF($B415=\"\",\"\",VLOOKUP($B415,_tbl!$A:$E,N$2,0))","v":"Male"},{"$f":"IF($B415=\"\",\"\",VLOOKUP($B415,_tbl!$A:$E,O$2,0))","v":"Central"},{"$f":"IF($B415=\"\",\"\",VLOOKUP($B415,_tbl!$A:$E,P$2,0))","v":"Urban"},{"$f":"IF($B415=\"\",\"\",VLOOKUP($B415,_tbl!$A:$E,Q$2,0))","v":"Respiratory"},null,2.0509737198253601E-4,1.52511527768879E-4]
[null,"all_m_Central Urban respiratory.csv","60-64",4.6889361816942202E-4,4.5480698098201901E-4,4.4114353860802403E-4,4.2789057730691099E-4,4.15035765288008E-4,4.0256714123585498E-4,3.9047310318027499E-4,3.7874239770082301E-4,3.6736410945555401E-4,3.56327651024371E-4,{"$f":"IF($B416=\"\",\"\",VLOOKUP($B416,_tbl!$A:$E,N$2,0))","v":"Male"},{"$f":"IF($B416=\"\",\"\",VLOOKUP($B416,_tbl!$A:$E,O$2,0))","v":"Central"},{"$f":"IF($B416=\"\",\"\",VLOOKUP($B416,_tbl!$A:$E,P$2,0))","v":"Urban"},{"$f":"IF($B416=\"\",\"\",VLOOKUP($B416,_tbl!$A:$E,Q$2,0))","v":"Respiratory"},null,4.6889361816942202E-4,3.56327651024371E-4]
[null,"all_m_Central Urban respiratory.csv","65-69",9.4627337955929304E-4,9.0768174341116197E-4,8.7066398053555697E-4,8.3515590404315996E-4,8.0109594476288602E-4,7.68425044484122E-4,7.3708655355282995E-4,7.0702613264398198E-4,6.7819165853997296E-4,6.5053313375164996E-4,{"$f":"IF($B417=\"\",\"\",VLOOKUP($B417,_tbl!$A:$E,N$2,0))","v":"Male"},{"$f":"IF($B417=\"\",\"\",VLOOKUP($B417,_tbl!$A:$E,O$2,0))","v":"Central"},{"$f":"IF($B417=\"\",\"\",VLOOKUP($B417,_tbl!$A:$E,P$2,0))","v":"Urban"},{"$f":"IF($B417=\"\",\"\",VLOOKUP($B417,_tbl!$A:$E,Q$2,0))","v":"Respiratory"},null,9.4627337955929304E-4,6.5053313375164996E-4]
[null,"all_m_Central Urban respiratory.csv","70-74",1.8277171977464999E-3,1.7262706420553501E-3,1.6304548281848E-3,1.53995722454388E-3,1.4544826464558101E-3,1.373752293326E-3,1.2975028392515E-3,1.22548557410575E-3,1.1574655922970099E-3,1.0932210265543901E-3,{"$f":"IF($B418=\"\",\"\",VLOOKUP($B418,_tbl!$A:$E,N$2,0))","v":"Male"},{"$f":"IF($B418=\"\",\"\",VLOOKUP($B418,_tbl!$A:$E,O$2,0))","v":"Central"},{"$f":"IF($B418=\"\",\"\",VLOOKUP($B418,_tbl!$A:$E,P$2,0))","v":"Urban"},{"$f":"IF($B418=\"\",\"\",VLOOKUP($B418,_tbl!$A:$E,Q$2,0))","v":"Respiratory"},null,1.8277171977464999E-3,1.0932210265543901E-3]
[null,"all_m_Central Urban respiratory.csv","75-79",3.8215223547397501E-3,3.5839390956721698E-3,3.36112633897237E-3,3.1521658055450302E-3,2.9561963055173999E-3,2.7724101890140599E-3,2.6000500175862602E-3,2.4384054425778999E-3,2.2868102775627699E-3,2.1446397527878098E-3,{"$f":"IF($B419=\"\",\"\",VLOOKUP($B419,_tbl!$A:$E,N$2,0))","v":"Male"},{"$f":"IF($B419=\"\",\"\",VLOOKUP($B419,_tbl!$A:$E,O$2,0))","v":"Central"},{"$f":"IF($B419=\"\",\"\",VLOOKUP($B419,_tbl!$A:$E,P$2,0))","v":"Urban"},{"$f":"IF($B419=\"\",\"\",VLOOKUP($B419,_tbl!$A:$E,Q$2,0))","v":"Respiratory"},null,3.8215223547397501E-3,2.1446397527878098E-3]
[null,"all_m_Central Urban respiratory.csv","80-84",7.8954848067760205E-3,7.7525897156062503E-3,7.6631929808937604E-3,7.4973359748147297E-3,7.1093481106039797E-3,6.5519188468476297E-3,5.8849445306601899E-3,5.21507355503769E-3,4.6243701162544202E-3,4.1666982540735E-3,{"$f":"IF($B420=\"\",\"\",VLOOKUP($B420,_tbl!$A:$E,N$2,0))","v":"Male"},{"$f":"IF($B420=\"\",\"\",VLOOKUP($B420,_tbl!$A:$E,O$2,0))","v":"Central"},{"$f":"IF($B420=\"\",\"\",VLOOKUP($B420,_tbl!$A:$E,P$2,0))","v":"Urban"},{"$f":"IF($B420=\"\",\"\",VLOOKUP($B420,_tbl!$A:$E,Q$2,0))","v":"Respiratory"},null,7.8954848067760205E-3,4.1666982540735E-3]
[null,"all_m_Central Urban respiratory.csv","85+",2.0708745110329999E-2,2.0092462511160099E-2,1.9590805000323001E-2,1.8994472390972302E-2,1.8181824968677499E-2,1.7225854513254299E-2,1.6207593184736101E-2,1.5214025726013301E-2,1.4310191946020699E-2,1.35214232852373E-2,{"$f":"IF($B421=\"\",\"\",VLOOKUP($B421,_tbl!$A:$E,N$2,0))","v":"Male"},{"$f":"IF($B421=\"\",\"\",VLOOKUP($B421,_tbl!$A:$E,O$2,0))","v":"Central"},{"$f":"IF($B421=\"\",\"\",VLOOKUP($B421,_tbl!$A:$E,P$2,0))","v":"Urban"},{"$f":"IF($B421=\"\",\"\",VLOOKUP($B421,_tbl!$A:$E,Q$2,0))","v":"Respiratory"},null,2.0708745110329999E-2,1.35214232852373E-2]
[null,null,null,null,null,null,null,null,null,null,null,null,null,{"$f":"IF($B422=\"\",\"\",VLOOKUP($B422,_tbl!$A:$E,N$2,0))","v":""},{"$f":"IF($B422=\"\",\"\",VLOOKUP($B422,_tbl!$A:$E,O$2,0))","v":""},{"$f":"IF($B422=\"\",\"\",VLOOKUP($B422,_tbl!$A:$E,P$2,0))","v":""},{"$f":"IF($B422=\"\",\"\",VLOOKUP($B422,_tbl!$A:$E,Q$2,0))","v":""}]
[null,null,null,2020,2021,2022,2023,2024,2025,2026,2027,2028,2029,{"$f":"IF($B423=\"\",\"\",VLOOKUP($B423,_tbl!$A:$E,N$2,0))","v":""},{"$f":"IF($B423=\"\",\"\",VLOOKUP($B423,_tbl!$A:$E,O$2,0))","v":""},{"$f":"IF($B423=\"\",\"\",VLOOKUP($B423,_tbl!$A:$E,P$2,0))","v":""},{"$f":"IF($B423=\"\",\"\",VLOOKUP($B423,_tbl!$A:$E,Q$2,0))","v":""}]
[null,"all_m_Central Urban.csv","1-4",4.92565011981094E-4,4.7883459851894798E-4,4.6194226082890802E-4,4.5342650004345401E-4,4.4065977076855601E-4,4.2953505069630001E-4,4.2087398013772201E-4,4.1134203474744503E-4,4.0145425511136902E-4,3.93337802635093E-4,{"$f":"IF($B424=\"\",\"\",VLOOKUP($B424,_tbl!$A:$E,N$2,0))","v":"Male"},{"$f":"IF($B424=\"\",\"\",VLOOKUP($B424,_tbl!$A:$E,O$2,0))","v":"Central"},{"$f":"IF($B424=\"\",\"\",VLOOKUP($B424,_tbl!$A:$E,P$2,0))","v":"Urban"},{"$f":"IF($B424=\"\",\"\",VLOOKUP($B424,_tbl!$A:$E,Q$2,0))","v":"Total"},null,{"$f":"MAX(D424:M424)","v":4.92565011981094E-4},{"$f":"MIN(D424:M424)","v":3.93337802635093E-4}]
[null,"all_m_Central Urban.csv","5-9",2.2473795323835999E-4,2.19278843593712E-4,2.1206566899565401E-4,2.08191504258309E-4,2.0250751705240899E-4,1.9733615811875699E-4,1.9307525331987299E-4,1.8845658140906999E-4,1.83784748551917E-4,1.7981228535903399E-4,{"$f":"IF($B425=\"\",\"\",VLOOKUP($B425,_tbl!$A:$E,N$2,0))","v":"Male"},{"$f":"IF($B425=\"\",\"\",VLOOKUP($B425,_tbl!$A:$E,O$2,0))","v":"Central"},{"$f":"IF($B425=\"\",\"\",VLOOKUP($B425,_tbl!$A:$E,P$2,0))","v":"Urban"},{"$f":"IF($B425=\"\",\"\",VLOOKUP($B425,_tbl!$A:$E,Q$2,0))","v":"Total"},null,2.2473795323835999E-4,1.7981228535903399E-4]
[null,"all_m_Central Urban.csv","10-14",2.1058767271106601E-4,2.0414522969154999E-4,1.9631802666768701E-4,1.9122667327978299E-4,1.8502842159882199E-4,1.7959067105872799E-4,1.7500692489821499E-4,1.7033972883059701E-4,1.65661750044471E-4,1.6154338966321201E-4,{"$f":"IF($B426=\"\",\"\",VLOOKUP($B426,_tbl!$A:$E,N$2,0))","v":"Male"},{"$f":"IF($B426=\"\",\"\",VLOOKUP($B426,_tbl!$A:$E,O$2,0))","v":"Central"},{"$f":"IF($B426=\"\",\"\",VLOOKUP($B426,_tbl!$A:$E,P$2,0))","v":"Urban"},{"$f":"IF($B426=\"\",\"\",VLOOKUP($B426,_tbl!$A:$E,Q$2,0))","v":"Total"},null,2.1058767271106601E-4,1.6154338966321201E-4]
[null,"all_m_Central Urban.csv","15-19",2.33854947379307E-4,2.23512683049725E-4,2.12158465934539E-4,2.0248896253806701E-4,1.93419919243325E-4,1.8583603339337901E-4,1.7929380200153099E-4,1.73222866398496E-4,1.67189298948659E-4,1.61321794023577E-4,{"$f":"IF($B427=\"\",\"\",VLOOKUP($B427,_tbl!$A:$E,N$2,0))","v":"Male"},{"$f":"IF($B427=\"\",\"\",VLOOKUP($B427,_tbl!$A:$E,O$2,0))","v":"Central"},{"$f":"IF($B427=\"\",\"\",VLOOKUP($B427,_tbl!$A:$E,P$2,0))","v":"Urban"},{"$f":"IF($B427=\"\",\"\",VLOOKUP($B427,_tbl!$A:$E,Q$2,0))","v":"Total"},null,2.33854947379307E-4,1.61321794023577E-4]
[null,"all_m_Central Urban.csv","20-24",3.0068934042998702E-4,2.8616084583015498E-4,2.6984054889934701E-4,2.5483027882255602E-4,2.41904825217924E-4,2.3173317691956599E-4,2.23161972150309E-4,2.15630702654534E-4,2.0812647212668301E-4,2.0054264417335499E-4,{"$f":"IF($B428=\"\",\"\",VLOOKUP($B428,_tbl!$A:$E,N$2,0))","v":"Male"},{"$f":"IF($B428=\"\",\"\",VLOOKUP($B428,_tbl!$A:$E,O$2,0))","v":"Central"},{"$f":"IF($B428=\"\",\"\",VLOOKUP($B428,_tbl!$A:$E,P$2,0))","v":"Urban"},{"$f":"IF($B428=\"\",\"\",VLOOKUP($B428,_tbl!$A:$E,Q$2,0))","v":"Total"},null,3.0068934042998702E-4,2.0054264417335499E-4]
[null,"all_m_Central Urban.csv","25-29",4.3893137692960199E-4,4.2332887245567498E-4,4.0423229517888597E-4,3.8801556786859098E-4,3.7274671338111403E-4,3.6069942022416598E-4,3.4995913135243501E-4,3.40504587932036E-4,3.3090142306285101E-4,3.2160348269325597E-4,{"$f":"IF($B429=\"\",\"\",VLOOKUP($B429,_tbl!$A:$E,N$2,0))","v":"Male"},{"$f":"IF($B429=\"\",\"\",VLOOKUP($B429,_tbl!$A:$E,O$2,0))","v":"Central"},{"$f":"IF($B429=\"\",\"\",VLOOKUP($B429,_tbl!$A:$E,P$2,0))","v":"Urban"},{"$f":"IF($B429=\"\",\"\",VLOOKUP($B429,_tbl!$A:$E,Q$2,0))","v":"Total"},null,4.3893137692960199E-4,3.2160348269325597E-4]
[null,"all_m_Central Urban.csv","30-34",6.7106437273496201E-4,6.5015633772378604E-4,6.2682114961301605E-4,6.0548645960086802E-4,5.8672869830107301E-4,5.7113598155384597E-4,5.57579049095993E-4,5.4515661859332195E-4,5.3297714165804295E-4,5.2071787583797698E-4,{"$f":"IF($B430=\"\",\"\",VLOOKUP($B430,_tbl!$A:$E,N$2,0))","v":"Male"},{"$f":"IF($B430=\"\",\"\",VLOOKUP($B430,_tbl!$A:$E,O$2,0))","v":"Central"},{"$f":"IF($B430=\"\",\"\",VLOOKUP($B430,_tbl!$A:$E,P$2,0))","v":"Urban"},{"$f":"IF($B430=\"\",\"\",VLOOKUP($B430,_tbl!$A:$E,Q$2,0))","v":"Total"},null,6.7106437273496201E-4,5.2071787583797698E-4]
[null,"all_m_Central Urban.csv","35-39",1.01992920418116E-3,9.9203799413146994E-4,9.56503189706648E-4,9.2798243410007505E-4,8.97396867003195E-4,8.7286057899456696E-4,8.4732589135552304E-4,8.2528904623722097E-4,8.0193733184246298E-4,7.8039209356566995E-4,{"$f":"IF($B431=\"\",\"\",VLOOKUP($B431,_tbl!$A:$E,N$2,0))","v":"Male"},{"$f":"IF($B431=\"\",\"\",VLOOKUP($B431,_tbl!$A:$E,O$2,0))","v":"Central"},{"$f":"IF($B431=\"\",\"\",VLOOKUP($B431,_tbl!$A:$E,P$2,0))","v":"Urban"},{"$f":"IF($B431=\"\",\"\",VLOOKUP($B431,_tbl!$A:$E,Q$2,0))","v":"Total"},null,1.01992920418116E-3,7.8039209356566995E-4]
[null,"all_m_Central Urban.csv","40-44",1.56747553807147E-3,1.52768763289838E-3,1.47602962130042E-3,1.4349879342409699E-3,1.38879591179299E-3,1.3520623195738401E-3,1.31258293332792E-3,1.2790632589829601E-3,1.24274291938706E-3,1.20952124133294E-3,{"$f":"IF($B432=\"\",\"\",VLOOKUP($B432,_tbl!$A:$E,N$2,0))","v":"Male"},{"$f":"IF($B432=\"\",\"\",VLOOKUP($B432,_tbl!$A:$E,O$2,0))","v":"Central"},{"$f":"IF($B432=\"\",\"\",VLOOKUP($B432,_tbl!$A:$E,P$2,0))","v":"Urban"},{"$f":"IF($B432=\"\",\"\",VLOOKUP($B432,_tbl!$A:$E,Q$2,0))","v":"Total"},null,1.56747553807147E-3,1.20952124133294E-3]
[null,"all_m_Central Urban.csv","45-49",2.5770396754132498E-3,2.5243453302434401E-3,2.4428350203401501E-3,2.38007990814378E-3,2.3032982442924002E-3,2.2393774189374701E-3,2.16770532425528E-3,2.1047597035975399E-3,2.0371410162044802E-3,1.9755938274544798E-3,{"$f":"IF($B433=\"\",\"\",VLOOKUP($B433,_tbl!$A:$E,N$2,0))","v":"Male"},{"$f":"IF($B433=\"\",\"\",VLOOKUP($B433,_tbl!$A:$E,O$2,0))","v":"Central"},{"$f":"IF($B433=\"\",\"\",VLOOKUP($B433,_tbl!$A:$E,P$2,0))","v":"Urban"},{"$f":"IF($B433=\"\",\"\",VLOOKUP($B433,_tbl!$A:$E,Q$2,0))","v":"Total"},null,2.5770396754132498E-3,1.9755938274544798E-3]
[null,"all_m_Central Urban.csv","50-54",4.6216563305513901E-3,4.57685467025755E-3,4.4961011392236298E-3,4.43658541857158E-3,4.3587359420621998E-3,4.2946414015475401E-3,4.2197353565306597E-3,4.1542940838769403E-3,4.0821621686626102E-3,4.0168722031200697E-3,{"$f":"IF($B434=\"\",\"\",VLOOKUP($B434,_tbl!$A:$E,N$2,0))","v":"Male"},{"$f":"IF($B434=\"\",\"\",VLOOKUP($B434,_tbl!$A:$E,O$2,0))","v":"Central"},{"$f":"IF($B434=\"\",\"\",VLOOKUP($B434,_tbl!$A:$E,P$2,0))","v":"Urban"},{"$f":"IF($B434=\"\",\"\",VLOOKUP($B434,_tbl!$A:$E,Q$2,0))","v":"Total"},null,4.6216563305513901E-3,4.0168722031200697E-3]
[null,"all_m_Central Urban.csv","55-59",7.7608850907922898E-3,7.7221166252562203E-3,7.6515093603088903E-3,7.5895164473563101E-3,7.51205459305356E-3,7.4410369214055602E-3,7.3617840225656704E-3,7.28763787653826E-3,7.2087416940353503E-3,7.1338970659136402E-3,{"$f":"IF($B435=\"\",\"\",VLOOKUP($B435,_tbl!$A:$E,N$2,0))","v":"Male"},{"$f":"IF($B435=\"\",\"\",VLOOKUP($B435,_tbl!$A:$E,O$2,0))","v":"Central"},{"$f":"IF($B435=\"\",\"\",VLOOKUP($B435,_tbl!$A:$E,P$2,0))","v":"Urban"},{"$f":"IF($B435=\"\",\"\",VLOOKUP($B435,_tbl!$A:$E,Q$2,0))","v":"Total"},null,7.7608850907922898E-3,7.1338970659136402E-3]
[null,"all_m_Central Urban.csv","60-64",1.20184378049035E-2,1.19860088393731E-2,1.1907472525667E-2,1.18345503866792E-2,1.1741991735272799E-2,1.1655374597285099E-2,1.15586361076682E-2,1.1466444609925901E-2,1.13681651240309E-2,1.1273566681443701E-2,{"$f":"IF($B436=\"\",\"\",VLOOKUP($B436,_tbl!$A:$E,N$2,0))","v":"Male"},{"$f":"IF($B436=\"\",\"\",VLOOKUP($B436,_tbl!$A:$E,O$2,0))","v":"Central"},{"$f":"IF($B436=\"\",\"\",VLOOKUP($B436,_tbl!$A:$E,P$2,0))","v":"Urban"},{"$f":"IF($B436=\"\",\"\",VLOOKUP($B436,_tbl!$A:$E,Q$2,0))","v":"Total"},null,1.20184378049035E-2,1.1273566681443701E-2]
[null,"all_m_Central Urban.csv","65-69",1.7314634531344401E-2,1.7149589154050002E-2,1.6885421585774201E-2,1.6659987929877901E-2,1.6396575536863502E-2,1.61615319301853E-2,1.5907606026686099E-2,1.5671114839348299E-2,1.54217676624788E-2,1.51836209634163E-2,{"$f":"IF($B437=\"\",\"\",VLOOKUP($B437,_tbl!$A:$E,N$2,0))","v":"Male"},{"$f":"IF($B437=\"\",\"\",VLOOKUP($B437,_tbl!$A:$E,O$2,0))","v":"Central"},{"$f":"IF($B437=\"\",\"\",VLOOKUP($B437,_tbl!$A:$E,P$2,0))","v":"Urban"},{"$f":"IF($B437=\"\",\"\",VLOOKUP($B437,_tbl!$A:$E,Q$2,0))","v":"Total"},null,1.7314634531344401E-2,1.51836209634163E-2]
[null,"all_m_Central Urban.csv","70-74",2.6392014774844399E-2,2.59002949490609E-2,2.52368915908045E-2,2.46757885995663E-2,2.4045301018159802E-2,2.3471598859566699E-2,2.2867136553957199E-2,2.2299604818739601E-2,2.1719224163671901E-2,2.1167123498578098E-2,{"$f":"IF($B438=\"\",\"\",VLOOKUP($B438,_tbl!$A:$E,N$2,0))","v":"Male"},{"$f":"IF($B438=\"\",\"\",VLOOKUP($B438,_tbl!$A:$E,O$2,0))","v":"Central"},{"$f":"IF($B438=\"\",\"\",VLOOKUP($B438,_tbl!$A:$E,P$2,0))","v":"Urban"},{"$f":"IF($B438=\"\",\"\",VLOOKUP($B438,_tbl!$A:$E,Q$2,0))","v":"Total"},null,2.6392014774844399E-2,2.1167123498578098E-2]
[null,"all_m_Central Urban.csv","75-79",4.6381667327090502E-2,4.5491268751176199E-2,4.4441865306770197E-2,4.3522098016366202E-2,4.2396443773953497E-2,4.1273976404737102E-2,4.0061923574681899E-2,3.8911458764649902E-2,3.7784357880475197E-2,3.6757131108493303E-2,{"$f":"IF($B439=\"\",\"\",VLOOKUP($B439,_tbl!$A:$E,N$2,0))","v":"Male"},{"$f":"IF($B439=\"\",\"\",VLOOKUP($B439,_tbl!$A:$E,O$2,0))","v":"Central"},{"$f":"IF($B439=\"\",\"\",VLOOKUP($B439,_tbl!$A:$E,P$2,0))","v":"Urban"},{"$f":"IF($B439=\"\",\"\",VLOOKUP($B439,_tbl!$A:$E,Q$2,0))","v":"Total"},null,4.6381667327090502E-2,3.6757131108493303E-2]
[null,"all_m_Central Urban.csv","80-84",9.3505511264518101E-2,9.3346817467804794E-2,9.33107302345874E-2,9.3080846792223407E-2,9.2039235518559595E-2,9.0339416669345599E-2,8.8143487494804301E-2,8.5858189615784203E-2,8.3820715555201902E-2,8.2277655544539502E-2,{"$f":"IF($B440=\"\",\"\",VLOOKUP($B440,_tbl!$A:$E,N$2,0))","v":"Male"},{"$f":"IF($B440=\"\",\"\",VLOOKUP($B440,_tbl!$A:$E,O$2,0))","v":"Central"},{"$f":"IF($B440=\"\",\"\",VLOOKUP($B440,_tbl!$A:$E,P$2,0))","v":"Urban"},{"$f":"IF($B440=\"\",\"\",VLOOKUP($B440,_tbl!$A:$E,Q$2,0))","v":"Total"},null,9.3505511264518101E-2,8.2277655544539502E-2]
[null,"all_m_Central Urban.csv","85+",0.19016072541376999,0.19118182801602199,0.191929476909628,0.19252983174044599,0.19118651277311599,0.189049171856257,0.18596069463373799,0.18300397512805999,0.180284976465483,0.178414092301731,{"$f":"IF($B441=\"\",\"\",VLOOKUP($B441,_tbl!$A:$E,N$2,0))","v":"Male"},{"$f":"IF($B441=\"\",\"\",VLOOKUP($B441,_tbl!$A:$E,O$2,0))","v":"Central"},{"$f":"IF($B441=\"\",\"\",VLOOKUP($B441,_tbl!$A:$E,P$2,0))","v":"Urban"},{"$f":"IF($B441=\"\",\"\",VLOOKUP($B441,_tbl!$A:$E,Q$2,0))","v":"Total"},null,0.19252983174044599,0.178414092301731]
[null,null,null,null,null,null,null,null,null,null,null,null,null,{"$f":"IF($B442=\"\",\"\",VLOOKUP($B442,_tbl!$A:$E,N$2,0))","v":""},{"$f":"IF($B442=\"\",\"\",VLOOKUP($B442,_tbl!$A:$E,O$2,0))","v":""},{"$f":"IF($B442=\"\",\"\",VLOOKUP($B442,_tbl!$A:$E,P$2,0))","v":""},{"$f":"IF($B442=\"\",\"\",VLOOKUP($B442,_tbl!$A:$E,Q$2,0))","v":""}]
[null,null,null,2020,2021,2022,2023,2024,2025,2026,2027,2028,2029,{"$f":"IF($B443=\"\",\"\",VLOOKUP($B443,_tbl!$A:$E,N$2,0))","v":""},{"$f":"IF($B443=\"\",\"\",VLOOKUP($B443,_tbl!$A:$E,O$2,0))","v":""},{"$f":"IF($B443=\"\",\"\",VLOOKUP($B443,_tbl!$A:$E,P$2,0))","v":""},{"$f":"IF($B443=\"\",\"\",VLOOKUP($B443,_tbl!$A:$E,Q$2,0))","v":""}]
[null,"all_m_Central.csv","1-4",5.1653130005941805E-4,5.0028872279658397E-4,4.8488803313701402E-4,4.7016064632502698E-4,4.5600044681685199E-4,4.4233886544664899E-4,4.2913000100052199E-4,4.1634170764187801E-4,4.0395024365019901E-4,3.9193705285648999E-4,{"$f":"IF($B444=\"\",\"\",VLOOKUP($B444,_tbl!$A:$E,N$2,0))","v":"Male"},{"$f":"IF($B444=\"\",\"\",VLOOKUP($B444,_tbl!$A:$E,O$2,0))","v":"Central"},{"$f":"IF($B444=\"\",\"\",VLOOKUP($B444,_tbl!$A:$E,P$2,0))","v":"Total"},{"$f":"IF($B444=\"\",\"\",VLOOKUP($B444,_tbl!$A:$E,Q$2,0))","v":"Total"},null,{"$f":"MAX(D444:M444)","v":5.1653130005941805E-4},{"$f":"MIN(D444:M444)","v":3.9193705285648999E-4}]
[null,"all_m_Central.csv","5-9",2.8677635064478402E-4,2.8155303881235001E-4,2.7660406001954398E-4,2.71851344647226E-4,2.67246939997354E-4,2.62761176017069E-4,2.5837550724002503E-4,2.5407816893615801E-4,2.4986153561296401E-4,2.4572051262233E-4,{"$f":"IF($B445=\"\",\"\",VLOOKUP($B445,_tbl!$A:$E,N$2,0))","v":"Male"},{"$f":"IF($B445=\"\",\"\",VLOOKUP($B445,_tbl!$A:$E,O$2,0))","v":"Central"},{"$f":"IF($B445=\"\",\"\",VLOOKUP($B445,_tbl!$A:$E,P$2,0))","v":"Total"},{"$f":"IF($B445=\"\",\"\",VLOOKUP($B445,_tbl!$A:$E,Q$2,0))","v":"Total"},null,2.8677635064478402E-4,2.4572051262233E-4]
[null,"all_m_Central.csv","10-14",2.6753914731428199E-4,2.6136142606835502E-4,2.5553736353198199E-4,2.4997115662428601E-4,2.4460395148023301E-4,2.3939920229811199E-4,2.3433387381278001E-4,2.29393133387244E-4,2.24567140229829E-4,2.1984909994610799E-4,{"$f":"IF($B446=\"\",\"\",VLOOKUP($B446,_tbl!$A:$E,N$2,0))","v":"Male"},{"$f":"IF($B446=\"\",\"\",VLOOKUP($B446,_tbl!$A:$E,O$2,0))","v":"Central"},{"$f":"IF($B446=\"\",\"\",VLOOKUP($B446,_tbl!$A:$E,P$2,0))","v":"Total"},{"$f":"IF($B446=\"\",\"\",VLOOKUP($B446,_tbl!$A:$E,Q$2,0))","v":"Total"},null,2.6753914731428199E-4,2.1984909994610799E-4]
[null,"all_m_Central.csv","15-19",3.1174767008678599E-4,3.0313146279252901E-4,2.9478008013018501E-4,2.8667488191759901E-4,2.7880225659522698E-4,2.7115168950024902E-4,2.63714596878844E-4,2.5648362113087401E-4,2.4945220408293702E-4,2.42614327945279E-4,{"$f":"IF($B447=\"\",\"\",VLOOKUP($B447,_tbl!$A:$E,N$2,0))","v":"Male"},{"$f":"IF($B447=\"\",\"\",VLOOKUP($B447,_tbl!$A:$E,O$2,0))","v":"Central"},{"$f":"IF($B447=\"\",\"\",VLOOKUP($B447,_tbl!$A:$E,P$2,0))","v":"Total"},{"$f":"IF($B447=\"\",\"\",VLOOKUP($B447,_tbl!$A:$E,Q$2,0))","v":"Total"},null,3.1174767008678599E-4,2.42614327945279E-4]
[null,"all_m_Central.csv","20-24",4.1364140477848598E-4,4.0275915330772999E-4,3.9194456468638898E-4,3.81288427951997E-4,3.7084240758194299E-4,3.6063455125520699E-4,3.5067870912083599E-4,3.40980238269791E-4,3.31539450682097E-4,3.22353694195662E-4,{"$f":"IF($B448=\"\",\"\",VLOOKUP($B448,_tbl!$A:$E,N$2,0))","v":"Male"},{"$f":"IF($B448=\"\",\"\",VLOOKUP($B448,_tbl!$A:$E,O$2,0))","v":"Central"},{"$f":"IF($B448=\"\",\"\",VLOOKUP($B448,_tbl!$A:$E,P$2,0))","v":"Total"},{"$f":"IF($B448=\"\",\"\",VLOOKUP($B448,_tbl!$A:$E,Q$2,0))","v":"Total"},null,4.1364140477848598E-4,3.22353694195662E-4]
[null,"all_m_Central.csv","25-29",5.9655269537041498E-4,5.8255675630787995E-4,5.6875697519464098E-4,5.5520402751578805E-4,5.4192555549586899E-4,5.2893530284531004E-4,5.1623866055862497E-4,5.0383602925868501E-4,4.9172485563284704E-4,4.7990086464144097E-4,{"$f":"IF($B449=\"\",\"\",VLOOKUP($B449,_tbl!$A:$E,N$2,0))","v":"Male"},{"$f":"IF($B449=\"\",\"\",VLOOKUP($B449,_tbl!$A:$E,O$2,0))","v":"Central"},{"$f":"IF($B449=\"\",\"\",VLOOKUP($B449,_tbl!$A:$E,P$2,0))","v":"Total"},{"$f":"IF($B449=\"\",\"\",VLOOKUP($B449,_tbl!$A:$E,Q$2,0))","v":"Total"},null,5.9655269537041498E-4,4.7990086464144097E-4]
[null,"all_m_Central.csv","30-34",8.7593758529453704E-4,8.5655955331025505E-4,8.3771891999486403E-4,8.1935866229422398E-4,8.0144083335025203E-4,7.8393912382043599E-4,7.6683435373395498E-4,7.50111738006335E-4,7.3375922654612003E-4,7.1776649584401504E-4,{"$f":"IF($B450=\"\",\"\",VLOOKUP($B450,_tbl!$A:$E,N$2,0))","v":"Male"},{"$f":"IF($B450=\"\",\"\",VLOOKUP($B450,_tbl!$A:$E,O$2,0))","v":"Central"},{"$f":"IF($B450=\"\",\"\",VLOOKUP($B450,_tbl!$A:$E,P$2,0))","v":"Total"},{"$f":"IF($B450=\"\",\"\",VLOOKUP($B450,_tbl!$A:$E,Q$2,0))","v":"Total"},null,8.7593758529453704E-4,7.1776649584401504E-4]
[null,"all_m_Central.csv","35-39",1.2804951537984E-3,1.2530312206869201E-3,1.2257954005949799E-3,1.1989325817748401E-3,1.1725255877035501E-3,1.1466196158960199E-3,1.1212371180105199E-3,1.0963868455156E-3,1.0720693425968601E-3,1.04828027886947E-3,{"$f":"IF($B451=\"\",\"\",VLOOKUP($B451,_tbl!$A:$E,N$2,0))","v":"Male"},{"$f":"IF($B451=\"\",\"\",VLOOKUP($B451,_tbl!$A:$E,O$2,0))","v":"Central"},{"$f":"IF($B451=\"\",\"\",VLOOKUP($B451,_tbl!$A:$E,P$2,0))","v":"Total"},{"$f":"IF($B451=\"\",\"\",VLOOKUP($B451,_tbl!$A:$E,Q$2,0))","v":"Total"},null,1.2804951537984E-3,1.04828027886947E-3]
[null,"all_m_Central.csv","40-44",1.9250011012395E-3,1.8868112197278099E-3,1.8475232666166901E-3,1.80792702172724E-3,1.76849595482201E-3,1.7295102608536001E-3,1.69113248446085E-3,1.6534537619267401E-3,1.6165220056459199E-3,1.5803590475751E-3,{"$f":"IF($B452=\"\",\"\",VLOOKUP($B452,_tbl!$A:$E,N$2,0))","v":"Male"},{"$f":"IF($B452=\"\",\"\",VLOOKUP($B452,_tbl!$A:$E,O$2,0))","v":"Central"},{"$f":"IF($B452=\"\",\"\",VLOOKUP($B452,_tbl!$A:$E,P$2,0))","v":"Total"},{"$f":"IF($B452=\"\",\"\",VLOOKUP($B452,_tbl!$A:$E,Q$2,0))","v":"Total"},null,1.9250011012395E-3,1.5803590475751E-3]
[null,"all_m_Central.csv","45-49",3.0135249988665199E-3,2.9666805619939902E-3,2.9039897661060901E-3,2.8470986203957501E-3,2.7839031928625999E-3,2.7227884581830699E-3,2.65907174251988E-3,2.5973713756244502E-3,2.5357592098193302E-3,2.4767262380622902E-3,{"$f":"IF($B453=\"\",\"\",VLOOKUP($B453,_tbl!$A:$E,N$2,0))","v":"Male"},{"$f":"IF($B453=\"\",\"\",VLOOKUP($B453,_tbl!$A:$E,O$2,0))","v":"Central"},{"$f":"IF($B453=\"\",\"\",VLOOKUP($B453,_tbl!$A:$E,P$2,0))","v":"Total"},{"$f":"IF($B453=\"\",\"\",VLOOKUP($B453,_tbl!$A:$E,Q$2,0))","v":"Total"},null,3.0135249988665199E-3,2.4767262380622902E-3]
[null,"all_m_Central.csv","50-54",5.0568215625573301E-3,5.0005354201819599E-3,4.9221380569937096E-3,4.8519648295037299E-3,4.7741598190433202E-3,4.6994632087758396E-3,4.6219162562419298E-3,4.5466589834639304E-3,4.4711052466897602E-3,4.3978688571086498E-3,{"$f":"IF($B454=\"\",\"\",VLOOKUP($B454,_tbl!$A:$E,N$2,0))","v":"Male"},{"$f":"IF($B454=\"\",\"\",VLOOKUP($B454,_tbl!$A:$E,O$2,0))","v":"Central"},{"$f":"IF($B454=\"\",\"\",VLOOKUP($B454,_tbl!$A:$E,P$2,0))","v":"Total"},{"$f":"IF($B454=\"\",\"\",VLOOKUP($B454,_tbl!$A:$E,Q$2,0))","v":"Total"},null,5.0568215625573301E-3,4.3978688571086498E-3]
[null,"all_m_Central.csv","55-59",7.9854667203786995E-3,7.8825255393825105E-3,7.75690219925485E-3,7.6451194743458401E-3,7.5273779670293499E-3,7.4160320885357702E-3,7.3035277284097403E-3,7.1945525036701298E-3,7.0857433955462202E-3,6.9792313148308903E-3,{"$f":"IF($B455=\"\",\"\",VLOOKUP($B455,_tbl!$A:$E,N$2,0))","v":"Male"},{"$f":"IF($B455=\"\",\"\",VLOOKUP($B455,_tbl!$A:$E,O$2,0))","v":"Central"},{"$f":"IF($B455=\"\",\"\",VLOOKUP($B455,_tbl!$A:$E,P$2,0))","v":"Total"},{"$f":"IF($B455=\"\",\"\",VLOOKUP($B455,_tbl!$A:$E,Q$2,0))","v":"Total"},null,7.9854667203786995E-3,6.9792313148308903E-3]
[null,"all_m_Central.csv","60-64",1.2339846045568301E-2,1.21429785817705E-2,1.19154352279876E-2,1.17086870801215E-2,1.1494712332940599E-2,1.12904059013682E-2,1.1085539408956201E-2,1.08858830617197E-2,1.0687745998576101E-2,1.0493601355380799E-2,{"$f":"IF($B456=\"\",\"\",VLOOKUP($B456,_tbl!$A:$E,N$2,0))","v":"Male"},{"$f":"IF($B456=\"\",\"\",VLOOKUP($B456,_tbl!$A:$E,O$2,0))","v":"Central"},{"$f":"IF($B456=\"\",\"\",VLOOKUP($B456,_tbl!$A:$E,P$2,0))","v":"Total"},{"$f":"IF($B456=\"\",\"\",VLOOKUP($B456,_tbl!$A:$E,Q$2,0))","v":"Total"},null,1.2339846045568301E-2,1.0493601355380799E-2]
[null,"all_m_Central.csv","65-69",1.91546295537324E-2,1.8795447968898499E-2,1.8368731366439101E-2,1.79803420305783E-2,1.7572794141665699E-2,1.7180844303915199E-2,1.67852139010948E-2,1.6399577762413901E-2,1.6018700627505499E-2,1.5648739679335801E-2,{"$f":"IF($B457=\"\",\"\",VLOOKUP($B457,_tbl!$A:$E,N$2,0))","v":"Male"},{"$f":"IF($B457=\"\",\"\",VLOOKUP($B457,_tbl!$A:$E,O$2,0))","v":"Central"},{"$f":"IF($B457=\"\",\"\",VLOOKUP($B457,_tbl!$A:$E,P$2,0))","v":"Total"},{"$f":"IF($B457=\"\",\"\",VLOOKUP($B457,_tbl!$A:$E,Q$2,0))","v":"Total"},null,1.91546295537324E-2,1.5648739679335801E-2]
[null,"all_m_Central.csv","70-74",3.0795787109717799E-2,3.0125736730975301E-2,2.93121945099729E-2,2.8578896924611501E-2,2.78114601877874E-2,2.70822911354054E-2,2.63514259137483E-2,2.5643571152558001E-2,2.4944331290495999E-2,2.4263646868896899E-2,{"$f":"IF($B458=\"\",\"\",VLOOKUP($B458,_tbl!$A:$E,N$2,0))","v":"Male"},{"$f":"IF($B458=\"\",\"\",VLOOKUP($B458,_tbl!$A:$E,O$2,0))","v":"Central"},{"$f":"IF($B458=\"\",\"\",VLOOKUP($B458,_tbl!$A:$E,P$2,0))","v":"Total"},{"$f":"IF($B458=\"\",\"\",VLOOKUP($B458,_tbl!$A:$E,Q$2,0))","v":"Total"},null,3.0795787109717799E-2,2.4263646868896899E-2]
[null,"all_m_Central.csv","75-79",5.3897980894639999E-2,5.2659150359786702E-2,5.1202649460636497E-2,4.9922166562450097E-2,4.8613021391038402E-2,4.7405033520211602E-2,4.6225156030793899E-2,4.5099739023841297E-2,4.3986561043728098E-2,4.2886341670073297E-2,{"$f":"IF($B459=\"\",\"\",VLOOKUP($B459,_tbl!$A:$E,N$2,0))","v":"Male"},{"$f":"IF($B459=\"\",\"\",VLOOKUP($B459,_tbl!$A:$E,O$2,0))","v":"Central"},{"$f":"IF($B459=\"\",\"\",VLOOKUP($B459,_tbl!$A:$E,P$2,0))","v":"Total"},{"$f":"IF($B459=\"\",\"\",VLOOKUP($B459,_tbl!$A:$E,Q$2,0))","v":"Total"},null,5.3897980894639999E-2,4.2886341670073297E-2]
[null,"all_m_Central.csv","80-84",9.8649198465384502E-2,9.5755694040090406E-2,9.3193458544929095E-2,9.0848873610501701E-2,8.8653560035959797E-2,8.6565998136501093E-2,8.4560747507313794E-2,8.2622045717700807E-2,8.0739977206787994E-2,7.8908168960694899E-2,{"$f":"IF($B460=\"\",\"\",VLOOKUP($B460,_tbl!$A:$E,N$2,0))","v":"Male"},{"$f":"IF($B460=\"\",\"\",VLOOKUP($B460,_tbl!$A:$E,O$2,0))","v":"Central"},{"$f":"IF($B460=\"\",\"\",VLOOKUP($B460,_tbl!$A:$E,P$2,0))","v":"Total"},{"$f":"IF($B460=\"\",\"\",VLOOKUP($B460,_tbl!$A:$E,Q$2,0))","v":"Total"},null,9.8649198465384502E-2,7.8908168960694899E-2]
[null,"all_m_Central.csv","85+",0.18549656167774001,0.17914909293484199,0.17399478414238501,0.16957950055596799,0.16563444787217299,0.16199859665751301,0.15857462502094599,0.15530327712293501,0.15214819828898499,0.14908687311566099,{"$f":"IF($B461=\"\",\"\",VLOOKUP($B461,_tbl!$A:$E,N$2,0))","v":"Male"},{"$f":"IF($B461=\"\",\"\",VLOOKUP($B461,_tbl!$A:$E,O$2,0))","v":"Central"},{"$f":"IF($B461=\"\",\"\",VLOOKUP($B461,_tbl!$A:$E,P$2,0))","v":"Total"},{"$f":"IF($B461=\"\",\"\",VLOOKUP($B461,_tbl!$A:$E,Q$2,0))","v":"Total"},null,0.18549656167774001,0.14908687311566099]
[null,null,null,null,null,null,null,null,null,null,null,null,null,{"$f":"IF($B462=\"\",\"\",VLOOKUP($B462,_tbl!$A:$E,N$2,0))","v":""},{"$f":"IF($B462=\"\",\"\",VLOOKUP($B462,_tbl!$A:$E,O$2,0))","v":""},{"$f":"IF($B462=\"\",\"\",VLOOKUP($B462,_tbl!$A:$E,P$2,0))","v":""},{"$f":"IF($B462=\"\",\"\",VLOOKUP($B462,_tbl!$A:$E,Q$2,0))","v":""}]
[null,null,null,2020,2021,2022,2023,2024,2025,2026,2027,2028,2029,{"$f":"IF($B463=\"\",\"\",VLOOKUP($B463,_tbl!$A:$E,N$2,0))","v":""},{"$f":"IF($B463=\"\",\"\",VLOOKUP($B463,_tbl!$A:$E,O$2,0))","v":""},{"$f":"IF($B463=\"\",\"\",VLOOKUP($B463,_tbl!$A:$E,P$2,0))","v":""},{"$f":"IF($B463=\"\",\"\",VLOOKUP($B463,_tbl!$A:$E,Q$2,0))","v":""}]
[null,"all_m_East Rural cancer.csv","1-4",3.2138266215212699E-5,3.2117909200895199E-5,3.2036849455354103E-5,3.2002876096626699E-5,3.1954392231489197E-5,3.1887554010822401E-5,3.1833443288991897E-5,3.1770930710151203E-5,3.1702430771723497E-5,3.1643548527568597E-5,{"$f":"IF($B464=\"\",\"\",VLOOKUP($B464,_tbl!$A:$E,N$2,0))","v":"Male"},{"$f":"IF($B464=\"\",\"\",VLOOKUP($B464,_tbl!$A:$E,O$2,0))","v":"East"},{"$f":"IF($B464=\"\",\"\",VLOOKUP($B464,_tbl!$A:$E,P$2,0))","v":"Rural"},{"$f":"IF($B464=\"\",\"\",VLOOKUP($B464,_tbl!$A:$E,Q$2,0))","v":"Cancer"},null,{"$f":"MAX(D464:M464)","v":3.2138266215212699E-5},{"$f":"MIN(D464:M464)","v":3.1643548527568597E-5}]
[null,"all_m_East Rural cancer.csv","5-9",3.3834342509845303E-5,3.3858526389689399E-5,3.3900530985240298E-5,3.3920568110465403E-5,3.3961960714566998E-5,3.3991915140886797E-5,3.4020808190905099E-5,3.4048844256463801E-5,3.4074818529657702E-5,3.4096881600841801E-5,{"$f":"IF($B465=\"\",\"\",VLOOKUP($B465,_tbl!$A:$E,N$2,0))","v":"Male"},{"$f":"IF($B465=\"\",\"\",VLOOKUP($B465,_tbl!$A:$E,O$2,0))","v":"East"},{"$f":"IF($B465=\"\",\"\",VLOOKUP($B465,_tbl!$A:$E,P$2,0))","v":"Rural"},{"$f":"IF($B465=\"\",\"\",VLOOKUP($B465,_tbl!$A:$E,Q$2,0))","v":"Cancer"},null,3.4096881600841801E-5,3.3834342509845303E-5]
[null,"all_m_East Rural cancer.csv","10-14",3.80456383324689E-5,3.8122680399396701E-5,3.81221535882665E-5,3.81204463416973E-5,3.8140208894845999E-5,3.8150549613925598E-5,3.8169941008966298E-5,3.8188303810290098E-5,3.8208238663942698E-5,3.8230210944605599E-5,{"$f":"IF($B466=\"\",\"\",VLOOKUP($B466,_tbl!$A:$E,N$2,0))","v":"Male"},{"$f":"IF($B466=\"\",\"\",VLOOKUP($B466,_tbl!$A:$E,O$2,0))","v":"East"},{"$f":"IF($B466=\"\",\"\",VLOOKUP($B466,_tbl!$A:$E,P$2,0))","v":"Rural"},{"$f":"IF($B466=\"\",\"\",VLOOKUP($B466,_tbl!$A:$E,Q$2,0))","v":"Cancer"},null,3.8230210944605599E-5,3.80456383324689E-5]
[null,"all_m_East Rural cancer.csv","15-19",4.8785725556899698E-5,4.8632857399688599E-5,4.8481862683417397E-5,4.8326800164769199E-5,4.8184792280273198E-5,4.8031674736133402E-5,4.7879601993691197E-5,4.7727589812624602E-5,4.7570519684112001E-5,4.7412021735885098E-5,{"$f":"IF($B467=\"\",\"\",VLOOKUP($B467,_tbl!$A:$E,N$2,0))","v":"Male"},{"$f":"IF($B467=\"\",\"\",VLOOKUP($B467,_tbl!$A:$E,O$2,0))","v":"East"},{"$f":"IF($B467=\"\",\"\",VLOOKUP($B467,_tbl!$A:$E,P$2,0))","v":"Rural"},{"$f":"IF($B467=\"\",\"\",VLOOKUP($B467,_tbl!$A:$E,Q$2,0))","v":"Cancer"},null,4.8785725556899698E-5,4.7412021735885098E-5]
[null,"all_m_East Rural cancer.csv","20-24",6.9726167747972403E-5,6.94010095966388E-5,6.8974245679349905E-5,6.8560654961310495E-5,6.8200520515180197E-5,6.7890600400992096E-5,6.7620523078116594E-5,6.7360545093101101E-5,6.7092411292532503E-5,6.6805170189021304E-5,{"$f":"IF($B468=\"\",\"\",VLOOKUP($B468,_tbl!$A:$E,N$2,0))","v":"Male"},{"$f":"IF($B468=\"\",\"\",VLOOKUP($B468,_tbl!$A:$E,O$2,0))","v":"East"},{"$f":"IF($B468=\"\",\"\",VLOOKUP($B468,_tbl!$A:$E,P$2,0))","v":"Rural"},{"$f":"IF($B468=\"\",\"\",VLOOKUP($B468,_tbl!$A:$E,Q$2,0))","v":"Cancer"},null,6.9726167747972403E-5,6.6805170189021304E-5]
[null,"all_m_East Rural cancer.csv","25-29",1.11218076443076E-4,1.1097785995615899E-4,1.10567825607101E-4,1.10193727132595E-4,1.09840510081591E-4,1.09527181768649E-4,1.09235384226237E-4,1.0894973392628E-4,1.08661295338635E-4,1.08356037217977E-4,{"$f":"IF($B469=\"\",\"\",VLOOKUP($B469,_tbl!$A:$E,N$2,0))","v":"Male"},{"$f":"IF($B469=\"\",\"\",VLOOKUP($B469,_tbl!$A:$E,O$2,0))","v":"East"},{"$f":"IF($B469=\"\",\"\",VLOOKUP($B469,_tbl!$A:$E,P$2,0))","v":"Rural"},{"$f":"IF($B469=\"\",\"\",VLOOKUP($B469,_tbl!$A:$E,Q$2,0))","v":"Cancer"},null,1.11218076443076E-4,1.08356037217977E-4]
[null,"all_m_East Rural cancer.csv","30-34",1.9370389065277599E-4,1.9329128586548499E-4,1.92601830465487E-4,1.9205673447541399E-4,1.9138302141076001E-4,1.9070249440416299E-4,1.8995377503349799E-4,1.8919807232629999E-4,1.8842600551238401E-4,1.8765861917124699E-4,{"$f":"IF($B470=\"\",\"\",VLOOKUP($B470,_tbl!$A:$E,N$2,0))","v":"Male"},{"$f":"IF($B470=\"\",\"\",VLOOKUP($B470,_tbl!$A:$E,O$2,0))","v":"East"},{"$f":"IF($B470=\"\",\"\",VLOOKUP($B470,_tbl!$A:$E,P$2,0))","v":"Rural"},{"$f":"IF($B470=\"\",\"\",VLOOKUP($B470,_tbl!$A:$E,Q$2,0))","v":"Cancer"},null,1.9370389065277599E-4,1.8765861917124699E-4]
[null,"all_m_East Rural cancer.csv","35-39",3.3478112594945099E-4,3.33196187368306E-4,3.31112770847264E-4,3.2945451610761202E-4,3.2727206522644001E-4,3.2517864764833098E-4,3.2278475100534201E-4,3.2046973879184702E-4,3.1803150435028802E-4,3.1567858210544702E-4,{"$f":"IF($B471=\"\",\"\",VLOOKUP($B471,_tbl!$A:$E,N$2,0))","v":"Male"},{"$f":"IF($B471=\"\",\"\",VLOOKUP($B471,_tbl!$A:$E,O$2,0))","v":"East"},{"$f":"IF($B471=\"\",\"\",VLOOKUP($B471,_tbl!$A:$E,P$2,0))","v":"Rural"},{"$f":"IF($B471=\"\",\"\",VLOOKUP($B471,_tbl!$A:$E,Q$2,0))","v":"Cancer"},null,3.3478112594945099E-4,3.1567858210544702E-4]
[null,"all_m_East Rural cancer.csv","40-44",5.6974899715665002E-4,5.6406872409264298E-4,5.5767669561343101E-4,5.5142436944751101E-4,5.4459062755155105E-4,5.3797264055966895E-4,5.3111006572584003E-4,5.2443301995417301E-4,5.1762111137553901E-4,5.1093622850534402E-4,{"$f":"IF($B472=\"\",\"\",VLOOKUP($B472,_tbl!$A:$E,N$2,0))","v":"Male"},{"$f":"IF($B472=\"\",\"\",VLOOKUP($B472,_tbl!$A:$E,O$2,0))","v":"East"},{"$f":"IF($B472=\"\",\"\",VLOOKUP($B472,_tbl!$A:$E,P$2,0))","v":"Rural"},{"$f":"IF($B472=\"\",\"\",VLOOKUP($B472,_tbl!$A:$E,Q$2,0))","v":"Cancer"},null,5.6974899715665002E-4,5.1093622850534402E-4]
[null,"all_m_East Rural cancer.csv","45-49",1.01067008457808E-3,9.9827897445183607E-4,9.8331992803835891E-4,9.6761163131191697E-4,9.5162086263424499E-4,9.35677725919731E-4,9.2001682033689104E-4,9.0431987141486301E-4,8.8871698452938305E-4,8.72941620770917E-4,{"$f":"IF($B473=\"\",\"\",VLOOKUP($B473,_tbl!$A:$E,N$2,0))","v":"Male"},{"$f":"IF($B473=\"\",\"\",VLOOKUP($B473,_tbl!$A:$E,O$2,0))","v":"East"},{"$f":"IF($B473=\"\",\"\",VLOOKUP($B473,_tbl!$A:$E,P$2,0))","v":"Rural"},{"$f":"IF($B473=\"\",\"\",VLOOKUP($B473,_tbl!$A:$E,Q$2,0))","v":"Cancer"},null,1.01067008457808E-3,8.72941620770917E-4]
[null,"all_m_East Rural cancer.csv","50-54",1.8753374221068999E-3,1.8642484335664399E-3,1.8481933418127701E-3,1.82995771483059E-3,1.8104989884685601E-3,1.7904343877456E-3,1.7703080957243301E-3,1.74997013253223E-3,1.7296864871035201E-3,1.7092341898129299E-3,{"$f":"IF($B474=\"\",\"\",VLOOKUP($B474,_tbl!$A:$E,N$2,0))","v":"Male"},{"$f":"IF($B474=\"\",\"\",VLOOKUP($B474,_tbl!$A:$E,O$2,0))","v":"East"},{"$f":"IF($B474=\"\",\"\",VLOOKUP($B474,_tbl!$A:$E,P$2,0))","v":"Rural"},{"$f":"IF($B474=\"\",\"\",VLOOKUP($B474,_tbl!$A:$E,Q$2,0))","v":"Cancer"},null,1.8753374221068999E-3,1.7092341898129299E-3]
[null,"all_m_East Rural cancer.csv","55-59",3.2820548222315701E-3,3.27288289252656E-3,3.2570301247962898E-3,3.2413926533369202E-3,3.2234767333171998E-3,3.2055985461623398E-3,3.1869774164209499E-3,3.1684577151731199E-3,3.1497497406477899E-3,3.1311894914205899E-3,{"$f":"IF($B475=\"\",\"\",VLOOKUP($B475,_tbl!$A:$E,N$2,0))","v":"Male"},{"$f":"IF($B475=\"\",\"\",VLOOKUP($B475,_tbl!$A:$E,O$2,0))","v":"East"},{"$f":"IF($B475=\"\",\"\",VLOOKUP($B475,_tbl!$A:$E,P$2,0))","v":"Rural"},{"$f":"IF($B475=\"\",\"\",VLOOKUP($B475,_tbl!$A:$E,Q$2,0))","v":"Cancer"},null,3.2820548222315701E-3,3.1311894914205899E-3]
[null,"all_m_East Rural cancer.csv","60-64",5.2001055178052596E-3,5.1827130174325001E-3,5.1576957451192496E-3,5.1309929320293097E-3,5.1006477062454899E-3,5.0693068351835803E-3,5.0369043005517996E-3,5.0042968948982303E-3,4.9715795594495998E-3,4.9389141570917302E-3,{"$f":"IF($B476=\"\",\"\",VLOOKUP($B476,_tbl!$A:$E,N$2,0))","v":"Male"},{"$f":"IF($B476=\"\",\"\",VLOOKUP($B476,_tbl!$A:$E,O$2,0))","v":"East"},{"$f":"IF($B476=\"\",\"\",VLOOKUP($B476,_tbl!$A:$E,P$2,0))","v":"Rural"},{"$f":"IF($B476=\"\",\"\",VLOOKUP($B476,_tbl!$A:$E,Q$2,0))","v":"Cancer"},null,5.2001055178052596E-3,4.9389141570917302E-3]
[null,"all_m_East Rural cancer.csv","65-69",7.6157010141282497E-3,7.5906610435225296E-3,7.5542144205037404E-3,7.5108996717645499E-3,7.4617045590880601E-3,7.4092218529459002E-3,7.3552074390009197E-3,7.3005540035098997E-3,7.2461213603049104E-3,7.1919169375263903E-3,{"$f":"IF($B477=\"\",\"\",VLOOKUP($B477,_tbl!$A:$E,N$2,0))","v":"Male"},{"$f":"IF($B477=\"\",\"\",VLOOKUP($B477,_tbl!$A:$E,O$2,0))","v":"East"},{"$f":"IF($B477=\"\",\"\",VLOOKUP($B477,_tbl!$A:$E,P$2,0))","v":"Rural"},{"$f":"IF($B477=\"\",\"\",VLOOKUP($B477,_tbl!$A:$E,Q$2,0))","v":"Cancer"},null,7.6157010141282497E-3,7.1919169375263903E-3]
[null,"all_m_East Rural cancer.csv","70-74",1.06007936875407E-2,1.05502076253675E-2,1.04851507128398E-2,1.0416765561881799E-2,1.0344735339070901E-2,1.0271508731186201E-2,1.0197908155494401E-2,1.0124362778008799E-2,1.00514578595861E-2,9.9791715973966306E-3,{"$f":"IF($B478=\"\",\"\",VLOOKUP($B478,_tbl!$A:$E,N$2,0))","v":"Male"},{"$f":"IF($B478=\"\",\"\",VLOOKUP($B478,_tbl!$A:$E,O$2,0))","v":"East"},{"$f":"IF($B478=\"\",\"\",VLOOKUP($B478,_tbl!$A:$E,P$2,0))","v":"Rural"},{"$f":"IF($B478=\"\",\"\",VLOOKUP($B478,_tbl!$A:$E,Q$2,0))","v":"Cancer"},null,1.06007936875407E-2,9.9791715973966306E-3]
[null,"all_m_East Rural cancer.csv","75-79",1.4058285063724399E-2,1.39442316036575E-2,1.38086437063633E-2,1.36850735245509E-2,1.35634714273373E-2,1.34481937882231E-2,1.33353598593364E-2,1.3223709924523999E-2,1.31119212154254E-2,1.2999207624444601E-2,{"$f":"IF($B479=\"\",\"\",VLOOKUP($B479,_tbl!$A:$E,N$2,0))","v":"Male"},{"$f":"IF($B479=\"\",\"\",VLOOKUP($B479,_tbl!$A:$E,O$2,0))","v":"East"},{"$f":"IF($B479=\"\",\"\",VLOOKUP($B479,_tbl!$A:$E,P$2,0))","v":"Rural"},{"$f":"IF($B479=\"\",\"\",VLOOKUP($B479,_tbl!$A:$E,Q$2,0))","v":"Cancer"},null,1.4058285063724399E-2,1.2999207624444601E-2]
[null,"all_m_East Rural cancer.csv","80-84",1.83050553167373E-2,1.82587123314495E-2,1.8234514112176001E-2,1.8212803555315401E-2,1.8164310814724201E-2,1.8095231084876099E-2,1.8012391198418801E-2,1.7928961789434199E-2,1.7854154934390298E-2,1.7793594048121201E-2,{"$f":"IF($B480=\"\",\"\",VLOOKUP($B480,_tbl!$A:$E,N$2,0))","v":"Male"},{"$f":"IF($B480=\"\",\"\",VLOOKUP($B480,_tbl!$A:$E,O$2,0))","v":"East"},{"$f":"IF($B480=\"\",\"\",VLOOKUP($B480,_tbl!$A:$E,P$2,0))","v":"Rural"},{"$f":"IF($B480=\"\",\"\",VLOOKUP($B480,_tbl!$A:$E,Q$2,0))","v":"Cancer"},null,1.83050553167373E-2,1.7793594048121201E-2]
[null,"all_m_East Rural cancer.csv","85+",2.2812671981502702E-2,2.2731636335378801E-2,2.27451962801677E-2,2.2750348581270001E-2,2.2708186718606301E-2,2.2594882421435099E-2,2.2429583241804298E-2,2.2240369176619298E-2,2.2076426997796501E-2,2.19705559855887E-2,{"$f":"IF($B481=\"\",\"\",VLOOKUP($B481,_tbl!$A:$E,N$2,0))","v":"Male"},{"$f":"IF($B481=\"\",\"\",VLOOKUP($B481,_tbl!$A:$E,O$2,0))","v":"East"},{"$f":"IF($B481=\"\",\"\",VLOOKUP($B481,_tbl!$A:$E,P$2,0))","v":"Rural"},{"$f":"IF($B481=\"\",\"\",VLOOKUP($B481,_tbl!$A:$E,Q$2,0))","v":"Cancer"},null,2.2812671981502702E-2,2.19705559855887E-2]
[null,null,null,null,null,null,null,null,null,null,null,null,null,{"$f":"IF($B482=\"\",\"\",VLOOKUP($B482,_tbl!$A:$E,N$2,0))","v":""},{"$f":"IF($B482=\"\",\"\",VLOOKUP($B482,_tbl!$A:$E,O$2,0))","v":""},{"$f":"IF($B482=\"\",\"\",VLOOKUP($B482,_tbl!$A:$E,P$2,0))","v":""},{"$f":"IF($B482=\"\",\"\",VLOOKUP($B482,_tbl!$A:$E,Q$2,0))","v":""}]
[null,null,null,2020,2021,2022,2023,2024,2025,2026,2027,2028,2029,{"$f":"IF($B483=\"\",\"\",VLOOKUP($B483,_tbl!$A:$E,N$2,0))","v":""},{"$f":"IF($B483=\"\",\"\",VLOOKUP($B483,_tbl!$A:$E,O$2,0))","v":""},{"$f":"IF($B483=\"\",\"\",VLOOKUP($B483,_tbl!$A:$E,P$2,0))","v":""},{"$f":"IF($B483=\"\",\"\",VLOOKUP($B483,_tbl!$A:$E,Q$2,0))","v":""}]
[null,"all_m_East Rural circulatory.csv","1-4",3.0793773851865998E-5,3.02412464783983E-5,2.9537896741343201E-5,2.89367775448345E-5,2.8384424945623301E-5,2.78485394716487E-5,2.7325424302272699E-5,2.6835912719671099E-5,2.63113388192517E-5,2.5797733618729801E-5,{"$f":"IF($B484=\"\",\"\",VLOOKUP($B484,_tbl!$A:$E,N$2,0))","v":"Male"},{"$f":"IF($B484=\"\",\"\",VLOOKUP($B484,_tbl!$A:$E,O$2,0))","v":"East"},{"$f":"IF($B484=\"\",\"\",VLOOKUP($B484,_tbl!$A:$E,P$2,0))","v":"Rural"},{"$f":"IF($B484=\"\",\"\",VLOOKUP($B484,_tbl!$A:$E,Q$2,0))","v":"Circulatory"},null,{"$f":"MAX(D484:M484)","v":3.0793773851865998E-5},{"$f":"MIN(D484:M484)","v":2.5797733618729801E-5}]
[null,"all_m_East Rural circulatory.csv","5-9",1.5450413808653301E-5,1.5415929717077299E-5,1.5350265511724999E-5,1.5316224821883899E-5,1.5271079444995799E-5,1.52260391736739E-5,1.51843765888037E-5,1.5139813517862601E-5,1.50904833590449E-5,1.50433082913698E-5,{"$f":"IF($B485=\"\",\"\",VLOOKUP($B485,_tbl!$A:$E,N$2,0))","v":"Male"},{"$f":"IF($B485=\"\",\"\",VLOOKUP($B485,_tbl!$A:$E,O$2,0))","v":"East"},{"$f":"IF($B485=\"\",\"\",VLOOKUP($B485,_tbl!$A:$E,P$2,0))","v":"Rural"},{"$f":"IF($B485=\"\",\"\",VLOOKUP($B485,_tbl!$A:$E,Q$2,0))","v":"Circulatory"},null,1.5450413808653301E-5,1.50433082913698E-5]
[null,"all_m_East Rural circulatory.csv","10-14",1.98218350946002E-5,1.9783560879522599E-5,1.9744619957865199E-5,1.9719366770930699E-5,1.9689372227548301E-5,1.9662763610380601E-5,1.9634850130393099E-5,1.9608128054305999E-5,1.9579418853546099E-5,1.9550103541702601E-5,{"$f":"IF($B486=\"\",\"\",VLOOKUP($B486,_tbl!$A:$E,N$2,0))","v":"Male"},{"$f":"IF($B486=\"\",\"\",VLOOKUP($B486,_tbl!$A:$E,O$2,0))","v":"East"},{"$f":"IF($B486=\"\",\"\",VLOOKUP($B486,_tbl!$A:$E,P$2,0))","v":"Rural"},{"$f":"IF($B486=\"\",\"\",VLOOKUP($B486,_tbl!$A:$E,Q$2,0))","v":"Circulatory"},null,1.98218350946002E-5,1.9550103541702601E-5]
[null,"all_m_East Rural circulatory.csv","15-19",3.0305458878480599E-5,3.03150103737474E-5,3.03330181114532E-5,3.03614593351236E-5,3.0361987389310199E-5,3.0345918830349501E-5,3.03169123373621E-5,3.0283050650001501E-5,3.0250286389523699E-5,3.0222896401286599E-5,{"$f":"IF($B487=\"\",\"\",VLOOKUP($B487,_tbl!$A:$E,N$2,0))","v":"Male"},{"$f":"IF($B487=\"\",\"\",VLOOKUP($B487,_tbl!$A:$E,O$2,0))","v":"East"},{"$f":"IF($B487=\"\",\"\",VLOOKUP($B487,_tbl!$A:$E,P$2,0))","v":"Rural"},{"$f":"IF($B487=\"\",\"\",VLOOKUP($B487,_tbl!$A:$E,Q$2,0))","v":"Circulatory"},null,3.0361987389310199E-5,3.0222896401286599E-5]
[null,"all_m_East Rural circulatory.csv","20-24",5.09699954457983E-5,5.0886992091649501E-5,5.0696777419484498E-5,5.0556628690649597E-5,5.0363543046988303E-5,5.0163932577357298E-5,4.9940079934099798E-5,4.97174116686834E-5,4.94929963210891E-5,4.9276116702257498E-5,{"$f":"IF($B488=\"\",\"\",VLOOKUP($B488,_tbl!$A:$E,N$2,0))","v":"Male"},{"$f":"IF($B488=\"\",\"\",VLOOKUP($B488,_tbl!$A:$E,O$2,0))","v":"East"},{"$f":"IF($B488=\"\",\"\",VLOOKUP($B488,_tbl!$A:$E,P$2,0))","v":"Rural"},{"$f":"IF($B488=\"\",\"\",VLOOKUP($B488,_tbl!$A:$E,Q$2,0))","v":"Circulatory"},null,5.09699954457983E-5,4.9276116702257498E-5]
[null,"all_m_East Rural circulatory.csv","25-29",9.3552368776339803E-5,9.3128172583572006E-5,9.2351072714785498E-5,9.1650884040319198E-5,9.1005609700968803E-5,9.0461485919157098E-5,8.9968266027426098E-5,8.9493140874713403E-5,8.9006304311636499E-5,8.8484855904075996E-5,{"$f":"IF($B489=\"\",\"\",VLOOKUP($B489,_tbl!$A:$E,N$2,0))","v":"Male"},{"$f":"IF($B489=\"\",\"\",VLOOKUP($B489,_tbl!$A:$E,O$2,0))","v":"East"},{"$f":"IF($B489=\"\",\"\",VLOOKUP($B489,_tbl!$A:$E,P$2,0))","v":"Rural"},{"$f":"IF($B489=\"\",\"\",VLOOKUP($B489,_tbl!$A:$E,Q$2,0))","v":"Circulatory"},null,9.3552368776339803E-5,8.8484855904075996E-5]
[null,"all_m_East Rural circulatory.csv","30-34",1.8665286291344701E-4,1.8501006597069399E-4,1.83045810558785E-4,1.8114909599082799E-4,1.7954419670358399E-4,1.78214023426031E-4,1.7705665670332199E-4,1.7593117000917099E-4,1.7473716959873E-4,1.73429889286313E-4,{"$f":"IF($B490=\"\",\"\",VLOOKUP($B490,_tbl!$A:$E,N$2,0))","v":"Male"},{"$f":"IF($B490=\"\",\"\",VLOOKUP($B490,_tbl!$A:$E,O$2,0))","v":"East"},{"$f":"IF($B490=\"\",\"\",VLOOKUP($B490,_tbl!$A:$E,P$2,0))","v":"Rural"},{"$f":"IF($B490=\"\",\"\",VLOOKUP($B490,_tbl!$A:$E,Q$2,0))","v":"Circulatory"},null,1.8665286291344701E-4,1.73429889286313E-4]
[null,"all_m_East Rural circulatory.csv","35-39",3.19203470598086E-4,3.1787832022844799E-4,3.1686235764636798E-4,3.15653332448065E-4,3.1459816336374199E-4,3.1340974248375E-4,3.1229620837036398E-4,3.1109872047481901E-4,3.0995267935658298E-4,3.0876520796800302E-4,{"$f":"IF($B491=\"\",\"\",VLOOKUP($B491,_tbl!$A:$E,N$2,0))","v":"Male"},{"$f":"IF($B491=\"\",\"\",VLOOKUP($B491,_tbl!$A:$E,O$2,0))","v":"East"},{"$f":"IF($B491=\"\",\"\",VLOOKUP($B491,_tbl!$A:$E,P$2,0))","v":"Rural"},{"$f":"IF($B491=\"\",\"\",VLOOKUP($B491,_tbl!$A:$E,Q$2,0))","v":"Circulatory"},null,3.19203470598086E-4,3.0876520796800302E-4]
[null,"all_m_East Rural circulatory.csv","40-44",5.4883997663606496E-4,5.4914342825893199E-4,5.4730454666155302E-4,5.4688162431837796E-4,5.4507633665232496E-4,5.4390120191746805E-4,5.4190731206201696E-4,5.4034885055427703E-4,5.3841361767109999E-4,5.3687238603091804E-4,{"$f":"IF($B492=\"\",\"\",VLOOKUP($B492,_tbl!$A:$E,N$2,0))","v":"Male"},{"$f":"IF($B492=\"\",\"\",VLOOKUP($B492,_tbl!$A:$E,O$2,0))","v":"East"},{"$f":"IF($B492=\"\",\"\",VLOOKUP($B492,_tbl!$A:$E,P$2,0))","v":"Rural"},{"$f":"IF($B492=\"\",\"\",VLOOKUP($B492,_tbl!$A:$E,Q$2,0))","v":"Circulatory"},null,5.4914342825893199E-4,5.3687238603091804E-4]
[null,"all_m_East Rural circulatory.csv","45-49",9.1733227220610605E-4,9.1306767586346105E-4,9.0633676152180698E-4,8.9955688027928602E-4,8.9221318182136199E-4,8.8485505034976801E-4,8.77425094752896E-4,8.6992329403384001E-4,8.6242278825619703E-4,8.5485217961351896E-4,{"$f":"IF($B493=\"\",\"\",VLOOKUP($B493,_tbl!$A:$E,N$2,0))","v":"Male"},{"$f":"IF($B493=\"\",\"\",VLOOKUP($B493,_tbl!$A:$E,O$2,0))","v":"East"},{"$f":"IF($B493=\"\",\"\",VLOOKUP($B493,_tbl!$A:$E,P$2,0))","v":"Rural"},{"$f":"IF($B493=\"\",\"\",VLOOKUP($B493,_tbl!$A:$E,Q$2,0))","v":"Circulatory"},null,9.1733227220610605E-4,8.5485217961351896E-4]
[null,"all_m_East Rural circulatory.csv","50-54",1.56875259169644E-3,1.5619696925005999E-3,1.54994410461038E-3,1.5382948356067799E-3,1.52530616823837E-3,1.5125453459578001E-3,1.49949392613047E-3,1.4864869489448699E-3,1.4733737609732599E-3,1.4602177659218899E-3,{"$f":"IF($B494=\"\",\"\",VLOOKUP($B494,_tbl!$A:$E,N$2,0))","v":"Male"},{"$f":"IF($B494=\"\",\"\",VLOOKUP($B494,_tbl!$A:$E,O$2,0))","v":"East"},{"$f":"IF($B494=\"\",\"\",VLOOKUP($B494,_tbl!$A:$E,P$2,0))","v":"Rural"},{"$f":"IF($B494=\"\",\"\",VLOOKUP($B494,_tbl!$A:$E,Q$2,0))","v":"Circulatory"},null,1.56875259169644E-3,1.4602177659218899E-3]
[null,"all_m_East Rural circulatory.csv","55-59",2.6726028014088798E-3,2.6627423769795999E-3,2.6453748158686099E-3,2.6282812728121198E-3,2.6089325717595199E-3,2.58952915767755E-3,2.5694386414847801E-3,2.54925914196961E-3,2.52895119682435E-3,2.5086798760977202E-3,{"$f":"IF($B495=\"\",\"\",VLOOKUP($B495,_tbl!$A:$E,N$2,0))","v":"Male"},{"$f":"IF($B495=\"\",\"\",VLOOKUP($B495,_tbl!$A:$E,O$2,0))","v":"East"},{"$f":"IF($B495=\"\",\"\",VLOOKUP($B495,_tbl!$A:$E,P$2,0))","v":"Rural"},{"$f":"IF($B495=\"\",\"\",VLOOKUP($B495,_tbl!$A:$E,Q$2,0))","v":"Circulatory"},null,2.6726028014088798E-3,2.5086798760977202E-3]
[null,"all_m_East Rural circulatory.csv","60-64",4.3855955145683497E-3,4.3637410020481403E-3,4.3284361513314601E-3,4.29241634765917E-3,4.2515916406244596E-3,4.2102545789800896E-3,4.1674468827870596E-3,4.1243544399777697E-3,4.0808614344385701E-3,4.0372981979347796E-3,{"$f":"IF($B496=\"\",\"\",VLOOKUP($B496,_tbl!$A:$E,N$2,0))","v":"Male"},{"$f":"IF($B496=\"\",\"\",VLOOKUP($B496,_tbl!$A:$E,O$2,0))","v":"East"},{"$f":"IF($B496=\"\",\"\",VLOOKUP($B496,_tbl!$A:$E,P$2,0))","v":"Rural"},{"$f":"IF($B496=\"\",\"\",VLOOKUP($B496,_tbl!$A:$E,Q$2,0))","v":"Circulatory"},null,4.3855955145683497E-3,4.0372981979347796E-3]
[null,"all_m_East Rural circulatory.csv","65-69",7.09387643659945E-3,7.0328137732542303E-3,6.9446229102991201E-3,6.8517876408293798E-3,6.7481420018164597E-3,6.6421206119773504E-3,6.5332156541871899E-3,6.4239954176245999E-3,6.3146081698055899E-3,6.2056890620171001E-3,{"$f":"IF($B497=\"\",\"\",VLOOKUP($B497,_tbl!$A:$E,N$2,0))","v":"Male"},{"$f":"IF($B497=\"\",\"\",VLOOKUP($B497,_tbl!$A:$E,O$2,0))","v":"East"},{"$f":"IF($B497=\"\",\"\",VLOOKUP($B497,_tbl!$A:$E,P$2,0))","v":"Rural"},{"$f":"IF($B497=\"\",\"\",VLOOKUP($B497,_tbl!$A:$E,Q$2,0))","v":"Circulatory"},null,7.09387643659945E-3,6.2056890620171001E-3]
[null,"all_m_East Rural circulatory.csv","70-74",1.23517404532723E-2,1.21762211727103E-2,1.19418686234201E-2,1.17074326470937E-2,1.1456323377114899E-2,1.12054127793324E-2,1.09513289081216E-2,1.0699171542728699E-2,1.0447965452555901E-2,1.01994843824383E-2,{"$f":"IF($B498=\"\",\"\",VLOOKUP($B498,_tbl!$A:$E,N$2,0))","v":"Male"},{"$f":"IF($B498=\"\",\"\",VLOOKUP($B498,_tbl!$A:$E,O$2,0))","v":"East"},{"$f":"IF($B498=\"\",\"\",VLOOKUP($B498,_tbl!$A:$E,P$2,0))","v":"Rural"},{"$f":"IF($B498=\"\",\"\",VLOOKUP($B498,_tbl!$A:$E,Q$2,0))","v":"Circulatory"},null,1.23517404532723E-2,1.01994843824383E-2]
[null,"all_m_East Rural circulatory.csv","75-79",2.4635932791497998E-2,2.4183942581738001E-2,2.3642392578818301E-2,2.3143825601413599E-2,2.26369985049171E-2,2.2145027927484601E-2,2.1655711929130302E-2,2.1172959314054701E-2,2.0694079908791699E-2,2.0219834661603601E-2,{"$f":"IF($B499=\"\",\"\",VLOOKUP($B499,_tbl!$A:$E,N$2,0))","v":"Male"},{"$f":"IF($B499=\"\",\"\",VLOOKUP($B499,_tbl!$A:$E,O$2,0))","v":"East"},{"$f":"IF($B499=\"\",\"\",VLOOKUP($B499,_tbl!$A:$E,P$2,0))","v":"Rural"},{"$f":"IF($B499=\"\",\"\",VLOOKUP($B499,_tbl!$A:$E,Q$2,0))","v":"Circulatory"},null,2.4635932791497998E-2,2.0219834661603601E-2]
[null,"all_m_East Rural circulatory.csv","80-84",5.2667056337495299E-2,5.0840475117501102E-2,4.8792715845005503E-2,4.7168714980334099E-2,4.59582262677629E-2,4.5193914002959898E-2,4.4710497537984603E-2,4.4330385494583097E-2,4.3852715089194201E-2,4.3154178872877598E-2,{"$f":"IF($B500=\"\",\"\",VLOOKUP($B500,_tbl!$A:$E,N$2,0))","v":"Male"},{"$f":"IF($B500=\"\",\"\",VLOOKUP($B500,_tbl!$A:$E,O$2,0))","v":"East"},{"$f":"IF($B500=\"\",\"\",VLOOKUP($B500,_tbl!$A:$E,P$2,0))","v":"Rural"},{"$f":"IF($B500=\"\",\"\",VLOOKUP($B500,_tbl!$A:$E,Q$2,0))","v":"Circulatory"},null,5.2667056337495299E-2,4.3154178872877598E-2]
[null,"all_m_East Rural circulatory.csv","85+",0.10947283987686,0.105618681266769,0.101764161889225,9.90342286979424E-2,9.7260974544220904E-2,9.6373240421316203E-2,9.6036902824301704E-2,9.5918367817330402E-2,9.5638478130413401E-2,9.4942007929036995E-2,{"$f":"IF($B501=\"\",\"\",VLOOKUP($B501,_tbl!$A:$E,N$2,0))","v":"Male"},{"$f":"IF($B501=\"\",\"\",VLOOKUP($B501,_tbl!$A:$E,O$2,0))","v":"East"},{"$f":"IF($B501=\"\",\"\",VLOOKUP($B501,_tbl!$A:$E,P$2,0))","v":"Rural"},{"$f":"IF($B501=\"\",\"\",VLOOKUP($B501,_tbl!$A:$E,Q$2,0))","v":"Circulatory"},null,0.10947283987686,9.4942007929036995E-2]
[null,null,null,null,null,null,null,null,null,null,null,null,null,{"$f":"IF($B502=\"\",\"\",VLOOKUP($B502,_tbl!$A:$E,N$2,0))","v":""},{"$f":"IF($B502=\"\",\"\",VLOOKUP($B502,_tbl!$A:$E,O$2,0))","v":""},{"$f":"IF($B502=\"\",\"\",VLOOKUP($B502,_tbl!$A:$E,P$2,0))","v":""},{"$f":"IF($B502=\"\",\"\",VLOOKUP($B502,_tbl!$A:$E,Q$2,0))","v":""}]
[null,null,null,2020,2021,2022,2023,2024,2025,2026,2027,2028,2029,{"$f":"IF($B503=\"\",\"\",VLOOKUP($B503,_tbl!$A:$E,N$2,0))","v":""},{"$f":"IF($B503=\"\",\"\",VLOOKUP($B503,_tbl!$A:$E,O$2,0))","v":""},{"$f":"IF($B503=\"\",\"\",VLOOKUP($B503,_tbl!$A:$E,P$2,0))","v":""},{"$f":"IF($B503=\"\",\"\",VLOOKUP($B503,_tbl!$A:$E,Q$2,0))","v":""}]
[null,"all_m_East Rural congenital.csv","1-4",5.4355767023516503E-5,5.0202672224176299E-5,4.7913631187698299E-5,4.5897549534136503E-5,4.30242585454482E-5,4.0981879383858802E-5,3.8793165665602201E-5,3.6510527909783597E-5,3.4562210295001497E-5,3.2560602923228501E-5,{"$f":"IF($B504=\"\",\"\",VLOOKUP($B504,_tbl!$A:$E,N$2,0))","v":"Male"},{"$f":"IF($B504=\"\",\"\",VLOOKUP($B504,_tbl!$A:$E,O$2,0))","v":"East"},{"$f":"IF($B504=\"\",\"\",VLOOKUP($B504,_tbl!$A:$E,P$2,0))","v":"Rural"},{"$f":"IF($B504=\"\",\"\",VLOOKUP($B504,_tbl!$A:$E,Q$2,0))","v":"Congenital"},null,{"$f":"MAX(D504:M504)","v":5.4355767023516503E-5},{"$f":"MIN(D504:M504)","v":3.2560602923228501E-5}]
[null,"all_m_East Rural congenital.csv","5-9",1.15696803284114E-5,1.08791749013203E-5,1.0623048341726301E-5,1.03909425935124E-5,9.9517668159723495E-6,9.7007055707132803E-6,9.4110007915665992E-6,9.0809639748811107E-6,8.8249454220195705E-6,8.5448484497695597E-6,{"$f":"IF($B505=\"\",\"\",VLOOKUP($B505,_tbl!$A:$E,N$2,0))","v":"Male"},{"$f":"IF($B505=\"\",\"\",VLOOKUP($B505,_tbl!$A:$E,O$2,0))","v":"East"},{"$f":"IF($B505=\"\",\"\",VLOOKUP($B505,_tbl!$A:$E,P$2,0))","v":"Rural"},{"$f":"IF($B505=\"\",\"\",VLOOKUP($B505,_tbl!$A:$E,Q$2,0))","v":"Congenital"},null,1.15696803284114E-5,8.5448484497695597E-6]
[null,"all_m_East Rural congenital.csv","10-14",1.01378351130299E-5,9.4017503764933805E-6,9.1272426623345395E-6,8.8677142841808004E-6,8.4138621303047604E-6,8.1470313505874297E-6,7.8462701778969895E-6,7.5057465035625296E-6,7.2397095166645097E-6,6.9489187133895404E-6,{"$f":"IF($B506=\"\",\"\",VLOOKUP($B506,_tbl!$A:$E,N$2,0))","v":"Male"},{"$f":"IF($B506=\"\",\"\",VLOOKUP($B506,_tbl!$A:$E,O$2,0))","v":"East"},{"$f":"IF($B506=\"\",\"\",VLOOKUP($B506,_tbl!$A:$E,P$2,0))","v":"Rural"},{"$f":"IF($B506=\"\",\"\",VLOOKUP($B506,_tbl!$A:$E,Q$2,0))","v":"Congenital"},null,1.01378351130299E-5,6.9489187133895404E-6]
[null,"all_m_East Rural congenital.csv","15-19",9.0017679843572597E-6,8.2241479990015593E-6,7.9074085948497904E-6,7.6198762914941101E-6,7.1272759383148998E-6,6.8307838080262E-6,6.5010521487840103E-6,6.1345149546658697E-6,5.8430328531031503E-6,5.5273730523831696E-6,{"$f":"IF($B507=\"\",\"\",VLOOKUP($B507,_tbl!$A:$E,N$2,0))","v":"Male"},{"$f":"IF($B507=\"\",\"\",VLOOKUP($B507,_tbl!$A:$E,O$2,0))","v":"East"},{"$f":"IF($B507=\"\",\"\",VLOOKUP($B507,_tbl!$A:$E,P$2,0))","v":"Rural"},{"$f":"IF($B507=\"\",\"\",VLOOKUP($B507,_tbl!$A:$E,Q$2,0))","v":"Congenital"},null,9.0017679843572597E-6,5.5273730523831696E-6]
[null,"all_m_East Rural congenital.csv","20-24",8.5092430525632198E-6,8.0439538488111804E-6,7.8646960968916399E-6,7.6779511710791993E-6,7.4051875966540104E-6,7.2723953655853998E-6,7.1385009636131897E-6,6.9820670035891702E-6,6.8695220804325303E-6,6.7294807843204896E-6,{"$f":"IF($B508=\"\",\"\",VLOOKUP($B508,_tbl!$A:$E,N$2,0))","v":"Male"},{"$f":"IF($B508=\"\",\"\",VLOOKUP($B508,_tbl!$A:$E,O$2,0))","v":"East"},{"$f":"IF($B508=\"\",\"\",VLOOKUP($B508,_tbl!$A:$E,P$2,0))","v":"Rural"},{"$f":"IF($B508=\"\",\"\",VLOOKUP($B508,_tbl!$A:$E,Q$2,0))","v":"Congenital"},null,8.5092430525632198E-6,6.7294807843204896E-6]
[null,"all_m_East Rural congenital.csv","25-29",8.4628837797125203E-6,8.3367259130752805E-6,8.1864885810025405E-6,8.0424519029599601E-6,7.9253126889940495E-6,7.8530065866542999E-6,7.8047605500103097E-6,7.7612099709607699E-6,7.71835437744483E-6,7.6627805953438299E-6,{"$f":"IF($B509=\"\",\"\",VLOOKUP($B509,_tbl!$A:$E,N$2,0))","v":"Male"},{"$f":"IF($B509=\"\",\"\",VLOOKUP($B509,_tbl!$A:$E,O$2,0))","v":"East"},{"$f":"IF($B509=\"\",\"\",VLOOKUP($B509,_tbl!$A:$E,P$2,0))","v":"Rural"},{"$f":"IF($B509=\"\",\"\",VLOOKUP($B509,_tbl!$A:$E,Q$2,0))","v":"Congenital"},null,8.4628837797125203E-6,7.6627805953438299E-6]
[null,"all_m_East Rural congenital.csv",null,null,null,null,null,null,null,null,null,null,null,{"$f":"IF($B510=\"\",\"\",VLOOKUP($B510,_tbl!$A:$E,N$2,0))","v":"Male"},{"$f":"IF($B510=\"\",\"\",VLOOKUP($B510,_tbl!$A:$E,O$2,0))","v":"East"},{"$f":"IF($B510=\"\",\"\",VLOOKUP($B510,_tbl!$A:$E,P$2,0))","v":"Rural"},{"$f":"IF($B510=\"\",\"\",VLOOKUP($B510,_tbl!$A:$E,Q$2,0))","v":"Congenital"},null,0,0]
[null,"all_m_East Rural congenital.csv",null,null,null,null,null,null,null,null,null,null,null,{"$f":"IF($B511=\"\",\"\",VLOOKUP($B511,_tbl!$A:$E,N$2,0))","v":"Male"},{"$f":"IF($B511=\"\",\"\",VLOOKUP($B511,_tbl!$A:$E,O$2,0))","v":"East"},{"$f":"IF($B511=\"\",\"\",VLOOKUP($B511,_tbl!$A:$E,P$2,0))","v":"Rural"},{"$f":"IF($B511=\"\",\"\",VLOOKUP($B511,_tbl!$A:$E,Q$2,0))","v":"Congenital"},null,0,0]
[null,"all_m_East Rural congenital.csv",null,null,null,null,null,null,null,null,null,null,null,{"$f":"IF($B512=\"\",\"\",VLOOKUP($B512,_tbl!$A:$E,N$2,0))","v":"Male"},{"$f":"IF($B512=\"\",\"\",VLOOKUP($B512,_tbl!$A:$E,O$2,0))","v":"East"},{"$f":"IF($B512=\"\",\"\",VLOOKUP($B512,_tbl!$A:$E,P$2,0))","v":"Rural"},{"$f":"IF($B512=\"\",\"\",VLOOKUP($B512,_tbl!$A:$E,Q$2,0))","v":"Congenital"},null,0,0]
[null,"all_m_East Rural congenital.csv",null,null,null,null,null,null,null,null,null,null,null,{"$f":"IF($B513=\"\",\"\",VLOOKUP($B513,_tbl!$A:$E,N$2,0))","v":"Male"},{"$f":"IF($B513=\"\",\"\",VLOOKUP($B513,_tbl!$A:$E,O$2,0))","v":"East"},{"$f":"IF($B513=\"\",\"\",VLOOKUP($B513,_tbl!$A:$E,P$2,0))","v":"Rural"},{"$f":"IF($B513=\"\",\"\",VLOOKUP($B513,_tbl!$A:$E,Q$2,0))","v":"Congenital"},null,0,0]
[null,"all_m_East Rural congenital.csv",null,null,null,null,null,null,null,null,null,null,null,{"$f":"IF($B514=\"\",\"\",VLOOKUP($B514,_tbl!$A:$E,N$2,0))","v":"Male"},{"$f":"IF($B514=\"\",\"\",VLOOKUP($B514,_tbl!$A:$E,O$2,0))","v":"East"},{"$f":"IF($B514=\"\",\"\",VLOOKUP($B514,_tbl!$A:$E,P$2,0))","v":"Rural"},{"$f":"IF($B514=\"\",\"\",VLOOKUP($B514,_tbl!$A:$E,Q$2,0))","v":"Congenital"},null,0,0]
[null,"all_m_East Rural congenital.csv",null,null,null,null,null,null,null,null,null,null,null,{"$f":"IF($B515=\"\",\"\",VLOOKUP($B515,_tbl!$A:$E,N$2,0))","v":"Male"},{"$f":"IF($B515=\"\",\"\",VLOOKUP($B515,_tbl!$A:$E,O$2,0))","v":"East"},{"$f":"IF($B515=\"\",\"\",VLOOKUP($B515,_tbl!$A:$E,P$2,0))","v":"Rural"},{"$f":"IF($B515=\"\",\"\",VLOOKUP($B515,_tbl!$A:$E,Q$2,0))","v":"Congenital"},null,0,0]
[null,"all_m_East Rural congenital.csv",null,null,null,null,null,null,null,null,null,null,null,{"$f":"IF($B516=\"\",\"\",VLOOKUP($B516,_tbl!$A:$E,N$2,0))","v":"Male"},{"$f":"IF($B516=\"\",\"\",VLOOKUP($B516,_tbl!$A:$E,O$2,0))","v":"East"},{"$f":"IF($B516=\"\",\"\",VLOOKUP($B516,_tbl!$A:$E,P$2,0))","v":"Rural"},{"$f":"IF($B516=\"\",\"\",VLOOKUP($B516,_tbl!$A:$E,Q$2,0))","v":"Congenital"},null,0,0]
[null,"all_m_East Rural congenital.csv",null,null,null,null,null,null,null,null,null,null,null,{"$f":"IF($B517=\"\",\"\",VLOOKUP($B517,_tbl!$A:$E,N$2,0))","v":"Male"},{"$f":"IF($B517=\"\",\"\",VLOOKUP($B517,_tbl!$A:$E,O$2,0))","v":"East"},{"$f":"IF($B517=\"\",\"\",VLOOKUP($B517,_tbl!$A:$E,P$2,0))","v":"Rural"},{"$f":"IF($B517=\"\",\"\",VLOOKUP($B517,_tbl!$A:$E,Q$2,0))","v":"Congenital"},null,0,0]
[null,"all_m_East Rural congenital.csv",null,null,null,null,null,null,null,null,null,null,null,{"$f":"IF($B518=\"\",\"\",VLOOKUP($B518,_tbl!$A:$E,N$2,0))","v":"Male"},{"$f":"IF($B518=\"\",\"\",VLOOKUP($B518,_tbl!$A:$E,O$2,0))","v":"East"},{"$f":"IF($B518=\"\",\"\",VLOOKUP($B518,_tbl!$A:$E,P$2,0))","v":"Rural"},{"$f":"IF($B518=\"\",\"\",VLOOKUP($B518,_tbl!$A:$E,Q$2,0))","v":"Congenital"},null,0,0]
[null,"all_m_East Rural congenital.csv",null,null,null,null,null,null,null,null,null,null,null,{"$f":"IF($B519=\"\",\"\",VLOOKUP($B519,_tbl!$A:$E,N$2,0))","v":"Male"},{"$f":"IF($B519=\"\",\"\",VLOOKUP($B519,_tbl!$A:$E,O$2,0))","v":"East"},{"$f":"IF($B519=\"\",\"\",VLOOKUP($B519,_tbl!$A:$E,P$2,0))","v":"Rural"},{"$f":"IF($B519=\"\",\"\",VLOOKUP($B519,_tbl!$A:$E,Q$2,0))","v":"Congenital"},null,0,0]
[null,"all_m_East Rural congenital.csv",null,null,null,null,null,null,null,null,null,null,null,{"$f":"IF($B520=\"\",\"\",VLOOKUP($B520,_tbl!$A:$E,N$2,0))","v":"Male"},{"$f":"IF($B520=\"\",\"\",VLOOKUP($B520,_tbl!$A:$E,O$2,0))","v":"East"},{"$f":"IF($B520=\"\",\"\",VLOOKUP($B520,_tbl!$A:$E,P$2,0))","v":"Rural"},{"$f":"IF($B520=\"\",\"\",VLOOKUP($B520,_tbl!$A:$E,Q$2,0))","v":"Congenital"},null,0,0]
[null,"all_m_East Rural congenital.csv",null,null,null,null,null,null,null,null,null,null,null,{"$f":"IF($B521=\"\",\"\",VLOOKUP($B521,_tbl!$A:$E,N$2,0))","v":"Male"},{"$f":"IF($B521=\"\",\"\",VLOOKUP($B521,_tbl!$A:$E,O$2,0))","v":"East"},{"$f":"IF($B521=\"\",\"\",VLOOKUP($B521,_tbl!$A:$E,P$2,0))","v":"Rural"},{"$f":"IF($B521=\"\",\"\",VLOOKUP($B521,_tbl!$A:$E,Q$2,0))","v":"Congenital"},null,0,0]
[null,null,null,null,null,null,null,null,null,null,null,null,null,{"$f":"IF($B522=\"\",\"\",VLOOKUP($B522,_tbl!$A:$E,N$2,0))","v":""},{"$f":"IF($B522=\"\",\"\",VLOOKUP($B522,_tbl!$A:$E,O$2,0))","v":""},{"$f":"IF($B522=\"\",\"\",VLOOKUP($B522,_tbl!$A:$E,P$2,0))","v":""},{"$f":"IF($B522=\"\",\"\",VLOOKUP($B522,_tbl!$A:$E,Q$2,0))","v":""}]
[null,null,null,2020,2021,2022,2023,2024,2025,2026,2027,2028,2029,{"$f":"IF($B523=\"\",\"\",VLOOKUP($B523,_tbl!$A:$E,N$2,0))","v":""},{"$f":"IF($B523=\"\",\"\",VLOOKUP($B523,_tbl!$A:$E,O$2,0))","v":""},{"$f":"IF($B523=\"\",\"\",VLOOKUP($B523,_tbl!$A:$E,P$2,0))","v":""},{"$f":"IF($B523=\"\",\"\",VLOOKUP($B523,_tbl!$A:$E,Q$2,0))","v":""}]
[null,"all_m_East Rural diabetes.csv","30-34",9.0843812003781293E-6,8.8798643725717695E-6,8.6225329737737706E-6,8.3790345459716205E-6,8.17289108905176E-6,8.0089702472270303E-6,7.8712515452465597E-6,7.7404625139838403E-6,7.6005480043822503E-6,7.4443065441368298E-6,{"$f":"IF($B524=\"\",\"\",VLOOKUP($B524,_tbl!$A:$E,N$2,0))","v":"Male"},{"$f":"IF($B524=\"\",\"\",VLOOKUP($B524,_tbl!$A:$E,O$2,0))","v":"East"},{"$f":"IF($B524=\"\",\"\",VLOOKUP($B524,_tbl!$A:$E,P$2,0))","v":"Rural"},{"$f":"IF($B524=\"\",\"\",VLOOKUP($B524,_tbl!$A:$E,Q$2,0))","v":"Diabetes"},null,{"$f":"MAX(D524:M524)","v":9.0843812003781293E-6},{"$f":"MIN(D524:M524)","v":7.4443065441368298E-6}]
[null,"all_m_East Rural diabetes.csv","35-39",1.6837054753466699E-5,1.6893043639416702E-5,1.6940504991524001E-5,1.6996373350247099E-5,1.7039743309145701E-5,1.7093604591785599E-5,1.7134698065801299E-5,1.7184075233035801E-5,1.7223855045459699E-5,1.7270051434632499E-5,{"$f":"IF($B525=\"\",\"\",VLOOKUP($B525,_tbl!$A:$E,N$2,0))","v":"Male"},{"$f":"IF($B525=\"\",\"\",VLOOKUP($B525,_tbl!$A:$E,O$2,0))","v":"East"},{"$f":"IF($B525=\"\",\"\",VLOOKUP($B525,_tbl!$A:$E,P$2,0))","v":"Rural"},{"$f":"IF($B525=\"\",\"\",VLOOKUP($B525,_tbl!$A:$E,Q$2,0))","v":"Diabetes"},null,1.7270051434632499E-5,1.6837054753466699E-5]
[null,"all_m_East Rural diabetes.csv","40-44",2.8101443182627699E-5,2.80493379401135E-5,2.7875450826274298E-5,2.7750843493736799E-5,2.7589992160769699E-5,2.7461991953050699E-5,2.7323047778611199E-5,2.7195334110239702E-5,2.7052975933681401E-5,2.6906614837046401E-5,{"$f":"IF($B526=\"\",\"\",VLOOKUP($B526,_tbl!$A:$E,N$2,0))","v":"Male"},{"$f":"IF($B526=\"\",\"\",VLOOKUP($B526,_tbl!$A:$E,O$2,0))","v":"East"},{"$f":"IF($B526=\"\",\"\",VLOOKUP($B526,_tbl!$A:$E,P$2,0))","v":"Rural"},{"$f":"IF($B526=\"\",\"\",VLOOKUP($B526,_tbl!$A:$E,Q$2,0))","v":"Diabetes"},null,2.8101443182627699E-5,2.6906614837046401E-5]
[null,"all_m_East Rural diabetes.csv","45-49",5.1729474614271203E-5,5.18457021345479E-5,5.1896279344057298E-5,5.2020963233404199E-5,5.2169859407791698E-5,5.2384883397584398E-5,5.2613989377037599E-5,5.2856719319440502E-5,5.3075831592881703E-5,5.3275173674594597E-5,{"$f":"IF($B527=\"\",\"\",VLOOKUP($B527,_tbl!$A:$E,N$2,0))","v":"Male"},{"$f":"IF($B527=\"\",\"\",VLOOKUP($B527,_tbl!$A:$E,O$2,0))","v":"East"},{"$f":"IF($B527=\"\",\"\",VLOOKUP($B527,_tbl!$A:$E,P$2,0))","v":"Rural"},{"$f":"IF($B527=\"\",\"\",VLOOKUP($B527,_tbl!$A:$E,Q$2,0))","v":"Diabetes"},null,5.3275173674594597E-5,5.1729474614271203E-5]
[null,"all_m_East Rural diabetes.csv","50-54",9.5361141110113405E-5,9.5996279457610705E-5,9.6266379050151594E-5,9.6793982320758895E-5,9.7196928621312098E-5,9.7760136162534196E-5,9.8250306781160103E-5,9.8806772426564404E-5,9.9281614373828098E-5,9.9767664286114894E-5,{"$f":"IF($B528=\"\",\"\",VLOOKUP($B528,_tbl!$A:$E,N$2,0))","v":"Male"},{"$f":"IF($B528=\"\",\"\",VLOOKUP($B528,_tbl!$A:$E,O$2,0))","v":"East"},{"$f":"IF($B528=\"\",\"\",VLOOKUP($B528,_tbl!$A:$E,P$2,0))","v":"Rural"},{"$f":"IF($B528=\"\",\"\",VLOOKUP($B528,_tbl!$A:$E,Q$2,0))","v":"Diabetes"},null,9.9767664286114894E-5,9.5361141110113405E-5]
[null,"all_m_East Rural diabetes.csv","55-59",1.5069417675812099E-4,1.51058783651968E-4,1.5106641594426801E-4,1.51200175607182E-4,1.5120093631862001E-4,1.51251139445005E-4,1.5123635413061699E-4,1.512445405268E-4,1.51221358424311E-4,1.51217887640599E-4,{"$f":"IF($B529=\"\",\"\",VLOOKUP($B529,_tbl!$A:$E,N$2,0))","v":"Male"},{"$f":"IF($B529=\"\",\"\",VLOOKUP($B529,_tbl!$A:$E,O$2,0))","v":"East"},{"$f":"IF($B529=\"\",\"\",VLOOKUP($B529,_tbl!$A:$E,P$2,0))","v":"Rural"},{"$f":"IF($B529=\"\",\"\",VLOOKUP($B529,_tbl!$A:$E,Q$2,0))","v":"Diabetes"},null,1.51251139445005E-4,1.5069417675812099E-4]
[null,"all_m_East Rural diabetes.csv","60-64",2.4468837801263201E-4,2.4481074376167002E-4,2.4448841279167102E-4,2.4408464540717599E-4,2.4354630624621399E-4,2.4298271984369801E-4,2.4237592329288201E-4,2.41749272712661E-4,2.4109798750071901E-4,2.4042871076476201E-4,{"$f":"IF($B530=\"\",\"\",VLOOKUP($B530,_tbl!$A:$E,N$2,0))","v":"Male"},{"$f":"IF($B530=\"\",\"\",VLOOKUP($B530,_tbl!$A:$E,O$2,0))","v":"East"},{"$f":"IF($B530=\"\",\"\",VLOOKUP($B530,_tbl!$A:$E,P$2,0))","v":"Rural"},{"$f":"IF($B530=\"\",\"\",VLOOKUP($B530,_tbl!$A:$E,Q$2,0))","v":"Diabetes"},null,2.4481074376167002E-4,2.4042871076476201E-4]
[null,"all_m_East Rural diabetes.csv","65-69",4.0112657623760702E-4,4.01551392209847E-4,4.0165692573337799E-4,4.0126910299276302E-4,4.0070611521234701E-4,3.9994179128079898E-4,3.9911233804931898E-4,3.9822867877896401E-4,3.9733857674261797E-4,3.9644829829521701E-4,{"$f":"IF($B531=\"\",\"\",VLOOKUP($B531,_tbl!$A:$E,N$2,0))","v":"Male"},{"$f":"IF($B531=\"\",\"\",VLOOKUP($B531,_tbl!$A:$E,O$2,0))","v":"East"},{"$f":"IF($B531=\"\",\"\",VLOOKUP($B531,_tbl!$A:$E,P$2,0))","v":"Rural"},{"$f":"IF($B531=\"\",\"\",VLOOKUP($B531,_tbl!$A:$E,Q$2,0))","v":"Diabetes"},null,4.0165692573337799E-4,3.9644829829521701E-4]
[null,"all_m_East Rural diabetes.csv","70-74",6.4142957622685898E-4,6.41850440413082E-4,6.4254355647265201E-4,6.4283194669373703E-4,6.4314937726448601E-4,6.4329326187562597E-4,6.4342336585121798E-4,6.4350237673199695E-4,6.4358818508045298E-4,6.4367576514397196E-4,{"$f":"IF($B532=\"\",\"\",VLOOKUP($B532,_tbl!$A:$E,N$2,0))","v":"Male"},{"$f":"IF($B532=\"\",\"\",VLOOKUP($B532,_tbl!$A:$E,O$2,0))","v":"East"},{"$f":"IF($B532=\"\",\"\",VLOOKUP($B532,_tbl!$A:$E,P$2,0))","v":"Rural"},{"$f":"IF($B532=\"\",\"\",VLOOKUP($B532,_tbl!$A:$E,Q$2,0))","v":"Diabetes"},null,6.4367576514397196E-4,6.4142957622685898E-4]
[null,"all_m_East Rural diabetes.csv","75-79",9.8581828727101802E-4,9.8244537764242707E-4,9.7903743720346797E-4,9.7593198091727599E-4,9.7382538627979103E-4,9.7249434076920004E-4,9.7167533332266002E-4,9.7095086766769696E-4,9.6997244165326099E-4,9.6858227035362995E-4,{"$f":"IF($B533=\"\",\"\",VLOOKUP($B533,_tbl!$A:$E,N$2,0))","v":"Male"},{"$f":"IF($B533=\"\",\"\",VLOOKUP($B533,_tbl!$A:$E,O$2,0))","v":"East"},{"$f":"IF($B533=\"\",\"\",VLOOKUP($B533,_tbl!$A:$E,P$2,0))","v":"Rural"},{"$f":"IF($B533=\"\",\"\",VLOOKUP($B533,_tbl!$A:$E,Q$2,0))","v":"Diabetes"},null,9.8581828727101802E-4,9.6858227035362995E-4]
[null,"all_m_East Rural diabetes.csv","80-84",1.54986261938868E-3,1.53541961608603E-3,1.5162503069158699E-3,1.5022872588139201E-3,1.4939736288324601E-3,1.49295598995113E-3,1.49673836561386E-3,1.5024532245032801E-3,1.5062653863688099E-3,1.5057553537270701E-3,{"$f":"IF($B534=\"\",\"\",VLOOKUP($B534,_tbl!$A:$E,N$2,0))","v":"Male"},{"$f":"IF($B534=\"\",\"\",VLOOKUP($B534,_tbl!$A:$E,O$2,0))","v":"East"},{"$f":"IF($B534=\"\",\"\",VLOOKUP($B534,_tbl!$A:$E,P$2,0))","v":"Rural"},{"$f":"IF($B534=\"\",\"\",VLOOKUP($B534,_tbl!$A:$E,Q$2,0))","v":"Diabetes"},null,1.54986261938868E-3,1.49295598995113E-3]
[null,"all_m_East Rural diabetes.csv","85+",2.3924501349215101E-3,2.37700348513527E-3,2.3583952069236298E-3,2.3456566176274299E-3,2.33815687479124E-3,2.33749224396987E-3,2.3413154121600202E-3,2.3474988375748202E-3,2.35207552038506E-3,2.3525240793396702E-3,{"$f":"IF($B535=\"\",\"\",VLOOKUP($B535,_tbl!$A:$E,N$2,0))","v":"Male"},{"$f":"IF($B535=\"\",\"\",VLOOKUP($B535,_tbl!$A:$E,O$2,0))","v":"East"},{"$f":"IF($B535=\"\",\"\",VLOOKUP($B535,_tbl!$A:$E,P$2,0))","v":"Rural"},{"$f":"IF($B535=\"\",\"\",VLOOKUP($B535,_tbl!$A:$E,Q$2,0))","v":"Diabetes"},null,2.3924501349215101E-3,2.33749224396987E-3]
[null,"all_m_East Rural diabetes.csv",null,null,null,null,null,null,null,null,null,null,null,{"$f":"IF($B536=\"\",\"\",VLOOKUP($B536,_tbl!$A:$E,N$2,0))","v":"Male"},{"$f":"IF($B536=\"\",\"\",VLOOKUP($B536,_tbl!$A:$E,O$2,0))","v":"East"},{"$f":"IF($B536=\"\",\"\",VLOOKUP($B536,_tbl!$A:$E,P$2,0))","v":"Rural"},{"$f":"IF($B536=\"\",\"\",VLOOKUP($B536,_tbl!$A:$E,Q$2,0))","v":"Diabetes"},null,0,0]
[null,"all_m_East Rural diabetes.csv",null,null,null,null,null,null,null,null,null,null,null,{"$f":"IF($B537=\"\",\"\",VLOOKUP($B537,_tbl!$A:$E,N$2,0))","v":"Male"},{"$f":"IF($B537=\"\",\"\",VLOOKUP($B537,_tbl!$A:$E,O$2,0))","v":"East"},{"$f":"IF($B537=\"\",\"\",VLOOKUP($B537,_tbl!$A:$E,P$2,0))","v":"Rural"},{"$f":"IF($B537=\"\",\"\",VLOOKUP($B537,_tbl!$A:$E,Q$2,0))","v":"Diabetes"},null,0,0]
[null,"all_m_East Rural diabetes.csv",null,null,null,null,null,null,null,null,null,null,null,{"$f":"IF($B538=\"\",\"\",VLOOKUP($B538,_tbl!$A:$E,N$2,0))","v":"Male"},{"$f":"IF($B538=\"\",\"\",VLOOKUP($B538,_tbl!$A:$E,O$2,0))","v":"East"},{"$f":"IF($B538=\"\",\"\",VLOOKUP($B538,_tbl!$A:$E,P$2,0))","v":"Rural"},{"$f":"IF($B538=\"\",\"\",VLOOKUP($B538,_tbl!$A:$E,Q$2,0))","v":"Diabetes"},null,0,0]
[null,"all_m_East Rural diabetes.csv",null,null,null,null,null,null,null,null,null,null,null,{"$f":"IF($B539=\"\",\"\",VLOOKUP($B539,_tbl!$A:$E,N$2,0))","v":"Male"},{"$f":"IF($B539=\"\",\"\",VLOOKUP($B539,_tbl!$A:$E,O$2,0))","v":"East"},{"$f":"IF($B539=\"\",\"\",VLOOKUP($B539,_tbl!$A:$E,P$2,0))","v":"Rural"},{"$f":"IF($B539=\"\",\"\",VLOOKUP($B539,_tbl!$A:$E,Q$2,0))","v":"Diabetes"},null,0,0]
[null,"all_m_East Rural diabetes.csv",null,null,null,null,null,null,null,null,null,null,null,{"$f":"IF($B540=\"\",\"\",VLOOKUP($B540,_tbl!$A:$E,N$2,0))","v":"Male"},{"$f":"IF($B540=\"\",\"\",VLOOKUP($B540,_tbl!$A:$E,O$2,0))","v":"East"},{"$f":"IF($B540=\"\",\"\",VLOOKUP($B540,_tbl!$A:$E,P$2,0))","v":"Rural"},{"$f":"IF($B540=\"\",\"\",VLOOKUP($B540,_tbl!$A:$E,Q$2,0))","v":"Diabetes"},null,0,0]
[null,"all_m_East Rural diabetes.csv",null,null,null,null,null,null,null,null,null,null,null,{"$f":"IF($B541=\"\",\"\",VLOOKUP($B541,_tbl!$A:$E,N$2,0))","v":"Male"},{"$f":"IF($B541=\"\",\"\",VLOOKUP($B541,_tbl!$A:$E,O$2,0))","v":"East"},{"$f":"IF($B541=\"\",\"\",VLOOKUP($B541,_tbl!$A:$E,P$2,0))","v":"Rural"},{"$f":"IF($B541=\"\",\"\",VLOOKUP($B541,_tbl!$A:$E,Q$2,0))","v":"Diabetes"},null,0,0]
[null,null,null,null,null,null,null,null,null,null,null,null,null,{"$f":"IF($B542=\"\",\"\",VLOOKUP($B542,_tbl!$A:$E,N$2,0))","v":""},{"$f":"IF($B542=\"\",\"\",VLOOKUP($B542,_tbl!$A:$E,O$2,0))","v":""},{"$f":"IF($B542=\"\",\"\",VLOOKUP($B542,_tbl!$A:$E,P$2,0))","v":""},{"$f":"IF($B542=\"\",\"\",VLOOKUP($B542,_tbl!$A:$E,Q$2,0))","v":""}]
[null,null,null,2020,2021,2022,2023,2024,2025,2026,2027,2028,2029,{"$f":"IF($B543=\"\",\"\",VLOOKUP($B543,_tbl!$A:$E,N$2,0))","v":""},{"$f":"IF($B543=\"\",\"\",VLOOKUP($B543,_tbl!$A:$E,O$2,0))","v":""},{"$f":"IF($B543=\"\",\"\",VLOOKUP($B543,_tbl!$A:$E,P$2,0))","v":""},{"$f":"IF($B543=\"\",\"\",VLOOKUP($B543,_tbl!$A:$E,Q$2,0))","v":""}]
[null,"all_m_East Rural digestive.csv","1-4",6.4577276186526203E-6,6.1171287778601899E-6,5.7767846170236897E-6,5.4621619902708798E-6,5.1631807534970397E-6,4.8837613345427604E-6,4.6160713162514496E-6,4.3646047469875199E-6,4.1226803196665597E-6,3.8918336839978303E-6,{"$f":"IF($B544=\"\",\"\",VLOOKUP($B544,_tbl!$A:$E,N$2,0))","v":"Male"},{"$f":"IF($B544=\"\",\"\",VLOOKUP($B544,_tbl!$A:$E,O$2,0))","v":"East"},{"$f":"IF($B544=\"\",\"\",VLOOKUP($B544,_tbl!$A:$E,P$2,0))","v":"Rural"},{"$f":"IF($B544=\"\",\"\",VLOOKUP($B544,_tbl!$A:$E,Q$2,0))","v":"Digestive"},null,{"$f":"MAX(D544:M544)","v":6.4577276186526203E-6},{"$f":"MIN(D544:M544)","v":3.8918336839978303E-6}]
[null,"all_m_East Rural digestive.csv","5-9",1.9993211868493598E-6,1.8629364551528901E-6,1.73612908145156E-6,1.6174412608195799E-6,1.5078090619063301E-6,1.40561945108072E-6,1.31027911603404E-6,1.22154204069369E-6,1.13850393701988E-6,1.06055697800032E-6,{"$f":"IF($B545=\"\",\"\",VLOOKUP($B545,_tbl!$A:$E,N$2,0))","v":"Male"},{"$f":"IF($B545=\"\",\"\",VLOOKUP($B545,_tbl!$A:$E,O$2,0))","v":"East"},{"$f":"IF($B545=\"\",\"\",VLOOKUP($B545,_tbl!$A:$E,P$2,0))","v":"Rural"},{"$f":"IF($B545=\"\",\"\",VLOOKUP($B545,_tbl!$A:$E,Q$2,0))","v":"Digestive"},null,1.9993211868493598E-6,1.06055697800032E-6]
[null,"all_m_East Rural digestive.csv","10-14",1.52122351648231E-6,1.4056810979471699E-6,1.29411536939925E-6,1.1927098221578E-6,1.0987361242656699E-6,1.01232353917646E-6,9.3249097164500398E-7,8.5872686626577795E-7,7.90170894567155E-7,7.2658732884562904E-7,{"$f":"IF($B546=\"\",\"\",VLOOKUP($B546,_tbl!$A:$E,N$2,0))","v":"Male"},{"$f":"IF($B546=\"\",\"\",VLOOKUP($B546,_tbl!$A:$E,O$2,0))","v":"East"},{"$f":"IF($B546=\"\",\"\",VLOOKUP($B546,_tbl!$A:$E,P$2,0))","v":"Rural"},{"$f":"IF($B546=\"\",\"\",VLOOKUP($B546,_tbl!$A:$E,Q$2,0))","v":"Digestive"},null,1.52122351648231E-6,7.2658732884562904E-7]
[null,"all_m_East Rural digestive.csv","15-19",2.0513244717580099E-6,1.87877775665749E-6,1.7093471749111501E-6,1.5512363808911099E-6,1.40825542839806E-6,1.28079525190742E-6,1.1639719793800199E-6,1.05645302914712E-6,9.5432577968411499E-7,8.5658878956645198E-7,{"$f":"IF($B547=\"\",\"\",VLOOKUP($B547,_tbl!$A:$E,N$2,0))","v":"Male"},{"$f":"IF($B547=\"\",\"\",VLOOKUP($B547,_tbl!$A:$E,O$2,0))","v":"East"},{"$f":"IF($B547=\"\",\"\",VLOOKUP($B547,_tbl!$A:$E,P$2,0))","v":"Rural"},{"$f":"IF($B547=\"\",\"\",VLOOKUP($B547,_tbl!$A:$E,Q$2,0))","v":"Digestive"},null,2.0513244717580099E-6,8.5658878956645198E-7]
[null,"all_m_East Rural digestive.csv","20-24",3.8807019299400402E-6,3.63236379127358E-6,3.3629825815382501E-6,3.1214780984774598E-6,2.8892611126442202E-6,2.6791163459192698E-6,2.4806434892593599E-6,2.2955083960640402E-6,2.1179578606027799E-6,1.9488441278813699E-6,{"$f":"IF($B548=\"\",\"\",VLOOKUP($B548,_tbl!$A:$E,N$2,0))","v":"Male"},{"$f":"IF($B548=\"\",\"\",VLOOKUP($B548,_tbl!$A:$E,O$2,0))","v":"East"},{"$f":"IF($B548=\"\",\"\",VLOOKUP($B548,_tbl!$A:$E,P$2,0))","v":"Rural"},{"$f":"IF($B548=\"\",\"\",VLOOKUP($B548,_tbl!$A:$E,Q$2,0))","v":"Digestive"},null,3.8807019299400402E-6,1.9488441278813699E-6]
[null,"all_m_East Rural digestive.csv","25-29",8.6501954568305508E-6,8.2893249705757598E-6,7.8934092014412698E-6,7.5444566750068898E-6,7.1701353215317299E-6,6.8019156805891997E-6,6.4273922062192998E-6,6.0662096144421596E-6,5.7161140633570804E-6,5.3854926823433997E-6,{"$f":"IF($B549=\"\",\"\",VLOOKUP($B549,_tbl!$A:$E,N$2,0))","v":"Male"},{"$f":"IF($B549=\"\",\"\",VLOOKUP($B549,_tbl!$A:$E,O$2,0))","v":"East"},{"$f":"IF($B549=\"\",\"\",VLOOKUP($B549,_tbl!$A:$E,P$2,0))","v":"Rural"},{"$f":"IF($B549=\"\",\"\",VLOOKUP($B549,_tbl!$A:$E,Q$2,0))","v":"Digestive"},null,8.6501954568305508E-6,5.3854926823433997E-6]
[null,"all_m_East Rural digestive.csv","30-34",2.07713323984801E-5,2.01091933054527E-5,1.9404635637776801E-5,1.8754513348816201E-5,1.8085896527921201E-5,1.7432657063421201E-5,1.6779438086489899E-5,1.61426710355007E-5,1.5519039674226E-5,1.4912948193316001E-5,{"$f":"IF($B550=\"\",\"\",VLOOKUP($B550,_tbl!$A:$E,N$2,0))","v":"Male"},{"$f":"IF($B550=\"\",\"\",VLOOKUP($B550,_tbl!$A:$E,O$2,0))","v":"East"},{"$f":"IF($B550=\"\",\"\",VLOOKUP($B550,_tbl!$A:$E,P$2,0))","v":"Rural"},{"$f":"IF($B550=\"\",\"\",VLOOKUP($B550,_tbl!$A:$E,Q$2,0))","v":"Digestive"},null,2.07713323984801E-5,1.4912948193316001E-5]
[null,"all_m_East Rural digestive.csv","35-39",4.1557545093804501E-5,4.0379820318000899E-5,3.9285712418011202E-5,3.8209327624551403E-5,3.7159404136085797E-5,3.6130840128135498E-5,3.5124128726846102E-5,3.4138401530435899E-5,3.3164882002051801E-5,3.2202025465877997E-5,{"$f":"IF($B551=\"\",\"\",VLOOKUP($B551,_tbl!$A:$E,N$2,0))","v":"Male"},{"$f":"IF($B551=\"\",\"\",VLOOKUP($B551,_tbl!$A:$E,O$2,0))","v":"East"},{"$f":"IF($B551=\"\",\"\",VLOOKUP($B551,_tbl!$A:$E,P$2,0))","v":"Rural"},{"$f":"IF($B551=\"\",\"\",VLOOKUP($B551,_tbl!$A:$E,Q$2,0))","v":"Digestive"},null,4.1557545093804501E-5,3.2202025465877997E-5]
[null,"all_m_East Rural digestive.csv","40-44",6.8930459347499496E-5,6.6443765164697703E-5,6.4362366450546006E-5,6.2137359481572105E-5,6.01460592487558E-5,5.8183955064789002E-5,5.6386203445064301E-5,5.4609493010720097E-5,5.2890679573417298E-5,5.1146312850136003E-5,{"$f":"IF($B552=\"\",\"\",VLOOKUP($B552,_tbl!$A:$E,N$2,0))","v":"Male"},{"$f":"IF($B552=\"\",\"\",VLOOKUP($B552,_tbl!$A:$E,O$2,0))","v":"East"},{"$f":"IF($B552=\"\",\"\",VLOOKUP($B552,_tbl!$A:$E,P$2,0))","v":"Rural"},{"$f":"IF($B552=\"\",\"\",VLOOKUP($B552,_tbl!$A:$E,Q$2,0))","v":"Digestive"},null,6.8930459347499496E-5,5.1146312850136003E-5]
[null,"all_m_East Rural digestive.csv","45-49",1.0035550455561099E-4,9.6875553139460705E-5,9.3517019888903695E-5,8.9971091317158001E-5,8.6522640809716904E-5,8.2959315347923003E-5,7.9518507630949503E-5,7.6063336987115194E-5,7.2758306220955003E-5,6.9497346176297699E-5,{"$f":"IF($B553=\"\",\"\",VLOOKUP($B553,_tbl!$A:$E,N$2,0))","v":"Male"},{"$f":"IF($B553=\"\",\"\",VLOOKUP($B553,_tbl!$A:$E,O$2,0))","v":"East"},{"$f":"IF($B553=\"\",\"\",VLOOKUP($B553,_tbl!$A:$E,P$2,0))","v":"Rural"},{"$f":"IF($B553=\"\",\"\",VLOOKUP($B553,_tbl!$A:$E,Q$2,0))","v":"Digestive"},null,1.0035550455561099E-4,6.9497346176297699E-5]
[null,"all_m_East Rural digestive.csv","50-54",1.3678315304526301E-4,1.32672266258464E-4,1.2837888998303799E-4,1.24097123678664E-4,1.19771859624907E-4,1.15491321803128E-4,1.11242349991924E-4,1.07084508570754E-4,1.0300972251056801E-4,9.9047512341398502E-5,{"$f":"IF($B554=\"\",\"\",VLOOKUP($B554,_tbl!$A:$E,N$2,0))","v":"Male"},{"$f":"IF($B554=\"\",\"\",VLOOKUP($B554,_tbl!$A:$E,O$2,0))","v":"East"},{"$f":"IF($B554=\"\",\"\",VLOOKUP($B554,_tbl!$A:$E,P$2,0))","v":"Rural"},{"$f":"IF($B554=\"\",\"\",VLOOKUP($B554,_tbl!$A:$E,Q$2,0))","v":"Digestive"},null,1.3678315304526301E-4,9.9047512341398502E-5]
[null,"all_m_East Rural digestive.csv","55-59",1.7998883033880101E-4,1.7499385857269601E-4,1.69878393189718E-4,1.64658601079994E-4,1.59445798903753E-4,1.54293910223185E-4,1.4921959662623501E-4,1.4425950452862899E-4,1.39395534479672E-4,1.3465132340952901E-4,{"$f":"IF($B555=\"\",\"\",VLOOKUP($B555,_tbl!$A:$E,N$2,0))","v":"Male"},{"$f":"IF($B555=\"\",\"\",VLOOKUP($B555,_tbl!$A:$E,O$2,0))","v":"East"},{"$f":"IF($B555=\"\",\"\",VLOOKUP($B555,_tbl!$A:$E,P$2,0))","v":"Rural"},{"$f":"IF($B555=\"\",\"\",VLOOKUP($B555,_tbl!$A:$E,Q$2,0))","v":"Digestive"},null,1.7998883033880101E-4,1.3465132340952901E-4]
[null,"all_m_East Rural digestive.csv","60-64",2.1846473590449199E-4,2.11598893852095E-4,2.0456355081064501E-4,1.9740995220628599E-4,1.9030916817911001E-4,1.8329583234979899E-4,1.7641620344419301E-4,1.6969421349339201E-4,1.6313608963121299E-4,1.56759196293291E-4,{"$f":"IF($B556=\"\",\"\",VLOOKUP($B556,_tbl!$A:$E,N$2,0))","v":"Male"},{"$f":"IF($B556=\"\",\"\",VLOOKUP($B556,_tbl!$A:$E,O$2,0))","v":"East"},{"$f":"IF($B556=\"\",\"\",VLOOKUP($B556,_tbl!$A:$E,P$2,0))","v":"Rural"},{"$f":"IF($B556=\"\",\"\",VLOOKUP($B556,_tbl!$A:$E,Q$2,0))","v":"Digestive"},null,2.1846473590449199E-4,1.56759196293291E-4]
[null,"all_m_East Rural digestive.csv","65-69",2.6014320611444599E-4,2.4829112259275402E-4,2.3587480622746601E-4,2.2373436175143101E-4,2.11594771750285E-4,1.99754572535873E-4,1.8809238993666499E-4,1.7676737652640601E-4,1.6573505122428501E-4,1.5508822136007101E-4,{"$f":"IF($B557=\"\",\"\",VLOOKUP($B557,_tbl!$A:$E,N$2,0))","v":"Male"},{"$f":"IF($B557=\"\",\"\",VLOOKUP($B557,_tbl!$A:$E,O$2,0))","v":"East"},{"$f":"IF($B557=\"\",\"\",VLOOKUP($B557,_tbl!$A:$E,P$2,0))","v":"Rural"},{"$f":"IF($B557=\"\",\"\",VLOOKUP($B557,_tbl!$A:$E,Q$2,0))","v":"Digestive"},null,2.6014320611444599E-4,1.5508822136007101E-4]
[null,"all_m_East Rural digestive.csv","70-74",3.9068700659537E-4,3.7222447368348203E-4,3.5302697270284502E-4,3.3487042638490901E-4,3.1679601041772901E-4,2.99390941254826E-4,2.8233338555011398E-4,2.6586390064682998E-4,2.4988124225262099E-4,2.3449045370412899E-4,{"$f":"IF($B558=\"\",\"\",VLOOKUP($B558,_tbl!$A:$E,N$2,0))","v":"Male"},{"$f":"IF($B558=\"\",\"\",VLOOKUP($B558,_tbl!$A:$E,O$2,0))","v":"East"},{"$f":"IF($B558=\"\",\"\",VLOOKUP($B558,_tbl!$A:$E,P$2,0))","v":"Rural"},{"$f":"IF($B558=\"\",\"\",VLOOKUP($B558,_tbl!$A:$E,Q$2,0))","v":"Digestive"},null,3.9068700659537E-4,2.3449045370412899E-4]
[null,"all_m_East Rural digestive.csv","75-79",6.9361394508676204E-4,6.6382194571208697E-4,6.3391927829361096E-4,6.0557283518959605E-4,5.7693743163729602E-4,5.4902900939428605E-4,5.2160902100630805E-4,4.9517222651664701E-4,4.69649279736908E-4,4.4513280592241799E-4,{"$f":"IF($B559=\"\",\"\",VLOOKUP($B559,_tbl!$A:$E,N$2,0))","v":"Male"},{"$f":"IF($B559=\"\",\"\",VLOOKUP($B559,_tbl!$A:$E,O$2,0))","v":"East"},{"$f":"IF($B559=\"\",\"\",VLOOKUP($B559,_tbl!$A:$E,P$2,0))","v":"Rural"},{"$f":"IF($B559=\"\",\"\",VLOOKUP($B559,_tbl!$A:$E,Q$2,0))","v":"Digestive"},null,6.9361394508676204E-4,4.4513280592241799E-4]
[null,"all_m_East Rural digestive.csv","80-84",1.3751357268233001E-3,1.33049483365778E-3,1.2868679872534601E-3,1.2443388216766499E-3,1.19669480755182E-3,1.14661092914862E-3,1.09483708698281E-3,1.04416880066604E-3,9.9603131331493094E-4,9.51554107730681E-4,{"$f":"IF($B560=\"\",\"\",VLOOKUP($B560,_tbl!$A:$E,N$2,0))","v":"Male"},{"$f":"IF($B560=\"\",\"\",VLOOKUP($B560,_tbl!$A:$E,O$2,0))","v":"East"},{"$f":"IF($B560=\"\",\"\",VLOOKUP($B560,_tbl!$A:$E,P$2,0))","v":"Rural"},{"$f":"IF($B560=\"\",\"\",VLOOKUP($B560,_tbl!$A:$E,Q$2,0))","v":"Digestive"},null,1.3751357268233001E-3,9.51554107730681E-4]
[null,"all_m_East Rural digestive.csv","85+",2.96209092611376E-3,2.87203207112979E-3,2.7873748764339402E-3,2.7122854683533201E-3,2.6463401480484798E-3,2.5849301607012601E-3,2.5249257151436898E-3,2.46455252399577E-3,2.4045543072840599E-3,2.3462520105210602E-3,{"$f":"IF($B561=\"\",\"\",VLOOKUP($B561,_tbl!$A:$E,N$2,0))","v":"Male"},{"$f":"IF($B561=\"\",\"\",VLOOKUP($B561,_tbl!$A:$E,O$2,0))","v":"East"},{"$f":"IF($B561=\"\",\"\",VLOOKUP($B561,_tbl!$A:$E,P$2,0))","v":"Rural"},{"$f":"IF($B561=\"\",\"\",VLOOKUP($B561,_tbl!$A:$E,Q$2,0))","v":"Digestive"},null,2.96209092611376E-3,2.3462520105210602E-3]
[null,null,null,null,null,null,null,null,null,null,null,null,null,{"$f":"IF($B562=\"\",\"\",VLOOKUP($B562,_tbl!$A:$E,N$2,0))","v":""},{"$f":"IF($B562=\"\",\"\",VLOOKUP($B562,_tbl!$A:$E,O$2,0))","v":""},{"$f":"IF($B562=\"\",\"\",VLOOKUP($B562,_tbl!$A:$E,P$2,0))","v":""},{"$f":"IF($B562=\"\",\"\",VLOOKUP($B562,_tbl!$A:$E,Q$2,0))","v":""}]
[null,null,null,2020,2021,2022,2023,2024,2025,2026,2027,2028,2029,{"$f":"IF($B563=\"\",\"\",VLOOKUP($B563,_tbl!$A:$E,N$2,0))","v":""},{"$f":"IF($B563=\"\",\"\",VLOOKUP($B563,_tbl!$A:$E,O$2,0))","v":""},{"$f":"IF($B563=\"\",\"\",VLOOKUP($B563,_tbl!$A:$E,P$2,0))","v":""},{"$f":"IF($B563=\"\",\"\",VLOOKUP($B563,_tbl!$A:$E,Q$2,0))","v":""}]
[null,"all_m_East Rural external.csv","1-4",1.8843874324778301E-4,1.8056773573713801E-4,1.7176956858675201E-4,1.6350100428761199E-4,1.5605048370276599E-4,1.4859329498300301E-4,1.4152915686978701E-4,1.3485757467833601E-4,1.28340917172018E-4,1.22162194336741E-4,{"$f":"IF($B564=\"\",\"\",VLOOKUP($B564,_tbl!$A:$E,N$2,0))","v":"Male"},{"$f":"IF($B564=\"\",\"\",VLOOKUP($B564,_tbl!$A:$E,O$2,0))","v":"East"},{"$f":"IF($B564=\"\",\"\",VLOOKUP($B564,_tbl!$A:$E,P$2,0))","v":"Rural"},{"$f":"IF($B564=\"\",\"\",VLOOKUP($B564,_tbl!$A:$E,Q$2,0))","v":"External"},null,{"$f":"MAX(D564:M564)","v":1.8843874324778301E-4},{"$f":"MIN(D564:M564)","v":1.22162194336741E-4}]
[null,"all_m_East Rural external.csv","5-9",1.2350499991184099E-4,1.17350767728304E-4,1.11238054531233E-4,1.05664583544904E-4,1.0049502789101399E-4,9.5453609089057303E-5,9.0641043851944294E-5,8.6034334059476204E-5,8.1507739071424995E-5,7.7141921845452606E-5,{"$f":"IF($B565=\"\",\"\",VLOOKUP($B565,_tbl!$A:$E,N$2,0))","v":"Male"},{"$f":"IF($B565=\"\",\"\",VLOOKUP($B565,_tbl!$A:$E,O$2,0))","v":"East"},{"$f":"IF($B565=\"\",\"\",VLOOKUP($B565,_tbl!$A:$E,P$2,0))","v":"Rural"},{"$f":"IF($B565=\"\",\"\",VLOOKUP($B565,_tbl!$A:$E,Q$2,0))","v":"External"},null,1.2350499991184099E-4,7.7141921845452606E-5]
[null,"all_m_East Rural external.csv","10-14",1.13042442652696E-4,1.04484574094054E-4,9.6168171453581995E-5,8.8450109038881895E-5,8.1256528624013997E-5,7.4245429259394501E-5,6.7540647084591795E-5,6.1150290791968395E-5,5.4941809200673802E-5,4.9000877442374901E-5,{"$f":"IF($B566=\"\",\"\",VLOOKUP($B566,_tbl!$A:$E,N$2,0))","v":"Male"},{"$f":"IF($B566=\"\",\"\",VLOOKUP($B566,_tbl!$A:$E,O$2,0))","v":"East"},{"$f":"IF($B566=\"\",\"\",VLOOKUP($B566,_tbl!$A:$E,P$2,0))","v":"Rural"},{"$f":"IF($B566=\"\",\"\",VLOOKUP($B566,_tbl!$A:$E,Q$2,0))","v":"External"},null,1.13042442652696E-4,4.9000877442374901E-5]
[null,"all_m_East Rural external.csv","15-19",1.3277294618677701E-4,1.19812073405732E-4,1.0702580837319699E-4,9.5154000324705504E-5,8.4036090551081505E-5,7.34601264081959E-5,6.3476976309345502E-5,5.4083164201677798E-5,4.51405162426781E-5,3.67156680231881E-5,{"$f":"IF($B567=\"\",\"\",VLOOKUP($B567,_tbl!$A:$E,N$2,0))","v":"Male"},{"$f":"IF($B567=\"\",\"\",VLOOKUP($B567,_tbl!$A:$E,O$2,0))","v":"East"},{"$f":"IF($B567=\"\",\"\",VLOOKUP($B567,_tbl!$A:$E,P$2,0))","v":"Rural"},{"$f":"IF($B567=\"\",\"\",VLOOKUP($B567,_tbl!$A:$E,Q$2,0))","v":"External"},null,1.3277294618677701E-4,3.67156680231881E-5]
[null,"all_m_East Rural external.csv","20-24",1.84764677796898E-4,1.67163113386296E-4,1.5042872864267899E-4,1.34687131837035E-4,1.19634460390016E-4,1.05087747680322E-4,9.1144319218640894E-5,7.7903571374379901E-5,6.5326162292658199E-5,5.3483269564802103E-5,{"$f":"IF($B568=\"\",\"\",VLOOKUP($B568,_tbl!$A:$E,N$2,0))","v":"Male"},{"$f":"IF($B568=\"\",\"\",VLOOKUP($B568,_tbl!$A:$E,O$2,0))","v":"East"},{"$f":"IF($B568=\"\",\"\",VLOOKUP($B568,_tbl!$A:$E,P$2,0))","v":"Rural"},{"$f":"IF($B568=\"\",\"\",VLOOKUP($B568,_tbl!$A:$E,Q$2,0))","v":"External"},null,1.84764677796898E-4,5.3483269564802103E-5]
[null,"all_m_East Rural external.csv","25-29",2.82743150446605E-4,2.6187657215337299E-4,2.4272352052033099E-4,2.2442935524025499E-4,2.0687840110809199E-4,1.8991148558508399E-4,1.7353670760234899E-4,1.5774638002419999E-4,1.4253141131936799E-4,1.27897510962778E-4,{"$f":"IF($B569=\"\",\"\",VLOOKUP($B569,_tbl!$A:$E,N$2,0))","v":"Male"},{"$f":"IF($B569=\"\",\"\",VLOOKUP($B569,_tbl!$A:$E,O$2,0))","v":"East"},{"$f":"IF($B569=\"\",\"\",VLOOKUP($B569,_tbl!$A:$E,P$2,0))","v":"Rural"},{"$f":"IF($B569=\"\",\"\",VLOOKUP($B569,_tbl!$A:$E,Q$2,0))","v":"External"},null,2.82743150446605E-4,1.27897510962778E-4]
[null,"all_m_East Rural external.csv","30-34",4.0752753024730399E-4,3.8592829166027602E-4,3.6651550328044199E-4,3.4776907386959398E-4,3.2968666539142901E-4,3.1199397391072398E-4,2.9478558914227499E-4,2.78025156666154E-4,2.6176623839357498E-4,2.4598349204058598E-4,{"$f":"IF($B570=\"\",\"\",VLOOKUP($B570,_tbl!$A:$E,N$2,0))","v":"Male"},{"$f":"IF($B570=\"\",\"\",VLOOKUP($B570,_tbl!$A:$E,O$2,0))","v":"East"},{"$f":"IF($B570=\"\",\"\",VLOOKUP($B570,_tbl!$A:$E,P$2,0))","v":"Rural"},{"$f":"IF($B570=\"\",\"\",VLOOKUP($B570,_tbl!$A:$E,Q$2,0))","v":"External"},null,4.0752753024730399E-4,2.4598349204058598E-4]
[null,"all_m_East Rural external.csv","35-39",4.2541902113914302E-4,4.0110091211210101E-4,3.7714123255201898E-4,3.5406266988468601E-4,3.3176584742480901E-4,3.1019605147545698E-4,2.89366603818691E-4,2.6919165656540199E-4,2.4968186354700102E-4,2.3076116999823501E-4,{"$f":"IF($B571=\"\",\"\",VLOOKUP($B571,_tbl!$A:$E,N$2,0))","v":"Male"},{"$f":"IF($B571=\"\",\"\",VLOOKUP($B571,_tbl!$A:$E,O$2,0))","v":"East"},{"$f":"IF($B571=\"\",\"\",VLOOKUP($B571,_tbl!$A:$E,P$2,0))","v":"Rural"},{"$f":"IF($B571=\"\",\"\",VLOOKUP($B571,_tbl!$A:$E,Q$2,0))","v":"External"},null,4.2541902113914302E-4,2.3076116999823501E-4]
[null,"all_m_East Rural external.csv","40-44",4.1538548811953301E-4,3.8679845679790299E-4,3.5669833485040898E-4,3.2738352540677E-4,2.98828006708434E-4,2.70969431951844E-4,2.4407144574699501E-4,2.18011133616295E-4,1.93042373822393E-4,1.6901351614830899E-4,{"$f":"IF($B572=\"\",\"\",VLOOKUP($B572,_tbl!$A:$E,N$2,0))","v":"Male"},{"$f":"IF($B572=\"\",\"\",VLOOKUP($B572,_tbl!$A:$E,O$2,0))","v":"East"},{"$f":"IF($B572=\"\",\"\",VLOOKUP($B572,_tbl!$A:$E,P$2,0))","v":"Rural"},{"$f":"IF($B572=\"\",\"\",VLOOKUP($B572,_tbl!$A:$E,Q$2,0))","v":"External"},null,4.1538548811953301E-4,1.6901351614830899E-4]
[null,"all_m_East Rural external.csv","45-49",5.0432793957272295E-4,4.7634233186814E-4,4.4464327734078602E-4,4.14299603109743E-4,3.8372445253824402E-4,3.5447492681908298E-4,3.2562034933323198E-4,2.9805097109648898E-4,2.7115770294980498E-4,2.4546913433639699E-4,{"$f":"IF($B573=\"\",\"\",VLOOKUP($B573,_tbl!$A:$E,N$2,0))","v":"Male"},{"$f":"IF($B573=\"\",\"\",VLOOKUP($B573,_tbl!$A:$E,O$2,0))","v":"East"},{"$f":"IF($B573=\"\",\"\",VLOOKUP($B573,_tbl!$A:$E,P$2,0))","v":"Rural"},{"$f":"IF($B573=\"\",\"\",VLOOKUP($B573,_tbl!$A:$E,Q$2,0))","v":"External"},null,5.0432793957272295E-4,2.4546913433639699E-4]
[null,"all_m_East Rural external.csv","50-54",6.7840244245638299E-4,6.54843308761016E-4,6.2850808707448299E-4,6.0266489189507498E-4,5.7658584321924498E-4,5.5129398337878303E-4,5.2626303052164501E-4,5.0205029435804595E-4,4.7825742375147298E-4,4.5522807501732299E-4,{"$f":"IF($B574=\"\",\"\",VLOOKUP($B574,_tbl!$A:$E,N$2,0))","v":"Male"},{"$f":"IF($B574=\"\",\"\",VLOOKUP($B574,_tbl!$A:$E,O$2,0))","v":"East"},{"$f":"IF($B574=\"\",\"\",VLOOKUP($B574,_tbl!$A:$E,P$2,0))","v":"Rural"},{"$f":"IF($B574=\"\",\"\",VLOOKUP($B574,_tbl!$A:$E,Q$2,0))","v":"External"},null,6.7840244245638299E-4,4.5522807501732299E-4]
[null,"all_m_East Rural external.csv","55-59",8.8015897720087699E-4,8.6751192108046695E-4,8.5153595787083305E-4,8.35699348600867E-4,8.19596764366362E-4,8.0372386542268295E-4,7.8787537836520305E-4,7.72287551727049E-4,7.5684044476292598E-4,7.4166904029826205E-4,{"$f":"IF($B575=\"\",\"\",VLOOKUP($B575,_tbl!$A:$E,N$2,0))","v":"Male"},{"$f":"IF($B575=\"\",\"\",VLOOKUP($B575,_tbl!$A:$E,O$2,0))","v":"East"},{"$f":"IF($B575=\"\",\"\",VLOOKUP($B575,_tbl!$A:$E,P$2,0))","v":"Rural"},{"$f":"IF($B575=\"\",\"\",VLOOKUP($B575,_tbl!$A:$E,Q$2,0))","v":"External"},null,8.8015897720087699E-4,7.4166904029826205E-4]
[null,"all_m_East Rural external.csv","60-64",1.0148029653207101E-3,1.01357869338021E-3,1.00358449762922E-3,9.9372491495257191E-4,9.8352740193046297E-4,9.7351006196208295E-4,9.6337200402984698E-4,9.5328666095508799E-4,9.4312517149637998E-4,9.3301029722580101E-4,{"$f":"IF($B576=\"\",\"\",VLOOKUP($B576,_tbl!$A:$E,N$2,0))","v":"Male"},{"$f":"IF($B576=\"\",\"\",VLOOKUP($B576,_tbl!$A:$E,O$2,0))","v":"East"},{"$f":"IF($B576=\"\",\"\",VLOOKUP($B576,_tbl!$A:$E,P$2,0))","v":"Rural"},{"$f":"IF($B576=\"\",\"\",VLOOKUP($B576,_tbl!$A:$E,Q$2,0))","v":"External"},null,1.0148029653207101E-3,9.3301029722580101E-4]
[null,"all_m_East Rural external.csv","65-69",1.1331075823495999E-3,1.13285113465298E-3,1.11883097691225E-3,1.1052608740529299E-3,1.09148870274589E-3,1.0782861877661101E-3,1.0650527049554E-3,1.05197421546816E-3,1.03873607397795E-3,1.0255159407808201E-3,{"$f":"IF($B577=\"\",\"\",VLOOKUP($B577,_tbl!$A:$E,N$2,0))","v":"Male"},{"$f":"IF($B577=\"\",\"\",VLOOKUP($B577,_tbl!$A:$E,O$2,0))","v":"East"},{"$f":"IF($B577=\"\",\"\",VLOOKUP($B577,_tbl!$A:$E,P$2,0))","v":"Rural"},{"$f":"IF($B577=\"\",\"\",VLOOKUP($B577,_tbl!$A:$E,Q$2,0))","v":"External"},null,1.1331075823495999E-3,1.0255159407808201E-3]
[null,"all_m_East Rural external.csv","70-74",1.4298425707912901E-3,1.4121726151787601E-3,1.3875265731262999E-3,1.3641646697434601E-3,1.3410165883219599E-3,1.3188026609617801E-3,1.2969042365053099E-3,1.2754504376542E-3,1.25419189617195E-3,1.2332298876442599E-3,{"$f":"IF($B578=\"\",\"\",VLOOKUP($B578,_tbl!$A:$E,N$2,0))","v":"Male"},{"$f":"IF($B578=\"\",\"\",VLOOKUP($B578,_tbl!$A:$E,O$2,0))","v":"East"},{"$f":"IF($B578=\"\",\"\",VLOOKUP($B578,_tbl!$A:$E,P$2,0))","v":"Rural"},{"$f":"IF($B578=\"\",\"\",VLOOKUP($B578,_tbl!$A:$E,Q$2,0))","v":"External"},null,1.4298425707912901E-3,1.2332298876442599E-3]
[null,"all_m_East Rural external.csv","75-79",2.1242244490728402E-3,2.0525954842117002E-3,2.0134468718632698E-3,1.97458727355318E-3,1.9331101319078801E-3,1.8902298939609799E-3,1.84673251584515E-3,1.8041021626487199E-3,1.7633108373601299E-3,1.72482019837738E-3,{"$f":"IF($B579=\"\",\"\",VLOOKUP($B579,_tbl!$A:$E,N$2,0))","v":"Male"},{"$f":"IF($B579=\"\",\"\",VLOOKUP($B579,_tbl!$A:$E,O$2,0))","v":"East"},{"$f":"IF($B579=\"\",\"\",VLOOKUP($B579,_tbl!$A:$E,P$2,0))","v":"Rural"},{"$f":"IF($B579=\"\",\"\",VLOOKUP($B579,_tbl!$A:$E,Q$2,0))","v":"External"},null,2.1242244490728402E-3,1.72482019837738E-3]
[null,"all_m_East Rural external.csv","80-84",3.5170741753914399E-3,3.259284595272E-3,3.1657829523060398E-3,3.0737170976275E-3,2.97679774131381E-3,2.8752530718538102E-3,2.7708775366424398E-3,2.6675461911458199E-3,2.5689216193604601E-3,2.4775027198854099E-3,{"$f":"IF($B580=\"\",\"\",VLOOKUP($B580,_tbl!$A:$E,N$2,0))","v":"Male"},{"$f":"IF($B580=\"\",\"\",VLOOKUP($B580,_tbl!$A:$E,O$2,0))","v":"East"},{"$f":"IF($B580=\"\",\"\",VLOOKUP($B580,_tbl!$A:$E,P$2,0))","v":"Rural"},{"$f":"IF($B580=\"\",\"\",VLOOKUP($B580,_tbl!$A:$E,Q$2,0))","v":"External"},null,3.5170741753914399E-3,2.4775027198854099E-3]
[null,"all_m_East Rural external.csv","85+",6.4205415431912802E-3,5.76160838043313E-3,5.6397204276362901E-3,5.50379178176997E-3,5.3325262919122702E-3,5.12691920988781E-3,4.9004437633974503E-3,4.6708506522254696E-3,4.4585671096292996E-3,4.2766195485387098E-3,{"$f":"IF($B581=\"\",\"\",VLOOKUP($B581,_tbl!$A:$E,N$2,0))","v":"Male"},{"$f":"IF($B581=\"\",\"\",VLOOKUP($B581,_tbl!$A:$E,O$2,0))","v":"East"},{"$f":"IF($B581=\"\",\"\",VLOOKUP($B581,_tbl!$A:$E,P$2,0))","v":"Rural"},{"$f":"IF($B581=\"\",\"\",VLOOKUP($B581,_tbl!$A:$E,Q$2,0))","v":"External"},null,6.4205415431912802E-3,4.2766195485387098E-3]
[null,null,null,null,null,null,null,null,null,null,null,null,null,{"$f":"IF($B582=\"\",\"\",VLOOKUP($B582,_tbl!$A:$E,N$2,0))","v":""},{"$f":"IF($B582=\"\",\"\",VLOOKUP($B582,_tbl!$A:$E,O$2,0))","v":""},{"$f":"IF($B582=\"\",\"\",VLOOKUP($B582,_tbl!$A:$E,P$2,0))","v":""},{"$f":"IF($B582=\"\",\"\",VLOOKUP($B582,_tbl!$A:$E,Q$2,0))","v":""}]
[null,null,null,2020,2021,2022,2023,2024,2025,2026,2027,2028,2029,{"$f":"IF($B583=\"\",\"\",VLOOKUP($B583,_tbl!$A:$E,N$2,0))","v":""},{"$f":"IF($B583=\"\",\"\",VLOOKUP($B583,_tbl!$A:$E,O$2,0))","v":""},{"$f":"IF($B583=\"\",\"\",VLOOKUP($B583,_tbl!$A:$E,P$2,0))","v":""},{"$f":"IF($B583=\"\",\"\",VLOOKUP($B583,_tbl!$A:$E,Q$2,0))","v":""}]
[null,"all_m_East Rural infectious.csv","1-4",5.9170092598945402E-5,5.5882470292990001E-5,5.3059606590530899E-5,5.0049011227569203E-5,4.7456243244016401E-5,4.4835236597124298E-5,4.2379078056832803E-5,4.0056623304669601E-5,3.7796015160165998E-5,3.5628150676746598E-5,{"$f":"IF($B584=\"\",\"\",VLOOKUP($B584,_tbl!$A:$E,N$2,0))","v":"Male"},{"$f":"IF($B584=\"\",\"\",VLOOKUP($B584,_tbl!$A:$E,O$2,0))","v":"East"},{"$f":"IF($B584=\"\",\"\",VLOOKUP($B584,_tbl!$A:$E,P$2,0))","v":"Rural"},{"$f":"IF($B584=\"\",\"\",VLOOKUP($B584,_tbl!$A:$E,Q$2,0))","v":"Infectious"},null,{"$f":"MAX(D584:M584)","v":5.9170092598945402E-5},{"$f":"MIN(D584:M584)","v":3.5628150676746598E-5}]
[null,"all_m_East Rural infectious.csv","5-9",1.2205713705790499E-5,1.16553832661924E-5,1.1288145312781499E-5,1.07991228486886E-5,1.0390201626953999E-5,9.95253271515054E-6,9.5346402438787998E-6,9.1285504801769004E-6,8.7424532211212504E-6,8.3683099415348805E-6,{"$f":"IF($B585=\"\",\"\",VLOOKUP($B585,_tbl!$A:$E,N$2,0))","v":"Male"},{"$f":"IF($B585=\"\",\"\",VLOOKUP($B585,_tbl!$A:$E,O$2,0))","v":"East"},{"$f":"IF($B585=\"\",\"\",VLOOKUP($B585,_tbl!$A:$E,P$2,0))","v":"Rural"},{"$f":"IF($B585=\"\",\"\",VLOOKUP($B585,_tbl!$A:$E,Q$2,0))","v":"Infectious"},null,1.2205713705790499E-5,8.3683099415348805E-6]
[null,"all_m_East Rural infectious.csv","10-14",8.63002835837787E-6,8.2400950476308706E-6,7.9710204901545801E-6,7.6513355940594304E-6,7.3645049793991498E-6,7.0722249276477398E-6,6.7973309658290798E-6,6.5268679450563499E-6,6.2640047416984098E-6,6.0076282639310404E-6,{"$f":"IF($B586=\"\",\"\",VLOOKUP($B586,_tbl!$A:$E,N$2,0))","v":"Male"},{"$f":"IF($B586=\"\",\"\",VLOOKUP($B586,_tbl!$A:$E,O$2,0))","v":"East"},{"$f":"IF($B586=\"\",\"\",VLOOKUP($B586,_tbl!$A:$E,P$2,0))","v":"Rural"},{"$f":"IF($B586=\"\",\"\",VLOOKUP($B586,_tbl!$A:$E,Q$2,0))","v":"Infectious"},null,8.63002835837787E-6,6.0076282639310404E-6]
[null,"all_m_East Rural infectious.csv","15-19",8.4252591114846994E-6,8.0472787117300606E-6,7.8114833521113995E-6,7.5051101555059498E-6,7.2260585130310403E-6,6.9036673306213498E-6,6.5901685066956198E-6,6.2754712805807303E-6,5.9763020425628799E-6,5.6975906542798204E-6,{"$f":"IF($B587=\"\",\"\",VLOOKUP($B587,_tbl!$A:$E,N$2,0))","v":"Male"},{"$f":"IF($B587=\"\",\"\",VLOOKUP($B587,_tbl!$A:$E,O$2,0))","v":"East"},{"$f":"IF($B587=\"\",\"\",VLOOKUP($B587,_tbl!$A:$E,P$2,0))","v":"Rural"},{"$f":"IF($B587=\"\",\"\",VLOOKUP($B587,_tbl!$A:$E,Q$2,0))","v":"Infectious"},null,8.4252591114846994E-6,5.6975906542798204E-6]
[null,"all_m_East Rural infectious.csv","20-24",1.13862692687397E-5,1.08934267315582E-5,1.05401195817071E-5,1.01294439810871E-5,9.77170564500469E-6,9.4164761294126902E-6,9.0852686245365994E-6,8.7653527789478099E-6,8.4573237324823705E-6,8.1602297013528293E-6,{"$f":"IF($B588=\"\",\"\",VLOOKUP($B588,_tbl!$A:$E,N$2,0))","v":"Male"},{"$f":"IF($B588=\"\",\"\",VLOOKUP($B588,_tbl!$A:$E,O$2,0))","v":"East"},{"$f":"IF($B588=\"\",\"\",VLOOKUP($B588,_tbl!$A:$E,P$2,0))","v":"Rural"},{"$f":"IF($B588=\"\",\"\",VLOOKUP($B588,_tbl!$A:$E,Q$2,0))","v":"Infectious"},null,1.13862692687397E-5,8.1602297013528293E-6]
[null,"all_m_East Rural infectious.csv","25-29",1.8045017291436001E-5,1.74019618747683E-5,1.68923897914111E-5,1.6316625955519501E-5,1.5738466580550299E-5,1.51080338870967E-5,1.4465216561419599E-5,1.38207524011499E-5,1.31972853366491E-5,1.25999869674527E-5,{"$f":"IF($B589=\"\",\"\",VLOOKUP($B589,_tbl!$A:$E,N$2,0))","v":"Male"},{"$f":"IF($B589=\"\",\"\",VLOOKUP($B589,_tbl!$A:$E,O$2,0))","v":"East"},{"$f":"IF($B589=\"\",\"\",VLOOKUP($B589,_tbl!$A:$E,P$2,0))","v":"Rural"},{"$f":"IF($B589=\"\",\"\",VLOOKUP($B589,_tbl!$A:$E,Q$2,0))","v":"Infectious"},null,1.8045017291436001E-5,1.25999869674527E-5]
[null,"all_m_East Rural infectious.csv","30-34",3.21467629172184E-5,3.1082404874680899E-5,3.0054867200801699E-5,2.9044263381826801E-5,2.7964140635727698E-5,2.6842526799334601E-5,2.5682547848495999E-5,2.45314133151596E-5,2.3402535630181299E-5,2.2312788607070798E-5,{"$f":"IF($B590=\"\",\"\",VLOOKUP($B590,_tbl!$A:$E,N$2,0))","v":"Male"},{"$f":"IF($B590=\"\",\"\",VLOOKUP($B590,_tbl!$A:$E,O$2,0))","v":"East"},{"$f":"IF($B590=\"\",\"\",VLOOKUP($B590,_tbl!$A:$E,P$2,0))","v":"Rural"},{"$f":"IF($B590=\"\",\"\",VLOOKUP($B590,_tbl!$A:$E,Q$2,0))","v":"Infectious"},null,3.21467629172184E-5,2.2312788607070798E-5]
[null,"all_m_East Rural infectious.csv","35-39",4.3241069670895397E-5,4.0968387780465099E-5,3.9040116741402399E-5,3.7023921012036901E-5,3.5095874225809998E-5,3.3181785177535301E-5,3.1312670596317599E-5,2.9473167281781699E-5,2.76645600172849E-5,2.5884952309407799E-5,{"$f":"IF($B591=\"\",\"\",VLOOKUP($B591,_tbl!$A:$E,N$2,0))","v":"Male"},{"$f":"IF($B591=\"\",\"\",VLOOKUP($B591,_tbl!$A:$E,O$2,0))","v":"East"},{"$f":"IF($B591=\"\",\"\",VLOOKUP($B591,_tbl!$A:$E,P$2,0))","v":"Rural"},{"$f":"IF($B591=\"\",\"\",VLOOKUP($B591,_tbl!$A:$E,Q$2,0))","v":"Infectious"},null,4.3241069670895397E-5,2.5884952309407799E-5]
[null,"all_m_East Rural infectious.csv","40-44",5.3111155404917898E-5,4.92854533936622E-5,4.6135319898044697E-5,4.28362013184127E-5,3.9897765042852E-5,3.70811206729942E-5,3.4480971395220001E-5,3.1953342284280601E-5,2.9495777587654999E-5,2.70396814233844E-5,{"$f":"IF($B592=\"\",\"\",VLOOKUP($B592,_tbl!$A:$E,N$2,0))","v":"Male"},{"$f":"IF($B592=\"\",\"\",VLOOKUP($B592,_tbl!$A:$E,O$2,0))","v":"East"},{"$f":"IF($B592=\"\",\"\",VLOOKUP($B592,_tbl!$A:$E,P$2,0))","v":"Rural"},{"$f":"IF($B592=\"\",\"\",VLOOKUP($B592,_tbl!$A:$E,Q$2,0))","v":"Infectious"},null,5.3111155404917898E-5,2.70396814233844E-5]
[null,"all_m_East Rural infectious.csv","45-49",7.2829143947811994E-5,6.7532042520929706E-5,6.3732733515834206E-5,5.9446453763618802E-5,5.5715042042111699E-5,5.1952244286259502E-5,4.8479497194758598E-5,4.5082128455888497E-5,4.1871742172760097E-5,3.8750950939632302E-5,{"$f":"IF($B593=\"\",\"\",VLOOKUP($B593,_tbl!$A:$E,N$2,0))","v":"Male"},{"$f":"IF($B593=\"\",\"\",VLOOKUP($B593,_tbl!$A:$E,O$2,0))","v":"East"},{"$f":"IF($B593=\"\",\"\",VLOOKUP($B593,_tbl!$A:$E,P$2,0))","v":"Rural"},{"$f":"IF($B593=\"\",\"\",VLOOKUP($B593,_tbl!$A:$E,Q$2,0))","v":"Infectious"},null,7.2829143947811994E-5,3.8750950939632302E-5]
[null,"all_m_East Rural infectious.csv","50-54",1.02993249793511E-4,9.6217784290127299E-5,9.1230414685324605E-5,8.5799135410802698E-5,8.1017542633636796E-5,7.6303692395058095E-5,7.1913672679812407E-5,6.7677821603909103E-5,6.3639906911787806E-5,5.9745307038458099E-5,{"$f":"IF($B594=\"\",\"\",VLOOKUP($B594,_tbl!$A:$E,N$2,0))","v":"Male"},{"$f":"IF($B594=\"\",\"\",VLOOKUP($B594,_tbl!$A:$E,O$2,0))","v":"East"},{"$f":"IF($B594=\"\",\"\",VLOOKUP($B594,_tbl!$A:$E,P$2,0))","v":"Rural"},{"$f":"IF($B594=\"\",\"\",VLOOKUP($B594,_tbl!$A:$E,Q$2,0))","v":"Infectious"},null,1.02993249793511E-4,5.9745307038458099E-5]
[null,"all_m_East Rural infectious.csv","55-59",1.4397029005573599E-4,1.3528791278892999E-4,1.2916182444584499E-4,1.22403151005453E-4,1.1647182203905499E-4,1.1058127508E-4,1.0506725684393399E-4,9.9752025125312695E-5,9.4694133339412901E-5,8.986280992788E-5,{"$f":"IF($B595=\"\",\"\",VLOOKUP($B595,_tbl!$A:$E,N$2,0))","v":"Male"},{"$f":"IF($B595=\"\",\"\",VLOOKUP($B595,_tbl!$A:$E,O$2,0))","v":"East"},{"$f":"IF($B595=\"\",\"\",VLOOKUP($B595,_tbl!$A:$E,P$2,0))","v":"Rural"},{"$f":"IF($B595=\"\",\"\",VLOOKUP($B595,_tbl!$A:$E,Q$2,0))","v":"Infectious"},null,1.4397029005573599E-4,8.986280992788E-5]
[null,"all_m_East Rural infectious.csv","60-64",1.9607724576255301E-4,1.8419961501967699E-4,1.7593447890059901E-4,1.66797362108726E-4,1.58891511488602E-4,1.51072116907982E-4,1.4380649155147301E-4,1.3680813340876701E-4,1.3015397506345501E-4,1.2378730614705E-4,{"$f":"IF($B596=\"\",\"\",VLOOKUP($B596,_tbl!$A:$E,N$2,0))","v":"Male"},{"$f":"IF($B596=\"\",\"\",VLOOKUP($B596,_tbl!$A:$E,O$2,0))","v":"East"},{"$f":"IF($B596=\"\",\"\",VLOOKUP($B596,_tbl!$A:$E,P$2,0))","v":"Rural"},{"$f":"IF($B596=\"\",\"\",VLOOKUP($B596,_tbl!$A:$E,Q$2,0))","v":"Infectious"},null,1.9607724576255301E-4,1.2378730614705E-4]
[null,"all_m_East Rural infectious.csv","65-69",2.8602907074606399E-4,2.67392057943371E-4,2.5493341226028097E-4,2.41100749350263E-4,2.29332569724995E-4,2.1764038596880399E-4,2.0689181472493301E-4,1.9654697340089201E-4,1.8681136793107699E-4,1.77525649454653E-4,{"$f":"IF($B597=\"\",\"\",VLOOKUP($B597,_tbl!$A:$E,N$2,0))","v":"Male"},{"$f":"IF($B597=\"\",\"\",VLOOKUP($B597,_tbl!$A:$E,O$2,0))","v":"East"},{"$f":"IF($B597=\"\",\"\",VLOOKUP($B597,_tbl!$A:$E,P$2,0))","v":"Rural"},{"$f":"IF($B597=\"\",\"\",VLOOKUP($B597,_tbl!$A:$E,Q$2,0))","v":"Infectious"},null,2.8602907074606399E-4,1.77525649454653E-4]
[null,"all_m_East Rural infectious.csv","70-74",4.42170280762387E-4,4.0865432103235602E-4,3.8480961394868801E-4,3.5848356085159302E-4,3.3541610900567097E-4,3.1244817326136099E-4,2.9103564627075299E-4,2.7034452163079102E-4,2.5073061533262302E-4,2.3195421484387799E-4,{"$f":"IF($B598=\"\",\"\",VLOOKUP($B598,_tbl!$A:$E,N$2,0))","v":"Male"},{"$f":"IF($B598=\"\",\"\",VLOOKUP($B598,_tbl!$A:$E,O$2,0))","v":"East"},{"$f":"IF($B598=\"\",\"\",VLOOKUP($B598,_tbl!$A:$E,P$2,0))","v":"Rural"},{"$f":"IF($B598=\"\",\"\",VLOOKUP($B598,_tbl!$A:$E,Q$2,0))","v":"Infectious"},null,4.42170280762387E-4,2.3195421484387799E-4]
[null,"all_m_East Rural infectious.csv","75-79",9.2806228335795896E-4,8.5924940898155801E-4,8.0859385681016397E-4,7.5288413797042501E-4,7.0402770478671605E-4,6.5547295850818703E-4,6.1029849501605398E-4,5.6646745710742903E-4,5.2475126696777596E-4,4.8445112985838099E-4,{"$f":"IF($B599=\"\",\"\",VLOOKUP($B599,_tbl!$A:$E,N$2,0))","v":"Male"},{"$f":"IF($B599=\"\",\"\",VLOOKUP($B599,_tbl!$A:$E,O$2,0))","v":"East"},{"$f":"IF($B599=\"\",\"\",VLOOKUP($B599,_tbl!$A:$E,P$2,0))","v":"Rural"},{"$f":"IF($B599=\"\",\"\",VLOOKUP($B599,_tbl!$A:$E,Q$2,0))","v":"Infectious"},null,9.2806228335795896E-4,4.8445112985838099E-4]
[null,"all_m_East Rural infectious.csv","80-84",2.3510323678217798E-3,2.25696953247585E-3,2.2157462479893801E-3,2.1471096333223198E-3,2.0698519831591402E-3,1.96500054363023E-3,1.8472134284767501E-3,1.72440323453994E-3,1.6131753656618E-3,1.52245719814278E-3,{"$f":"IF($B600=\"\",\"\",VLOOKUP($B600,_tbl!$A:$E,N$2,0))","v":"Male"},{"$f":"IF($B600=\"\",\"\",VLOOKUP($B600,_tbl!$A:$E,O$2,0))","v":"East"},{"$f":"IF($B600=\"\",\"\",VLOOKUP($B600,_tbl!$A:$E,P$2,0))","v":"Rural"},{"$f":"IF($B600=\"\",\"\",VLOOKUP($B600,_tbl!$A:$E,Q$2,0))","v":"Infectious"},null,2.3510323678217798E-3,1.52245719814278E-3]
[null,"all_m_East Rural infectious.csv","85+",6.6115478081477897E-3,6.3285946590942999E-3,6.1306023261316397E-3,5.90842880382906E-3,5.7250768303228798E-3,5.5224657323860796E-3,5.3084955438049497E-3,5.0778164871128698E-3,4.8566105044360198E-3,4.6642434696474704E-3,{"$f":"IF($B601=\"\",\"\",VLOOKUP($B601,_tbl!$A:$E,N$2,0))","v":"Male"},{"$f":"IF($B601=\"\",\"\",VLOOKUP($B601,_tbl!$A:$E,O$2,0))","v":"East"},{"$f":"IF($B601=\"\",\"\",VLOOKUP($B601,_tbl!$A:$E,P$2,0))","v":"Rural"},{"$f":"IF($B601=\"\",\"\",VLOOKUP($B601,_tbl!$A:$E,Q$2,0))","v":"Infectious"},null,6.6115478081477897E-3,4.6642434696474704E-3]
[null,null,null,null,null,null,null,null,null,null,null,null,null,{"$f":"IF($B602=\"\",\"\",VLOOKUP($B602,_tbl!$A:$E,N$2,0))","v":""},{"$f":"IF($B602=\"\",\"\",VLOOKUP($B602,_tbl!$A:$E,O$2,0))","v":""},{"$f":"IF($B602=\"\",\"\",VLOOKUP($B602,_tbl!$A:$E,P$2,0))","v":""},{"$f":"IF($B602=\"\",\"\",VLOOKUP($B602,_tbl!$A:$E,Q$2,0))","v":""}]
[null,null,null,2020,2021,2022,2023,2024,2025,2026,2027,2028,2029,{"$f":"IF($B603=\"\",\"\",VLOOKUP($B603,_tbl!$A:$E,N$2,0))","v":""},{"$f":"IF($B603=\"\",\"\",VLOOKUP($B603,_tbl!$A:$E,O$2,0))","v":""},{"$f":"IF($B603=\"\",\"\",VLOOKUP($B603,_tbl!$A:$E,P$2,0))","v":""},{"$f":"IF($B603=\"\",\"\",VLOOKUP($B603,_tbl!$A:$E,Q$2,0))","v":""}]
[null,"all_m_East Rural mental.csv","1-4",2.67623949366552E-5,2.65848636692141E-5,2.6461000259173501E-5,2.6323788204769999E-5,2.6226235664965301E-5,2.6136291747157301E-5,2.6048657470358601E-5,2.5975515298417198E-5,2.58855347134089E-5,2.5795604663101899E-5,{"$f":"IF($B604=\"\",\"\",VLOOKUP($B604,_tbl!$A:$E,N$2,0))","v":"Male"},{"$f":"IF($B604=\"\",\"\",VLOOKUP($B604,_tbl!$A:$E,O$2,0))","v":"East"},{"$f":"IF($B604=\"\",\"\",VLOOKUP($B604,_tbl!$A:$E,P$2,0))","v":"Rural"},{"$f":"IF($B604=\"\",\"\",VLOOKUP($B604,_tbl!$A:$E,Q$2,0))","v":"Mental"},null,{"$f":"MAX(D604:M604)","v":2.67623949366552E-5},{"$f":"MIN(D604:M604)","v":2.5795604663101899E-5}]
[null,"all_m_East Rural mental.csv","5-9",1.87286273333303E-5,1.8727487325326301E-5,1.8687476791508001E-5,1.8684148849851E-5,1.8663780066598902E-5,1.8644053055047399E-5,1.8628383646972299E-5,1.8608684542037501E-5,1.8585524130157901E-5,1.8566410948486101E-5,{"$f":"IF($B605=\"\",\"\",VLOOKUP($B605,_tbl!$A:$E,N$2,0))","v":"Male"},{"$f":"IF($B605=\"\",\"\",VLOOKUP($B605,_tbl!$A:$E,O$2,0))","v":"East"},{"$f":"IF($B605=\"\",\"\",VLOOKUP($B605,_tbl!$A:$E,P$2,0))","v":"Rural"},{"$f":"IF($B605=\"\",\"\",VLOOKUP($B605,_tbl!$A:$E,Q$2,0))","v":"Mental"},null,1.87286273333303E-5,1.8566410948486101E-5]
[null,"all_m_East Rural mental.csv","10-14",2.1975905558651701E-5,2.2008694594624602E-5,2.2061726583470599E-5,2.2088868597421201E-5,2.2129257976849899E-5,2.2159135102168499E-5,2.2189434142565201E-5,2.22176646452631E-5,2.2246405503694899E-5,2.2273774634223199E-5,{"$f":"IF($B606=\"\",\"\",VLOOKUP($B606,_tbl!$A:$E,N$2,0))","v":"Male"},{"$f":"IF($B606=\"\",\"\",VLOOKUP($B606,_tbl!$A:$E,O$2,0))","v":"East"},{"$f":"IF($B606=\"\",\"\",VLOOKUP($B606,_tbl!$A:$E,P$2,0))","v":"Rural"},{"$f":"IF($B606=\"\",\"\",VLOOKUP($B606,_tbl!$A:$E,Q$2,0))","v":"Mental"},null,2.2273774634223199E-5,2.1975905558651701E-5]
[null,"all_m_East Rural mental.csv","15-19",2.33615700347E-5,2.3427508924061399E-5,2.3530403637612199E-5,2.3610043250574301E-5,2.36740147269873E-5,2.3703729723752801E-5,2.3723313699048E-5,2.3734932925687E-5,2.37523856280156E-5,2.3781648860409499E-5,{"$f":"IF($B607=\"\",\"\",VLOOKUP($B607,_tbl!$A:$E,N$2,0))","v":"Male"},{"$f":"IF($B607=\"\",\"\",VLOOKUP($B607,_tbl!$A:$E,O$2,0))","v":"East"},{"$f":"IF($B607=\"\",\"\",VLOOKUP($B607,_tbl!$A:$E,P$2,0))","v":"Rural"},{"$f":"IF($B607=\"\",\"\",VLOOKUP($B607,_tbl!$A:$E,Q$2,0))","v":"Mental"},null,2.3781648860409499E-5,2.33615700347E-5]
[null,"all_m_East Rural mental.csv","20-24",2.2196150902614601E-5,2.22335110360879E-5,2.2277346058727302E-5,2.2332844020477599E-5,2.2333756747099301E-5,2.22921835965918E-5,2.2215729917378601E-5,2.21310896930879E-5,2.20478889764673E-5,2.1976141935646498E-5,{"$f":"IF($B608=\"\",\"\",VLOOKUP($B608,_tbl!$A:$E,N$2,0))","v":"Male"},{"$f":"IF($B608=\"\",\"\",VLOOKUP($B608,_tbl!$A:$E,O$2,0))","v":"East"},{"$f":"IF($B608=\"\",\"\",VLOOKUP($B608,_tbl!$A:$E,P$2,0))","v":"Rural"},{"$f":"IF($B608=\"\",\"\",VLOOKUP($B608,_tbl!$A:$E,Q$2,0))","v":"Mental"},null,2.2333756747099301E-5,2.1976141935646498E-5]
[null,"all_m_East Rural mental.csv","25-29",2.2915958225973598E-5,2.28819703563735E-5,2.2787293028682299E-5,2.2731490800767899E-5,2.2630869125583001E-5,2.25213689932341E-5,2.2391042983969401E-5,2.2260962682068699E-5,2.21281649767216E-5,2.19991596617637E-5,{"$f":"IF($B609=\"\",\"\",VLOOKUP($B609,_tbl!$A:$E,N$2,0))","v":"Male"},{"$f":"IF($B609=\"\",\"\",VLOOKUP($B609,_tbl!$A:$E,O$2,0))","v":"East"},{"$f":"IF($B609=\"\",\"\",VLOOKUP($B609,_tbl!$A:$E,P$2,0))","v":"Rural"},{"$f":"IF($B609=\"\",\"\",VLOOKUP($B609,_tbl!$A:$E,Q$2,0))","v":"Mental"},null,2.2915958225973598E-5,2.19991596617637E-5]
[null,"all_m_East Rural mental.csv","30-34",2.5583417533625501E-5,2.55504753917825E-5,2.5457643141674801E-5,2.54040384552209E-5,2.5302323790980701E-5,2.51925846328582E-5,2.5063228796710101E-5,2.4935701744582302E-5,2.4809257341759399E-5,2.4688940843920998E-5,{"$f":"IF($B610=\"\",\"\",VLOOKUP($B610,_tbl!$A:$E,N$2,0))","v":"Male"},{"$f":"IF($B610=\"\",\"\",VLOOKUP($B610,_tbl!$A:$E,O$2,0))","v":"East"},{"$f":"IF($B610=\"\",\"\",VLOOKUP($B610,_tbl!$A:$E,P$2,0))","v":"Rural"},{"$f":"IF($B610=\"\",\"\",VLOOKUP($B610,_tbl!$A:$E,Q$2,0))","v":"Mental"},null,2.5583417533625501E-5,2.4688940843920998E-5]
[null,"all_m_East Rural mental.csv","35-39",2.7129781342673102E-5,2.7047579981000699E-5,2.6896149618134002E-5,2.6784873236279801E-5,2.6663145958772899E-5,2.6568044831920701E-5,2.6473007534968301E-5,2.63857411018175E-5,2.6290677088171101E-5,2.6191129549285E-5,{"$f":"IF($B611=\"\",\"\",VLOOKUP($B611,_tbl!$A:$E,N$2,0))","v":"Male"},{"$f":"IF($B611=\"\",\"\",VLOOKUP($B611,_tbl!$A:$E,O$2,0))","v":"East"},{"$f":"IF($B611=\"\",\"\",VLOOKUP($B611,_tbl!$A:$E,P$2,0))","v":"Rural"},{"$f":"IF($B611=\"\",\"\",VLOOKUP($B611,_tbl!$A:$E,Q$2,0))","v":"Mental"},null,2.7129781342673102E-5,2.6191129549285E-5]
[null,"all_m_East Rural mental.csv","40-44",3.0657765448758198E-5,3.0755769883806303E-5,3.0715038941804398E-5,3.0766863088616801E-5,3.0778740719793E-5,3.08425453673285E-5,3.0884537105674502E-5,3.0946291054891903E-5,3.09863043142946E-5,3.10304550118157E-5,{"$f":"IF($B612=\"\",\"\",VLOOKUP($B612,_tbl!$A:$E,N$2,0))","v":"Male"},{"$f":"IF($B612=\"\",\"\",VLOOKUP($B612,_tbl!$A:$E,O$2,0))","v":"East"},{"$f":"IF($B612=\"\",\"\",VLOOKUP($B612,_tbl!$A:$E,P$2,0))","v":"Rural"},{"$f":"IF($B612=\"\",\"\",VLOOKUP($B612,_tbl!$A:$E,Q$2,0))","v":"Mental"},null,3.10304550118157E-5,3.0657765448758198E-5]
[null,"all_m_East Rural mental.csv","45-49",3.6347917555100499E-5,3.6156566585334697E-5,3.5927110171431199E-5,3.5706051731498798E-5,3.5512917960531598E-5,3.5339757949071699E-5,3.5191811940127703E-5,3.5042723061365699E-5,3.4893758111967598E-5,3.4727528935723198E-5,{"$f":"IF($B613=\"\",\"\",VLOOKUP($B613,_tbl!$A:$E,N$2,0))","v":"Male"},{"$f":"IF($B613=\"\",\"\",VLOOKUP($B613,_tbl!$A:$E,O$2,0))","v":"East"},{"$f":"IF($B613=\"\",\"\",VLOOKUP($B613,_tbl!$A:$E,P$2,0))","v":"Rural"},{"$f":"IF($B613=\"\",\"\",VLOOKUP($B613,_tbl!$A:$E,Q$2,0))","v":"Mental"},null,3.6347917555100499E-5,3.4727528935723198E-5]
[null,"all_m_East Rural mental.csv","50-54",5.0195618831237003E-5,5.0375530406992299E-5,5.0419519348900101E-5,5.0511419347502603E-5,5.0542911354077001E-5,5.06166194200443E-5,5.06544760285315E-5,5.07164406019076E-5,5.0747753950854901E-5,5.07896946335942E-5,{"$f":"IF($B614=\"\",\"\",VLOOKUP($B614,_tbl!$A:$E,N$2,0))","v":"Male"},{"$f":"IF($B614=\"\",\"\",VLOOKUP($B614,_tbl!$A:$E,O$2,0))","v":"East"},{"$f":"IF($B614=\"\",\"\",VLOOKUP($B614,_tbl!$A:$E,P$2,0))","v":"Rural"},{"$f":"IF($B614=\"\",\"\",VLOOKUP($B614,_tbl!$A:$E,Q$2,0))","v":"Mental"},null,5.07896946335942E-5,5.0195618831237003E-5]
[null,"all_m_East Rural mental.csv","55-59",7.0612686221561204E-5,7.1026134616018006E-5,7.1253268561203404E-5,7.1426882379382401E-5,7.1513677853698795E-5,7.1597809892622895E-5,7.1635361621411893E-5,7.1680942228485804E-5,7.1696405575922401E-5,7.1720283438673395E-5,{"$f":"IF($B615=\"\",\"\",VLOOKUP($B615,_tbl!$A:$E,N$2,0))","v":"Male"},{"$f":"IF($B615=\"\",\"\",VLOOKUP($B615,_tbl!$A:$E,O$2,0))","v":"East"},{"$f":"IF($B615=\"\",\"\",VLOOKUP($B615,_tbl!$A:$E,P$2,0))","v":"Rural"},{"$f":"IF($B615=\"\",\"\",VLOOKUP($B615,_tbl!$A:$E,Q$2,0))","v":"Mental"},null,7.1720283438673395E-5,7.0612686221561204E-5]
[null,"all_m_East Rural mental.csv","60-64",9.9412270646482306E-5,9.9807112281183905E-5,1.00026645621019E-4,1.0013930967192899E-4,1.00173439969568E-4,1.0017461265237099E-4,1.0013316750658601E-4,1.00083854210283E-4,1.00011207342643E-4,9.9941407163807401E-5,{"$f":"IF($B616=\"\",\"\",VLOOKUP($B616,_tbl!$A:$E,N$2,0))","v":"Male"},{"$f":"IF($B616=\"\",\"\",VLOOKUP($B616,_tbl!$A:$E,O$2,0))","v":"East"},{"$f":"IF($B616=\"\",\"\",VLOOKUP($B616,_tbl!$A:$E,P$2,0))","v":"Rural"},{"$f":"IF($B616=\"\",\"\",VLOOKUP($B616,_tbl!$A:$E,Q$2,0))","v":"Mental"},null,1.0017461265237099E-4,9.9412270646482306E-5]
[null,"all_m_East Rural mental.csv","65-69",1.5410310069324299E-4,1.5430351777598699E-4,1.5439369996977399E-4,1.54361889938322E-4,1.5430571006600801E-4,1.54199307952292E-4,1.5406450381837101E-4,1.5390809575995801E-4,1.5374519417995399E-4,1.5359065260967501E-4,{"$f":"IF($B617=\"\",\"\",VLOOKUP($B617,_tbl!$A:$E,N$2,0))","v":"Male"},{"$f":"IF($B617=\"\",\"\",VLOOKUP($B617,_tbl!$A:$E,O$2,0))","v":"East"},{"$f":"IF($B617=\"\",\"\",VLOOKUP($B617,_tbl!$A:$E,P$2,0))","v":"Rural"},{"$f":"IF($B617=\"\",\"\",VLOOKUP($B617,_tbl!$A:$E,Q$2,0))","v":"Mental"},null,1.5439369996977399E-4,1.5359065260967501E-4]
[null,"all_m_East Rural mental.csv","70-74",2.8471164048169198E-4,2.8361598400091301E-4,2.8258774746441799E-4,2.8136785919677301E-4,2.8027061790168999E-4,2.7911842540771401E-4,2.7804234564148499E-4,2.7694611996715202E-4,2.7590411241702197E-4,2.7486563130389502E-4,{"$f":"IF($B618=\"\",\"\",VLOOKUP($B618,_tbl!$A:$E,N$2,0))","v":"Male"},{"$f":"IF($B618=\"\",\"\",VLOOKUP($B618,_tbl!$A:$E,O$2,0))","v":"East"},{"$f":"IF($B618=\"\",\"\",VLOOKUP($B618,_tbl!$A:$E,P$2,0))","v":"Rural"},{"$f":"IF($B618=\"\",\"\",VLOOKUP($B618,_tbl!$A:$E,Q$2,0))","v":"Mental"},null,2.8471164048169198E-4,2.7486563130389502E-4]
[null,"all_m_East Rural mental.csv","75-79",6.4457386692051905E-4,6.3590076556491605E-4,6.2631350730903005E-4,6.1742607993211704E-4,6.0942092043568704E-4,6.0206204565966799E-4,5.9514309272044104E-4,5.8825356629554101E-4,5.81331064365417E-4,5.7422826478781795E-4,{"$f":"IF($B619=\"\",\"\",VLOOKUP($B619,_tbl!$A:$E,N$2,0))","v":"Male"},{"$f":"IF($B619=\"\",\"\",VLOOKUP($B619,_tbl!$A:$E,O$2,0))","v":"East"},{"$f":"IF($B619=\"\",\"\",VLOOKUP($B619,_tbl!$A:$E,P$2,0))","v":"Rural"},{"$f":"IF($B619=\"\",\"\",VLOOKUP($B619,_tbl!$A:$E,Q$2,0))","v":"Mental"},null,6.4457386692051905E-4,5.7422826478781795E-4]
[null,"all_m_East Rural mental.csv","80-84",1.88950013940646E-3,1.90581211641014E-3,1.9119915694971201E-3,1.92229004971243E-3,1.92913548775723E-3,1.9375364157082999E-3,1.9455616523134101E-3,1.9543691995236698E-3,1.9626976723428101E-3,1.9703584313884499E-3,{"$f":"IF($B620=\"\",\"\",VLOOKUP($B620,_tbl!$A:$E,N$2,0))","v":"Male"},{"$f":"IF($B620=\"\",\"\",VLOOKUP($B620,_tbl!$A:$E,O$2,0))","v":"East"},{"$f":"IF($B620=\"\",\"\",VLOOKUP($B620,_tbl!$A:$E,P$2,0))","v":"Rural"},{"$f":"IF($B620=\"\",\"\",VLOOKUP($B620,_tbl!$A:$E,Q$2,0))","v":"Mental"},null,1.9703584313884499E-3,1.88950013940646E-3]
[null,"all_m_East Rural mental.csv","85+",5.2069355223722004E-3,5.2756325655681701E-3,5.3201211349594903E-3,5.3605843934457203E-3,5.3746713280057997E-3,5.3844509222109298E-3,5.3912421367987703E-3,5.4037744744394297E-3,5.4177836946215502E-3,5.4313628376731404E-3,{"$f":"IF($B621=\"\",\"\",VLOOKUP($B621,_tbl!$A:$E,N$2,0))","v":"Male"},{"$f":"IF($B621=\"\",\"\",VLOOKUP($B621,_tbl!$A:$E,O$2,0))","v":"East"},{"$f":"IF($B621=\"\",\"\",VLOOKUP($B621,_tbl!$A:$E,P$2,0))","v":"Rural"},{"$f":"IF($B621=\"\",\"\",VLOOKUP($B621,_tbl!$A:$E,Q$2,0))","v":"Mental"},null,5.4313628376731404E-3,5.2069355223722004E-3]
[null,null,null,null,null,null,null,null,null,null,null,null,null,{"$f":"IF($B622=\"\",\"\",VLOOKUP($B622,_tbl!$A:$E,N$2,0))","v":""},{"$f":"IF($B622=\"\",\"\",VLOOKUP($B622,_tbl!$A:$E,O$2,0))","v":""},{"$f":"IF($B622=\"\",\"\",VLOOKUP($B622,_tbl!$A:$E,P$2,0))","v":""},{"$f":"IF($B622=\"\",\"\",VLOOKUP($B622,_tbl!$A:$E,Q$2,0))","v":""}]
[null,null,null,2020,2021,2022,2023,2024,2025,2026,2027,2028,2029,{"$f":"IF($B623=\"\",\"\",VLOOKUP($B623,_tbl!$A:$E,N$2,0))","v":""},{"$f":"IF($B623=\"\",\"\",VLOOKUP($B623,_tbl!$A:$E,O$2,0))","v":""},{"$f":"IF($B623=\"\",\"\",VLOOKUP($B623,_tbl!$A:$E,P$2,0))","v":""},{"$f":"IF($B623=\"\",\"\",VLOOKUP($B623,_tbl!$A:$E,Q$2,0))","v":""}]
[null,"all_m_East Rural other.csv","1-4",3.0317929616541898E-5,2.98321758447473E-5,2.9284503420706502E-5,2.8799455452742899E-5,2.8297847521962099E-5,2.7821894597395799E-5,2.7358175975874201E-5,2.6903072391749499E-5,2.6453281525273101E-5,2.60143710975923E-5,{"$f":"IF($B624=\"\",\"\",VLOOKUP($B624,_tbl!$A:$E,N$2,0))","v":"Male"},{"$f":"IF($B624=\"\",\"\",VLOOKUP($B624,_tbl!$A:$E,O$2,0))","v":"East"},{"$f":"IF($B624=\"\",\"\",VLOOKUP($B624,_tbl!$A:$E,P$2,0))","v":"Rural"},{"$f":"IF($B624=\"\",\"\",VLOOKUP($B624,_tbl!$A:$E,Q$2,0))","v":"Other"},null,{"$f":"MAX(D624:M624)","v":3.0317929616541898E-5},{"$f":"MIN(D624:M624)","v":2.60143710975923E-5}]
[null,"all_m_East Rural other.csv","5-9",1.6063310099014099E-5,1.60364466715462E-5,1.6015162531078201E-5,1.5998812009799801E-5,1.5979006854916398E-5,1.5952870053093901E-5,1.59251124604574E-5,1.5894202905391301E-5,1.5859907447347501E-5,1.5827142008852298E-5,{"$f":"IF($B625=\"\",\"\",VLOOKUP($B625,_tbl!$A:$E,N$2,0))","v":"Male"},{"$f":"IF($B625=\"\",\"\",VLOOKUP($B625,_tbl!$A:$E,O$2,0))","v":"East"},{"$f":"IF($B625=\"\",\"\",VLOOKUP($B625,_tbl!$A:$E,P$2,0))","v":"Rural"},{"$f":"IF($B625=\"\",\"\",VLOOKUP($B625,_tbl!$A:$E,Q$2,0))","v":"Other"},null,1.6063310099014099E-5,1.5827142008852298E-5]
[null,"all_m_East Rural other.csv","10-14",1.7158307767136701E-5,1.71014274608917E-5,1.7042330957310101E-5,1.69824755050295E-5,1.6931876965668901E-5,1.6884392629912001E-5,1.6837128620048899E-5,1.6792599103775901E-5,1.6746791723740101E-5,1.6698192659314E-5,{"$f":"IF($B626=\"\",\"\",VLOOKUP($B626,_tbl!$A:$E,N$2,0))","v":"Male"},{"$f":"IF($B626=\"\",\"\",VLOOKUP($B626,_tbl!$A:$E,O$2,0))","v":"East"},{"$f":"IF($B626=\"\",\"\",VLOOKUP($B626,_tbl!$A:$E,P$2,0))","v":"Rural"},{"$f":"IF($B626=\"\",\"\",VLOOKUP($B626,_tbl!$A:$E,Q$2,0))","v":"Other"},null,1.7158307767136701E-5,1.6698192659314E-5]
[null,"all_m_East Rural other.csv","15-19",2.0380627704297399E-5,2.0113087980881199E-5,1.9835374086311799E-5,1.95618570810459E-5,1.9309422810976502E-5,1.9072349255383901E-5,1.88429261587745E-5,1.86198901436033E-5,1.8394275906736599E-5,1.8160606599796E-5,{"$f":"IF($B627=\"\",\"\",VLOOKUP($B627,_tbl!$A:$E,N$2,0))","v":"Male"},{"$f":"IF($B627=\"\",\"\",VLOOKUP($B627,_tbl!$A:$E,O$2,0))","v":"East"},{"$f":"IF($B627=\"\",\"\",VLOOKUP($B627,_tbl!$A:$E,P$2,0))","v":"Rural"},{"$f":"IF($B627=\"\",\"\",VLOOKUP($B627,_tbl!$A:$E,Q$2,0))","v":"Other"},null,2.0380627704297399E-5,1.8160606599796E-5]
[null,"all_m_East Rural other.csv","20-24",2.6520360281640899E-5,2.6066427302747301E-5,2.5474976719381799E-5,2.49308758567194E-5,2.4446923609600801E-5,2.4052214876146301E-5,2.3707860450116799E-5,2.3385894796876199E-5,2.30538217961017E-5,2.2701449301176002E-5,{"$f":"IF($B628=\"\",\"\",VLOOKUP($B628,_tbl!$A:$E,N$2,0))","v":"Male"},{"$f":"IF($B628=\"\",\"\",VLOOKUP($B628,_tbl!$A:$E,O$2,0))","v":"East"},{"$f":"IF($B628=\"\",\"\",VLOOKUP($B628,_tbl!$A:$E,P$2,0))","v":"Rural"},{"$f":"IF($B628=\"\",\"\",VLOOKUP($B628,_tbl!$A:$E,Q$2,0))","v":"Other"},null,2.6520360281640899E-5,2.2701449301176002E-5]
[null,"all_m_East Rural other.csv","25-29",4.02661061765534E-5,3.9852088238717498E-5,3.9294090948105899E-5,3.87890564068533E-5,3.8309565234144702E-5,3.7892965496498203E-5,3.7507503199379997E-5,3.7138159958010199E-5,3.6762533307294103E-5,3.6371534645349702E-5,{"$f":"IF($B629=\"\",\"\",VLOOKUP($B629,_tbl!$A:$E,N$2,0))","v":"Male"},{"$f":"IF($B629=\"\",\"\",VLOOKUP($B629,_tbl!$A:$E,O$2,0))","v":"East"},{"$f":"IF($B629=\"\",\"\",VLOOKUP($B629,_tbl!$A:$E,P$2,0))","v":"Rural"},{"$f":"IF($B629=\"\",\"\",VLOOKUP($B629,_tbl!$A:$E,Q$2,0))","v":"Other"},null,4.02661061765534E-5,3.6371534645349702E-5]
[null,"all_m_East Rural other.csv","30-34",6.2498393500205995E-5,6.1835984387538002E-5,6.1062318627069803E-5,6.0323379915194002E-5,5.9661330562213497E-5,5.9080690406095402E-5,5.8551376102416899E-5,5.8033815488528503E-5,5.7498426298251003E-5,5.6930660446412497E-5,{"$f":"IF($B630=\"\",\"\",VLOOKUP($B630,_tbl!$A:$E,N$2,0))","v":"Male"},{"$f":"IF($B630=\"\",\"\",VLOOKUP($B630,_tbl!$A:$E,O$2,0))","v":"East"},{"$f":"IF($B630=\"\",\"\",VLOOKUP($B630,_tbl!$A:$E,P$2,0))","v":"Rural"},{"$f":"IF($B630=\"\",\"\",VLOOKUP($B630,_tbl!$A:$E,Q$2,0))","v":"Other"},null,6.2498393500205995E-5,5.6930660446412497E-5]
[null,"all_m_East Rural other.csv","35-39",7.2960957010616607E-5,7.19225845652756E-5,7.0881634024180394E-5,6.9786133251952304E-5,6.8813476412780394E-5,6.7895047430164803E-5,6.7046853181299801E-5,6.6194601513268906E-5,6.5327611679736098E-5,6.4414795050285803E-5,{"$f":"IF($B631=\"\",\"\",VLOOKUP($B631,_tbl!$A:$E,N$2,0))","v":"Male"},{"$f":"IF($B631=\"\",\"\",VLOOKUP($B631,_tbl!$A:$E,O$2,0))","v":"East"},{"$f":"IF($B631=\"\",\"\",VLOOKUP($B631,_tbl!$A:$E,P$2,0))","v":"Rural"},{"$f":"IF($B631=\"\",\"\",VLOOKUP($B631,_tbl!$A:$E,Q$2,0))","v":"Other"},null,7.2960957010616607E-5,6.4414795050285803E-5]
[null,"all_m_East Rural other.csv","40-44",7.7241283412206804E-5,7.6367669750987101E-5,7.5375351912167202E-5,7.4462987906453602E-5,7.3582018705647804E-5,7.2811258325920596E-5,7.2064344817939697E-5,7.1353971236574394E-5,7.0607961569233305E-5,6.9841921720397704E-5,{"$f":"IF($B632=\"\",\"\",VLOOKUP($B632,_tbl!$A:$E,N$2,0))","v":"Male"},{"$f":"IF($B632=\"\",\"\",VLOOKUP($B632,_tbl!$A:$E,O$2,0))","v":"East"},{"$f":"IF($B632=\"\",\"\",VLOOKUP($B632,_tbl!$A:$E,P$2,0))","v":"Rural"},{"$f":"IF($B632=\"\",\"\",VLOOKUP($B632,_tbl!$A:$E,Q$2,0))","v":"Other"},null,7.7241283412206804E-5,6.9841921720397704E-5]
[null,"all_m_East Rural other.csv","45-49",9.7281588584873405E-5,9.6236058754525799E-5,9.4864309002480496E-5,9.3670361436603997E-5,9.2320692867214297E-5,9.1088644910039995E-5,8.97724653679863E-5,8.8533413445550203E-5,8.7244653151693599E-5,8.6011445732860994E-5,{"$f":"IF($B633=\"\",\"\",VLOOKUP($B633,_tbl!$A:$E,N$2,0))","v":"Male"},{"$f":"IF($B633=\"\",\"\",VLOOKUP($B633,_tbl!$A:$E,O$2,0))","v":"East"},{"$f":"IF($B633=\"\",\"\",VLOOKUP($B633,_tbl!$A:$E,P$2,0))","v":"Rural"},{"$f":"IF($B633=\"\",\"\",VLOOKUP($B633,_tbl!$A:$E,Q$2,0))","v":"Other"},null,9.7281588584873405E-5,8.6011445732860994E-5]
[null,"all_m_East Rural other.csv","50-54",1.4183573059579701E-4,1.40729716601233E-4,1.3934232062761201E-4,1.3804973667077799E-4,1.36604490941053E-4,1.3525791928814399E-4,1.3382700748643499E-4,1.3247161306325999E-4,1.3106171333244601E-4,1.2970832199536499E-4,{"$f":"IF($B634=\"\",\"\",VLOOKUP($B634,_tbl!$A:$E,N$2,0))","v":"Male"},{"$f":"IF($B634=\"\",\"\",VLOOKUP($B634,_tbl!$A:$E,O$2,0))","v":"East"},{"$f":"IF($B634=\"\",\"\",VLOOKUP($B634,_tbl!$A:$E,P$2,0))","v":"Rural"},{"$f":"IF($B634=\"\",\"\",VLOOKUP($B634,_tbl!$A:$E,Q$2,0))","v":"Other"},null,1.4183573059579701E-4,1.2970832199536499E-4]
[null,"all_m_East Rural other.csv","55-59",2.0139473116029301E-4,1.99364366479383E-4,1.97057606207317E-4,1.94874299490248E-4,1.92620310141311E-4,1.9042370346103899E-4,1.8820764164703899E-4,1.86023909857903E-4,1.8384450170032799E-4,1.81696692454844E-4,{"$f":"IF($B635=\"\",\"\",VLOOKUP($B635,_tbl!$A:$E,N$2,0))","v":"Male"},{"$f":"IF($B635=\"\",\"\",VLOOKUP($B635,_tbl!$A:$E,O$2,0))","v":"East"},{"$f":"IF($B635=\"\",\"\",VLOOKUP($B635,_tbl!$A:$E,P$2,0))","v":"Rural"},{"$f":"IF($B635=\"\",\"\",VLOOKUP($B635,_tbl!$A:$E,Q$2,0))","v":"Other"},null,2.0139473116029301E-4,1.81696692454844E-4]
[null,"all_m_East Rural other.csv","60-64",2.4806778367186003E-4,2.4370921730333301E-4,2.3883563041351399E-4,2.3414042907498399E-4,2.29380723510811E-4,2.24702009438822E-4,2.20040649004921E-4,2.1540300796107299E-4,2.10799619438823E-4,2.0621863089129199E-4,{"$f":"IF($B636=\"\",\"\",VLOOKUP($B636,_tbl!$A:$E,N$2,0))","v":"Male"},{"$f":"IF($B636=\"\",\"\",VLOOKUP($B636,_tbl!$A:$E,O$2,0))","v":"East"},{"$f":"IF($B636=\"\",\"\",VLOOKUP($B636,_tbl!$A:$E,P$2,0))","v":"Rural"},{"$f":"IF($B636=\"\",\"\",VLOOKUP($B636,_tbl!$A:$E,Q$2,0))","v":"Other"},null,2.4806778367186003E-4,2.0621863089129199E-4]
[null,"all_m_East Rural other.csv","65-69",2.9712822568686402E-4,2.8999661531648602E-4,2.8208244105938201E-4,2.7408949119957498E-4,2.6590227229189302E-4,2.5769540063996701E-4,2.4949895751991E-4,2.41332012442091E-4,2.3325506716981301E-4,2.25252105545125E-4,{"$f":"IF($B637=\"\",\"\",VLOOKUP($B637,_tbl!$A:$E,N$2,0))","v":"Male"},{"$f":"IF($B637=\"\",\"\",VLOOKUP($B637,_tbl!$A:$E,O$2,0))","v":"East"},{"$f":"IF($B637=\"\",\"\",VLOOKUP($B637,_tbl!$A:$E,P$2,0))","v":"Rural"},{"$f":"IF($B637=\"\",\"\",VLOOKUP($B637,_tbl!$A:$E,Q$2,0))","v":"Other"},null,2.9712822568686402E-4,2.25252105545125E-4]
[null,"all_m_East Rural other.csv","70-74",4.57833002927678E-4,4.4590739197510802E-4,4.3330126362642102E-4,4.20466413442856E-4,4.0749235045839702E-4,3.9447864910353598E-4,3.8155900830546299E-4,3.6875156808055098E-4,3.5614627798780899E-4,3.4372703718925401E-4,{"$f":"IF($B638=\"\",\"\",VLOOKUP($B638,_tbl!$A:$E,N$2,0))","v":"Male"},{"$f":"IF($B638=\"\",\"\",VLOOKUP($B638,_tbl!$A:$E,O$2,0))","v":"East"},{"$f":"IF($B638=\"\",\"\",VLOOKUP($B638,_tbl!$A:$E,P$2,0))","v":"Rural"},{"$f":"IF($B638=\"\",\"\",VLOOKUP($B638,_tbl!$A:$E,Q$2,0))","v":"Other"},null,4.57833002927678E-4,3.4372703718925401E-4]
[null,"all_m_East Rural other.csv","75-79",1.0727989956182901E-3,1.0487594020803001E-3,1.0259259420969801E-3,1.00283546264221E-3,9.815973258260691E-4,9.6102088588457602E-4,9.4160769323229005E-4,9.2241458592915002E-4,9.0352683595780697E-4,8.8445730777795704E-4,{"$f":"IF($B639=\"\",\"\",VLOOKUP($B639,_tbl!$A:$E,N$2,0))","v":"Male"},{"$f":"IF($B639=\"\",\"\",VLOOKUP($B639,_tbl!$A:$E,O$2,0))","v":"East"},{"$f":"IF($B639=\"\",\"\",VLOOKUP($B639,_tbl!$A:$E,P$2,0))","v":"Rural"},{"$f":"IF($B639=\"\",\"\",VLOOKUP($B639,_tbl!$A:$E,Q$2,0))","v":"Other"},null,1.0727989956182901E-3,8.8445730777795704E-4]
[null,"all_m_East Rural other.csv","80-84",2.92464719072973E-3,2.8985001892344901E-3,2.87132393723002E-3,2.8408595236407001E-3,2.7812746527885002E-3,2.7059377103485702E-3,2.6195573330582999E-3,2.5342607392424099E-3,2.4552410700230398E-3,2.3861672930675501E-3,{"$f":"IF($B640=\"\",\"\",VLOOKUP($B640,_tbl!$A:$E,N$2,0))","v":"Male"},{"$f":"IF($B640=\"\",\"\",VLOOKUP($B640,_tbl!$A:$E,O$2,0))","v":"East"},{"$f":"IF($B640=\"\",\"\",VLOOKUP($B640,_tbl!$A:$E,P$2,0))","v":"Rural"},{"$f":"IF($B640=\"\",\"\",VLOOKUP($B640,_tbl!$A:$E,Q$2,0))","v":"Other"},null,2.92464719072973E-3,2.3861672930675501E-3]
[null,"all_m_East Rural other.csv","85+",9.9511112696247708E-3,1.00397031118649E-2,1.01898562059923E-2,1.0285475495014299E-2,1.0250479569006999E-2,1.01177207702727E-2,9.9268511899511993E-3,9.7288161632414303E-3,9.5641866464405804E-3,9.4549412260244905E-3,{"$f":"IF($B641=\"\",\"\",VLOOKUP($B641,_tbl!$A:$E,N$2,0))","v":"Male"},{"$f":"IF($B641=\"\",\"\",VLOOKUP($B641,_tbl!$A:$E,O$2,0))","v":"East"},{"$f":"IF($B641=\"\",\"\",VLOOKUP($B641,_tbl!$A:$E,P$2,0))","v":"Rural"},{"$f":"IF($B641=\"\",\"\",VLOOKUP($B641,_tbl!$A:$E,Q$2,0))","v":"Other"},null,1.0285475495014299E-2,9.4549412260244905E-3]
[null,null,null,null,null,null,null,null,null,null,null,null,null,{"$f":"IF($B642=\"\",\"\",VLOOKUP($B642,_tbl!$A:$E,N$2,0))","v":""},{"$f":"IF($B642=\"\",\"\",VLOOKUP($B642,_tbl!$A:$E,O$2,0))","v":""},{"$f":"IF($B642=\"\",\"\",VLOOKUP($B642,_tbl!$A:$E,P$2,0))","v":""},{"$f":"IF($B642=\"\",\"\",VLOOKUP($B642,_tbl!$A:$E,Q$2,0))","v":""}]
[null,null,null,2020,2021,2022,2023,2024,2025,2026,2027,2028,2029,{"$f":"IF($B643=\"\",\"\",VLOOKUP($B643,_tbl!$A:$E,N$2,0))","v":""},{"$f":"IF($B643=\"\",\"\",VLOOKUP($B643,_tbl!$A:$E,O$2,0))","v":""},{"$f":"IF($B643=\"\",\"\",VLOOKUP($B643,_tbl!$A:$E,P$2,0))","v":""},{"$f":"IF($B643=\"\",\"\",VLOOKUP($B643,_tbl!$A:$E,Q$2,0))","v":""}]
[null,"all_m_East Rural respiratory.csv","1-4",5.6389586846380701E-6,5.3125004708883603E-6,5.04317264088121E-6,4.7844248961983497E-6,4.5459220107859203E-6,4.3204058412320596E-6,4.1144386834579303E-6,3.9174740794434597E-6,3.7216173819289901E-6,3.5368975966225499E-6,{"$f":"IF($B644=\"\",\"\",VLOOKUP($B644,_tbl!$A:$E,N$2,0))","v":"Male"},{"$f":"IF($B644=\"\",\"\",VLOOKUP($B644,_tbl!$A:$E,O$2,0))","v":"East"},{"$f":"IF($B644=\"\",\"\",VLOOKUP($B644,_tbl!$A:$E,P$2,0))","v":"Rural"},{"$f":"IF($B644=\"\",\"\",VLOOKUP($B644,_tbl!$A:$E,Q$2,0))","v":"Respiratory"},null,{"$f":"MAX(D644:M644)","v":5.6389586846380701E-6},{"$f":"MIN(D644:M644)","v":3.5368975966225499E-6}]
[null,"all_m_East Rural respiratory.csv","5-9",2.46661547202754E-6,2.3389611035731902E-6,2.2435649527109498E-6,2.14194561292161E-6,2.0489590038851501E-6,1.9566779368783201E-6,1.87100576878585E-6,1.7870967797545701E-6,1.7062614309156E-6,1.6287743011994001E-6,{"$f":"IF($B645=\"\",\"\",VLOOKUP($B645,_tbl!$A:$E,N$2,0))","v":"Male"},{"$f":"IF($B645=\"\",\"\",VLOOKUP($B645,_tbl!$A:$E,O$2,0))","v":"East"},{"$f":"IF($B645=\"\",\"\",VLOOKUP($B645,_tbl!$A:$E,P$2,0))","v":"Rural"},{"$f":"IF($B645=\"\",\"\",VLOOKUP($B645,_tbl!$A:$E,Q$2,0))","v":"Respiratory"},null,2.46661547202754E-6,1.6287743011994001E-6]
[null,"all_m_East Rural respiratory.csv","10-14",2.5846030287659098E-6,2.51362272571878E-6,2.4651055002906301E-6,2.4103735374498002E-6,2.35776517033428E-6,2.3029749288086601E-6,2.2481586227914502E-6,2.1936698633579099E-6,2.1402493387241E-6,2.0878544839717502E-6,{"$f":"IF($B646=\"\",\"\",VLOOKUP($B646,_tbl!$A:$E,N$2,0))","v":"Male"},{"$f":"IF($B646=\"\",\"\",VLOOKUP($B646,_tbl!$A:$E,O$2,0))","v":"East"},{"$f":"IF($B646=\"\",\"\",VLOOKUP($B646,_tbl!$A:$E,P$2,0))","v":"Rural"},{"$f":"IF($B646=\"\",\"\",VLOOKUP($B646,_tbl!$A:$E,Q$2,0))","v":"Respiratory"},null,2.5846030287659098E-6,2.0878544839717502E-6]
[null,"all_m_East Rural respiratory.csv","15-19",2.8497458505382298E-6,2.7847024670482101E-6,2.7316879696561798E-6,2.67580065199417E-6,2.6209863921371602E-6,2.5654252839704702E-6,2.5098476403711001E-6,2.4548472198996799E-6,2.4009079909696E-6,2.3481382386002402E-6,{"$f":"IF($B647=\"\",\"\",VLOOKUP($B647,_tbl!$A:$E,N$2,0))","v":"Male"},{"$f":"IF($B647=\"\",\"\",VLOOKUP($B647,_tbl!$A:$E,O$2,0))","v":"East"},{"$f":"IF($B647=\"\",\"\",VLOOKUP($B647,_tbl!$A:$E,P$2,0))","v":"Rural"},{"$f":"IF($B647=\"\",\"\",VLOOKUP($B647,_tbl!$A:$E,Q$2,0))","v":"Respiratory"},null,2.8497458505382298E-6,2.3481382386002402E-6]
[null,"all_m_East Rural respiratory.csv","20-24",3.4652891619261501E-6,3.3467015208436398E-6,3.2500816265588199E-6,3.1476741415871002E-6,3.05491746287283E-6,2.9665304308819899E-6,2.8832461074753801E-6,2.8032613802648498E-6,2.7254613674495099E-6,2.6497317931727001E-6,{"$f":"IF($B648=\"\",\"\",VLOOKUP($B648,_tbl!$A:$E,N$2,0))","v":"Male"},{"$f":"IF($B648=\"\",\"\",VLOOKUP($B648,_tbl!$A:$E,O$2,0))","v":"East"},{"$f":"IF($B648=\"\",\"\",VLOOKUP($B648,_tbl!$A:$E,P$2,0))","v":"Rural"},{"$f":"IF($B648=\"\",\"\",VLOOKUP($B648,_tbl!$A:$E,Q$2,0))","v":"Respiratory"},null,3.4652891619261501E-6,2.6497317931727001E-6]
[null,"all_m_East Rural respiratory.csv","25-29",4.7079649588868704E-6,4.5202228904032903E-6,4.3830508215509397E-6,4.2381663361050298E-6,4.0936379098479302E-6,3.9456058796191597E-6,3.7971443711782502E-6,3.6533658528484901E-6,3.5141147365960601E-6,3.3842062929619301E-6,{"$f":"IF($B649=\"\",\"\",VLOOKUP($B649,_tbl!$A:$E,N$2,0))","v":"Male"},{"$f":"IF($B649=\"\",\"\",VLOOKUP($B649,_tbl!$A:$E,O$2,0))","v":"East"},{"$f":"IF($B649=\"\",\"\",VLOOKUP($B649,_tbl!$A:$E,P$2,0))","v":"Rural"},{"$f":"IF($B649=\"\",\"\",VLOOKUP($B649,_tbl!$A:$E,Q$2,0))","v":"Respiratory"},null,4.7079649588868704E-6,3.3842062929619301E-6]
[null,"all_m_East Rural respiratory.csv","30-34",7.7038358509176502E-6,7.4036161765237797E-6,7.17981436781576E-6,6.9404978235840598E-6,6.6942517719511503E-6,6.4295776544615303E-6,6.1583746268527304E-6,5.8905238695900599E-6,5.6336507758793403E-6,5.3912726046607099E-6,{"$f":"IF($B650=\"\",\"\",VLOOKUP($B650,_tbl!$A:$E,N$2,0))","v":"Male"},{"$f":"IF($B650=\"\",\"\",VLOOKUP($B650,_tbl!$A:$E,O$2,0))","v":"East"},{"$f":"IF($B650=\"\",\"\",VLOOKUP($B650,_tbl!$A:$E,P$2,0))","v":"Rural"},{"$f":"IF($B650=\"\",\"\",VLOOKUP($B650,_tbl!$A:$E,Q$2,0))","v":"Respiratory"},null,7.7038358509176502E-6,5.3912726046607099E-6]
[null,"all_m_East Rural respiratory.csv","35-39",1.3258714317690001E-5,1.24789348704381E-5,1.17997107658151E-5,1.1123990236324699E-5,1.0457850833941099E-5,9.8308563211721006E-6,9.2056812174485892E-6,8.6115108902439395E-6,8.0139235620832703E-6,7.4344174934733501E-6,{"$f":"IF($B651=\"\",\"\",VLOOKUP($B651,_tbl!$A:$E,N$2,0))","v":"Male"},{"$f":"IF($B651=\"\",\"\",VLOOKUP($B651,_tbl!$A:$E,O$2,0))","v":"East"},{"$f":"IF($B651=\"\",\"\",VLOOKUP($B651,_tbl!$A:$E,P$2,0))","v":"Rural"},{"$f":"IF($B651=\"\",\"\",VLOOKUP($B651,_tbl!$A:$E,Q$2,0))","v":"Respiratory"},null,1.3258714317690001E-5,7.4344174934733501E-6]
[null,"all_m_East Rural respiratory.csv","40-44",2.1586408416240399E-5,1.9714171412560901E-5,1.8135227489715801E-5,1.6477589601528999E-5,1.5014829647004501E-5,1.3661600034949401E-5,1.24294005929141E-5,1.12460000422909E-5,1.00754245055689E-5,8.8855381181409695E-6,{"$f":"IF($B652=\"\",\"\",VLOOKUP($B652,_tbl!$A:$E,N$2,0))","v":"Male"},{"$f":"IF($B652=\"\",\"\",VLOOKUP($B652,_tbl!$A:$E,O$2,0))","v":"East"},{"$f":"IF($B652=\"\",\"\",VLOOKUP($B652,_tbl!$A:$E,P$2,0))","v":"Rural"},{"$f":"IF($B652=\"\",\"\",VLOOKUP($B652,_tbl!$A:$E,Q$2,0))","v":"Respiratory"},null,2.1586408416240399E-5,8.8855381181409695E-6]
[null,"all_m_East Rural respiratory.csv","45-49",4.2277877204978701E-5,3.8822456935664397E-5,3.6203080578960102E-5,3.3271833370316901E-5,3.0636577503275001E-5,2.80309144730692E-5,2.5584503990270701E-5,2.32171502028135E-5,2.0951522522446799E-5,1.8758453661706799E-5,{"$f":"IF($B653=\"\",\"\",VLOOKUP($B653,_tbl!$A:$E,N$2,0))","v":"Male"},{"$f":"IF($B653=\"\",\"\",VLOOKUP($B653,_tbl!$A:$E,O$2,0))","v":"East"},{"$f":"IF($B653=\"\",\"\",VLOOKUP($B653,_tbl!$A:$E,P$2,0))","v":"Rural"},{"$f":"IF($B653=\"\",\"\",VLOOKUP($B653,_tbl!$A:$E,Q$2,0))","v":"Respiratory"},null,4.2277877204978701E-5,1.8758453661706799E-5]
[null,"all_m_East Rural respiratory.csv","50-54",8.9163524040592902E-5,8.2320397033775104E-5,7.7132597853055994E-5,7.1340675592872706E-5,6.6089347566233197E-5,6.0928403561954799E-5,5.6048600404800797E-5,5.13650646704105E-5,4.6869213414758401E-5,4.25544151335241E-5,{"$f":"IF($B654=\"\",\"\",VLOOKUP($B654,_tbl!$A:$E,N$2,0))","v":"Male"},{"$f":"IF($B654=\"\",\"\",VLOOKUP($B654,_tbl!$A:$E,O$2,0))","v":"East"},{"$f":"IF($B654=\"\",\"\",VLOOKUP($B654,_tbl!$A:$E,P$2,0))","v":"Rural"},{"$f":"IF($B654=\"\",\"\",VLOOKUP($B654,_tbl!$A:$E,Q$2,0))","v":"Respiratory"},null,8.9163524040592902E-5,4.25544151335241E-5]
[null,"all_m_East Rural respiratory.csv","55-59",1.90669626101446E-4,1.7633079854177799E-4,1.6586359830382099E-4,1.5413603571860101E-4,1.4362359627904199E-4,1.3318235065442699E-4,1.23348281104431E-4,1.13860134350603E-4,1.04831798969092E-4,9.6190709958254294E-5,{"$f":"IF($B655=\"\",\"\",VLOOKUP($B655,_tbl!$A:$E,N$2,0))","v":"Male"},{"$f":"IF($B655=\"\",\"\",VLOOKUP($B655,_tbl!$A:$E,O$2,0))","v":"East"},{"$f":"IF($B655=\"\",\"\",VLOOKUP($B655,_tbl!$A:$E,P$2,0))","v":"Rural"},{"$f":"IF($B655=\"\",\"\",VLOOKUP($B655,_tbl!$A:$E,Q$2,0))","v":"Respiratory"},null,1.90669626101446E-4,9.6190709958254294E-5]
[null,"all_m_East Rural respiratory.csv","60-64",3.8298852625975101E-4,3.49247382348318E-4,3.2411799802149901E-4,2.9628692207146003E-4,2.7131212891850099E-4,2.4654559039675902E-4,2.23191442022938E-4,2.00556816638153E-4,1.78949474212813E-4,1.58154496447349E-4,{"$f":"IF($B656=\"\",\"\",VLOOKUP($B656,_tbl!$A:$E,N$2,0))","v":"Male"},{"$f":"IF($B656=\"\",\"\",VLOOKUP($B656,_tbl!$A:$E,O$2,0))","v":"East"},{"$f":"IF($B656=\"\",\"\",VLOOKUP($B656,_tbl!$A:$E,P$2,0))","v":"Rural"},{"$f":"IF($B656=\"\",\"\",VLOOKUP($B656,_tbl!$A:$E,Q$2,0))","v":"Respiratory"},null,3.8298852625975101E-4,1.58154496447349E-4]
[null,"all_m_East Rural respiratory.csv","65-69",8.0317542882346301E-4,7.2317658000661995E-4,6.6516765099596995E-4,6.0014693611260396E-4,5.4214797954395602E-4,4.8434958698059902E-4,4.3006737723445099E-4,3.7755827460621998E-4,3.2776118245941198E-4,2.8010040731249702E-4,{"$f":"IF($B657=\"\",\"\",VLOOKUP($B657,_tbl!$A:$E,N$2,0))","v":"Male"},{"$f":"IF($B657=\"\",\"\",VLOOKUP($B657,_tbl!$A:$E,O$2,0))","v":"East"},{"$f":"IF($B657=\"\",\"\",VLOOKUP($B657,_tbl!$A:$E,P$2,0))","v":"Rural"},{"$f":"IF($B657=\"\",\"\",VLOOKUP($B657,_tbl!$A:$E,Q$2,0))","v":"Respiratory"},null,8.0317542882346301E-4,2.8010040731249702E-4]
[null,"all_m_East Rural respiratory.csv","70-74",1.7638897351229801E-3,1.5716972210053301E-3,1.4355630702022201E-3,1.2824600927229201E-3,1.1469428822126E-3,1.01234785033026E-3,8.8686458913906805E-4,7.6644623488361695E-4,6.5295397095007203E-4,5.45058577142065E-4,{"$f":"IF($B658=\"\",\"\",VLOOKUP($B658,_tbl!$A:$E,N$2,0))","v":"Male"},{"$f":"IF($B658=\"\",\"\",VLOOKUP($B658,_tbl!$A:$E,O$2,0))","v":"East"},{"$f":"IF($B658=\"\",\"\",VLOOKUP($B658,_tbl!$A:$E,P$2,0))","v":"Rural"},{"$f":"IF($B658=\"\",\"\",VLOOKUP($B658,_tbl!$A:$E,Q$2,0))","v":"Respiratory"},null,1.7638897351229801E-3,5.45058577142065E-4]
[null,"all_m_East Rural respiratory.csv","75-79",4.2733197201426402E-3,3.8273442014619698E-3,3.5022224797989598E-3,3.1485968208531598E-3,2.8433883860643299E-3,2.5481555526964701E-3,2.2766445466250798E-3,2.0170611054998902E-3,1.7706134951085901E-3,1.5339044645511499E-3,{"$f":"IF($B659=\"\",\"\",VLOOKUP($B659,_tbl!$A:$E,N$2,0))","v":"Male"},{"$f":"IF($B659=\"\",\"\",VLOOKUP($B659,_tbl!$A:$E,O$2,0))","v":"East"},{"$f":"IF($B659=\"\",\"\",VLOOKUP($B659,_tbl!$A:$E,P$2,0))","v":"Rural"},{"$f":"IF($B659=\"\",\"\",VLOOKUP($B659,_tbl!$A:$E,Q$2,0))","v":"Respiratory"},null,4.2733197201426402E-3,1.5339044645511499E-3]
[null,"all_m_East Rural respiratory.csv","80-84",9.9002832287124892E-3,9.1005234560396307E-3,8.6631172485056498E-3,8.1065830590545396E-3,7.4978143366723898E-3,6.7497738181590897E-3,5.9426490805494E-3,5.1284144384746598E-3,4.3896889864341801E-3,3.7693845416047998E-3,{"$f":"IF($B660=\"\",\"\",VLOOKUP($B660,_tbl!$A:$E,N$2,0))","v":"Male"},{"$f":"IF($B660=\"\",\"\",VLOOKUP($B660,_tbl!$A:$E,O$2,0))","v":"East"},{"$f":"IF($B660=\"\",\"\",VLOOKUP($B660,_tbl!$A:$E,P$2,0))","v":"Rural"},{"$f":"IF($B660=\"\",\"\",VLOOKUP($B660,_tbl!$A:$E,Q$2,0))","v":"Respiratory"},null,9.9002832287124892E-3,3.7693845416047998E-3]
[null,"all_m_East Rural respiratory.csv","85+",2.5795557510591999E-2,2.3835784739058601E-2,2.2736077092366001E-2,2.1524033947517798E-2,2.0295305135216001E-2,1.8789015341379299E-2,1.7127309544250801E-2,1.53910624078558E-2,1.3802152941498899E-2,1.25011700262489E-2,{"$f":"IF($B661=\"\",\"\",VLOOKUP($B661,_tbl!$A:$E,N$2,0))","v":"Male"},{"$f":"IF($B661=\"\",\"\",VLOOKUP($B661,_tbl!$A:$E,O$2,0))","v":"East"},{"$f":"IF($B661=\"\",\"\",VLOOKUP($B661,_tbl!$A:$E,P$2,0))","v":"Rural"},{"$f":"IF($B661=\"\",\"\",VLOOKUP($B661,_tbl!$A:$E,Q$2,0))","v":"Respiratory"},null,2.5795557510591999E-2,1.25011700262489E-2]
[null,null,null,null,null,null,null,null,null,null,null,null,null,{"$f":"IF($B662=\"\",\"\",VLOOKUP($B662,_tbl!$A:$E,N$2,0))","v":""},{"$f":"IF($B662=\"\",\"\",VLOOKUP($B662,_tbl!$A:$E,O$2,0))","v":""},{"$f":"IF($B662=\"\",\"\",VLOOKUP($B662,_tbl!$A:$E,P$2,0))","v":""},{"$f":"IF($B662=\"\",\"\",VLOOKUP($B662,_tbl!$A:$E,Q$2,0))","v":""}]
[null,null,null,2020,2021,2022,2023,2024,2025,2026,2027,2028,2029,{"$f":"IF($B663=\"\",\"\",VLOOKUP($B663,_tbl!$A:$E,N$2,0))","v":""},{"$f":"IF($B663=\"\",\"\",VLOOKUP($B663,_tbl!$A:$E,O$2,0))","v":""},{"$f":"IF($B663=\"\",\"\",VLOOKUP($B663,_tbl!$A:$E,P$2,0))","v":""},{"$f":"IF($B663=\"\",\"\",VLOOKUP($B663,_tbl!$A:$E,Q$2,0))","v":""}]
[null,"all_m_East Rural.csv","1-4",4.3407365379381102E-4,4.16858702696307E-4,4.0088301349946299E-4,3.8575704923476099E-4,3.7110298862055299E-4,3.5730885796678499E-4,3.4399761162942898E-4,3.3119223583920901E-4,3.1889602615843901E-4,3.07030937124329E-4,{"$f":"IF($B664=\"\",\"\",VLOOKUP($B664,_tbl!$A:$E,N$2,0))","v":"Male"},{"$f":"IF($B664=\"\",\"\",VLOOKUP($B664,_tbl!$A:$E,O$2,0))","v":"East"},{"$f":"IF($B664=\"\",\"\",VLOOKUP($B664,_tbl!$A:$E,P$2,0))","v":"Rural"},{"$f":"IF($B664=\"\",\"\",VLOOKUP($B664,_tbl!$A:$E,Q$2,0))","v":"Total"},null,{"$f":"MAX(D664:M664)","v":4.3407365379381102E-4},{"$f":"MIN(D664:M664)","v":3.07030937124329E-4}]
[null,"all_m_East Rural.csv","5-9",2.3582302435576301E-4,2.2812561355818099E-4,2.2108237803945499E-4,2.14533789652846E-4,2.0826959148080999E-4,2.0228402218558199E-4,1.96526650659348E-4,1.9094403255673801E-4,1.85530636548709E-4,1.80278154365507E-4,{"$f":"IF($B665=\"\",\"\",VLOOKUP($B665,_tbl!$A:$E,N$2,0))","v":"Male"},{"$f":"IF($B665=\"\",\"\",VLOOKUP($B665,_tbl!$A:$E,O$2,0))","v":"East"},{"$f":"IF($B665=\"\",\"\",VLOOKUP($B665,_tbl!$A:$E,P$2,0))","v":"Rural"},{"$f":"IF($B665=\"\",\"\",VLOOKUP($B665,_tbl!$A:$E,Q$2,0))","v":"Total"},null,2.3582302435576301E-4,1.80278154365507E-4]
[null,"all_m_East Rural.csv","10-14",2.3291781942221001E-4,2.2306208667628E-4,2.1399648656267301E-4,2.05483399491808E-4,1.97382113093231E-4,1.89636824962002E-4,1.8219625172472801E-4,1.7504199758384601E-4,1.68156798437252E-4,1.6152414801235801E-4,{"$f":"IF($B666=\"\",\"\",VLOOKUP($B666,_tbl!$A:$E,N$2,0))","v":"Male"},{"$f":"IF($B666=\"\",\"\",VLOOKUP($B666,_tbl!$A:$E,O$2,0))","v":"East"},{"$f":"IF($B666=\"\",\"\",VLOOKUP($B666,_tbl!$A:$E,P$2,0))","v":"Rural"},{"$f":"IF($B666=\"\",\"\",VLOOKUP($B666,_tbl!$A:$E,Q$2,0))","v":"Total"},null,2.3291781942221001E-4,1.6152414801235801E-4]
[null,"all_m_East Rural.csv","15-19",2.7793442577929298E-4,2.6323544501854801E-4,2.4936639398352001E-4,2.36366183636104E-4,2.2394888403051E-4,2.1219447062834101E-4,2.01004770773452E-4,1.9036991421788799E-4,1.8028255251738599E-4,1.7072253235539501E-4,{"$f":"IF($B667=\"\",\"\",VLOOKUP($B667,_tbl!$A:$E,N$2,0))","v":"Male"},{"$f":"IF($B667=\"\",\"\",VLOOKUP($B667,_tbl!$A:$E,O$2,0))","v":"East"},{"$f":"IF($B667=\"\",\"\",VLOOKUP($B667,_tbl!$A:$E,P$2,0))","v":"Rural"},{"$f":"IF($B667=\"\",\"\",VLOOKUP($B667,_tbl!$A:$E,Q$2,0))","v":"Total"},null,2.7793442577929298E-4,1.7072253235539501E-4]
[null,"all_m_East Rural.csv","20-24",3.8141885558809301E-4,3.6166749930590601E-4,3.4286995440631801E-4,3.2514468275842302E-4,3.0810027612606099E-4,2.9182119740320901E-4,2.7621617178323702E-4,2.6134470218499499E-4,2.4718354571981601E-4,2.33730434099631E-4,{"$f":"IF($B668=\"\",\"\",VLOOKUP($B668,_tbl!$A:$E,N$2,0))","v":"Male"},{"$f":"IF($B668=\"\",\"\",VLOOKUP($B668,_tbl!$A:$E,O$2,0))","v":"East"},{"$f":"IF($B668=\"\",\"\",VLOOKUP($B668,_tbl!$A:$E,P$2,0))","v":"Rural"},{"$f":"IF($B668=\"\",\"\",VLOOKUP($B668,_tbl!$A:$E,Q$2,0))","v":"Total"},null,3.8141885558809301E-4,2.33730434099631E-4]
[null,"all_m_East Rural.csv","25-29",5.9056172155541305E-4,5.67264898937017E-4,5.4507914121441198E-4,5.2393621449038196E-4,5.03592507751303E-4,4.8402304979658101E-4,4.6513341772818901E-4,4.4688991530467402E-4,4.2923557776770199E-4,4.1214156493004598E-4,{"$f":"IF($B669=\"\",\"\",VLOOKUP($B669,_tbl!$A:$E,N$2,0))","v":"Male"},{"$f":"IF($B669=\"\",\"\",VLOOKUP($B669,_tbl!$A:$E,O$2,0))","v":"East"},{"$f":"IF($B669=\"\",\"\",VLOOKUP($B669,_tbl!$A:$E,P$2,0))","v":"Rural"},{"$f":"IF($B669=\"\",\"\",VLOOKUP($B669,_tbl!$A:$E,Q$2,0))","v":"Total"},null,5.9056172155541305E-4,4.1214156493004598E-4]
[null,"all_m_East Rural.csv","30-34",9.45672407214353E-4,9.1909118200500495E-4,8.9394495625362601E-4,8.6982063180645003E-4,8.4649471788361805E-4,8.2389749854431496E-4,8.01902237885307E-4,7.8042898696897096E-4,7.5939287122936796E-4,7.3875291773766295E-4,{"$f":"IF($B670=\"\",\"\",VLOOKUP($B670,_tbl!$A:$E,N$2,0))","v":"Male"},{"$f":"IF($B670=\"\",\"\",VLOOKUP($B670,_tbl!$A:$E,O$2,0))","v":"East"},{"$f":"IF($B670=\"\",\"\",VLOOKUP($B670,_tbl!$A:$E,P$2,0))","v":"Rural"},{"$f":"IF($B670=\"\",\"\",VLOOKUP($B670,_tbl!$A:$E,Q$2,0))","v":"Total"},null,9.45672407214353E-4,7.3875291773766295E-4]
[null,"all_m_East Rural.csv","35-39",1.2943887398758299E-3,1.2618657708634499E-3,1.2299601896047199E-3,1.1990951371517601E-3,1.1688655708915301E-3,1.1394846200882499E-3,1.1107446025170799E-3,1.08274761338265E-3,1.0553515566486601E-3,1.0286023313746499E-3,{"$f":"IF($B671=\"\",\"\",VLOOKUP($B671,_tbl!$A:$E,N$2,0))","v":"Male"},{"$f":"IF($B671=\"\",\"\",VLOOKUP($B671,_tbl!$A:$E,O$2,0))","v":"East"},{"$f":"IF($B671=\"\",\"\",VLOOKUP($B671,_tbl!$A:$E,P$2,0))","v":"Rural"},{"$f":"IF($B671=\"\",\"\",VLOOKUP($B671,_tbl!$A:$E,Q$2,0))","v":"Total"},null,1.2943887398758299E-3,1.0286023313746499E-3]
[null,"all_m_East Rural.csv","40-44",1.8136029771244999E-3,1.77062677669531E-3,1.72427833264395E-3,1.68012136406298E-3,1.63550437643713E-3,1.5928857458480099E-3,1.55065732867028E-3,1.51009743586374E-3,1.4701862263528801E-3,1.4316726546454901E-3,{"$f":"IF($B672=\"\",\"\",VLOOKUP($B672,_tbl!$A:$E,N$2,0))","v":"Male"},{"$f":"IF($B672=\"\",\"\",VLOOKUP($B672,_tbl!$A:$E,O$2,0))","v":"East"},{"$f":"IF($B672=\"\",\"\",VLOOKUP($B672,_tbl!$A:$E,P$2,0))","v":"Rural"},{"$f":"IF($B672=\"\",\"\",VLOOKUP($B672,_tbl!$A:$E,Q$2,0))","v":"Total"},null,1.8136029771244999E-3,1.4316726546454901E-3]
[null,"all_m_East Rural.csv","45-49",2.8331518028195599E-3,2.7751573622538999E-3,2.7104404994026201E-3,2.6455548695535499E-3,2.5804362275844901E-3,2.5167634634525298E-3,2.4542230399241501E-3,2.3930896080173701E-3,2.3330932895080899E-3,2.27428383384165E-3,{"$f":"IF($B673=\"\",\"\",VLOOKUP($B673,_tbl!$A:$E,N$2,0))","v":"Male"},{"$f":"IF($B673=\"\",\"\",VLOOKUP($B673,_tbl!$A:$E,O$2,0))","v":"East"},{"$f":"IF($B673=\"\",\"\",VLOOKUP($B673,_tbl!$A:$E,P$2,0))","v":"Rural"},{"$f":"IF($B673=\"\",\"\",VLOOKUP($B673,_tbl!$A:$E,Q$2,0))","v":"Total"},null,2.8331518028195599E-3,2.27428383384165E-3]
[null,"all_m_East Rural.csv","50-54",4.7388248736762398E-3,4.6793734088762598E-3,4.6094156550457099E-3,4.5375095153538303E-3,4.4636140806674001E-3,4.3906318097130404E-3,4.3180014657491104E-3,4.2466295967719496E-3,4.1759275963225003E-3,4.1062929461805897E-3,{"$f":"IF($B674=\"\",\"\",VLOOKUP($B674,_tbl!$A:$E,N$2,0))","v":"Male"},{"$f":"IF($B674=\"\",\"\",VLOOKUP($B674,_tbl!$A:$E,O$2,0))","v":"East"},{"$f":"IF($B674=\"\",\"\",VLOOKUP($B674,_tbl!$A:$E,P$2,0))","v":"Rural"},{"$f":"IF($B674=\"\",\"\",VLOOKUP($B674,_tbl!$A:$E,Q$2,0))","v":"Total"},null,4.7388248736762398E-3,4.1062929461805897E-3]
[null,"all_m_East Rural.csv","55-59",7.77214694147729E-3,7.7111990452374104E-3,7.6382220051879101E-3,7.5640724200307704E-3,7.4868822109785604E-3,7.41018175801885E-3,7.3330059282446097E-3,7.2568254654875103E-3,7.1812251147238097E-3,7.1068781146463502E-3,{"$f":"IF($B675=\"\",\"\",VLOOKUP($B675,_tbl!$A:$E,N$2,0))","v":"Male"},{"$f":"IF($B675=\"\",\"\",VLOOKUP($B675,_tbl!$A:$E,O$2,0))","v":"East"},{"$f":"IF($B675=\"\",\"\",VLOOKUP($B675,_tbl!$A:$E,P$2,0))","v":"Rural"},{"$f":"IF($B675=\"\",\"\",VLOOKUP($B675,_tbl!$A:$E,Q$2,0))","v":"Total"},null,7.77214694147729E-3,7.1068781146463502E-3]
[null,"all_m_East Rural.csv","60-64",1.19902029379521E-2,1.18934056774271E-2,1.17776831106389E-2,1.16559928151816E-2,1.1529380027113199E-2,1.1401844357715201E-2,1.12736870641917E-2,1.11462332942554E-2,1.1019714518574201E-2,1.0894512399959901E-2,{"$f":"IF($B676=\"\",\"\",VLOOKUP($B676,_tbl!$A:$E,N$2,0))","v":"Male"},{"$f":"IF($B676=\"\",\"\",VLOOKUP($B676,_tbl!$A:$E,O$2,0))","v":"East"},{"$f":"IF($B676=\"\",\"\",VLOOKUP($B676,_tbl!$A:$E,P$2,0))","v":"Rural"},{"$f":"IF($B676=\"\",\"\",VLOOKUP($B676,_tbl!$A:$E,Q$2,0))","v":"Total"},null,1.19902029379521E-2,1.0894512399959901E-2]
[null,"all_m_East Rural.csv","65-69",1.8044390641378999E-2,1.7841037237274801E-2,1.7611777243961398E-2,1.7362650717991798E-2,1.7105324682239902E-2,1.6843209698047701E-2,1.6581203179427201E-2,1.6320865048117202E-2,1.6064112043795601E-2,1.5811127274901599E-2,{"$f":"IF($B677=\"\",\"\",VLOOKUP($B677,_tbl!$A:$E,N$2,0))","v":"Male"},{"$f":"IF($B677=\"\",\"\",VLOOKUP($B677,_tbl!$A:$E,O$2,0))","v":"East"},{"$f":"IF($B677=\"\",\"\",VLOOKUP($B677,_tbl!$A:$E,P$2,0))","v":"Rural"},{"$f":"IF($B677=\"\",\"\",VLOOKUP($B677,_tbl!$A:$E,Q$2,0))","v":"Total"},null,1.8044390641378999E-2,1.5811127274901599E-2]
[null,"all_m_East Rural.csv","70-74",2.83630979537212E-2,2.7862551245366799E-2,2.7346378133803501E-2,2.6808843178011799E-2,2.6272142651768301E-2,2.5736801472713702E-2,2.5209399640879499E-2,2.4690839480332599E-2,2.41828196123345E-2,2.3685657546806401E-2,{"$f":"IF($B678=\"\",\"\",VLOOKUP($B678,_tbl!$A:$E,N$2,0))","v":"Male"},{"$f":"IF($B678=\"\",\"\",VLOOKUP($B678,_tbl!$A:$E,O$2,0))","v":"East"},{"$f":"IF($B678=\"\",\"\",VLOOKUP($B678,_tbl!$A:$E,P$2,0))","v":"Rural"},{"$f":"IF($B678=\"\",\"\",VLOOKUP($B678,_tbl!$A:$E,Q$2,0))","v":"Total"},null,2.83630979537212E-2,2.3685657546806401E-2]
[null,"all_m_East Rural.csv","75-79",4.9416629402692501E-2,4.8198290771050499E-2,4.7040495658557099E-2,4.5906733717022398E-2,4.48227772191922E-2,4.3771686402581098E-2,4.2754782486234703E-2,4.1761091210243698E-2,4.0789156345366999E-2,3.9834618727676997E-2,{"$f":"IF($B679=\"\",\"\",VLOOKUP($B679,_tbl!$A:$E,N$2,0))","v":"Male"},{"$f":"IF($B679=\"\",\"\",VLOOKUP($B679,_tbl!$A:$E,O$2,0))","v":"East"},{"$f":"IF($B679=\"\",\"\",VLOOKUP($B679,_tbl!$A:$E,P$2,0))","v":"Rural"},{"$f":"IF($B679=\"\",\"\",VLOOKUP($B679,_tbl!$A:$E,Q$2,0))","v":"Total"},null,4.9416629402692501E-2,3.9834618727676997E-2]
[null,"all_m_East Rural.csv","80-84",9.4479647102506503E-2,9.1386191788126597E-2,8.8658310206879004E-2,8.6218703979497602E-2,8.4068079720562405E-2,8.2162213566635695E-2,8.0440323220040397E-2,7.8814963112113098E-2,7.7198891437090494E-2,7.5530952566545503E-2,{"$f":"IF($B680=\"\",\"\",VLOOKUP($B680,_tbl!$A:$E,N$2,0))","v":"Male"},{"$f":"IF($B680=\"\",\"\",VLOOKUP($B680,_tbl!$A:$E,O$2,0))","v":"East"},{"$f":"IF($B680=\"\",\"\",VLOOKUP($B680,_tbl!$A:$E,P$2,0))","v":"Rural"},{"$f":"IF($B680=\"\",\"\",VLOOKUP($B680,_tbl!$A:$E,Q$2,0))","v":"Total"},null,9.4479647102506503E-2,7.5530952566545503E-2]
[null,"all_m_East Rural.csv","85+",0.19162574657332601,0.18484067661443199,0.17967150543983601,0.17542483378677001,0.171931717440131,0.16883111722355901,0.16598706937161301,0.163243108540395,0.16057083585250501,0.157939677112619,{"$f":"IF($B681=\"\",\"\",VLOOKUP($B681,_tbl!$A:$E,N$2,0))","v":"Male"},{"$f":"IF($B681=\"\",\"\",VLOOKUP($B681,_tbl!$A:$E,O$2,0))","v":"East"},{"$f":"IF($B681=\"\",\"\",VLOOKUP($B681,_tbl!$A:$E,P$2,0))","v":"Rural"},{"$f":"IF($B681=\"\",\"\",VLOOKUP($B681,_tbl!$A:$E,Q$2,0))","v":"Total"},null,0.19162574657332601,0.157939677112619]
[null,null,null,null,null,null,null,null,null,null,null,null,null,{"$f":"IF($B682=\"\",\"\",VLOOKUP($B682,_tbl!$A:$E,N$2,0))","v":""},{"$f":"IF($B682=\"\",\"\",VLOOKUP($B682,_tbl!$A:$E,O$2,0))","v":""},{"$f":"IF($B682=\"\",\"\",VLOOKUP($B682,_tbl!$A:$E,P$2,0))","v":""},{"$f":"IF($B682=\"\",\"\",VLOOKUP($B682,_tbl!$A:$E,Q$2,0))","v":""}]
[null,null,null,2020,2021,2022,2023,2024,2025,2026,2027,2028,2029,{"$f":"IF($B683=\"\",\"\",VLOOKUP($B683,_tbl!$A:$E,N$2,0))","v":""},{"$f":"IF($B683=\"\",\"\",VLOOKUP($B683,_tbl!$A:$E,O$2,0))","v":""},{"$f":"IF($B683=\"\",\"\",VLOOKUP($B683,_tbl!$A:$E,P$2,0))","v":""},{"$f":"IF($B683=\"\",\"\",VLOOKUP($B683,_tbl!$A:$E,Q$2,0))","v":""}]
[null,"all_m_East Urban cancer.csv","1-4",3.4304007771162703E-5,3.3040637413580003E-5,3.18587376913545E-5,3.0700067401430697E-5,2.96115509697247E-5,2.85774818893369E-5,2.7575186507923502E-5,2.6620728077566301E-5,2.5683815459416201E-5,2.47740089827935E-5,{"$f":"IF($B684=\"\",\"\",VLOOKUP($B684,_tbl!$A:$E,N$2,0))","v":"Male"},{"$f":"IF($B684=\"\",\"\",VLOOKUP($B684,_tbl!$A:$E,O$2,0))","v":"East"},{"$f":"IF($B684=\"\",\"\",VLOOKUP($B684,_tbl!$A:$E,P$2,0))","v":"Urban"},{"$f":"IF($B684=\"\",\"\",VLOOKUP($B684,_tbl!$A:$E,Q$2,0))","v":"Cancer"},null,{"$f":"MAX(D684:M684)","v":3.4304007771162703E-5},{"$f":"MIN(D684:M684)","v":2.47740089827935E-5}]
[null,"all_m_East Urban cancer.csv","5-9",2.4566003271435699E-5,2.3530866907092099E-5,2.2533467702218601E-5,2.15832386103491E-5,2.0672910537935101E-5,1.98020049865731E-5,1.8972708436367099E-5,1.8176554633097899E-5,1.7412730012642501E-5,1.6680332819061799E-5,{"$f":"IF($B685=\"\",\"\",VLOOKUP($B685,_tbl!$A:$E,N$2,0))","v":"Male"},{"$f":"IF($B685=\"\",\"\",VLOOKUP($B685,_tbl!$A:$E,O$2,0))","v":"East"},{"$f":"IF($B685=\"\",\"\",VLOOKUP($B685,_tbl!$A:$E,P$2,0))","v":"Urban"},{"$f":"IF($B685=\"\",\"\",VLOOKUP($B685,_tbl!$A:$E,Q$2,0))","v":"Cancer"},null,2.4566003271435699E-5,1.6680332819061799E-5]
[null,"all_m_East Urban cancer.csv","10-14",2.68758980970639E-5,2.6046626310742199E-5,2.5212524272151701E-5,2.4422282519639401E-5,2.3616469710713401E-5,2.28044101480619E-5,2.20066710860502E-5,2.12177947262808E-5,2.0451803544138402E-5,1.9718452981603799E-5,{"$f":"IF($B686=\"\",\"\",VLOOKUP($B686,_tbl!$A:$E,N$2,0))","v":"Male"},{"$f":"IF($B686=\"\",\"\",VLOOKUP($B686,_tbl!$A:$E,O$2,0))","v":"East"},{"$f":"IF($B686=\"\",\"\",VLOOKUP($B686,_tbl!$A:$E,P$2,0))","v":"Urban"},{"$f":"IF($B686=\"\",\"\",VLOOKUP($B686,_tbl!$A:$E,Q$2,0))","v":"Cancer"},null,2.68758980970639E-5,1.9718452981603799E-5]
[null,"all_m_East Urban cancer.csv","15-19",2.8297431789377301E-5,2.7032100030709201E-5,2.57770265714405E-5,2.45724496302002E-5,2.3433248375021001E-5,2.2345919406717599E-5,2.1309274454096099E-5,2.0314065614236401E-5,1.9348451494656002E-5,1.84078042127188E-5,{"$f":"IF($B687=\"\",\"\",VLOOKUP($B687,_tbl!$A:$E,N$2,0))","v":"Male"},{"$f":"IF($B687=\"\",\"\",VLOOKUP($B687,_tbl!$A:$E,O$2,0))","v":"East"},{"$f":"IF($B687=\"\",\"\",VLOOKUP($B687,_tbl!$A:$E,P$2,0))","v":"Urban"},{"$f":"IF($B687=\"\",\"\",VLOOKUP($B687,_tbl!$A:$E,Q$2,0))","v":"Cancer"},null,2.8297431789377301E-5,1.84078042127188E-5]
[null,"all_m_East Urban cancer.csv","20-24",3.2757418360551502E-5,3.1038651422413797E-5,2.9425500843792401E-5,2.7905009066421701E-5,2.6450959367123401E-5,2.5067410319852899E-5,2.37452866538438E-5,2.2496223915221501E-5,2.1314403280552601E-5,2.0206372254722899E-5,{"$f":"IF($B688=\"\",\"\",VLOOKUP($B688,_tbl!$A:$E,N$2,0))","v":"Male"},{"$f":"IF($B688=\"\",\"\",VLOOKUP($B688,_tbl!$A:$E,O$2,0))","v":"East"},{"$f":"IF($B688=\"\",\"\",VLOOKUP($B688,_tbl!$A:$E,P$2,0))","v":"Urban"},{"$f":"IF($B688=\"\",\"\",VLOOKUP($B688,_tbl!$A:$E,Q$2,0))","v":"Cancer"},null,3.2757418360551502E-5,2.0206372254722899E-5]
[null,"all_m_East Urban cancer.csv","25-29",5.0983164266483902E-5,4.8384813798852697E-5,4.59359643729072E-5,4.3618496993108202E-5,4.14217215980785E-5,3.9361967527396801E-5,3.7413626425644202E-5,3.5572890963713103E-5,3.3815501232357602E-5,3.2152058589856301E-5,{"$f":"IF($B689=\"\",\"\",VLOOKUP($B689,_tbl!$A:$E,N$2,0))","v":"Male"},{"$f":"IF($B689=\"\",\"\",VLOOKUP($B689,_tbl!$A:$E,O$2,0))","v":"East"},{"$f":"IF($B689=\"\",\"\",VLOOKUP($B689,_tbl!$A:$E,P$2,0))","v":"Urban"},{"$f":"IF($B689=\"\",\"\",VLOOKUP($B689,_tbl!$A:$E,Q$2,0))","v":"Cancer"},null,5.0983164266483902E-5,3.2152058589856301E-5]
[null,"all_m_East Urban cancer.csv","30-34",9.8766304604309504E-5,9.4034312692188401E-5,8.9307126763163704E-5,8.4777196249332396E-5,8.0593924774178004E-5,7.67224815965924E-5,7.3109392647065897E-5,6.9653354378703498E-5,6.6295202849137798E-5,6.2998092145463605E-5,{"$f":"IF($B690=\"\",\"\",VLOOKUP($B690,_tbl!$A:$E,N$2,0))","v":"Male"},{"$f":"IF($B690=\"\",\"\",VLOOKUP($B690,_tbl!$A:$E,O$2,0))","v":"East"},{"$f":"IF($B690=\"\",\"\",VLOOKUP($B690,_tbl!$A:$E,P$2,0))","v":"Urban"},{"$f":"IF($B690=\"\",\"\",VLOOKUP($B690,_tbl!$A:$E,Q$2,0))","v":"Cancer"},null,9.8766304604309504E-5,6.2998092145463605E-5]
[null,"all_m_East Urban cancer.csv","35-39",1.6681505933543599E-4,1.5573075577428799E-4,1.44985092456768E-4,1.3450271708966599E-4,1.2468908527590099E-4,1.15331523213424E-4,1.06510313877746E-4,9.7959320386582094E-5,8.9695069991821503E-5,8.15683512432449E-5,{"$f":"IF($B691=\"\",\"\",VLOOKUP($B691,_tbl!$A:$E,N$2,0))","v":"Male"},{"$f":"IF($B691=\"\",\"\",VLOOKUP($B691,_tbl!$A:$E,O$2,0))","v":"East"},{"$f":"IF($B691=\"\",\"\",VLOOKUP($B691,_tbl!$A:$E,P$2,0))","v":"Urban"},{"$f":"IF($B691=\"\",\"\",VLOOKUP($B691,_tbl!$A:$E,Q$2,0))","v":"Cancer"},null,1.6681505933543599E-4,8.15683512432449E-5]
[null,"all_m_East Urban cancer.csv","40-44",2.6204524125953999E-4,2.4082922057185E-4,2.1997355959844101E-4,2.0061951068267299E-4,1.82505125952748E-4,1.6576894925462101E-4,1.5015614662116701E-4,1.35421239797963E-4,1.21378070356142E-4,1.07857733456319E-4,{"$f":"IF($B692=\"\",\"\",VLOOKUP($B692,_tbl!$A:$E,N$2,0))","v":"Male"},{"$f":"IF($B692=\"\",\"\",VLOOKUP($B692,_tbl!$A:$E,O$2,0))","v":"East"},{"$f":"IF($B692=\"\",\"\",VLOOKUP($B692,_tbl!$A:$E,P$2,0))","v":"Urban"},{"$f":"IF($B692=\"\",\"\",VLOOKUP($B692,_tbl!$A:$E,Q$2,0))","v":"Cancer"},null,2.6204524125953999E-4,1.07857733456319E-4]
[null,"all_m_East Urban cancer.csv","45-49",5.03330832218828E-4,4.5898211882085401E-4,4.1766295183884598E-4,3.77010943053864E-4,3.37125518214844E-4,2.9815546407101402E-4,2.6013904595992E-4,2.2380344451270701E-4,1.8909347944170499E-4,1.56459681916046E-4,{"$f":"IF($B693=\"\",\"\",VLOOKUP($B693,_tbl!$A:$E,N$2,0))","v":"Male"},{"$f":"IF($B693=\"\",\"\",VLOOKUP($B693,_tbl!$A:$E,O$2,0))","v":"East"},{"$f":"IF($B693=\"\",\"\",VLOOKUP($B693,_tbl!$A:$E,P$2,0))","v":"Urban"},{"$f":"IF($B693=\"\",\"\",VLOOKUP($B693,_tbl!$A:$E,Q$2,0))","v":"Cancer"},null,5.03330832218828E-4,1.56459681916046E-4]
[null,"all_m_East Urban cancer.csv","50-54",1.1942361077369699E-3,1.1294116777713201E-3,1.0676462258165001E-3,1.00340681155568E-3,9.4051398525459202E-4,8.7704278000941499E-4,8.1501550444028901E-4,7.5379222627461795E-4,6.9455625468226197E-4,6.3689095525217498E-4,{"$f":"IF($B694=\"\",\"\",VLOOKUP($B694,_tbl!$A:$E,N$2,0))","v":"Male"},{"$f":"IF($B694=\"\",\"\",VLOOKUP($B694,_tbl!$A:$E,O$2,0))","v":"East"},{"$f":"IF($B694=\"\",\"\",VLOOKUP($B694,_tbl!$A:$E,P$2,0))","v":"Urban"},{"$f":"IF($B694=\"\",\"\",VLOOKUP($B694,_tbl!$A:$E,Q$2,0))","v":"Cancer"},null,1.1942361077369699E-3,6.3689095525217498E-4]
[null,"all_m_East Urban cancer.csv","55-59",2.7876912973951499E-3,2.7527978065647E-3,2.7122175037842E-3,2.6637268909349499E-3,2.6131672814767898E-3,2.5598682749595199E-3,2.5062555065820998E-3,2.4518025526662599E-3,2.3975050926241998E-3,2.3429719835348002E-3,{"$f":"IF($B695=\"\",\"\",VLOOKUP($B695,_tbl!$A:$E,N$2,0))","v":"Male"},{"$f":"IF($B695=\"\",\"\",VLOOKUP($B695,_tbl!$A:$E,O$2,0))","v":"East"},{"$f":"IF($B695=\"\",\"\",VLOOKUP($B695,_tbl!$A:$E,P$2,0))","v":"Urban"},{"$f":"IF($B695=\"\",\"\",VLOOKUP($B695,_tbl!$A:$E,Q$2,0))","v":"Cancer"},null,2.7876912973951499E-3,2.3429719835348002E-3]
[null,"all_m_East Urban cancer.csv","60-64",4.8669468905899304E-3,4.8769706068245502E-3,4.8745071049284203E-3,4.8586285305943699E-3,4.8369042093543502E-3,4.80998098051041E-3,4.7808126358990797E-3,4.7497800294584603E-3,4.7178175299659704E-3,4.6850912365579899E-3,{"$f":"IF($B696=\"\",\"\",VLOOKUP($B696,_tbl!$A:$E,N$2,0))","v":"Male"},{"$f":"IF($B696=\"\",\"\",VLOOKUP($B696,_tbl!$A:$E,O$2,0))","v":"East"},{"$f":"IF($B696=\"\",\"\",VLOOKUP($B696,_tbl!$A:$E,P$2,0))","v":"Urban"},{"$f":"IF($B696=\"\",\"\",VLOOKUP($B696,_tbl!$A:$E,Q$2,0))","v":"Cancer"},null,4.8769706068245502E-3,4.6850912365579899E-3]
[null,"all_m_East Urban cancer.csv","65-69",6.8066807903637604E-3,6.7541600354195704E-3,6.6879566308616998E-3,6.6125583629231804E-3,6.5330060679096996E-3,6.4515244628425804E-3,6.3684673899473496E-3,6.2854709646275302E-3,6.20175533621572E-3,6.1187255949636896E-3,{"$f":"IF($B697=\"\",\"\",VLOOKUP($B697,_tbl!$A:$E,N$2,0))","v":"Male"},{"$f":"IF($B697=\"\",\"\",VLOOKUP($B697,_tbl!$A:$E,O$2,0))","v":"East"},{"$f":"IF($B697=\"\",\"\",VLOOKUP($B697,_tbl!$A:$E,P$2,0))","v":"Urban"},{"$f":"IF($B697=\"\",\"\",VLOOKUP($B697,_tbl!$A:$E,Q$2,0))","v":"Cancer"},null,6.8066807903637604E-3,6.1187255949636896E-3]
[null,"all_m_East Urban cancer.csv","70-74",9.2885543356785796E-3,9.1155750503120608E-3,8.9370428431032808E-3,8.7606647676336195E-3,8.5850133311218303E-3,8.4127532326538808E-3,8.2424992517585692E-3,8.0754999757843109E-3,7.9106675782121706E-3,7.7488506907379701E-3,{"$f":"IF($B698=\"\",\"\",VLOOKUP($B698,_tbl!$A:$E,N$2,0))","v":"Male"},{"$f":"IF($B698=\"\",\"\",VLOOKUP($B698,_tbl!$A:$E,O$2,0))","v":"East"},{"$f":"IF($B698=\"\",\"\",VLOOKUP($B698,_tbl!$A:$E,P$2,0))","v":"Urban"},{"$f":"IF($B698=\"\",\"\",VLOOKUP($B698,_tbl!$A:$E,Q$2,0))","v":"Cancer"},null,9.2885543356785796E-3,7.7488506907379701E-3]
[null,"all_m_East Urban cancer.csv","75-79",1.30519662754713E-2,1.27710626469836E-2,1.24903124983929E-2,1.22187143045393E-2,1.1960185983096699E-2,1.17141571128566E-2,1.1476398120425099E-2,1.1244623292181399E-2,1.10148143751612E-2,1.07868227807176E-2,{"$f":"IF($B699=\"\",\"\",VLOOKUP($B699,_tbl!$A:$E,N$2,0))","v":"Male"},{"$f":"IF($B699=\"\",\"\",VLOOKUP($B699,_tbl!$A:$E,O$2,0))","v":"East"},{"$f":"IF($B699=\"\",\"\",VLOOKUP($B699,_tbl!$A:$E,P$2,0))","v":"Urban"},{"$f":"IF($B699=\"\",\"\",VLOOKUP($B699,_tbl!$A:$E,Q$2,0))","v":"Cancer"},null,1.30519662754713E-2,1.07868227807176E-2]
[null,"all_m_East Urban cancer.csv","80-84",1.8959302355584799E-2,1.8683414699659499E-2,1.8407608884592901E-2,1.81497930205608E-2,1.7882279790556201E-2,1.761317311354E-2,1.7339617440341501E-2,1.70689897791577E-2,1.6803611816235402E-2,1.65463870056702E-2,{"$f":"IF($B700=\"\",\"\",VLOOKUP($B700,_tbl!$A:$E,N$2,0))","v":"Male"},{"$f":"IF($B700=\"\",\"\",VLOOKUP($B700,_tbl!$A:$E,O$2,0))","v":"East"},{"$f":"IF($B700=\"\",\"\",VLOOKUP($B700,_tbl!$A:$E,P$2,0))","v":"Urban"},{"$f":"IF($B700=\"\",\"\",VLOOKUP($B700,_tbl!$A:$E,Q$2,0))","v":"Cancer"},null,1.8959302355584799E-2,1.65463870056702E-2]
[null,"all_m_East Urban cancer.csv","85+",2.9938737617438801E-2,3.04010493335585E-2,3.0949826797629799E-2,3.1429699112224103E-2,3.1757101214460501E-2,3.1970878420513903E-2,3.2117678816737702E-2,3.2260523891554899E-2,3.24454996649522E-2,3.2700410659321798E-2,{"$f":"IF($B701=\"\",\"\",VLOOKUP($B701,_tbl!$A:$E,N$2,0))","v":"Male"},{"$f":"IF($B701=\"\",\"\",VLOOKUP($B701,_tbl!$A:$E,O$2,0))","v":"East"},{"$f":"IF($B701=\"\",\"\",VLOOKUP($B701,_tbl!$A:$E,P$2,0))","v":"Urban"},{"$f":"IF($B701=\"\",\"\",VLOOKUP($B701,_tbl!$A:$E,Q$2,0))","v":"Cancer"},null,3.2700410659321798E-2,2.9938737617438801E-2]
[null,null,null,null,null,null,null,null,null,null,null,null,null,{"$f":"IF($B702=\"\",\"\",VLOOKUP($B702,_tbl!$A:$E,N$2,0))","v":""},{"$f":"IF($B702=\"\",\"\",VLOOKUP($B702,_tbl!$A:$E,O$2,0))","v":""},{"$f":"IF($B702=\"\",\"\",VLOOKUP($B702,_tbl!$A:$E,P$2,0))","v":""},{"$f":"IF($B702=\"\",\"\",VLOOKUP($B702,_tbl!$A:$E,Q$2,0))","v":""}]
[null,null,null,2020,2021,2022,2023,2024,2025,2026,2027,2028,2029,{"$f":"IF($B703=\"\",\"\",VLOOKUP($B703,_tbl!$A:$E,N$2,0))","v":""},{"$f":"IF($B703=\"\",\"\",VLOOKUP($B703,_tbl!$A:$E,O$2,0))","v":""},{"$f":"IF($B703=\"\",\"\",VLOOKUP($B703,_tbl!$A:$E,P$2,0))","v":""},{"$f":"IF($B703=\"\",\"\",VLOOKUP($B703,_tbl!$A:$E,Q$2,0))","v":""}]
[null,"all_m_East Urban circulatory.csv","1-4",3.4982541560392801E-5,3.4293916954699201E-5,3.3432412269309702E-5,3.27113390154309E-5,3.2025022712361599E-5,3.1363616056458103E-5,3.0727512419198503E-5,3.0119771387486199E-5,2.94729669552008E-5,2.8841847667897701E-5,{"$f":"IF($B704=\"\",\"\",VLOOKUP($B704,_tbl!$A:$E,N$2,0))","v":"Male"},{"$f":"IF($B704=\"\",\"\",VLOOKUP($B704,_tbl!$A:$E,O$2,0))","v":"East"},{"$f":"IF($B704=\"\",\"\",VLOOKUP($B704,_tbl!$A:$E,P$2,0))","v":"Urban"},{"$f":"IF($B704=\"\",\"\",VLOOKUP($B704,_tbl!$A:$E,Q$2,0))","v":"Circulatory"},null,{"$f":"MAX(D704:M704)","v":3.4982541560392801E-5},{"$f":"MIN(D704:M704)","v":2.8841847667897701E-5}]
[null,"all_m_East Urban circulatory.csv","5-9",1.23120991121171E-5,1.22768903935137E-5,1.22201324187972E-5,1.2181382138508101E-5,1.2135054713585199E-5,1.2088353791101801E-5,1.20442917764969E-5,1.19980650743693E-5,1.1950132984773E-5,1.19037529306131E-5,{"$f":"IF($B705=\"\",\"\",VLOOKUP($B705,_tbl!$A:$E,N$2,0))","v":"Male"},{"$f":"IF($B705=\"\",\"\",VLOOKUP($B705,_tbl!$A:$E,O$2,0))","v":"East"},{"$f":"IF($B705=\"\",\"\",VLOOKUP($B705,_tbl!$A:$E,P$2,0))","v":"Urban"},{"$f":"IF($B705=\"\",\"\",VLOOKUP($B705,_tbl!$A:$E,Q$2,0))","v":"Circulatory"},null,1.23120991121171E-5,1.19037529306131E-5]
[null,"all_m_East Urban circulatory.csv","10-14",1.70114311381488E-5,1.69356231578615E-5,1.6899326188259399E-5,1.6862218822595801E-5,1.6810433171262999E-5,1.6749038795329899E-5,1.6678951790812901E-5,1.66060601480288E-5,1.6531635160428001E-5,1.6459374924565799E-5,{"$f":"IF($B706=\"\",\"\",VLOOKUP($B706,_tbl!$A:$E,N$2,0))","v":"Male"},{"$f":"IF($B706=\"\",\"\",VLOOKUP($B706,_tbl!$A:$E,O$2,0))","v":"East"},{"$f":"IF($B706=\"\",\"\",VLOOKUP($B706,_tbl!$A:$E,P$2,0))","v":"Urban"},{"$f":"IF($B706=\"\",\"\",VLOOKUP($B706,_tbl!$A:$E,Q$2,0))","v":"Circulatory"},null,1.70114311381488E-5,1.6459374924565799E-5]
[null,"all_m_East Urban circulatory.csv","15-19",2.45266312028016E-5,2.4392013689750701E-5,2.4207827076285599E-5,2.4056850730589498E-5,2.39134988879646E-5,2.3797004818539999E-5,2.36915054986915E-5,2.35937565946192E-5,2.3489628907467301E-5,2.3382565537980999E-5,{"$f":"IF($B707=\"\",\"\",VLOOKUP($B707,_tbl!$A:$E,N$2,0))","v":"Male"},{"$f":"IF($B707=\"\",\"\",VLOOKUP($B707,_tbl!$A:$E,O$2,0))","v":"East"},{"$f":"IF($B707=\"\",\"\",VLOOKUP($B707,_tbl!$A:$E,P$2,0))","v":"Urban"},{"$f":"IF($B707=\"\",\"\",VLOOKUP($B707,_tbl!$A:$E,Q$2,0))","v":"Circulatory"},null,2.45266312028016E-5,2.3382565537980999E-5]
[null,"all_m_East Urban circulatory.csv","20-24",3.6339831703842697E-5,3.6397820245942502E-5,3.6444139624526498E-5,3.6519726458807498E-5,3.6532751656406701E-5,3.6515543346086499E-5,3.6459847644393801E-5,3.6403516016494701E-5,3.6350367324117503E-5,3.63176224280263E-5,{"$f":"IF($B708=\"\",\"\",VLOOKUP($B708,_tbl!$A:$E,N$2,0))","v":"Male"},{"$f":"IF($B708=\"\",\"\",VLOOKUP($B708,_tbl!$A:$E,O$2,0))","v":"East"},{"$f":"IF($B708=\"\",\"\",VLOOKUP($B708,_tbl!$A:$E,P$2,0))","v":"Urban"},{"$f":"IF($B708=\"\",\"\",VLOOKUP($B708,_tbl!$A:$E,Q$2,0))","v":"Circulatory"},null,3.6532751656406701E-5,3.63176224280263E-5]
[null,"all_m_East Urban circulatory.csv","25-29",6.2863463233414597E-5,6.2970758651041404E-5,6.3037506601951198E-5,6.3151624621539298E-5,6.3131475537192796E-5,6.3039163821571506E-5,6.2864114777679697E-5,6.2681210903902502E-5,6.2506013157400504E-5,6.2377968872257504E-5,{"$f":"IF($B709=\"\",\"\",VLOOKUP($B709,_tbl!$A:$E,N$2,0))","v":"Male"},{"$f":"IF($B709=\"\",\"\",VLOOKUP($B709,_tbl!$A:$E,O$2,0))","v":"East"},{"$f":"IF($B709=\"\",\"\",VLOOKUP($B709,_tbl!$A:$E,P$2,0))","v":"Urban"},{"$f":"IF($B709=\"\",\"\",VLOOKUP($B709,_tbl!$A:$E,Q$2,0))","v":"Circulatory"},null,6.3151624621539298E-5,6.2377968872257504E-5]
[null,"all_m_East Urban circulatory.csv","30-34",1.2855634419745799E-4,1.2830862226785001E-4,1.2794156595970999E-4,1.2762589368153901E-4,1.2723067631286301E-4,1.2678960523062401E-4,1.26281215400184E-4,1.25747873334862E-4,1.2520553846146E-4,1.2467762450062999E-4,{"$f":"IF($B710=\"\",\"\",VLOOKUP($B710,_tbl!$A:$E,N$2,0))","v":"Male"},{"$f":"IF($B710=\"\",\"\",VLOOKUP($B710,_tbl!$A:$E,O$2,0))","v":"East"},{"$f":"IF($B710=\"\",\"\",VLOOKUP($B710,_tbl!$A:$E,P$2,0))","v":"Urban"},{"$f":"IF($B710=\"\",\"\",VLOOKUP($B710,_tbl!$A:$E,Q$2,0))","v":"Circulatory"},null,1.2855634419745799E-4,1.2467762450062999E-4]
[null,"all_m_East Urban circulatory.csv","35-39",2.4834980494715199E-4,2.4666173045385101E-4,2.44670210371825E-4,2.428845466666E-4,2.40696676406848E-4,2.38452986117708E-4,2.35974341488375E-4,2.3351256788504499E-4,2.3100970389437701E-4,2.28599820671696E-4,{"$f":"IF($B711=\"\",\"\",VLOOKUP($B711,_tbl!$A:$E,N$2,0))","v":"Male"},{"$f":"IF($B711=\"\",\"\",VLOOKUP($B711,_tbl!$A:$E,O$2,0))","v":"East"},{"$f":"IF($B711=\"\",\"\",VLOOKUP($B711,_tbl!$A:$E,P$2,0))","v":"Urban"},{"$f":"IF($B711=\"\",\"\",VLOOKUP($B711,_tbl!$A:$E,Q$2,0))","v":"Circulatory"},null,2.4834980494715199E-4,2.28599820671696E-4]
[null,"all_m_East Urban circulatory.csv","40-44",3.8176055617754399E-4,3.6902642297864999E-4,3.57179511939774E-4,3.4440078313558901E-4,3.3204166604830298E-4,3.1913150346566798E-4,3.0662415627483901E-4,2.9391987576077397E-4,2.8167651641893601E-4,2.6948886597705999E-4,{"$f":"IF($B712=\"\",\"\",VLOOKUP($B712,_tbl!$A:$E,N$2,0))","v":"Male"},{"$f":"IF($B712=\"\",\"\",VLOOKUP($B712,_tbl!$A:$E,O$2,0))","v":"East"},{"$f":"IF($B712=\"\",\"\",VLOOKUP($B712,_tbl!$A:$E,P$2,0))","v":"Urban"},{"$f":"IF($B712=\"\",\"\",VLOOKUP($B712,_tbl!$A:$E,Q$2,0))","v":"Circulatory"},null,3.8176055617754399E-4,2.6948886597705999E-4]
[null,"all_m_East Urban circulatory.csv","45-49",6.9541060778018104E-4,6.8115188569105702E-4,6.6813750008503996E-4,6.5409870562072904E-4,6.4132310769002103E-4,6.2833549743707303E-4,6.1631498901657499E-4,6.0410291184150803E-4,5.9238551539789002E-4,5.8041993859819601E-4,{"$f":"IF($B713=\"\",\"\",VLOOKUP($B713,_tbl!$A:$E,N$2,0))","v":"Male"},{"$f":"IF($B713=\"\",\"\",VLOOKUP($B713,_tbl!$A:$E,O$2,0))","v":"East"},{"$f":"IF($B713=\"\",\"\",VLOOKUP($B713,_tbl!$A:$E,P$2,0))","v":"Urban"},{"$f":"IF($B713=\"\",\"\",VLOOKUP($B713,_tbl!$A:$E,Q$2,0))","v":"Circulatory"},null,6.9541060778018104E-4,5.8041993859819601E-4]
[null,"all_m_East Urban circulatory.csv","50-54",1.2766456336107601E-3,1.26900625715186E-3,1.26002598227226E-3,1.24979540754613E-3,1.23918777551466E-3,1.22810526437737E-3,1.2169999552968801E-3,1.20571368666003E-3,1.1944937924519301E-3,1.1832058557978099E-3,{"$f":"IF($B714=\"\",\"\",VLOOKUP($B714,_tbl!$A:$E,N$2,0))","v":"Male"},{"$f":"IF($B714=\"\",\"\",VLOOKUP($B714,_tbl!$A:$E,O$2,0))","v":"East"},{"$f":"IF($B714=\"\",\"\",VLOOKUP($B714,_tbl!$A:$E,P$2,0))","v":"Urban"},{"$f":"IF($B714=\"\",\"\",VLOOKUP($B714,_tbl!$A:$E,Q$2,0))","v":"Circulatory"},null,1.2766456336107601E-3,1.1832058557978099E-3]
[null,"all_m_East Urban circulatory.csv","55-59",2.3159013880499398E-3,2.3252426203389399E-3,2.3302507559676798E-3,2.3292500638636502E-3,2.32624512454722E-3,2.3209318960168601E-3,2.3148914723310201E-3,2.3079520621002601E-3,2.3007014572672601E-3,2.2930162539658602E-3,{"$f":"IF($B715=\"\",\"\",VLOOKUP($B715,_tbl!$A:$E,N$2,0))","v":"Male"},{"$f":"IF($B715=\"\",\"\",VLOOKUP($B715,_tbl!$A:$E,O$2,0))","v":"East"},{"$f":"IF($B715=\"\",\"\",VLOOKUP($B715,_tbl!$A:$E,P$2,0))","v":"Urban"},{"$f":"IF($B715=\"\",\"\",VLOOKUP($B715,_tbl!$A:$E,Q$2,0))","v":"Circulatory"},null,2.3302507559676798E-3,2.2930162539658602E-3]
[null,"all_m_East Urban circulatory.csv","60-64",3.7911219916519101E-3,3.8124437210932801E-3,3.8251626885017101E-3,3.8302778357871001E-3,3.83219887055457E-3,3.8313486762102502E-3,3.8291534138184501E-3,3.8257685861302201E-3,3.82161911877103E-3,3.8168578450558E-3,{"$f":"IF($B716=\"\",\"\",VLOOKUP($B716,_tbl!$A:$E,N$2,0))","v":"Male"},{"$f":"IF($B716=\"\",\"\",VLOOKUP($B716,_tbl!$A:$E,O$2,0))","v":"East"},{"$f":"IF($B716=\"\",\"\",VLOOKUP($B716,_tbl!$A:$E,P$2,0))","v":"Urban"},{"$f":"IF($B716=\"\",\"\",VLOOKUP($B716,_tbl!$A:$E,Q$2,0))","v":"Circulatory"},null,3.83219887055457E-3,3.7911219916519101E-3]
[null,"all_m_East Urban circulatory.csv","65-69",5.6341254914958304E-3,5.5847146444757897E-3,5.5189688631642501E-3,5.4515413243711001E-3,5.3808305379864901E-3,5.3099585707968499E-3,5.2386247979203399E-3,5.16696358810456E-3,5.0954258233841497E-3,5.0238690231882198E-3,{"$f":"IF($B717=\"\",\"\",VLOOKUP($B717,_tbl!$A:$E,N$2,0))","v":"Male"},{"$f":"IF($B717=\"\",\"\",VLOOKUP($B717,_tbl!$A:$E,O$2,0))","v":"East"},{"$f":"IF($B717=\"\",\"\",VLOOKUP($B717,_tbl!$A:$E,P$2,0))","v":"Urban"},{"$f":"IF($B717=\"\",\"\",VLOOKUP($B717,_tbl!$A:$E,Q$2,0))","v":"Circulatory"},null,5.6341254914958304E-3,5.0238690231882198E-3]
[null,"all_m_East Urban circulatory.csv","70-74",8.5185242988677495E-3,8.2336658750082007E-3,7.9138216583985298E-3,7.60026770334221E-3,7.2825867879931297E-3,6.9705709503907701E-3,6.6623965635947101E-3,6.3597242934121303E-3,6.0629051325525804E-3,5.7719017212545199E-3,{"$f":"IF($B718=\"\",\"\",VLOOKUP($B718,_tbl!$A:$E,N$2,0))","v":"Male"},{"$f":"IF($B718=\"\",\"\",VLOOKUP($B718,_tbl!$A:$E,O$2,0))","v":"East"},{"$f":"IF($B718=\"\",\"\",VLOOKUP($B718,_tbl!$A:$E,P$2,0))","v":"Urban"},{"$f":"IF($B718=\"\",\"\",VLOOKUP($B718,_tbl!$A:$E,Q$2,0))","v":"Circulatory"},null,8.5185242988677495E-3,5.7719017212545199E-3]
[null,"all_m_East Urban circulatory.csv","75-79",1.7973003652586701E-2,1.7359973209147998E-2,1.6735543614651401E-2,1.6137023109266801E-2,1.5549287818648099E-2,1.49833179193184E-2,1.44321903789538E-2,1.3899338155360701E-2,1.33798507438102E-2,1.2875126367538001E-2,{"$f":"IF($B719=\"\",\"\",VLOOKUP($B719,_tbl!$A:$E,N$2,0))","v":"Male"},{"$f":"IF($B719=\"\",\"\",VLOOKUP($B719,_tbl!$A:$E,O$2,0))","v":"East"},{"$f":"IF($B719=\"\",\"\",VLOOKUP($B719,_tbl!$A:$E,P$2,0))","v":"Urban"},{"$f":"IF($B719=\"\",\"\",VLOOKUP($B719,_tbl!$A:$E,Q$2,0))","v":"Circulatory"},null,1.7973003652586701E-2,1.2875126367538001E-2]
[null,"all_m_East Urban circulatory.csv","80-84",4.25138567675174E-2,4.1754572395536801E-2,4.1102782188249198E-2,4.0413357852830699E-2,3.9746997527294402E-2,3.9023898663153797E-2,3.8269724357987797E-2,3.7494785649578602E-2,3.6753048719668897E-2,3.60772050837651E-2,{"$f":"IF($B720=\"\",\"\",VLOOKUP($B720,_tbl!$A:$E,N$2,0))","v":"Male"},{"$f":"IF($B720=\"\",\"\",VLOOKUP($B720,_tbl!$A:$E,O$2,0))","v":"East"},{"$f":"IF($B720=\"\",\"\",VLOOKUP($B720,_tbl!$A:$E,P$2,0))","v":"Urban"},{"$f":"IF($B720=\"\",\"\",VLOOKUP($B720,_tbl!$A:$E,Q$2,0))","v":"Circulatory"},null,4.25138567675174E-2,3.60772050837651E-2]
[null,"all_m_East Urban circulatory.csv","85+",9.6120948556396593E-2,9.5430480869915499E-2,9.4550481544079398E-2,9.3853002384651898E-2,9.3368007085771601E-2,9.3167683597772596E-2,9.3163669841429403E-2,9.3260418381727203E-2,9.3279422627716393E-2,9.3104742833768697E-2,{"$f":"IF($B721=\"\",\"\",VLOOKUP($B721,_tbl!$A:$E,N$2,0))","v":"Male"},{"$f":"IF($B721=\"\",\"\",VLOOKUP($B721,_tbl!$A:$E,O$2,0))","v":"East"},{"$f":"IF($B721=\"\",\"\",VLOOKUP($B721,_tbl!$A:$E,P$2,0))","v":"Urban"},{"$f":"IF($B721=\"\",\"\",VLOOKUP($B721,_tbl!$A:$E,Q$2,0))","v":"Circulatory"},null,9.6120948556396593E-2,9.3104742833768697E-2]
[null,null,null,null,null,null,null,null,null,null,null,null,null,{"$f":"IF($B722=\"\",\"\",VLOOKUP($B722,_tbl!$A:$E,N$2,0))","v":""},{"$f":"IF($B722=\"\",\"\",VLOOKUP($B722,_tbl!$A:$E,O$2,0))","v":""},{"$f":"IF($B722=\"\",\"\",VLOOKUP($B722,_tbl!$A:$E,P$2,0))","v":""},{"$f":"IF($B722=\"\",\"\",VLOOKUP($B722,_tbl!$A:$E,Q$2,0))","v":""}]
[null,null,null,2020,2021,2022,2023,2024,2025,2026,2027,2028,2029,{"$f":"IF($B723=\"\",\"\",VLOOKUP($B723,_tbl!$A:$E,N$2,0))","v":""},{"$f":"IF($B723=\"\",\"\",VLOOKUP($B723,_tbl!$A:$E,O$2,0))","v":""},{"$f":"IF($B723=\"\",\"\",VLOOKUP($B723,_tbl!$A:$E,P$2,0))","v":""},{"$f":"IF($B723=\"\",\"\",VLOOKUP($B723,_tbl!$A:$E,Q$2,0))","v":""}]
[null,"all_m_East Urban congenital.csv","1-4",6.8809834749403197E-5,6.8318027687167397E-5,6.7510296592990099E-5,6.6691440648069996E-5,6.6012183553423794E-5,6.5122825018278294E-5,6.4253852713163205E-5,6.3362116474627897E-5,6.2448479157709802E-5,6.1512553884640698E-5,{"$f":"IF($B724=\"\",\"\",VLOOKUP($B724,_tbl!$A:$E,N$2,0))","v":"Male"},{"$f":"IF($B724=\"\",\"\",VLOOKUP($B724,_tbl!$A:$E,O$2,0))","v":"East"},{"$f":"IF($B724=\"\",\"\",VLOOKUP($B724,_tbl!$A:$E,P$2,0))","v":"Urban"},{"$f":"IF($B724=\"\",\"\",VLOOKUP($B724,_tbl!$A:$E,Q$2,0))","v":"Congenital"},null,{"$f":"MAX(D724:M724)","v":6.8809834749403197E-5},{"$f":"MIN(D724:M724)","v":6.1512553884640698E-5}]
[null,"all_m_East Urban congenital.csv","5-9",8.9267451608306606E-6,8.8830500568069198E-6,8.81532043623242E-6,8.770989184242E-6,8.7209000955213706E-6,8.6710417370494504E-6,8.6257657168447292E-6,8.5781181715597397E-6,8.5278823336407206E-6,8.4794772227564204E-6,{"$f":"IF($B725=\"\",\"\",VLOOKUP($B725,_tbl!$A:$E,N$2,0))","v":"Male"},{"$f":"IF($B725=\"\",\"\",VLOOKUP($B725,_tbl!$A:$E,O$2,0))","v":"East"},{"$f":"IF($B725=\"\",\"\",VLOOKUP($B725,_tbl!$A:$E,P$2,0))","v":"Urban"},{"$f":"IF($B725=\"\",\"\",VLOOKUP($B725,_tbl!$A:$E,Q$2,0))","v":"Congenital"},null,8.9267451608306606E-6,8.4794772227564204E-6]
[null,"all_m_East Urban congenital.csv","10-14",8.3408564111973108E-6,8.3050473102968198E-6,8.2691746427007305E-6,8.2235636696066795E-6,8.1917214067536194E-6,8.1625454933191103E-6,8.1368839448008495E-6,8.1131269457821893E-6,8.0887339133398007E-6,8.0611533303893903E-6,{"$f":"IF($B726=\"\",\"\",VLOOKUP($B726,_tbl!$A:$E,N$2,0))","v":"Male"},{"$f":"IF($B726=\"\",\"\",VLOOKUP($B726,_tbl!$A:$E,O$2,0))","v":"East"},{"$f":"IF($B726=\"\",\"\",VLOOKUP($B726,_tbl!$A:$E,P$2,0))","v":"Urban"},{"$f":"IF($B726=\"\",\"\",VLOOKUP($B726,_tbl!$A:$E,Q$2,0))","v":"Congenital"},null,8.3408564111973108E-6,8.0611533303893903E-6]
[null,"all_m_East Urban congenital.csv","15-19",8.6703481839948298E-6,8.6178267130426808E-6,8.5614490330016401E-6,8.4961881296036208E-6,8.4656064157557194E-6,8.4551879616900996E-6,8.4624943864957392E-6,8.4747199872222404E-6,8.4824872417927494E-6,8.4811050367946296E-6,{"$f":"IF($B727=\"\",\"\",VLOOKUP($B727,_tbl!$A:$E,N$2,0))","v":"Male"},{"$f":"IF($B727=\"\",\"\",VLOOKUP($B727,_tbl!$A:$E,O$2,0))","v":"East"},{"$f":"IF($B727=\"\",\"\",VLOOKUP($B727,_tbl!$A:$E,P$2,0))","v":"Urban"},{"$f":"IF($B727=\"\",\"\",VLOOKUP($B727,_tbl!$A:$E,Q$2,0))","v":"Congenital"},null,8.6703481839948298E-6,8.4551879616900996E-6]
[null,"all_m_East Urban congenital.csv","20-24",6.45101325489365E-6,6.3343923705941698E-6,6.2392166660484304E-6,6.10489803300754E-6,6.0690509028519703E-6,6.0904608484728001E-6,6.1703484840673503E-6,6.25945394779482E-6,6.3424691768285404E-6,6.4014479499401901E-6,{"$f":"IF($B728=\"\",\"\",VLOOKUP($B728,_tbl!$A:$E,N$2,0))","v":"Male"},{"$f":"IF($B728=\"\",\"\",VLOOKUP($B728,_tbl!$A:$E,O$2,0))","v":"East"},{"$f":"IF($B728=\"\",\"\",VLOOKUP($B728,_tbl!$A:$E,P$2,0))","v":"Urban"},{"$f":"IF($B728=\"\",\"\",VLOOKUP($B728,_tbl!$A:$E,Q$2,0))","v":"Congenital"},null,6.45101325489365E-6,6.0690509028519703E-6]
[null,"all_m_East Urban congenital.csv","25-29",4.1420384713713001E-6,4.0755828449816896E-6,3.9317138283087399E-6,3.81327478631176E-6,3.6874657797448201E-6,3.5743443526942801E-6,3.4637538955597599E-6,3.3566506819165402E-6,3.2499236209387799E-6,3.13927016227181E-6,{"$f":"IF($B729=\"\",\"\",VLOOKUP($B729,_tbl!$A:$E,N$2,0))","v":"Male"},{"$f":"IF($B729=\"\",\"\",VLOOKUP($B729,_tbl!$A:$E,O$2,0))","v":"East"},{"$f":"IF($B729=\"\",\"\",VLOOKUP($B729,_tbl!$A:$E,P$2,0))","v":"Urban"},{"$f":"IF($B729=\"\",\"\",VLOOKUP($B729,_tbl!$A:$E,Q$2,0))","v":"Congenital"},null,4.1420384713713001E-6,3.13927016227181E-6]
[null,"all_m_East Urban congenital.csv",null,null,null,null,null,null,null,null,null,null,null,{"$f":"IF($B730=\"\",\"\",VLOOKUP($B730,_tbl!$A:$E,N$2,0))","v":"Male"},{"$f":"IF($B730=\"\",\"\",VLOOKUP($B730,_tbl!$A:$E,O$2,0))","v":"East"},{"$f":"IF($B730=\"\",\"\",VLOOKUP($B730,_tbl!$A:$E,P$2,0))","v":"Urban"},{"$f":"IF($B730=\"\",\"\",VLOOKUP($B730,_tbl!$A:$E,Q$2,0))","v":"Congenital"},null,0,0]
[null,"all_m_East Urban congenital.csv",null,null,null,null,null,null,null,null,null,null,null,{"$f":"IF($B731=\"\",\"\",VLOOKUP($B731,_tbl!$A:$E,N$2,0))","v":"Male"},{"$f":"IF($B731=\"\",\"\",VLOOKUP($B731,_tbl!$A:$E,O$2,0))","v":"East"},{"$f":"IF($B731=\"\",\"\",VLOOKUP($B731,_tbl!$A:$E,P$2,0))","v":"Urban"},{"$f":"IF($B731=\"\",\"\",VLOOKUP($B731,_tbl!$A:$E,Q$2,0))","v":"Congenital"},null,0,0]
[null,"all_m_East Urban congenital.csv",null,null,null,null,null,null,null,null,null,null,null,{"$f":"IF($B732=\"\",\"\",VLOOKUP($B732,_tbl!$A:$E,N$2,0))","v":"Male"},{"$f":"IF($B732=\"\",\"\",VLOOKUP($B732,_tbl!$A:$E,O$2,0))","v":"East"},{"$f":"IF($B732=\"\",\"\",VLOOKUP($B732,_tbl!$A:$E,P$2,0))","v":"Urban"},{"$f":"IF($B732=\"\",\"\",VLOOKUP($B732,_tbl!$A:$E,Q$2,0))","v":"Congenital"},null,0,0]
[null,"all_m_East Urban congenital.csv",null,null,null,null,null,null,null,null,null,null,null,{"$f":"IF($B733=\"\",\"\",VLOOKUP($B733,_tbl!$A:$E,N$2,0))","v":"Male"},{"$f":"IF($B733=\"\",\"\",VLOOKUP($B733,_tbl!$A:$E,O$2,0))","v":"East"},{"$f":"IF($B733=\"\",\"\",VLOOKUP($B733,_tbl!$A:$E,P$2,0))","v":"Urban"},{"$f":"IF($B733=\"\",\"\",VLOOKUP($B733,_tbl!$A:$E,Q$2,0))","v":"Congenital"},null,0,0]
[null,"all_m_East Urban congenital.csv",null,null,null,null,null,null,null,null,null,null,null,{"$f":"IF($B734=\"\",\"\",VLOOKUP($B734,_tbl!$A:$E,N$2,0))","v":"Male"},{"$f":"IF($B734=\"\",\"\",VLOOKUP($B734,_tbl!$A:$E,O$2,0))","v":"East"},{"$f":"IF($B734=\"\",\"\",VLOOKUP($B734,_tbl!$A:$E,P$2,0))","v":"Urban"},{"$f":"IF($B734=\"\",\"\",VLOOKUP($B734,_tbl!$A:$E,Q$2,0))","v":"Congenital"},null,0,0]
[null,"all_m_East Urban congenital.csv",null,null,null,null,null,null,null,null,null,null,null,{"$f":"IF($B735=\"\",\"\",VLOOKUP($B735,_tbl!$A:$E,N$2,0))","v":"Male"},{"$f":"IF($B735=\"\",\"\",VLOOKUP($B735,_tbl!$A:$E,O$2,0))","v":"East"},{"$f":"IF($B735=\"\",\"\",VLOOKUP($B735,_tbl!$A:$E,P$2,0))","v":"Urban"},{"$f":"IF($B735=\"\",\"\",VLOOKUP($B735,_tbl!$A:$E,Q$2,0))","v":"Congenital"},null,0,0]
[null,"all_m_East Urban congenital.csv",null,null,null,null,null,null,null,null,null,null,null,{"$f":"IF($B736=\"\",\"\",VLOOKUP($B736,_tbl!$A:$E,N$2,0))","v":"Male"},{"$f":"IF($B736=\"\",\"\",VLOOKUP($B736,_tbl!$A:$E,O$2,0))","v":"East"},{"$f":"IF($B736=\"\",\"\",VLOOKUP($B736,_tbl!$A:$E,P$2,0))","v":"Urban"},{"$f":"IF($B736=\"\",\"\",VLOOKUP($B736,_tbl!$A:$E,Q$2,0))","v":"Congenital"},null,0,0]
[null,"all_m_East Urban congenital.csv",null,null,null,null,null,null,null,null,null,null,null,{"$f":"IF($B737=\"\",\"\",VLOOKUP($B737,_tbl!$A:$E,N$2,0))","v":"Male"},{"$f":"IF($B737=\"\",\"\",VLOOKUP($B737,_tbl!$A:$E,O$2,0))","v":"East"},{"$f":"IF($B737=\"\",\"\",VLOOKUP($B737,_tbl!$A:$E,P$2,0))","v":"Urban"},{"$f":"IF($B737=\"\",\"\",VLOOKUP($B737,_tbl!$A:$E,Q$2,0))","v":"Congenital"},null,0,0]
[null,"all_m_East Urban congenital.csv",null,null,null,null,null,null,null,null,null,null,null,{"$f":"IF($B738=\"\",\"\",VLOOKUP($B738,_tbl!$A:$E,N$2,0))","v":"Male"},{"$f":"IF($B738=\"\",\"\",VLOOKUP($B738,_tbl!$A:$E,O$2,0))","v":"East"},{"$f":"IF($B738=\"\",\"\",VLOOKUP($B738,_tbl!$A:$E,P$2,0))","v":"Urban"},{"$f":"IF($B738=\"\",\"\",VLOOKUP($B738,_tbl!$A:$E,Q$2,0))","v":"Congenital"},null,0,0]
[null,"all_m_East Urban congenital.csv",null,null,null,null,null,null,null,null,null,null,null,{"$f":"IF($B739=\"\",\"\",VLOOKUP($B739,_tbl!$A:$E,N$2,0))","v":"Male"},{"$f":"IF($B739=\"\",\"\",VLOOKUP($B739,_tbl!$A:$E,O$2,0))","v":"East"},{"$f":"IF($B739=\"\",\"\",VLOOKUP($B739,_tbl!$A:$E,P$2,0))","v":"Urban"},{"$f":"IF($B739=\"\",\"\",VLOOKUP($B739,_tbl!$A:$E,Q$2,0))","v":"Congenital"},null,0,0]
[null,"all_m_East Urban congenital.csv",null,null,null,null,null,null,null,null,null,null,null,{"$f":"IF($B740=\"\",\"\",VLOOKUP($B740,_tbl!$A:$E,N$2,0))","v":"Male"},{"$f":"IF($B740=\"\",\"\",VLOOKUP($B740,_tbl!$A:$E,O$2,0))","v":"East"},{"$f":"IF($B740=\"\",\"\",VLOOKUP($B740,_tbl!$A:$E,P$2,0))","v":"Urban"},{"$f":"IF($B740=\"\",\"\",VLOOKUP($B740,_tbl!$A:$E,Q$2,0))","v":"Congenital"},null,0,0]
[null,"all_m_East Urban congenital.csv",null,null,null,null,null,null,null,null,null,null,null,{"$f":"IF($B741=\"\",\"\",VLOOKUP($B741,_tbl!$A:$E,N$2,0))","v":"Male"},{"$f":"IF($B741=\"\",\"\",VLOOKUP($B741,_tbl!$A:$E,O$2,0))","v":"East"},{"$f":"IF($B741=\"\",\"\",VLOOKUP($B741,_tbl!$A:$E,P$2,0))","v":"Urban"},{"$f":"IF($B741=\"\",\"\",VLOOKUP($B741,_tbl!$A:$E,Q$2,0))","v":"Congenital"},null,0,0]
[null,null,null,null,null,null,null,null,null,null,null,null,null,{"$f":"IF($B742=\"\",\"\",VLOOKUP($B742,_tbl!$A:$E,N$2,0))","v":""},{"$f":"IF($B742=\"\",\"\",VLOOKUP($B742,_tbl!$A:$E,O$2,0))","v":""},{"$f":"IF($B742=\"\",\"\",VLOOKUP($B742,_tbl!$A:$E,P$2,0))","v":""},{"$f":"IF($B742=\"\",\"\",VLOOKUP($B742,_tbl!$A:$E,Q$2,0))","v":""}]
[null,null,null,2020,2021,2022,2023,2024,2025,2026,2027,2028,2029,{"$f":"IF($B743=\"\",\"\",VLOOKUP($B743,_tbl!$A:$E,N$2,0))","v":""},{"$f":"IF($B743=\"\",\"\",VLOOKUP($B743,_tbl!$A:$E,O$2,0))","v":""},{"$f":"IF($B743=\"\",\"\",VLOOKUP($B743,_tbl!$A:$E,P$2,0))","v":""},{"$f":"IF($B743=\"\",\"\",VLOOKUP($B743,_tbl!$A:$E,Q$2,0))","v":""}]
[null,"all_m_East Urban diabetes.csv","30-34",5.3998056417788696E-6,5.4312554299097303E-6,5.5035404979614304E-6,5.5557824096330998E-6,5.6162619036766399E-6,5.6668036503748502E-6,5.7184619449135204E-6,5.7671884523251298E-6,5.8176127313577398E-6,5.8685547917180197E-6,{"$f":"IF($B744=\"\",\"\",VLOOKUP($B744,_tbl!$A:$E,N$2,0))","v":"Male"},{"$f":"IF($B744=\"\",\"\",VLOOKUP($B744,_tbl!$A:$E,O$2,0))","v":"East"},{"$f":"IF($B744=\"\",\"\",VLOOKUP($B744,_tbl!$A:$E,P$2,0))","v":"Urban"},{"$f":"IF($B744=\"\",\"\",VLOOKUP($B744,_tbl!$A:$E,Q$2,0))","v":"Diabetes"},null,{"$f":"MAX(D744:M744)","v":5.8685547917180197E-6},{"$f":"MIN(D744:M744)","v":5.3998056417788696E-6}]
[null,"all_m_East Urban diabetes.csv","35-39",1.25758608517962E-5,1.2600963587371899E-5,1.25951438659834E-5,1.26083269418839E-5,1.2617199726687699E-5,1.26449351879284E-5,1.2668976945051499E-5,1.27013833847429E-5,1.27257531674777E-5,1.2751523468888901E-5,{"$f":"IF($B745=\"\",\"\",VLOOKUP($B745,_tbl!$A:$E,N$2,0))","v":"Male"},{"$f":"IF($B745=\"\",\"\",VLOOKUP($B745,_tbl!$A:$E,O$2,0))","v":"East"},{"$f":"IF($B745=\"\",\"\",VLOOKUP($B745,_tbl!$A:$E,P$2,0))","v":"Urban"},{"$f":"IF($B745=\"\",\"\",VLOOKUP($B745,_tbl!$A:$E,Q$2,0))","v":"Diabetes"},null,1.2751523468888901E-5,1.25758608517962E-5]
[null,"all_m_East Urban diabetes.csv","40-44",2.4982906769822602E-5,2.47958897151696E-5,2.4570802485117501E-5,2.4325432061932701E-5,2.4074567055677201E-5,2.3789987186882501E-5,2.3509547355824E-5,2.3210370990618E-5,2.2929822915890501E-5,2.2649029034494599E-5,{"$f":"IF($B746=\"\",\"\",VLOOKUP($B746,_tbl!$A:$E,N$2,0))","v":"Male"},{"$f":"IF($B746=\"\",\"\",VLOOKUP($B746,_tbl!$A:$E,O$2,0))","v":"East"},{"$f":"IF($B746=\"\",\"\",VLOOKUP($B746,_tbl!$A:$E,P$2,0))","v":"Urban"},{"$f":"IF($B746=\"\",\"\",VLOOKUP($B746,_tbl!$A:$E,Q$2,0))","v":"Diabetes"},null,2.4982906769822602E-5,2.2649029034494599E-5]
[null,"all_m_East Urban diabetes.csv","45-49",5.3457519024460698E-5,5.3300253477489603E-5,5.3223426036171499E-5,5.3178143476852399E-5,5.3228472710057701E-5,5.3329426201974297E-5,5.3485847176164297E-5,5.3645872943672303E-5,5.3803766164041302E-5,5.39324515458633E-5,{"$f":"IF($B747=\"\",\"\",VLOOKUP($B747,_tbl!$A:$E,N$2,0))","v":"Male"},{"$f":"IF($B747=\"\",\"\",VLOOKUP($B747,_tbl!$A:$E,O$2,0))","v":"East"},{"$f":"IF($B747=\"\",\"\",VLOOKUP($B747,_tbl!$A:$E,P$2,0))","v":"Urban"},{"$f":"IF($B747=\"\",\"\",VLOOKUP($B747,_tbl!$A:$E,Q$2,0))","v":"Diabetes"},null,5.39324515458633E-5,5.3178143476852399E-5]
[null,"all_m_East Urban diabetes.csv","50-54",9.7189736423779305E-5,9.7502188414590004E-5,9.7572482789853797E-5,9.7791831832707898E-5,9.7864513024876904E-5,9.8024825431756904E-5,9.8092748526641395E-5,9.8219693498918003E-5,9.82892802302779E-5,9.8403534667357398E-5,{"$f":"IF($B748=\"\",\"\",VLOOKUP($B748,_tbl!$A:$E,N$2,0))","v":"Male"},{"$f":"IF($B748=\"\",\"\",VLOOKUP($B748,_tbl!$A:$E,O$2,0))","v":"East"},{"$f":"IF($B748=\"\",\"\",VLOOKUP($B748,_tbl!$A:$E,P$2,0))","v":"Urban"},{"$f":"IF($B748=\"\",\"\",VLOOKUP($B748,_tbl!$A:$E,Q$2,0))","v":"Diabetes"},null,9.8403534667357398E-5,9.7189736423779305E-5]
[null,"all_m_East Urban diabetes.csv","55-59",1.6653749355595901E-4,1.6716429615864299E-4,1.6789943611070999E-4,1.6829246626755799E-4,1.68689184349709E-4,1.68962682257792E-4,1.69235534321369E-4,1.69463094413479E-4,1.69686530956899E-4,1.6988781487657599E-4,{"$f":"IF($B749=\"\",\"\",VLOOKUP($B749,_tbl!$A:$E,N$2,0))","v":"Male"},{"$f":"IF($B749=\"\",\"\",VLOOKUP($B749,_tbl!$A:$E,O$2,0))","v":"East"},{"$f":"IF($B749=\"\",\"\",VLOOKUP($B749,_tbl!$A:$E,P$2,0))","v":"Urban"},{"$f":"IF($B749=\"\",\"\",VLOOKUP($B749,_tbl!$A:$E,Q$2,0))","v":"Diabetes"},null,1.6988781487657599E-4,1.6653749355595901E-4]
[null,"all_m_East Urban diabetes.csv","60-64",2.8751619412585702E-4,2.89552580742526E-4,2.9157151241470498E-4,2.9291223317650999E-4,2.9423100142317998E-4,2.9529021724510301E-4,2.9632383085438098E-4,2.9724701348392101E-4,2.98148433216206E-4,2.9899579265006801E-4,{"$f":"IF($B750=\"\",\"\",VLOOKUP($B750,_tbl!$A:$E,N$2,0))","v":"Male"},{"$f":"IF($B750=\"\",\"\",VLOOKUP($B750,_tbl!$A:$E,O$2,0))","v":"East"},{"$f":"IF($B750=\"\",\"\",VLOOKUP($B750,_tbl!$A:$E,P$2,0))","v":"Urban"},{"$f":"IF($B750=\"\",\"\",VLOOKUP($B750,_tbl!$A:$E,Q$2,0))","v":"Diabetes"},null,2.9899579265006801E-4,2.8751619412585702E-4]
[null,"all_m_East Urban diabetes.csv","65-69",4.8424087152748802E-4,4.8571901274887299E-4,4.8682908962486302E-4,4.87846897204645E-4,4.8890040338549505E-4,4.8993943986723703E-4,4.9092045501661797E-4,4.9184792872237701E-4,4.9272339744682201E-4,4.9359478824630403E-4,{"$f":"IF($B751=\"\",\"\",VLOOKUP($B751,_tbl!$A:$E,N$2,0))","v":"Male"},{"$f":"IF($B751=\"\",\"\",VLOOKUP($B751,_tbl!$A:$E,O$2,0))","v":"East"},{"$f":"IF($B751=\"\",\"\",VLOOKUP($B751,_tbl!$A:$E,P$2,0))","v":"Urban"},{"$f":"IF($B751=\"\",\"\",VLOOKUP($B751,_tbl!$A:$E,Q$2,0))","v":"Diabetes"},null,4.9359478824630403E-4,4.8424087152748802E-4]
[null,"all_m_East Urban diabetes.csv","70-74",6.9438950309667696E-4,6.8526205800473997E-4,6.74514909155083E-4,6.6409954350787697E-4,6.5351778587790599E-4,6.4303074676745099E-4,6.3273792772666195E-4,6.2247755331843E-4,6.1246222374267503E-4,6.0249573478574796E-4,{"$f":"IF($B752=\"\",\"\",VLOOKUP($B752,_tbl!$A:$E,N$2,0))","v":"Male"},{"$f":"IF($B752=\"\",\"\",VLOOKUP($B752,_tbl!$A:$E,O$2,0))","v":"East"},{"$f":"IF($B752=\"\",\"\",VLOOKUP($B752,_tbl!$A:$E,P$2,0))","v":"Urban"},{"$f":"IF($B752=\"\",\"\",VLOOKUP($B752,_tbl!$A:$E,Q$2,0))","v":"Diabetes"},null,6.9438950309667696E-4,6.0249573478574796E-4]
[null,"all_m_East Urban diabetes.csv","75-79",1.1345489071313401E-3,1.1157236475338201E-3,1.09619109648302E-3,1.07649960044242E-3,1.05571341015628E-3,1.0335049062706199E-3,1.0110832127913801E-3,9.8847789152464401E-4,9.6701431091604398E-4,9.4645109472007896E-4,{"$f":"IF($B753=\"\",\"\",VLOOKUP($B753,_tbl!$A:$E,N$2,0))","v":"Male"},{"$f":"IF($B753=\"\",\"\",VLOOKUP($B753,_tbl!$A:$E,O$2,0))","v":"East"},{"$f":"IF($B753=\"\",\"\",VLOOKUP($B753,_tbl!$A:$E,P$2,0))","v":"Urban"},{"$f":"IF($B753=\"\",\"\",VLOOKUP($B753,_tbl!$A:$E,Q$2,0))","v":"Diabetes"},null,1.1345489071313401E-3,9.4645109472007896E-4]
[null,"all_m_East Urban diabetes.csv","80-84",2.1863900634371699E-3,2.1692548857101001E-3,2.1509198253830499E-3,2.1365959137329702E-3,2.1246386493679E-3,2.11504384574453E-3,2.1063018933554101E-3,2.0978882607066698E-3,2.0891436696535599E-3,2.0799179879709799E-3,{"$f":"IF($B754=\"\",\"\",VLOOKUP($B754,_tbl!$A:$E,N$2,0))","v":"Male"},{"$f":"IF($B754=\"\",\"\",VLOOKUP($B754,_tbl!$A:$E,O$2,0))","v":"East"},{"$f":"IF($B754=\"\",\"\",VLOOKUP($B754,_tbl!$A:$E,P$2,0))","v":"Urban"},{"$f":"IF($B754=\"\",\"\",VLOOKUP($B754,_tbl!$A:$E,Q$2,0))","v":"Diabetes"},null,2.1863900634371699E-3,2.0799179879709799E-3]
[null,"all_m_East Urban diabetes.csv","85+",3.85231625287438E-3,3.8488772608282098E-3,3.84146924890315E-3,3.83913049595235E-3,3.8317793993804402E-3,3.8288818200251499E-3,3.8287692098228502E-3,3.83355698257079E-3,3.8378850635988602E-3,3.8390260924345198E-3,{"$f":"IF($B755=\"\",\"\",VLOOKUP($B755,_tbl!$A:$E,N$2,0))","v":"Male"},{"$f":"IF($B755=\"\",\"\",VLOOKUP($B755,_tbl!$A:$E,O$2,0))","v":"East"},{"$f":"IF($B755=\"\",\"\",VLOOKUP($B755,_tbl!$A:$E,P$2,0))","v":"Urban"},{"$f":"IF($B755=\"\",\"\",VLOOKUP($B755,_tbl!$A:$E,Q$2,0))","v":"Diabetes"},null,3.85231625287438E-3,3.8287692098228502E-3]
[null,"all_m_East Urban diabetes.csv",null,null,null,null,null,null,null,null,null,null,null,{"$f":"IF($B756=\"\",\"\",VLOOKUP($B756,_tbl!$A:$E,N$2,0))","v":"Male"},{"$f":"IF($B756=\"\",\"\",VLOOKUP($B756,_tbl!$A:$E,O$2,0))","v":"East"},{"$f":"IF($B756=\"\",\"\",VLOOKUP($B756,_tbl!$A:$E,P$2,0))","v":"Urban"},{"$f":"IF($B756=\"\",\"\",VLOOKUP($B756,_tbl!$A:$E,Q$2,0))","v":"Diabetes"},null,0,0]
[null,"all_m_East Urban diabetes.csv",null,null,null,null,null,null,null,null,null,null,null,{"$f":"IF($B757=\"\",\"\",VLOOKUP($B757,_tbl!$A:$E,N$2,0))","v":"Male"},{"$f":"IF($B757=\"\",\"\",VLOOKUP($B757,_tbl!$A:$E,O$2,0))","v":"East"},{"$f":"IF($B757=\"\",\"\",VLOOKUP($B757,_tbl!$A:$E,P$2,0))","v":"Urban"},{"$f":"IF($B757=\"\",\"\",VLOOKUP($B757,_tbl!$A:$E,Q$2,0))","v":"Diabetes"},null,0,0]
[null,"all_m_East Urban diabetes.csv",null,null,null,null,null,null,null,null,null,null,null,{"$f":"IF($B758=\"\",\"\",VLOOKUP($B758,_tbl!$A:$E,N$2,0))","v":"Male"},{"$f":"IF($B758=\"\",\"\",VLOOKUP($B758,_tbl!$A:$E,O$2,0))","v":"East"},{"$f":"IF($B758=\"\",\"\",VLOOKUP($B758,_tbl!$A:$E,P$2,0))","v":"Urban"},{"$f":"IF($B758=\"\",\"\",VLOOKUP($B758,_tbl!$A:$E,Q$2,0))","v":"Diabetes"},null,0,0]
[null,"all_m_East Urban diabetes.csv",null,null,null,null,null,null,null,null,null,null,null,{"$f":"IF($B759=\"\",\"\",VLOOKUP($B759,_tbl!$A:$E,N$2,0))","v":"Male"},{"$f":"IF($B759=\"\",\"\",VLOOKUP($B759,_tbl!$A:$E,O$2,0))","v":"East"},{"$f":"IF($B759=\"\",\"\",VLOOKUP($B759,_tbl!$A:$E,P$2,0))","v":"Urban"},{"$f":"IF($B759=\"\",\"\",VLOOKUP($B759,_tbl!$A:$E,Q$2,0))","v":"Diabetes"},null,0,0]
[null,"all_m_East Urban diabetes.csv",null,null,null,null,null,null,null,null,null,null,null,{"$f":"IF($B760=\"\",\"\",VLOOKUP($B760,_tbl!$A:$E,N$2,0))","v":"Male"},{"$f":"IF($B760=\"\",\"\",VLOOKUP($B760,_tbl!$A:$E,O$2,0))","v":"East"},{"$f":"IF($B760=\"\",\"\",VLOOKUP($B760,_tbl!$A:$E,P$2,0))","v":"Urban"},{"$f":"IF($B760=\"\",\"\",VLOOKUP($B760,_tbl!$A:$E,Q$2,0))","v":"Diabetes"},null,0,0]
[null,"all_m_East Urban diabetes.csv",null,null,null,null,null,null,null,null,null,null,null,{"$f":"IF($B761=\"\",\"\",VLOOKUP($B761,_tbl!$A:$E,N$2,0))","v":"Male"},{"$f":"IF($B761=\"\",\"\",VLOOKUP($B761,_tbl!$A:$E,O$2,0))","v":"East"},{"$f":"IF($B761=\"\",\"\",VLOOKUP($B761,_tbl!$A:$E,P$2,0))","v":"Urban"},{"$f":"IF($B761=\"\",\"\",VLOOKUP($B761,_tbl!$A:$E,Q$2,0))","v":"Diabetes"},null,0,0]
[null,null,null,null,null,null,null,null,null,null,null,null,null,{"$f":"IF($B762=\"\",\"\",VLOOKUP($B762,_tbl!$A:$E,N$2,0))","v":""},{"$f":"IF($B762=\"\",\"\",VLOOKUP($B762,_tbl!$A:$E,O$2,0))","v":""},{"$f":"IF($B762=\"\",\"\",VLOOKUP($B762,_tbl!$A:$E,P$2,0))","v":""},{"$f":"IF($B762=\"\",\"\",VLOOKUP($B762,_tbl!$A:$E,Q$2,0))","v":""}]
[null,null,null,2020,2021,2022,2023,2024,2025,2026,2027,2028,2029,{"$f":"IF($B763=\"\",\"\",VLOOKUP($B763,_tbl!$A:$E,N$2,0))","v":""},{"$f":"IF($B763=\"\",\"\",VLOOKUP($B763,_tbl!$A:$E,O$2,0))","v":""},{"$f":"IF($B763=\"\",\"\",VLOOKUP($B763,_tbl!$A:$E,P$2,0))","v":""},{"$f":"IF($B763=\"\",\"\",VLOOKUP($B763,_tbl!$A:$E,Q$2,0))","v":""}]
[null,"all_m_East Urban digestive.csv","1-4",5.79617228713368E-6,5.7370141274109003E-6,5.70079571101541E-6,5.6681408129051303E-6,5.6414205144255997E-6,5.6200034713356596E-6,5.6028894242102496E-6,5.58798261123231E-6,5.56697856764461E-6,5.5479844668932202E-6,{"$f":"IF($B764=\"\",\"\",VLOOKUP($B764,_tbl!$A:$E,N$2,0))","v":"Male"},{"$f":"IF($B764=\"\",\"\",VLOOKUP($B764,_tbl!$A:$E,O$2,0))","v":"East"},{"$f":"IF($B764=\"\",\"\",VLOOKUP($B764,_tbl!$A:$E,P$2,0))","v":"Urban"},{"$f":"IF($B764=\"\",\"\",VLOOKUP($B764,_tbl!$A:$E,Q$2,0))","v":"Digestive"},null,{"$f":"MAX(D764:M764)","v":5.79617228713368E-6},{"$f":"MIN(D764:M764)","v":5.5479844668932202E-6}]
[null,"all_m_East Urban digestive.csv","5-9",1.69714999947638E-6,1.6907661135081501E-6,1.6811693025944599E-6,1.67406090369955E-6,1.6655387439226201E-6,1.65692919741096E-6,1.6478546265775499E-6,1.6390358153939799E-6,1.6305091131460899E-6,1.6227695558328201E-6,{"$f":"IF($B765=\"\",\"\",VLOOKUP($B765,_tbl!$A:$E,N$2,0))","v":"Male"},{"$f":"IF($B765=\"\",\"\",VLOOKUP($B765,_tbl!$A:$E,O$2,0))","v":"East"},{"$f":"IF($B765=\"\",\"\",VLOOKUP($B765,_tbl!$A:$E,P$2,0))","v":"Urban"},{"$f":"IF($B765=\"\",\"\",VLOOKUP($B765,_tbl!$A:$E,Q$2,0))","v":"Digestive"},null,1.69714999947638E-6,1.6227695558328201E-6]
[null,"all_m_East Urban digestive.csv","10-14",1.1801062690170799E-6,1.1761658540567199E-6,1.1589567081847501E-6,1.14778901990177E-6,1.1326359246053499E-6,1.1184789856353201E-6,1.1031865384191701E-6,1.0885212381916101E-6,1.07455958511837E-6,1.0616485703017601E-6,{"$f":"IF($B766=\"\",\"\",VLOOKUP($B766,_tbl!$A:$E,N$2,0))","v":"Male"},{"$f":"IF($B766=\"\",\"\",VLOOKUP($B766,_tbl!$A:$E,O$2,0))","v":"East"},{"$f":"IF($B766=\"\",\"\",VLOOKUP($B766,_tbl!$A:$E,P$2,0))","v":"Urban"},{"$f":"IF($B766=\"\",\"\",VLOOKUP($B766,_tbl!$A:$E,Q$2,0))","v":"Digestive"},null,1.1801062690170799E-6,1.0616485703017601E-6]
[null,"all_m_East Urban digestive.csv","15-19",1.7024636516551899E-6,1.69976291130631E-6,1.6843331631781499E-6,1.6753138513772901E-6,1.66631100783541E-6,1.6615229893564799E-6,1.65728435532145E-6,1.6542932865328701E-6,1.65128865040281E-6,1.6469076743610001E-6,{"$f":"IF($B767=\"\",\"\",VLOOKUP($B767,_tbl!$A:$E,N$2,0))","v":"Male"},{"$f":"IF($B767=\"\",\"\",VLOOKUP($B767,_tbl!$A:$E,O$2,0))","v":"East"},{"$f":"IF($B767=\"\",\"\",VLOOKUP($B767,_tbl!$A:$E,P$2,0))","v":"Urban"},{"$f":"IF($B767=\"\",\"\",VLOOKUP($B767,_tbl!$A:$E,Q$2,0))","v":"Digestive"},null,1.7024636516551899E-6,1.6469076743610001E-6]
[null,"all_m_East Urban digestive.csv","20-24",3.2098756884177298E-6,2.9961461174745302E-6,2.7172305471211299E-6,2.4364718006350499E-6,2.2588752412801502E-6,2.1705012613062499E-6,2.1514391527098699E-6,2.1500679370964301E-6,2.1375872542181798E-6,2.0949151098672098E-6,{"$f":"IF($B768=\"\",\"\",VLOOKUP($B768,_tbl!$A:$E,N$2,0))","v":"Male"},{"$f":"IF($B768=\"\",\"\",VLOOKUP($B768,_tbl!$A:$E,O$2,0))","v":"East"},{"$f":"IF($B768=\"\",\"\",VLOOKUP($B768,_tbl!$A:$E,P$2,0))","v":"Urban"},{"$f":"IF($B768=\"\",\"\",VLOOKUP($B768,_tbl!$A:$E,Q$2,0))","v":"Digestive"},null,3.2098756884177298E-6,2.0949151098672098E-6]
[null,"all_m_East Urban digestive.csv","25-29",6.5178331538649502E-6,6.4408037960317502E-6,6.2962688472867202E-6,6.1647034681721898E-6,6.0575143910952101E-6,5.9816685156302798E-6,5.92719591829856E-6,5.8794449891936102E-6,5.8316003787140002E-6,5.7739063596037996E-6,{"$f":"IF($B769=\"\",\"\",VLOOKUP($B769,_tbl!$A:$E,N$2,0))","v":"Male"},{"$f":"IF($B769=\"\",\"\",VLOOKUP($B769,_tbl!$A:$E,O$2,0))","v":"East"},{"$f":"IF($B769=\"\",\"\",VLOOKUP($B769,_tbl!$A:$E,P$2,0))","v":"Urban"},{"$f":"IF($B769=\"\",\"\",VLOOKUP($B769,_tbl!$A:$E,Q$2,0))","v":"Digestive"},null,6.5178331538649502E-6,5.7739063596037996E-6]
[null,"all_m_East Urban digestive.csv","30-34",1.3625022518335399E-5,1.36222733000688E-5,1.3544158380954799E-5,1.35063204025477E-5,1.3450872536872999E-5,1.34103398658201E-5,1.33677257778892E-5,1.33311682563558E-5,1.32955430997172E-5,1.32631493478298E-5,{"$f":"IF($B770=\"\",\"\",VLOOKUP($B770,_tbl!$A:$E,N$2,0))","v":"Male"},{"$f":"IF($B770=\"\",\"\",VLOOKUP($B770,_tbl!$A:$E,O$2,0))","v":"East"},{"$f":"IF($B770=\"\",\"\",VLOOKUP($B770,_tbl!$A:$E,P$2,0))","v":"Urban"},{"$f":"IF($B770=\"\",\"\",VLOOKUP($B770,_tbl!$A:$E,Q$2,0))","v":"Digestive"},null,1.3625022518335399E-5,1.32631493478298E-5]
[null,"all_m_East Urban digestive.csv","35-39",3.18960705461423E-5,3.1332622904230899E-5,3.0922255229910801E-5,3.0360861663009201E-5,2.9902145271533599E-5,2.9382403036727399E-5,2.8912326964265399E-5,2.84007938602714E-5,2.7908473537115499E-5,2.7388570434081501E-5,{"$f":"IF($B771=\"\",\"\",VLOOKUP($B771,_tbl!$A:$E,N$2,0))","v":"Male"},{"$f":"IF($B771=\"\",\"\",VLOOKUP($B771,_tbl!$A:$E,O$2,0))","v":"East"},{"$f":"IF($B771=\"\",\"\",VLOOKUP($B771,_tbl!$A:$E,P$2,0))","v":"Urban"},{"$f":"IF($B771=\"\",\"\",VLOOKUP($B771,_tbl!$A:$E,Q$2,0))","v":"Digestive"},null,3.18960705461423E-5,2.7388570434081501E-5]
[null,"all_m_East Urban digestive.csv","40-44",4.7264787731950897E-5,4.5715452690364102E-5,4.4999274705694601E-5,4.3559798823980102E-5,4.2455709300423198E-5,4.0983376781852101E-5,3.9708793325345398E-5,3.8271355047849499E-5,3.6993593252844199E-5,3.5656895244832197E-5,{"$f":"IF($B772=\"\",\"\",VLOOKUP($B772,_tbl!$A:$E,N$2,0))","v":"Male"},{"$f":"IF($B772=\"\",\"\",VLOOKUP($B772,_tbl!$A:$E,O$2,0))","v":"East"},{"$f":"IF($B772=\"\",\"\",VLOOKUP($B772,_tbl!$A:$E,P$2,0))","v":"Urban"},{"$f":"IF($B772=\"\",\"\",VLOOKUP($B772,_tbl!$A:$E,Q$2,0))","v":"Digestive"},null,4.7264787731950897E-5,3.5656895244832197E-5]
[null,"all_m_East Urban digestive.csv","45-49",8.2897824220249807E-5,8.2284329762766207E-5,8.2107215342395694E-5,8.1758837687938207E-5,8.1423540115623094E-5,8.0985323632676103E-5,8.0523660855660005E-5,8.0064247458529102E-5,7.9647040821940695E-5,7.9299752968241198E-5,{"$f":"IF($B773=\"\",\"\",VLOOKUP($B773,_tbl!$A:$E,N$2,0))","v":"Male"},{"$f":"IF($B773=\"\",\"\",VLOOKUP($B773,_tbl!$A:$E,O$2,0))","v":"East"},{"$f":"IF($B773=\"\",\"\",VLOOKUP($B773,_tbl!$A:$E,P$2,0))","v":"Urban"},{"$f":"IF($B773=\"\",\"\",VLOOKUP($B773,_tbl!$A:$E,Q$2,0))","v":"Digestive"},null,8.2897824220249807E-5,7.9299752968241198E-5]
[null,"all_m_East Urban digestive.csv","50-54",1.21591661113928E-4,1.20035449303001E-4,1.18761498261886E-4,1.16849203327782E-4,1.14980821485741E-4,1.12771098860245E-4,1.106080313627E-4,1.08322135653048E-4,1.06153429406119E-4,1.03989024901789E-4,{"$f":"IF($B774=\"\",\"\",VLOOKUP($B774,_tbl!$A:$E,N$2,0))","v":"Male"},{"$f":"IF($B774=\"\",\"\",VLOOKUP($B774,_tbl!$A:$E,O$2,0))","v":"East"},{"$f":"IF($B774=\"\",\"\",VLOOKUP($B774,_tbl!$A:$E,P$2,0))","v":"Urban"},{"$f":"IF($B774=\"\",\"\",VLOOKUP($B774,_tbl!$A:$E,Q$2,0))","v":"Digestive"},null,1.21591661113928E-4,1.03989024901789E-4]
[null,"all_m_East Urban digestive.csv","55-59",1.90321454586028E-4,1.89456153793829E-4,1.88232274563673E-4,1.8633700837167601E-4,1.8430115391991999E-4,1.8199087834959299E-4,1.79674577651937E-4,1.7724994696517799E-4,1.7484732344225101E-4,1.7238404569801E-4,{"$f":"IF($B775=\"\",\"\",VLOOKUP($B775,_tbl!$A:$E,N$2,0))","v":"Male"},{"$f":"IF($B775=\"\",\"\",VLOOKUP($B775,_tbl!$A:$E,O$2,0))","v":"East"},{"$f":"IF($B775=\"\",\"\",VLOOKUP($B775,_tbl!$A:$E,P$2,0))","v":"Urban"},{"$f":"IF($B775=\"\",\"\",VLOOKUP($B775,_tbl!$A:$E,Q$2,0))","v":"Digestive"},null,1.90321454586028E-4,1.7238404569801E-4]
[null,"all_m_East Urban digestive.csv","60-64",2.5055751551809999E-4,2.5038969936889098E-4,2.4985339904856797E-4,2.4871388108505899E-4,2.4730039995210501E-4,2.4560972080793801E-4,2.4383110681764199E-4,2.41968250575461E-4,2.4010331202198101E-4,2.3821788702914001E-4,{"$f":"IF($B776=\"\",\"\",VLOOKUP($B776,_tbl!$A:$E,N$2,0))","v":"Male"},{"$f":"IF($B776=\"\",\"\",VLOOKUP($B776,_tbl!$A:$E,O$2,0))","v":"East"},{"$f":"IF($B776=\"\",\"\",VLOOKUP($B776,_tbl!$A:$E,P$2,0))","v":"Urban"},{"$f":"IF($B776=\"\",\"\",VLOOKUP($B776,_tbl!$A:$E,Q$2,0))","v":"Digestive"},null,2.5055751551809999E-4,2.3821788702914001E-4]
[null,"all_m_East Urban digestive.csv","65-69",3.0142243930313101E-4,3.0004917083634701E-4,2.9837509133766901E-4,2.9643460506954703E-4,2.9434497777498602E-4,2.9214125974974601E-4,2.8989998312977598E-4,2.8763691147728099E-4,2.8539070507657699E-4,2.8316091583122397E-4,{"$f":"IF($B777=\"\",\"\",VLOOKUP($B777,_tbl!$A:$E,N$2,0))","v":"Male"},{"$f":"IF($B777=\"\",\"\",VLOOKUP($B777,_tbl!$A:$E,O$2,0))","v":"East"},{"$f":"IF($B777=\"\",\"\",VLOOKUP($B777,_tbl!$A:$E,P$2,0))","v":"Urban"},{"$f":"IF($B777=\"\",\"\",VLOOKUP($B777,_tbl!$A:$E,Q$2,0))","v":"Digestive"},null,3.0142243930313101E-4,2.8316091583122397E-4]
[null,"all_m_East Urban digestive.csv","70-74",3.9796722904106199E-4,3.9509455057457798E-4,3.9180267761171399E-4,3.88535359423925E-4,3.8507547594778598E-4,3.8161466209053302E-4,3.7814087616661502E-4,3.7471828214031698E-4,3.7135596408059397E-4,3.6806044126614198E-4,{"$f":"IF($B778=\"\",\"\",VLOOKUP($B778,_tbl!$A:$E,N$2,0))","v":"Male"},{"$f":"IF($B778=\"\",\"\",VLOOKUP($B778,_tbl!$A:$E,O$2,0))","v":"East"},{"$f":"IF($B778=\"\",\"\",VLOOKUP($B778,_tbl!$A:$E,P$2,0))","v":"Urban"},{"$f":"IF($B778=\"\",\"\",VLOOKUP($B778,_tbl!$A:$E,Q$2,0))","v":"Digestive"},null,3.9796722904106199E-4,3.6806044126614198E-4]
[null,"all_m_East Urban digestive.csv","75-79",6.9787236803784498E-4,6.9459978470973595E-4,6.9079113255194995E-4,6.8730762912275699E-4,6.8359517602348198E-4,6.7992440562719204E-4,6.7613581086410797E-4,6.72401261975983E-4,6.6870862647335405E-4,6.6515713273296295E-4,{"$f":"IF($B779=\"\",\"\",VLOOKUP($B779,_tbl!$A:$E,N$2,0))","v":"Male"},{"$f":"IF($B779=\"\",\"\",VLOOKUP($B779,_tbl!$A:$E,O$2,0))","v":"East"},{"$f":"IF($B779=\"\",\"\",VLOOKUP($B779,_tbl!$A:$E,P$2,0))","v":"Urban"},{"$f":"IF($B779=\"\",\"\",VLOOKUP($B779,_tbl!$A:$E,Q$2,0))","v":"Digestive"},null,6.9787236803784498E-4,6.6515713273296295E-4]
[null,"all_m_East Urban digestive.csv","80-84",1.67756759863821E-3,1.69050976090705E-3,1.7117227069322399E-3,1.7293832148252599E-3,1.7424658470243601E-3,1.74551493752244E-3,1.74077934268737E-3,1.7319706456476701E-3,1.7257415282856501E-3,1.72669875451544E-3,{"$f":"IF($B780=\"\",\"\",VLOOKUP($B780,_tbl!$A:$E,N$2,0))","v":"Male"},{"$f":"IF($B780=\"\",\"\",VLOOKUP($B780,_tbl!$A:$E,O$2,0))","v":"East"},{"$f":"IF($B780=\"\",\"\",VLOOKUP($B780,_tbl!$A:$E,P$2,0))","v":"Urban"},{"$f":"IF($B780=\"\",\"\",VLOOKUP($B780,_tbl!$A:$E,Q$2,0))","v":"Digestive"},null,1.74551493752244E-3,1.67756759863821E-3]
[null,"all_m_East Urban digestive.csv","85+",4.1336293130114403E-3,4.2254157606697804E-3,4.3295795488941403E-3,4.4083122297228503E-3,4.4300709879177003E-3,4.4078266229758698E-3,4.3548346481453101E-3,4.2952316673647798E-3,4.2486596906689102E-3,4.2297854014720897E-3,{"$f":"IF($B781=\"\",\"\",VLOOKUP($B781,_tbl!$A:$E,N$2,0))","v":"Male"},{"$f":"IF($B781=\"\",\"\",VLOOKUP($B781,_tbl!$A:$E,O$2,0))","v":"East"},{"$f":"IF($B781=\"\",\"\",VLOOKUP($B781,_tbl!$A:$E,P$2,0))","v":"Urban"},{"$f":"IF($B781=\"\",\"\",VLOOKUP($B781,_tbl!$A:$E,Q$2,0))","v":"Digestive"},null,4.4300709879177003E-3,4.1336293130114403E-3]
[null,null,null,null,null,null,null,null,null,null,null,null,null,{"$f":"IF($B782=\"\",\"\",VLOOKUP($B782,_tbl!$A:$E,N$2,0))","v":""},{"$f":"IF($B782=\"\",\"\",VLOOKUP($B782,_tbl!$A:$E,O$2,0))","v":""},{"$f":"IF($B782=\"\",\"\",VLOOKUP($B782,_tbl!$A:$E,P$2,0))","v":""},{"$f":"IF($B782=\"\",\"\",VLOOKUP($B782,_tbl!$A:$E,Q$2,0))","v":""}]
[null,null,null,2020,2021,2022,2023,2024,2025,2026,2027,2028,2029,{"$f":"IF($B783=\"\",\"\",VLOOKUP($B783,_tbl!$A:$E,N$2,0))","v":""},{"$f":"IF($B783=\"\",\"\",VLOOKUP($B783,_tbl!$A:$E,O$2,0))","v":""},{"$f":"IF($B783=\"\",\"\",VLOOKUP($B783,_tbl!$A:$E,P$2,0))","v":""},{"$f":"IF($B783=\"\",\"\",VLOOKUP($B783,_tbl!$A:$E,Q$2,0))","v":""}]
[null,"all_m_East Urban external.csv","1-4",1.06741749133333E-4,1.03860244076194E-4,1.00975858515091E-4,9.8233558838644298E-5,9.5592028023489795E-5,9.2617014065856306E-5,8.9839841703707606E-5,8.7005724832308294E-5,8.4250820955344003E-5,8.1636041996757596E-5,{"$f":"IF($B784=\"\",\"\",VLOOKUP($B784,_tbl!$A:$E,N$2,0))","v":"Male"},{"$f":"IF($B784=\"\",\"\",VLOOKUP($B784,_tbl!$A:$E,O$2,0))","v":"East"},{"$f":"IF($B784=\"\",\"\",VLOOKUP($B784,_tbl!$A:$E,P$2,0))","v":"Urban"},{"$f":"IF($B784=\"\",\"\",VLOOKUP($B784,_tbl!$A:$E,Q$2,0))","v":"External"},null,{"$f":"MAX(D784:M784)","v":1.06741749133333E-4},{"$f":"MIN(D784:M784)","v":8.1636041996757596E-5}]
[null,"all_m_East Urban external.csv","5-9",6.8479715290696702E-5,6.5636739382456295E-5,6.2913462218554202E-5,6.0192221659593603E-5,5.7631702435299899E-5,5.51138236752211E-5,5.2640721090992097E-5,5.0261040966866799E-5,4.7949971474155499E-5,4.5699771657142702E-5,{"$f":"IF($B785=\"\",\"\",VLOOKUP($B785,_tbl!$A:$E,N$2,0))","v":"Male"},{"$f":"IF($B785=\"\",\"\",VLOOKUP($B785,_tbl!$A:$E,O$2,0))","v":"East"},{"$f":"IF($B785=\"\",\"\",VLOOKUP($B785,_tbl!$A:$E,P$2,0))","v":"Urban"},{"$f":"IF($B785=\"\",\"\",VLOOKUP($B785,_tbl!$A:$E,Q$2,0))","v":"External"},null,6.8479715290696702E-5,4.5699771657142702E-5]
[null,"all_m_East Urban external.csv","10-14",6.5950304858509304E-5,6.1914204413722999E-5,5.7931775565741001E-5,5.41579232126553E-5,5.06044759508117E-5,4.72704473240001E-5,4.4120047709237898E-5,4.1140559611905598E-5,3.8303054911463698E-5,3.5595947176745301E-5,{"$f":"IF($B786=\"\",\"\",VLOOKUP($B786,_tbl!$A:$E,N$2,0))","v":"Male"},{"$f":"IF($B786=\"\",\"\",VLOOKUP($B786,_tbl!$A:$E,O$2,0))","v":"East"},{"$f":"IF($B786=\"\",\"\",VLOOKUP($B786,_tbl!$A:$E,P$2,0))","v":"Urban"},{"$f":"IF($B786=\"\",\"\",VLOOKUP($B786,_tbl!$A:$E,Q$2,0))","v":"External"},null,6.5950304858509304E-5,3.5595947176745301E-5]
[null,"all_m_East Urban external.csv","15-19",7.4349254646591305E-5,6.7507252704651803E-5,6.1203708802537202E-5,5.5211008137772801E-5,4.9659961909822397E-5,4.4391421138348799E-5,3.9441056762529102E-5,3.4784582611031099E-5,3.0387744866233501E-5,2.6235522815114201E-5,{"$f":"IF($B787=\"\",\"\",VLOOKUP($B787,_tbl!$A:$E,N$2,0))","v":"Male"},{"$f":"IF($B787=\"\",\"\",VLOOKUP($B787,_tbl!$A:$E,O$2,0))","v":"East"},{"$f":"IF($B787=\"\",\"\",VLOOKUP($B787,_tbl!$A:$E,P$2,0))","v":"Urban"},{"$f":"IF($B787=\"\",\"\",VLOOKUP($B787,_tbl!$A:$E,Q$2,0))","v":"External"},null,7.4349254646591305E-5,2.6235522815114201E-5]
[null,"all_m_East Urban external.csv","20-24",9.0952850919670194E-5,8.2299914967915404E-5,7.4399438481395904E-5,6.6858678989962402E-5,5.9980643432422697E-5,5.3544515997953798E-5,4.76145087577318E-5,4.2063566678604601E-5,3.6884271675567298E-5,3.2015583909431099E-5,{"$f":"IF($B788=\"\",\"\",VLOOKUP($B788,_tbl!$A:$E,N$2,0))","v":"Male"},{"$f":"IF($B788=\"\",\"\",VLOOKUP($B788,_tbl!$A:$E,O$2,0))","v":"East"},{"$f":"IF($B788=\"\",\"\",VLOOKUP($B788,_tbl!$A:$E,P$2,0))","v":"Urban"},{"$f":"IF($B788=\"\",\"\",VLOOKUP($B788,_tbl!$A:$E,Q$2,0))","v":"External"},null,9.0952850919670194E-5,3.2015583909431099E-5]
[null,"all_m_East Urban external.csv","25-29",1.25478232759038E-4,1.1622611843101E-4,1.07986576211956E-4,1.00071467303975E-4,9.2720610332589298E-5,8.5693745550822299E-5,7.9092547228829899E-5,7.2865528694992395E-5,6.7067245578975694E-5,6.1659609016599602E-5,{"$f":"IF($B789=\"\",\"\",VLOOKUP($B789,_tbl!$A:$E,N$2,0))","v":"Male"},{"$f":"IF($B789=\"\",\"\",VLOOKUP($B789,_tbl!$A:$E,O$2,0))","v":"East"},{"$f":"IF($B789=\"\",\"\",VLOOKUP($B789,_tbl!$A:$E,P$2,0))","v":"Urban"},{"$f":"IF($B789=\"\",\"\",VLOOKUP($B789,_tbl!$A:$E,Q$2,0))","v":"External"},null,1.25478232759038E-4,6.1659609016599602E-5]
[null,"all_m_East Urban external.csv","30-34",1.6137593544256901E-4,1.5104373888081199E-4,1.4172509727702201E-4,1.32906655273143E-4,1.2439625523702E-4,1.16079009376017E-4,1.08050970692393E-4,1.00416169651496E-4,9.3270993526610896E-5,8.66416437988757E-5,{"$f":"IF($B790=\"\",\"\",VLOOKUP($B790,_tbl!$A:$E,N$2,0))","v":"Male"},{"$f":"IF($B790=\"\",\"\",VLOOKUP($B790,_tbl!$A:$E,O$2,0))","v":"East"},{"$f":"IF($B790=\"\",\"\",VLOOKUP($B790,_tbl!$A:$E,P$2,0))","v":"Urban"},{"$f":"IF($B790=\"\",\"\",VLOOKUP($B790,_tbl!$A:$E,Q$2,0))","v":"External"},null,1.6137593544256901E-4,8.66416437988757E-5]
[null,"all_m_East Urban external.csv","35-39",1.8981771099187101E-4,1.76109656682671E-4,1.6380300361227499E-4,1.5190048372423E-4,1.4072313446713099E-4,1.29878832717001E-4,1.19621106260877E-4,1.09836089221246E-4,1.0069681121910099E-4,9.21221201318578E-5,{"$f":"IF($B791=\"\",\"\",VLOOKUP($B791,_tbl!$A:$E,N$2,0))","v":"Male"},{"$f":"IF($B791=\"\",\"\",VLOOKUP($B791,_tbl!$A:$E,O$2,0))","v":"East"},{"$f":"IF($B791=\"\",\"\",VLOOKUP($B791,_tbl!$A:$E,P$2,0))","v":"Urban"},{"$f":"IF($B791=\"\",\"\",VLOOKUP($B791,_tbl!$A:$E,Q$2,0))","v":"External"},null,1.8981771099187101E-4,9.21221201318578E-5]
[null,"all_m_East Urban external.csv","40-44",2.03973277013968E-4,1.86241699612227E-4,1.7250288552479601E-4,1.57522144820651E-4,1.4413205684546E-4,1.30365118740685E-4,1.17686160506101E-4,1.0528479870411199E-4,9.39435663472698E-5,8.3175249050412199E-5,{"$f":"IF($B792=\"\",\"\",VLOOKUP($B792,_tbl!$A:$E,N$2,0))","v":"Male"},{"$f":"IF($B792=\"\",\"\",VLOOKUP($B792,_tbl!$A:$E,O$2,0))","v":"East"},{"$f":"IF($B792=\"\",\"\",VLOOKUP($B792,_tbl!$A:$E,P$2,0))","v":"Urban"},{"$f":"IF($B792=\"\",\"\",VLOOKUP($B792,_tbl!$A:$E,Q$2,0))","v":"External"},null,2.03973277013968E-4,8.3175249050412199E-5]
[null,"all_m_East Urban external.csv","45-49",2.5237383128059798E-4,2.3514410753872099E-4,2.1924635731143899E-4,2.0367190393833401E-4,1.88136506860347E-4,1.7297624613234501E-4,1.5800146066766201E-4,1.43816265406836E-4,1.3024463165312199E-4,1.17672214182934E-4,{"$f":"IF($B793=\"\",\"\",VLOOKUP($B793,_tbl!$A:$E,N$2,0))","v":"Male"},{"$f":"IF($B793=\"\",\"\",VLOOKUP($B793,_tbl!$A:$E,O$2,0))","v":"East"},{"$f":"IF($B793=\"\",\"\",VLOOKUP($B793,_tbl!$A:$E,P$2,0))","v":"Urban"},{"$f":"IF($B793=\"\",\"\",VLOOKUP($B793,_tbl!$A:$E,Q$2,0))","v":"External"},null,2.5237383128059798E-4,1.17672214182934E-4]
[null,"all_m_East Urban external.csv","50-54",3.4267144446176997E-4,3.2862536693722798E-4,3.1439756331992598E-4,3.0051434597132802E-4,2.8638584149471799E-4,2.7273068573758401E-4,2.5904050619834701E-4,2.4596308242149501E-4,2.3310666270994799E-4,2.2092320122189501E-4,{"$f":"IF($B794=\"\",\"\",VLOOKUP($B794,_tbl!$A:$E,N$2,0))","v":"Male"},{"$f":"IF($B794=\"\",\"\",VLOOKUP($B794,_tbl!$A:$E,O$2,0))","v":"East"},{"$f":"IF($B794=\"\",\"\",VLOOKUP($B794,_tbl!$A:$E,P$2,0))","v":"Urban"},{"$f":"IF($B794=\"\",\"\",VLOOKUP($B794,_tbl!$A:$E,Q$2,0))","v":"External"},null,3.4267144446176997E-4,2.2092320122189501E-4]
[null,"all_m_East Urban external.csv","55-59",4.6126123735512999E-4,4.5363474794421802E-4,4.4476005217138098E-4,4.3543634266116402E-4,4.2564200484402498E-4,4.1592308302587302E-4,4.0605598946001598E-4,3.9639410809606498E-4,3.8669903020710798E-4,3.77219990025338E-4,{"$f":"IF($B795=\"\",\"\",VLOOKUP($B795,_tbl!$A:$E,N$2,0))","v":"Male"},{"$f":"IF($B795=\"\",\"\",VLOOKUP($B795,_tbl!$A:$E,O$2,0))","v":"East"},{"$f":"IF($B795=\"\",\"\",VLOOKUP($B795,_tbl!$A:$E,P$2,0))","v":"Urban"},{"$f":"IF($B795=\"\",\"\",VLOOKUP($B795,_tbl!$A:$E,Q$2,0))","v":"External"},null,4.6126123735512999E-4,3.77219990025338E-4]
[null,"all_m_East Urban external.csv","60-64",5.56081317028015E-4,5.5393293387607395E-4,5.5071737889493501E-4,5.4653212159057297E-4,5.41743579524859E-4,5.3664775896251199E-4,5.3132125862044902E-4,5.2597151151031302E-4,5.2053480392345896E-4,5.1513622392519395E-4,{"$f":"IF($B796=\"\",\"\",VLOOKUP($B796,_tbl!$A:$E,N$2,0))","v":"Male"},{"$f":"IF($B796=\"\",\"\",VLOOKUP($B796,_tbl!$A:$E,O$2,0))","v":"East"},{"$f":"IF($B796=\"\",\"\",VLOOKUP($B796,_tbl!$A:$E,P$2,0))","v":"Urban"},{"$f":"IF($B796=\"\",\"\",VLOOKUP($B796,_tbl!$A:$E,Q$2,0))","v":"External"},null,5.56081317028015E-4,5.1513622392519395E-4]
[null,"all_m_East Urban external.csv","65-69",6.6724962928913899E-4,6.6614236552394303E-4,6.64515340536612E-4,6.6228314470244398E-4,6.5984668783233402E-4,6.5725369901422595E-4,6.5458267842748196E-4,6.5188519894882795E-4,6.4912976062076995E-4,6.4636304801205002E-4,{"$f":"IF($B797=\"\",\"\",VLOOKUP($B797,_tbl!$A:$E,N$2,0))","v":"Male"},{"$f":"IF($B797=\"\",\"\",VLOOKUP($B797,_tbl!$A:$E,O$2,0))","v":"East"},{"$f":"IF($B797=\"\",\"\",VLOOKUP($B797,_tbl!$A:$E,P$2,0))","v":"Urban"},{"$f":"IF($B797=\"\",\"\",VLOOKUP($B797,_tbl!$A:$E,Q$2,0))","v":"External"},null,6.6724962928913899E-4,6.4636304801205002E-4]
[null,"all_m_East Urban external.csv","70-74",8.9448633852850699E-4,8.9188168529605002E-4,8.8883868790811901E-4,8.8568606489687304E-4,8.8248658312850201E-4,8.7927914919065295E-4,8.7607074056262105E-4,8.7284469379875598E-4,8.6960596917307401E-4,8.6634629903594904E-4,{"$f":"IF($B798=\"\",\"\",VLOOKUP($B798,_tbl!$A:$E,N$2,0))","v":"Male"},{"$f":"IF($B798=\"\",\"\",VLOOKUP($B798,_tbl!$A:$E,O$2,0))","v":"East"},{"$f":"IF($B798=\"\",\"\",VLOOKUP($B798,_tbl!$A:$E,P$2,0))","v":"Urban"},{"$f":"IF($B798=\"\",\"\",VLOOKUP($B798,_tbl!$A:$E,Q$2,0))","v":"External"},null,8.9448633852850699E-4,8.6634629903594904E-4]
[null,"all_m_East Urban external.csv","75-79",1.39692646627015E-3,1.3930321131593701E-3,1.38773100702444E-3,1.3829741497682301E-3,1.37710127377877E-3,1.37117064877361E-3,1.3647147994057E-3,1.3583935734029901E-3,1.3520550698973E-3,1.3460229921883899E-3,{"$f":"IF($B799=\"\",\"\",VLOOKUP($B799,_tbl!$A:$E,N$2,0))","v":"Male"},{"$f":"IF($B799=\"\",\"\",VLOOKUP($B799,_tbl!$A:$E,O$2,0))","v":"East"},{"$f":"IF($B799=\"\",\"\",VLOOKUP($B799,_tbl!$A:$E,P$2,0))","v":"Urban"},{"$f":"IF($B799=\"\",\"\",VLOOKUP($B799,_tbl!$A:$E,Q$2,0))","v":"External"},null,1.39692646627015E-3,1.3460229921883899E-3]
[null,"all_m_East Urban external.csv","80-84",2.4796232946485701E-3,2.5083176956442999E-3,2.51815951604345E-3,2.53059243261849E-3,2.5256911163824601E-3,2.5164770512387498E-3,2.5017816057829002E-3,2.4882621614409398E-3,2.4762748459261599E-3,2.4673306915925001E-3,{"$f":"IF($B800=\"\",\"\",VLOOKUP($B800,_tbl!$A:$E,N$2,0))","v":"Male"},{"$f":"IF($B800=\"\",\"\",VLOOKUP($B800,_tbl!$A:$E,O$2,0))","v":"East"},{"$f":"IF($B800=\"\",\"\",VLOOKUP($B800,_tbl!$A:$E,P$2,0))","v":"Urban"},{"$f":"IF($B800=\"\",\"\",VLOOKUP($B800,_tbl!$A:$E,Q$2,0))","v":"External"},null,2.53059243261849E-3,2.4673306915925001E-3]
[null,"all_m_East Urban external.csv","85+",4.6601835024172597E-3,4.60974801114045E-3,4.5206594787456401E-3,4.4600914256378603E-3,4.4238654574338997E-3,4.4239858291022496E-3,4.4447414166557996E-3,4.4760806963172204E-3,4.4972040529369104E-3,4.4969731544048401E-3,{"$f":"IF($B801=\"\",\"\",VLOOKUP($B801,_tbl!$A:$E,N$2,0))","v":"Male"},{"$f":"IF($B801=\"\",\"\",VLOOKUP($B801,_tbl!$A:$E,O$2,0))","v":"East"},{"$f":"IF($B801=\"\",\"\",VLOOKUP($B801,_tbl!$A:$E,P$2,0))","v":"Urban"},{"$f":"IF($B801=\"\",\"\",VLOOKUP($B801,_tbl!$A:$E,Q$2,0))","v":"External"},null,4.6601835024172597E-3,4.4238654574338997E-3]
[null,null,null,null,null,null,null,null,null,null,null,null,null,{"$f":"IF($B802=\"\",\"\",VLOOKUP($B802,_tbl!$A:$E,N$2,0))","v":""},{"$f":"IF($B802=\"\",\"\",VLOOKUP($B802,_tbl!$A:$E,O$2,0))","v":""},{"$f":"IF($B802=\"\",\"\",VLOOKUP($B802,_tbl!$A:$E,P$2,0))","v":""},{"$f":"IF($B802=\"\",\"\",VLOOKUP($B802,_tbl!$A:$E,Q$2,0))","v":""}]
[null,null,null,2020,2021,2022,2023,2024,2025,2026,2027,2028,2029,{"$f":"IF($B803=\"\",\"\",VLOOKUP($B803,_tbl!$A:$E,N$2,0))","v":""},{"$f":"IF($B803=\"\",\"\",VLOOKUP($B803,_tbl!$A:$E,O$2,0))","v":""},{"$f":"IF($B803=\"\",\"\",VLOOKUP($B803,_tbl!$A:$E,P$2,0))","v":""},{"$f":"IF($B803=\"\",\"\",VLOOKUP($B803,_tbl!$A:$E,Q$2,0))","v":""}]
[null,"all_m_East Urban infectious.csv","1-4",3.97570075892817E-5,3.8885657576146398E-5,3.8277341415033702E-5,3.77626557664475E-5,3.7396177340408999E-5,3.7088566749994403E-5,3.6783466613443898E-5,3.6527785673045399E-5,3.6264607997291697E-5,3.5996916541564601E-5,{"$f":"IF($B804=\"\",\"\",VLOOKUP($B804,_tbl!$A:$E,N$2,0))","v":"Male"},{"$f":"IF($B804=\"\",\"\",VLOOKUP($B804,_tbl!$A:$E,O$2,0))","v":"East"},{"$f":"IF($B804=\"\",\"\",VLOOKUP($B804,_tbl!$A:$E,P$2,0))","v":"Urban"},{"$f":"IF($B804=\"\",\"\",VLOOKUP($B804,_tbl!$A:$E,Q$2,0))","v":"Infectious"},null,{"$f":"MAX(D804:M804)","v":3.97570075892817E-5},{"$f":"MIN(D804:M804)","v":3.5996916541564601E-5}]
[null,"all_m_East Urban infectious.csv","5-9",1.0257364212251201E-5,1.00515879847326E-5,9.9327099659179705E-6,9.8789712628493199E-6,9.8459763083767605E-6,9.8283058745999605E-6,9.8225945419999895E-6,9.8194339019947195E-6,9.8194359716162102E-6,9.8244554161042992E-6,{"$f":"IF($B805=\"\",\"\",VLOOKUP($B805,_tbl!$A:$E,N$2,0))","v":"Male"},{"$f":"IF($B805=\"\",\"\",VLOOKUP($B805,_tbl!$A:$E,O$2,0))","v":"East"},{"$f":"IF($B805=\"\",\"\",VLOOKUP($B805,_tbl!$A:$E,P$2,0))","v":"Urban"},{"$f":"IF($B805=\"\",\"\",VLOOKUP($B805,_tbl!$A:$E,Q$2,0))","v":"Infectious"},null,1.0257364212251201E-5,9.8194339019947195E-6]
[null,"all_m_East Urban infectious.csv","10-14",8.0222886916204804E-6,7.8182246050268706E-6,7.7127558546734999E-6,7.6420637390038793E-6,7.5966157223430504E-6,7.5644839533829604E-6,7.5403494624883904E-6,7.5200508929028096E-6,7.5001210784567803E-6,7.4801624437963001E-6,{"$f":"IF($B806=\"\",\"\",VLOOKUP($B806,_tbl!$A:$E,N$2,0))","v":"Male"},{"$f":"IF($B806=\"\",\"\",VLOOKUP($B806,_tbl!$A:$E,O$2,0))","v":"East"},{"$f":"IF($B806=\"\",\"\",VLOOKUP($B806,_tbl!$A:$E,P$2,0))","v":"Urban"},{"$f":"IF($B806=\"\",\"\",VLOOKUP($B806,_tbl!$A:$E,Q$2,0))","v":"Infectious"},null,8.0222886916204804E-6,7.4801624437963001E-6]
[null,"all_m_East Urban infectious.csv","15-19",7.0662708564572696E-6,6.9518019667447696E-6,6.9127400882123601E-6,6.8939229168575598E-6,6.8795289243681699E-6,6.8606044460878596E-6,6.83871876048754E-6,6.8168647440838502E-6,6.7994645596508404E-6,6.7891212432727099E-6,{"$f":"IF($B807=\"\",\"\",VLOOKUP($B807,_tbl!$A:$E,N$2,0))","v":"Male"},{"$f":"IF($B807=\"\",\"\",VLOOKUP($B807,_tbl!$A:$E,O$2,0))","v":"East"},{"$f":"IF($B807=\"\",\"\",VLOOKUP($B807,_tbl!$A:$E,P$2,0))","v":"Urban"},{"$f":"IF($B807=\"\",\"\",VLOOKUP($B807,_tbl!$A:$E,Q$2,0))","v":"Infectious"},null,7.0662708564572696E-6,6.7891212432727099E-6]
[null,"all_m_East Urban infectious.csv","20-24",7.7632805903672302E-6,7.7123552039670002E-6,7.6896964550900292E-6,7.6912361102048601E-6,7.6718452474571702E-6,7.6367919306711606E-6,7.5865801322494299E-6,7.5346987062551901E-6,7.4889618430166802E-6,7.4540569684196101E-6,{"$f":"IF($B808=\"\",\"\",VLOOKUP($B808,_tbl!$A:$E,N$2,0))","v":"Male"},{"$f":"IF($B808=\"\",\"\",VLOOKUP($B808,_tbl!$A:$E,O$2,0))","v":"East"},{"$f":"IF($B808=\"\",\"\",VLOOKUP($B808,_tbl!$A:$E,P$2,0))","v":"Urban"},{"$f":"IF($B808=\"\",\"\",VLOOKUP($B808,_tbl!$A:$E,Q$2,0))","v":"Infectious"},null,7.7632805903672302E-6,7.4540569684196101E-6]
[null,"all_m_East Urban infectious.csv","25-29",1.2142371917062101E-5,1.20706080293523E-5,1.1922758827388201E-5,1.17891649448297E-5,1.16759218525131E-5,1.15975597635845E-5,1.15377611316423E-5,1.14861669158317E-5,1.14308816761979E-5,1.1369349707973301E-5,{"$f":"IF($B809=\"\",\"\",VLOOKUP($B809,_tbl!$A:$E,N$2,0))","v":"Male"},{"$f":"IF($B809=\"\",\"\",VLOOKUP($B809,_tbl!$A:$E,O$2,0))","v":"East"},{"$f":"IF($B809=\"\",\"\",VLOOKUP($B809,_tbl!$A:$E,P$2,0))","v":"Urban"},{"$f":"IF($B809=\"\",\"\",VLOOKUP($B809,_tbl!$A:$E,Q$2,0))","v":"Infectious"},null,1.2142371917062101E-5,1.1369349707973301E-5]
[null,"all_m_East Urban infectious.csv","30-34",2.0672206731077699E-5,2.0768187421630399E-5,2.0754352913748601E-5,2.0683558104747199E-5,2.0637786560304301E-5,2.0613377296705601E-5,2.06102497616233E-5,2.06055658999291E-5,2.0589455396197801E-5,2.0554704732090501E-5,{"$f":"IF($B810=\"\",\"\",VLOOKUP($B810,_tbl!$A:$E,N$2,0))","v":"Male"},{"$f":"IF($B810=\"\",\"\",VLOOKUP($B810,_tbl!$A:$E,O$2,0))","v":"East"},{"$f":"IF($B810=\"\",\"\",VLOOKUP($B810,_tbl!$A:$E,P$2,0))","v":"Urban"},{"$f":"IF($B810=\"\",\"\",VLOOKUP($B810,_tbl!$A:$E,Q$2,0))","v":"Infectious"},null,2.0768187421630399E-5,2.0554704732090501E-5]
[null,"all_m_East Urban infectious.csv","35-39",3.03650702560686E-5,3.0694784817476098E-5,3.0819404908931299E-5,3.0786642847366701E-5,3.0723323331019297E-5,3.0637445207038199E-5,3.05451031036174E-5,3.0439179015544899E-5,3.0312419783162801E-5,3.0165969634639999E-5,{"$f":"IF($B811=\"\",\"\",VLOOKUP($B811,_tbl!$A:$E,N$2,0))","v":"Male"},{"$f":"IF($B811=\"\",\"\",VLOOKUP($B811,_tbl!$A:$E,O$2,0))","v":"East"},{"$f":"IF($B811=\"\",\"\",VLOOKUP($B811,_tbl!$A:$E,P$2,0))","v":"Urban"},{"$f":"IF($B811=\"\",\"\",VLOOKUP($B811,_tbl!$A:$E,Q$2,0))","v":"Infectious"},null,3.0819404908931299E-5,3.0165969634639999E-5]
[null,"all_m_East Urban infectious.csv","40-44",3.7791305855996398E-5,3.7863238316971497E-5,3.7938815731295603E-5,3.7426937817662297E-5,3.69768993254566E-5,3.6272661601549398E-5,3.5638440716828903E-5,3.4886928035744001E-5,3.4199764011333998E-5,3.3458365268728503E-5,{"$f":"IF($B812=\"\",\"\",VLOOKUP($B812,_tbl!$A:$E,N$2,0))","v":"Male"},{"$f":"IF($B812=\"\",\"\",VLOOKUP($B812,_tbl!$A:$E,O$2,0))","v":"East"},{"$f":"IF($B812=\"\",\"\",VLOOKUP($B812,_tbl!$A:$E,P$2,0))","v":"Urban"},{"$f":"IF($B812=\"\",\"\",VLOOKUP($B812,_tbl!$A:$E,Q$2,0))","v":"Infectious"},null,3.7938815731295603E-5,3.3458365268728503E-5]
[null,"all_m_East Urban infectious.csv","45-49",6.0346213249773798E-5,6.1034974183747403E-5,6.1179263494956599E-5,6.0961702951927998E-5,6.0691387885804902E-5,6.03310448591578E-5,6.0010558288755398E-5,5.96287156470602E-5,5.9249376265391397E-5,5.8798213924260801E-5,{"$f":"IF($B813=\"\",\"\",VLOOKUP($B813,_tbl!$A:$E,N$2,0))","v":"Male"},{"$f":"IF($B813=\"\",\"\",VLOOKUP($B813,_tbl!$A:$E,O$2,0))","v":"East"},{"$f":"IF($B813=\"\",\"\",VLOOKUP($B813,_tbl!$A:$E,P$2,0))","v":"Urban"},{"$f":"IF($B813=\"\",\"\",VLOOKUP($B813,_tbl!$A:$E,Q$2,0))","v":"Infectious"},null,6.1179263494956599E-5,5.8798213924260801E-5]
[null,"all_m_East Urban infectious.csv","50-54",1.04620543914372E-4,1.0585800744276499E-4,1.06450909504258E-4,1.06372909666728E-4,1.06173640293345E-4,1.05703476426795E-4,1.05254283633914E-4,1.0467050662975999E-4,1.04129326070687E-4,1.035100591536E-4,{"$f":"IF($B814=\"\",\"\",VLOOKUP($B814,_tbl!$A:$E,N$2,0))","v":"Male"},{"$f":"IF($B814=\"\",\"\",VLOOKUP($B814,_tbl!$A:$E,O$2,0))","v":"East"},{"$f":"IF($B814=\"\",\"\",VLOOKUP($B814,_tbl!$A:$E,P$2,0))","v":"Urban"},{"$f":"IF($B814=\"\",\"\",VLOOKUP($B814,_tbl!$A:$E,Q$2,0))","v":"Infectious"},null,1.06450909504258E-4,1.035100591536E-4]
[null,"all_m_East Urban infectious.csv","55-59",1.7426722213829799E-4,1.7676649374216301E-4,1.7808750169310899E-4,1.7856579323658099E-4,1.7864841690760301E-4,1.7845123932066099E-4,1.7812672170283001E-4,1.7770437298071201E-4,1.77236818149916E-4,1.7672990618924699E-4,{"$f":"IF($B815=\"\",\"\",VLOOKUP($B815,_tbl!$A:$E,N$2,0))","v":"Male"},{"$f":"IF($B815=\"\",\"\",VLOOKUP($B815,_tbl!$A:$E,O$2,0))","v":"East"},{"$f":"IF($B815=\"\",\"\",VLOOKUP($B815,_tbl!$A:$E,P$2,0))","v":"Urban"},{"$f":"IF($B815=\"\",\"\",VLOOKUP($B815,_tbl!$A:$E,Q$2,0))","v":"Infectious"},null,1.7864841690760301E-4,1.7426722213829799E-4]
[null,"all_m_East Urban infectious.csv","60-64",2.5743192082054701E-4,2.6048862745800701E-4,2.6222717285230698E-4,2.6301115048462802E-4,2.6330035232169E-4,2.6325843413690301E-4,2.6303257813511298E-4,2.62706635974067E-4,2.6232096954025702E-4,2.6191777421186201E-4,{"$f":"IF($B816=\"\",\"\",VLOOKUP($B816,_tbl!$A:$E,N$2,0))","v":"Male"},{"$f":"IF($B816=\"\",\"\",VLOOKUP($B816,_tbl!$A:$E,O$2,0))","v":"East"},{"$f":"IF($B816=\"\",\"\",VLOOKUP($B816,_tbl!$A:$E,P$2,0))","v":"Urban"},{"$f":"IF($B816=\"\",\"\",VLOOKUP($B816,_tbl!$A:$E,Q$2,0))","v":"Infectious"},null,2.6330035232169E-4,2.5743192082054701E-4]
[null,"all_m_East Urban infectious.csv","65-69",3.5930357117807099E-4,3.6023900423970802E-4,3.59899715228597E-4,3.5893330902495398E-4,3.5738702030671402E-4,3.5559224881458401E-4,3.5362027121690703E-4,3.5160912171474599E-4,3.4958042736176002E-4,3.4757368078554301E-4,{"$f":"IF($B817=\"\",\"\",VLOOKUP($B817,_tbl!$A:$E,N$2,0))","v":"Male"},{"$f":"IF($B817=\"\",\"\",VLOOKUP($B817,_tbl!$A:$E,O$2,0))","v":"East"},{"$f":"IF($B817=\"\",\"\",VLOOKUP($B817,_tbl!$A:$E,P$2,0))","v":"Urban"},{"$f":"IF($B817=\"\",\"\",VLOOKUP($B817,_tbl!$A:$E,Q$2,0))","v":"Infectious"},null,3.6023900423970802E-4,3.4757368078554301E-4]
[null,"all_m_East Urban infectious.csv","70-74",5.9169952994008205E-4,5.8738856817515004E-4,5.8178929422075202E-4,5.7617590345275299E-4,5.69900918518827E-4,5.6350282550349305E-4,5.5697692815608198E-4,5.5047891608188296E-4,5.4404914610483299E-4,5.3767933833076998E-4,{"$f":"IF($B818=\"\",\"\",VLOOKUP($B818,_tbl!$A:$E,N$2,0))","v":"Male"},{"$f":"IF($B818=\"\",\"\",VLOOKUP($B818,_tbl!$A:$E,O$2,0))","v":"East"},{"$f":"IF($B818=\"\",\"\",VLOOKUP($B818,_tbl!$A:$E,P$2,0))","v":"Urban"},{"$f":"IF($B818=\"\",\"\",VLOOKUP($B818,_tbl!$A:$E,Q$2,0))","v":"Infectious"},null,5.9169952994008205E-4,5.3767933833076998E-4]
[null,"all_m_East Urban infectious.csv","75-79",1.36987276629893E-3,1.3536979746097001E-3,1.3401720382887701E-3,1.32997060131635E-3,1.3209609226293899E-3,1.3128070549726901E-3,1.3047428663336799E-3,1.29691877649918E-3,1.28934233437325E-3,1.2822885399099101E-3,{"$f":"IF($B819=\"\",\"\",VLOOKUP($B819,_tbl!$A:$E,N$2,0))","v":"Male"},{"$f":"IF($B819=\"\",\"\",VLOOKUP($B819,_tbl!$A:$E,O$2,0))","v":"East"},{"$f":"IF($B819=\"\",\"\",VLOOKUP($B819,_tbl!$A:$E,P$2,0))","v":"Urban"},{"$f":"IF($B819=\"\",\"\",VLOOKUP($B819,_tbl!$A:$E,Q$2,0))","v":"Infectious"},null,1.36987276629893E-3,1.2822885399099101E-3]
[null,"all_m_East Urban infectious.csv","80-84",3.4557771154998802E-3,3.4797564709499302E-3,3.5622188545493499E-3,3.6263675722026999E-3,3.6191832991974001E-3,3.54342907887281E-3,3.4194346485982301E-3,3.2841022843590299E-3,3.1721786695684002E-3,3.1067002246385001E-3,{"$f":"IF($B820=\"\",\"\",VLOOKUP($B820,_tbl!$A:$E,N$2,0))","v":"Male"},{"$f":"IF($B820=\"\",\"\",VLOOKUP($B820,_tbl!$A:$E,O$2,0))","v":"East"},{"$f":"IF($B820=\"\",\"\",VLOOKUP($B820,_tbl!$A:$E,P$2,0))","v":"Urban"},{"$f":"IF($B820=\"\",\"\",VLOOKUP($B820,_tbl!$A:$E,Q$2,0))","v":"Infectious"},null,3.6263675722026999E-3,3.1067002246385001E-3]
[null,"all_m_East Urban infectious.csv","85+",1.1675736452789199E-2,1.1596020747377801E-2,1.1757535448989101E-2,1.1907004014329901E-2,1.19280763061087E-2,1.1799562605280201E-2,1.15576338992804E-2,1.1277034191927901E-2,1.10502477815662E-2,1.0947195266696E-2,{"$f":"IF($B821=\"\",\"\",VLOOKUP($B821,_tbl!$A:$E,N$2,0))","v":"Male"},{"$f":"IF($B821=\"\",\"\",VLOOKUP($B821,_tbl!$A:$E,O$2,0))","v":"East"},{"$f":"IF($B821=\"\",\"\",VLOOKUP($B821,_tbl!$A:$E,P$2,0))","v":"Urban"},{"$f":"IF($B821=\"\",\"\",VLOOKUP($B821,_tbl!$A:$E,Q$2,0))","v":"Infectious"},null,1.19280763061087E-2,1.0947195266696E-2]
[null,null,null,null,null,null,null,null,null,null,null,null,null,{"$f":"IF($B822=\"\",\"\",VLOOKUP($B822,_tbl!$A:$E,N$2,0))","v":""},{"$f":"IF($B822=\"\",\"\",VLOOKUP($B822,_tbl!$A:$E,O$2,0))","v":""},{"$f":"IF($B822=\"\",\"\",VLOOKUP($B822,_tbl!$A:$E,P$2,0))","v":""},{"$f":"IF($B822=\"\",\"\",VLOOKUP($B822,_tbl!$A:$E,Q$2,0))","v":""}]
[null,null,null,2020,2021,2022,2023,2024,2025,2026,2027,2028,2029,{"$f":"IF($B823=\"\",\"\",VLOOKUP($B823,_tbl!$A:$E,N$2,0))","v":""},{"$f":"IF($B823=\"\",\"\",VLOOKUP($B823,_tbl!$A:$E,O$2,0))","v":""},{"$f":"IF($B823=\"\",\"\",VLOOKUP($B823,_tbl!$A:$E,P$2,0))","v":""},{"$f":"IF($B823=\"\",\"\",VLOOKUP($B823,_tbl!$A:$E,Q$2,0))","v":""}]
[null,"all_m_East Urban mental.csv","1-4",3.3676403899390198E-5,3.32243932282395E-5,3.2865874759038098E-5,3.2406476524280302E-5,3.2083824649351E-5,3.17723697543268E-5,3.1433349135771003E-5,3.1145703853620902E-5,3.0837253821860499E-5,3.0505018973964002E-5,{"$f":"IF($B824=\"\",\"\",VLOOKUP($B824,_tbl!$A:$E,N$2,0))","v":"Male"},{"$f":"IF($B824=\"\",\"\",VLOOKUP($B824,_tbl!$A:$E,O$2,0))","v":"East"},{"$f":"IF($B824=\"\",\"\",VLOOKUP($B824,_tbl!$A:$E,P$2,0))","v":"Urban"},{"$f":"IF($B824=\"\",\"\",VLOOKUP($B824,_tbl!$A:$E,Q$2,0))","v":"Mental"},null,{"$f":"MAX(D824:M824)","v":3.3676403899390198E-5},{"$f":"MIN(D824:M824)","v":3.0505018973964002E-5}]
[null,"all_m_East Urban mental.csv","5-9",1.5107074571189401E-5,1.5055889537697E-5,1.5030877705986401E-5,1.4974777151110899E-5,1.4939987178697499E-5,1.4902073677422799E-5,1.4855663501430701E-5,1.4815206634302299E-5,1.47756423617577E-5,1.47309949070912E-5,{"$f":"IF($B825=\"\",\"\",VLOOKUP($B825,_tbl!$A:$E,N$2,0))","v":"Male"},{"$f":"IF($B825=\"\",\"\",VLOOKUP($B825,_tbl!$A:$E,O$2,0))","v":"East"},{"$f":"IF($B825=\"\",\"\",VLOOKUP($B825,_tbl!$A:$E,P$2,0))","v":"Urban"},{"$f":"IF($B825=\"\",\"\",VLOOKUP($B825,_tbl!$A:$E,Q$2,0))","v":"Mental"},null,1.5107074571189401E-5,1.47309949070912E-5]
[null,"all_m_East Urban mental.csv","10-14",1.6503419145351302E-5,1.6549462039659201E-5,1.6584457911893702E-5,1.66103005809547E-5,1.6641701624519699E-5,1.6664008783206599E-5,1.6694006983888999E-5,1.6718845512272499E-5,1.67446443667208E-5,1.6773192152464699E-5,{"$f":"IF($B826=\"\",\"\",VLOOKUP($B826,_tbl!$A:$E,N$2,0))","v":"Male"},{"$f":"IF($B826=\"\",\"\",VLOOKUP($B826,_tbl!$A:$E,O$2,0))","v":"East"},{"$f":"IF($B826=\"\",\"\",VLOOKUP($B826,_tbl!$A:$E,P$2,0))","v":"Urban"},{"$f":"IF($B826=\"\",\"\",VLOOKUP($B826,_tbl!$A:$E,Q$2,0))","v":"Mental"},null,1.6773192152464699E-5,1.6503419145351302E-5]
[null,"all_m_East Urban mental.csv","15-19",1.5903509498492001E-5,1.5760059561357001E-5,1.5693884345533699E-5,1.55584622386312E-5,1.5481952387721001E-5,1.5390157810695501E-5,1.5314437316491799E-5,1.52373125677284E-5,1.51565140332816E-5,1.5066024144568101E-5,{"$f":"IF($B827=\"\",\"\",VLOOKUP($B827,_tbl!$A:$E,N$2,0))","v":"Male"},{"$f":"IF($B827=\"\",\"\",VLOOKUP($B827,_tbl!$A:$E,O$2,0))","v":"East"},{"$f":"IF($B827=\"\",\"\",VLOOKUP($B827,_tbl!$A:$E,P$2,0))","v":"Urban"},{"$f":"IF($B827=\"\",\"\",VLOOKUP($B827,_tbl!$A:$E,Q$2,0))","v":"Mental"},null,1.5903509498492001E-5,1.5066024144568101E-5]
[null,"all_m_East Urban mental.csv","20-24",1.34191304398846E-5,1.33391657780318E-5,1.32855497424239E-5,1.32147295293322E-5,1.3151172421410799E-5,1.30787806123029E-5,1.30078669472984E-5,1.2935999505805801E-5,1.28678003402557E-5,1.2803447408656401E-5,{"$f":"IF($B828=\"\",\"\",VLOOKUP($B828,_tbl!$A:$E,N$2,0))","v":"Male"},{"$f":"IF($B828=\"\",\"\",VLOOKUP($B828,_tbl!$A:$E,O$2,0))","v":"East"},{"$f":"IF($B828=\"\",\"\",VLOOKUP($B828,_tbl!$A:$E,P$2,0))","v":"Urban"},{"$f":"IF($B828=\"\",\"\",VLOOKUP($B828,_tbl!$A:$E,Q$2,0))","v":"Mental"},null,1.34191304398846E-5,1.2803447408656401E-5]
[null,"all_m_East Urban mental.csv","25-29",1.33491475242597E-5,1.33861822584893E-5,1.34393973079286E-5,1.3506527951282101E-5,1.3503289785619701E-5,1.34510132992519E-5,1.33538106963334E-5,1.3249028556739601E-5,1.3148959644566399E-5,1.30713512576593E-5,{"$f":"IF($B829=\"\",\"\",VLOOKUP($B829,_tbl!$A:$E,N$2,0))","v":"Male"},{"$f":"IF($B829=\"\",\"\",VLOOKUP($B829,_tbl!$A:$E,O$2,0))","v":"East"},{"$f":"IF($B829=\"\",\"\",VLOOKUP($B829,_tbl!$A:$E,P$2,0))","v":"Urban"},{"$f":"IF($B829=\"\",\"\",VLOOKUP($B829,_tbl!$A:$E,Q$2,0))","v":"Mental"},null,1.3506527951282101E-5,1.30713512576593E-5]
[null,"all_m_East Urban mental.csv","30-34",1.60247107327501E-5,1.6195812107788301E-5,1.64181788035914E-5,1.6633227932484202E-5,1.6744245009672501E-5,1.67596767341244E-5,1.6703863734869701E-5,1.6625845019817799E-5,1.6556242220583399E-5,1.6512170225074098E-5,{"$f":"IF($B830=\"\",\"\",VLOOKUP($B830,_tbl!$A:$E,N$2,0))","v":"Male"},{"$f":"IF($B830=\"\",\"\",VLOOKUP($B830,_tbl!$A:$E,O$2,0))","v":"East"},{"$f":"IF($B830=\"\",\"\",VLOOKUP($B830,_tbl!$A:$E,P$2,0))","v":"Urban"},{"$f":"IF($B830=\"\",\"\",VLOOKUP($B830,_tbl!$A:$E,Q$2,0))","v":"Mental"},null,1.67596767341244E-5,1.60247107327501E-5]
[null,"all_m_East Urban mental.csv","35-39",2.1035569383214901E-5,2.1163187541606601E-5,2.1194113668200399E-5,2.1318021323471998E-5,2.1324321099340301E-5,2.1358272564924201E-5,2.1315924027706701E-5,2.13057763172529E-5,2.12658852335001E-5,2.1262079396011301E-5,{"$f":"IF($B831=\"\",\"\",VLOOKUP($B831,_tbl!$A:$E,N$2,0))","v":"Male"},{"$f":"IF($B831=\"\",\"\",VLOOKUP($B831,_tbl!$A:$E,O$2,0))","v":"East"},{"$f":"IF($B831=\"\",\"\",VLOOKUP($B831,_tbl!$A:$E,P$2,0))","v":"Urban"},{"$f":"IF($B831=\"\",\"\",VLOOKUP($B831,_tbl!$A:$E,Q$2,0))","v":"Mental"},null,2.1358272564924201E-5,2.1035569383214901E-5]
[null,"all_m_East Urban mental.csv","40-44",2.5884714889343102E-5,2.5861472597431399E-5,2.58444674503346E-5,2.57612283313394E-5,2.56449978757619E-5,2.5470652920433701E-5,2.52668385225017E-5,2.5045708605200299E-5,2.48345975751044E-5,2.46427344601969E-5,{"$f":"IF($B832=\"\",\"\",VLOOKUP($B832,_tbl!$A:$E,N$2,0))","v":"Male"},{"$f":"IF($B832=\"\",\"\",VLOOKUP($B832,_tbl!$A:$E,O$2,0))","v":"East"},{"$f":"IF($B832=\"\",\"\",VLOOKUP($B832,_tbl!$A:$E,P$2,0))","v":"Urban"},{"$f":"IF($B832=\"\",\"\",VLOOKUP($B832,_tbl!$A:$E,Q$2,0))","v":"Mental"},null,2.5884714889343102E-5,2.46427344601969E-5]
[null,"all_m_East Urban mental.csv","45-49",3.31121755345817E-5,3.2821283696212297E-5,3.2529555866985802E-5,3.2220791978177897E-5,3.1951831563259603E-5,3.1681837590053898E-5,3.1446708013806698E-5,3.1202658865866098E-5,3.0972319326251301E-5,3.0725724628428701E-5,{"$f":"IF($B833=\"\",\"\",VLOOKUP($B833,_tbl!$A:$E,N$2,0))","v":"Male"},{"$f":"IF($B833=\"\",\"\",VLOOKUP($B833,_tbl!$A:$E,O$2,0))","v":"East"},{"$f":"IF($B833=\"\",\"\",VLOOKUP($B833,_tbl!$A:$E,P$2,0))","v":"Urban"},{"$f":"IF($B833=\"\",\"\",VLOOKUP($B833,_tbl!$A:$E,Q$2,0))","v":"Mental"},null,3.31121755345817E-5,3.0725724628428701E-5]
[null,"all_m_East Urban mental.csv","50-54",4.8392830685272501E-5,4.8514136813388503E-5,4.8577073832590797E-5,4.8704426649387498E-5,4.8807752783002697E-5,4.8941747068498302E-5,4.9058353756326997E-5,4.9187302080015999E-5,4.9301454789219801E-5,4.9420571328860799E-5,{"$f":"IF($B834=\"\",\"\",VLOOKUP($B834,_tbl!$A:$E,N$2,0))","v":"Male"},{"$f":"IF($B834=\"\",\"\",VLOOKUP($B834,_tbl!$A:$E,O$2,0))","v":"East"},{"$f":"IF($B834=\"\",\"\",VLOOKUP($B834,_tbl!$A:$E,P$2,0))","v":"Urban"},{"$f":"IF($B834=\"\",\"\",VLOOKUP($B834,_tbl!$A:$E,Q$2,0))","v":"Mental"},null,4.9420571328860799E-5,4.8392830685272501E-5]
[null,"all_m_East Urban mental.csv","55-59",7.3451305165014906E-5,7.4092628477877496E-5,7.4546837426995994E-5,7.4887750709136405E-5,7.5137281362110201E-5,7.5360368110214006E-5,7.5532326267454603E-5,7.5700185880844202E-5,7.5834440596511701E-5,7.5971496781645505E-5,{"$f":"IF($B835=\"\",\"\",VLOOKUP($B835,_tbl!$A:$E,N$2,0))","v":"Male"},{"$f":"IF($B835=\"\",\"\",VLOOKUP($B835,_tbl!$A:$E,O$2,0))","v":"East"},{"$f":"IF($B835=\"\",\"\",VLOOKUP($B835,_tbl!$A:$E,P$2,0))","v":"Urban"},{"$f":"IF($B835=\"\",\"\",VLOOKUP($B835,_tbl!$A:$E,Q$2,0))","v":"Mental"},null,7.5971496781645505E-5,7.3451305165014906E-5]
[null,"all_m_East Urban mental.csv","60-64",1.18304224071457E-4,1.20240763363383E-4,1.21846195721073E-4,1.23175026555478E-4,1.2438416350437601E-4,1.25529953911898E-4,1.2660546491149801E-4,1.27660085034026E-4,1.28652462732131E-4,1.29629884258733E-4,{"$f":"IF($B836=\"\",\"\",VLOOKUP($B836,_tbl!$A:$E,N$2,0))","v":"Male"},{"$f":"IF($B836=\"\",\"\",VLOOKUP($B836,_tbl!$A:$E,O$2,0))","v":"East"},{"$f":"IF($B836=\"\",\"\",VLOOKUP($B836,_tbl!$A:$E,P$2,0))","v":"Urban"},{"$f":"IF($B836=\"\",\"\",VLOOKUP($B836,_tbl!$A:$E,Q$2,0))","v":"Mental"},null,1.29629884258733E-4,1.18304224071457E-4]
[null,"all_m_East Urban mental.csv","65-69",1.8621856625960199E-4,1.88163140933064E-4,1.8981776374681701E-4,1.9150087301380301E-4,1.93176097698174E-4,1.9496705198157499E-4,1.9671807674551199E-4,1.9850521895950699E-4,2.0019957222936499E-4,2.018807127793E-4,{"$f":"IF($B837=\"\",\"\",VLOOKUP($B837,_tbl!$A:$E,N$2,0))","v":"Male"},{"$f":"IF($B837=\"\",\"\",VLOOKUP($B837,_tbl!$A:$E,O$2,0))","v":"East"},{"$f":"IF($B837=\"\",\"\",VLOOKUP($B837,_tbl!$A:$E,P$2,0))","v":"Urban"},{"$f":"IF($B837=\"\",\"\",VLOOKUP($B837,_tbl!$A:$E,Q$2,0))","v":"Mental"},null,2.018807127793E-4,1.8621856625960199E-4]
[null,"all_m_East Urban mental.csv","70-74",3.26276212729426E-4,3.2782975649295798E-4,3.29199306824196E-4,3.3073856354282999E-4,3.3225298244779201E-4,3.3386347291587399E-4,3.3543919685722397E-4,3.3703036659127902E-4,3.38564607498721E-4,3.4007990517499601E-4,{"$f":"IF($B838=\"\",\"\",VLOOKUP($B838,_tbl!$A:$E,N$2,0))","v":"Male"},{"$f":"IF($B838=\"\",\"\",VLOOKUP($B838,_tbl!$A:$E,O$2,0))","v":"East"},{"$f":"IF($B838=\"\",\"\",VLOOKUP($B838,_tbl!$A:$E,P$2,0))","v":"Urban"},{"$f":"IF($B838=\"\",\"\",VLOOKUP($B838,_tbl!$A:$E,Q$2,0))","v":"Mental"},null,3.4007990517499601E-4,3.26276212729426E-4]
[null,"all_m_East Urban mental.csv","75-79",6.6201499566503105E-4,6.6263080648090505E-4,6.62879558035844E-4,6.6333266464857E-4,6.6374344884872398E-4,6.6421870815369405E-4,6.6460015271734203E-4,6.6497704565763997E-4,6.6532805312312599E-4,6.6574273304874495E-4,{"$f":"IF($B839=\"\",\"\",VLOOKUP($B839,_tbl!$A:$E,N$2,0))","v":"Male"},{"$f":"IF($B839=\"\",\"\",VLOOKUP($B839,_tbl!$A:$E,O$2,0))","v":"East"},{"$f":"IF($B839=\"\",\"\",VLOOKUP($B839,_tbl!$A:$E,P$2,0))","v":"Urban"},{"$f":"IF($B839=\"\",\"\",VLOOKUP($B839,_tbl!$A:$E,Q$2,0))","v":"Mental"},null,6.6574273304874495E-4,6.6201499566503105E-4]
[null,"all_m_East Urban mental.csv","80-84",1.52551946239081E-3,1.56459104039474E-3,1.5988380654744501E-3,1.6280985967122E-3,1.63953553947856E-3,1.63826924192325E-3,1.6271698657282199E-3,1.6141562707413699E-3,1.60494635164924E-3,1.60381829083779E-3,{"$f":"IF($B840=\"\",\"\",VLOOKUP($B840,_tbl!$A:$E,N$2,0))","v":"Male"},{"$f":"IF($B840=\"\",\"\",VLOOKUP($B840,_tbl!$A:$E,O$2,0))","v":"East"},{"$f":"IF($B840=\"\",\"\",VLOOKUP($B840,_tbl!$A:$E,P$2,0))","v":"Urban"},{"$f":"IF($B840=\"\",\"\",VLOOKUP($B840,_tbl!$A:$E,Q$2,0))","v":"Mental"},null,1.63953553947856E-3,1.52551946239081E-3]
[null,"all_m_East Urban mental.csv","85+",3.7539156791392501E-3,3.8131549048894802E-3,3.8439771395823602E-3,3.8755114909734302E-3,3.8934588705968401E-3,3.9109507097715799E-3,3.9233913091688104E-3,3.9372149253274896E-3,3.9499461489121302E-3,3.9643720384971402E-3,{"$f":"IF($B841=\"\",\"\",VLOOKUP($B841,_tbl!$A:$E,N$2,0))","v":"Male"},{"$f":"IF($B841=\"\",\"\",VLOOKUP($B841,_tbl!$A:$E,O$2,0))","v":"East"},{"$f":"IF($B841=\"\",\"\",VLOOKUP($B841,_tbl!$A:$E,P$2,0))","v":"Urban"},{"$f":"IF($B841=\"\",\"\",VLOOKUP($B841,_tbl!$A:$E,Q$2,0))","v":"Mental"},null,3.9643720384971402E-3,3.7539156791392501E-3]
[null,null,null,null,null,null,null,null,null,null,null,null,null,{"$f":"IF($B842=\"\",\"\",VLOOKUP($B842,_tbl!$A:$E,N$2,0))","v":""},{"$f":"IF($B842=\"\",\"\",VLOOKUP($B842,_tbl!$A:$E,O$2,0))","v":""},{"$f":"IF($B842=\"\",\"\",VLOOKUP($B842,_tbl!$A:$E,P$2,0))","v":""},{"$f":"IF($B842=\"\",\"\",VLOOKUP($B842,_tbl!$A:$E,Q$2,0))","v":""}]
[null,null,null,2020,2021,2022,2023,2024,2025,2026,2027,2028,2029,{"$f":"IF($B843=\"\",\"\",VLOOKUP($B843,_tbl!$A:$E,N$2,0))","v":""},{"$f":"IF($B843=\"\",\"\",VLOOKUP($B843,_tbl!$A:$E,O$2,0))","v":""},{"$f":"IF($B843=\"\",\"\",VLOOKUP($B843,_tbl!$A:$E,P$2,0))","v":""},{"$f":"IF($B843=\"\",\"\",VLOOKUP($B843,_tbl!$A:$E,Q$2,0))","v":""}]
[null,"all_m_East Urban other.csv","1-4",3.0653000984382897E-5,3.0837017752172897E-5,3.1030868608155901E-5,3.1145113384349897E-5,3.1298663061890798E-5,3.1357204472177198E-5,3.1415763049401601E-5,3.1449002204390103E-5,3.1482367375923398E-5,3.1505559364831998E-5,{"$f":"IF($B844=\"\",\"\",VLOOKUP($B844,_tbl!$A:$E,N$2,0))","v":"Male"},{"$f":"IF($B844=\"\",\"\",VLOOKUP($B844,_tbl!$A:$E,O$2,0))","v":"East"},{"$f":"IF($B844=\"\",\"\",VLOOKUP($B844,_tbl!$A:$E,P$2,0))","v":"Urban"},{"$f":"IF($B844=\"\",\"\",VLOOKUP($B844,_tbl!$A:$E,Q$2,0))","v":"Other"},null,{"$f":"MAX(D844:M844)","v":3.1505559364831998E-5},{"$f":"MIN(D844:M844)","v":3.0653000984382897E-5}]
[null,"all_m_East Urban other.csv","5-9",1.2875095165602899E-5,1.2838516705429099E-5,1.28238298642339E-5,1.27649226822464E-5,1.2738780004421E-5,1.2703443236886599E-5,1.2657223894305E-5,1.26182003022769E-5,1.25814794844265E-5,1.2537300050211901E-5,{"$f":"IF($B845=\"\",\"\",VLOOKUP($B845,_tbl!$A:$E,N$2,0))","v":"Male"},{"$f":"IF($B845=\"\",\"\",VLOOKUP($B845,_tbl!$A:$E,O$2,0))","v":"East"},{"$f":"IF($B845=\"\",\"\",VLOOKUP($B845,_tbl!$A:$E,P$2,0))","v":"Urban"},{"$f":"IF($B845=\"\",\"\",VLOOKUP($B845,_tbl!$A:$E,Q$2,0))","v":"Other"},null,1.2875095165602899E-5,1.2537300050211901E-5]
[null,"all_m_East Urban other.csv","10-14",1.51712845928278E-5,1.5141575770899501E-5,1.5122914941322101E-5,1.5071385992949401E-5,1.50526584446816E-5,1.5036968419583801E-5,1.5029931532849401E-5,1.5025340454071099E-5,1.5020377427623701E-5,1.50092080281953E-5,{"$f":"IF($B846=\"\",\"\",VLOOKUP($B846,_tbl!$A:$E,N$2,0))","v":"Male"},{"$f":"IF($B846=\"\",\"\",VLOOKUP($B846,_tbl!$A:$E,O$2,0))","v":"East"},{"$f":"IF($B846=\"\",\"\",VLOOKUP($B846,_tbl!$A:$E,P$2,0))","v":"Urban"},{"$f":"IF($B846=\"\",\"\",VLOOKUP($B846,_tbl!$A:$E,Q$2,0))","v":"Other"},null,1.51712845928278E-5,1.50092080281953E-5]
[null,"all_m_East Urban other.csv","15-19",1.62193718959934E-5,1.6243710730362601E-5,1.62929151290025E-5,1.63165077427793E-5,1.63567741094704E-5,1.6380811448590899E-5,1.64088970104858E-5,1.6432973207089201E-5,1.64580062331776E-5,1.6478167479221999E-5,{"$f":"IF($B847=\"\",\"\",VLOOKUP($B847,_tbl!$A:$E,N$2,0))","v":"Male"},{"$f":"IF($B847=\"\",\"\",VLOOKUP($B847,_tbl!$A:$E,O$2,0))","v":"East"},{"$f":"IF($B847=\"\",\"\",VLOOKUP($B847,_tbl!$A:$E,P$2,0))","v":"Urban"},{"$f":"IF($B847=\"\",\"\",VLOOKUP($B847,_tbl!$A:$E,Q$2,0))","v":"Other"},null,1.6478167479221999E-5,1.62193718959934E-5]
[null,"all_m_East Urban other.csv","20-24",1.7740593744133499E-5,1.7740593744133499E-5,1.7740593744133499E-5,1.7740593744133499E-5,1.7740593744133499E-5,1.7740593744133499E-5,1.7740593744133499E-5,1.7740593744133499E-5,1.7740593744133499E-5,1.7740593744133499E-5,{"$f":"IF($B848=\"\",\"\",VLOOKUP($B848,_tbl!$A:$E,N$2,0))","v":"Male"},{"$f":"IF($B848=\"\",\"\",VLOOKUP($B848,_tbl!$A:$E,O$2,0))","v":"East"},{"$f":"IF($B848=\"\",\"\",VLOOKUP($B848,_tbl!$A:$E,P$2,0))","v":"Urban"},{"$f":"IF($B848=\"\",\"\",VLOOKUP($B848,_tbl!$A:$E,Q$2,0))","v":"Other"},null,1.7740593744133499E-5,1.7740593744133499E-5]
[null,"all_m_East Urban other.csv","25-29",2.67283554310864E-5,2.65654470253812E-5,2.63646920586627E-5,2.6139108619460101E-5,2.6027134929160801E-5,2.5992423376681601E-5,2.60296015225342E-5,2.6078832486180699E-5,2.61232841600535E-5,2.6135701842483802E-5,{"$f":"IF($B849=\"\",\"\",VLOOKUP($B849,_tbl!$A:$E,N$2,0))","v":"Male"},{"$f":"IF($B849=\"\",\"\",VLOOKUP($B849,_tbl!$A:$E,O$2,0))","v":"East"},{"$f":"IF($B849=\"\",\"\",VLOOKUP($B849,_tbl!$A:$E,P$2,0))","v":"Urban"},{"$f":"IF($B849=\"\",\"\",VLOOKUP($B849,_tbl!$A:$E,Q$2,0))","v":"Other"},null,2.67283554310864E-5,2.5992423376681601E-5]
[null,"all_m_East Urban other.csv","30-34",4.4328040128103998E-5,4.4017176849271097E-5,4.36563250018949E-5,4.3287820526389903E-5,4.3040817081897498E-5,4.2883001726562303E-5,4.2798298096056898E-5,4.2725991134761301E-5,4.2638388056349601E-5,4.25154366448216E-5,{"$f":"IF($B850=\"\",\"\",VLOOKUP($B850,_tbl!$A:$E,N$2,0))","v":"Male"},{"$f":"IF($B850=\"\",\"\",VLOOKUP($B850,_tbl!$A:$E,O$2,0))","v":"East"},{"$f":"IF($B850=\"\",\"\",VLOOKUP($B850,_tbl!$A:$E,P$2,0))","v":"Urban"},{"$f":"IF($B850=\"\",\"\",VLOOKUP($B850,_tbl!$A:$E,Q$2,0))","v":"Other"},null,4.4328040128103998E-5,4.25154366448216E-5]
[null,"all_m_East Urban other.csv","35-39",5.6041770135485597E-5,5.5759486756643102E-5,5.5533906965342101E-5,5.5189664740077297E-5,5.4980749368911899E-5,5.47585706485591E-5,5.4611239891422701E-5,5.4434487649015001E-5,5.42758613379056E-5,5.4083503199277003E-5,{"$f":"IF($B851=\"\",\"\",VLOOKUP($B851,_tbl!$A:$E,N$2,0))","v":"Male"},{"$f":"IF($B851=\"\",\"\",VLOOKUP($B851,_tbl!$A:$E,O$2,0))","v":"East"},{"$f":"IF($B851=\"\",\"\",VLOOKUP($B851,_tbl!$A:$E,P$2,0))","v":"Urban"},{"$f":"IF($B851=\"\",\"\",VLOOKUP($B851,_tbl!$A:$E,Q$2,0))","v":"Other"},null,5.6041770135485597E-5,5.4083503199277003E-5]
[null,"all_m_East Urban other.csv","40-44",6.1753501172893702E-5,6.1707574767764996E-5,6.1620423998253902E-5,6.1458745943950699E-5,6.1231611505648104E-5,6.0974275685031399E-5,6.0663604023234897E-5,6.0354869428611203E-5,6.0028268584523303E-5,5.9725953934567197E-5,{"$f":"IF($B852=\"\",\"\",VLOOKUP($B852,_tbl!$A:$E,N$2,0))","v":"Male"},{"$f":"IF($B852=\"\",\"\",VLOOKUP($B852,_tbl!$A:$E,O$2,0))","v":"East"},{"$f":"IF($B852=\"\",\"\",VLOOKUP($B852,_tbl!$A:$E,P$2,0))","v":"Urban"},{"$f":"IF($B852=\"\",\"\",VLOOKUP($B852,_tbl!$A:$E,Q$2,0))","v":"Other"},null,6.1753501172893702E-5,5.9725953934567197E-5]
[null,"all_m_East Urban other.csv","45-49",8.2619070354617493E-5,8.2285028250102306E-5,8.2059946377693302E-5,8.1725412509820594E-5,8.1398421816102998E-5,8.1007841066070595E-5,8.0624208595758294E-5,8.0225690399236694E-5,7.9854527580698202E-5,7.9495422010391906E-5,{"$f":"IF($B853=\"\",\"\",VLOOKUP($B853,_tbl!$A:$E,N$2,0))","v":"Male"},{"$f":"IF($B853=\"\",\"\",VLOOKUP($B853,_tbl!$A:$E,O$2,0))","v":"East"},{"$f":"IF($B853=\"\",\"\",VLOOKUP($B853,_tbl!$A:$E,P$2,0))","v":"Urban"},{"$f":"IF($B853=\"\",\"\",VLOOKUP($B853,_tbl!$A:$E,Q$2,0))","v":"Other"},null,8.2619070354617493E-5,7.9495422010391906E-5]
[null,"all_m_East Urban other.csv","50-54",1.34451381867226E-4,1.34477851218522E-4,1.34448579561542E-4,1.3426950945818E-4,1.3392578809814199E-4,1.3352298612072901E-4,1.33007534565087E-4,1.3251744842989499E-4,1.319990532557E-4,1.31551524839012E-4,{"$f":"IF($B854=\"\",\"\",VLOOKUP($B854,_tbl!$A:$E,N$2,0))","v":"Male"},{"$f":"IF($B854=\"\",\"\",VLOOKUP($B854,_tbl!$A:$E,O$2,0))","v":"East"},{"$f":"IF($B854=\"\",\"\",VLOOKUP($B854,_tbl!$A:$E,P$2,0))","v":"Urban"},{"$f":"IF($B854=\"\",\"\",VLOOKUP($B854,_tbl!$A:$E,Q$2,0))","v":"Other"},null,1.34477851218522E-4,1.31551524839012E-4]
[null,"all_m_East Urban other.csv","55-59",2.2825103037904301E-4,2.2950435794934701E-4,2.30476082617257E-4,2.3072648258977901E-4,2.3075595949177899E-4,2.30570704337167E-4,2.30279046569931E-4,2.29941698299101E-4,2.2953044229828001E-4,2.29102284466654E-4,{"$f":"IF($B855=\"\",\"\",VLOOKUP($B855,_tbl!$A:$E,N$2,0))","v":"Male"},{"$f":"IF($B855=\"\",\"\",VLOOKUP($B855,_tbl!$A:$E,O$2,0))","v":"East"},{"$f":"IF($B855=\"\",\"\",VLOOKUP($B855,_tbl!$A:$E,P$2,0))","v":"Urban"},{"$f":"IF($B855=\"\",\"\",VLOOKUP($B855,_tbl!$A:$E,Q$2,0))","v":"Other"},null,2.3075595949177899E-4,2.2825103037904301E-4]
[null,"all_m_East Urban other.csv","60-64",3.0962565698125797E-4,3.1165878437545101E-4,3.1375318464090798E-4,3.1482253119935401E-4,3.15632463005349E-4,3.1604376641387102E-4,3.16324877472902E-4,3.1652364937346503E-4,3.1668010546473797E-4,3.1683845708212698E-4,{"$f":"IF($B856=\"\",\"\",VLOOKUP($B856,_tbl!$A:$E,N$2,0))","v":"Male"},{"$f":"IF($B856=\"\",\"\",VLOOKUP($B856,_tbl!$A:$E,O$2,0))","v":"East"},{"$f":"IF($B856=\"\",\"\",VLOOKUP($B856,_tbl!$A:$E,P$2,0))","v":"Urban"},{"$f":"IF($B856=\"\",\"\",VLOOKUP($B856,_tbl!$A:$E,Q$2,0))","v":"Other"},null,3.1683845708212698E-4,3.0962565698125797E-4]
[null,"all_m_East Urban other.csv","65-69",3.4970974220766102E-4,3.48152738801821E-4,3.4690877103506998E-4,3.4496570539424603E-4,3.4261497037182601E-4,3.3987390980302201E-4,3.3696273381064902E-4,3.3405876457816199E-4,3.3121411691951799E-4,3.2851148982354498E-4,{"$f":"IF($B857=\"\",\"\",VLOOKUP($B857,_tbl!$A:$E,N$2,0))","v":"Male"},{"$f":"IF($B857=\"\",\"\",VLOOKUP($B857,_tbl!$A:$E,O$2,0))","v":"East"},{"$f":"IF($B857=\"\",\"\",VLOOKUP($B857,_tbl!$A:$E,P$2,0))","v":"Urban"},{"$f":"IF($B857=\"\",\"\",VLOOKUP($B857,_tbl!$A:$E,Q$2,0))","v":"Other"},null,3.4970974220766102E-4,3.2851148982354498E-4]
[null,"all_m_East Urban other.csv","70-74",4.8235522207352402E-4,4.7520466130263202E-4,4.6719849881974901E-4,4.5879137948623102E-4,4.4978982510381901E-4,4.4056013903028202E-4,4.3125817689087598E-4,4.22036376797967E-4,4.1295733965370299E-4,4.0402588350838399E-4,{"$f":"IF($B858=\"\",\"\",VLOOKUP($B858,_tbl!$A:$E,N$2,0))","v":"Male"},{"$f":"IF($B858=\"\",\"\",VLOOKUP($B858,_tbl!$A:$E,O$2,0))","v":"East"},{"$f":"IF($B858=\"\",\"\",VLOOKUP($B858,_tbl!$A:$E,P$2,0))","v":"Urban"},{"$f":"IF($B858=\"\",\"\",VLOOKUP($B858,_tbl!$A:$E,Q$2,0))","v":"Other"},null,4.8235522207352402E-4,4.0402588350838399E-4]
[null,"all_m_East Urban other.csv","75-79",1.05717276088005E-3,1.0433170622203699E-3,1.0276976091918E-3,1.0129392832733399E-3,9.9812973577891495E-4,9.8354254554786796E-4,9.6904653552327003E-4,9.5463481024911704E-4,9.4043493204540101E-4,9.2641649215047001E-4,{"$f":"IF($B859=\"\",\"\",VLOOKUP($B859,_tbl!$A:$E,N$2,0))","v":"Male"},{"$f":"IF($B859=\"\",\"\",VLOOKUP($B859,_tbl!$A:$E,O$2,0))","v":"East"},{"$f":"IF($B859=\"\",\"\",VLOOKUP($B859,_tbl!$A:$E,P$2,0))","v":"Urban"},{"$f":"IF($B859=\"\",\"\",VLOOKUP($B859,_tbl!$A:$E,Q$2,0))","v":"Other"},null,1.05717276088005E-3,9.2641649215047001E-4]
[null,"all_m_East Urban other.csv","80-84",3.1156555355524502E-3,3.0762995654222999E-3,3.03550814522232E-3,2.99842319930162E-3,2.9557849751101601E-3,2.9117585676303802E-3,2.86580666359172E-3,2.8208173419805999E-3,2.77738941852164E-3,2.7364296063803E-3,{"$f":"IF($B860=\"\",\"\",VLOOKUP($B860,_tbl!$A:$E,N$2,0))","v":"Male"},{"$f":"IF($B860=\"\",\"\",VLOOKUP($B860,_tbl!$A:$E,O$2,0))","v":"East"},{"$f":"IF($B860=\"\",\"\",VLOOKUP($B860,_tbl!$A:$E,P$2,0))","v":"Urban"},{"$f":"IF($B860=\"\",\"\",VLOOKUP($B860,_tbl!$A:$E,Q$2,0))","v":"Other"},null,3.1156555355524502E-3,2.7364296063803E-3]
[null,"all_m_East Urban other.csv","85+",1.08346714265909E-2,1.0812201454068001E-2,1.0873787638917399E-2,1.0905174097309201E-2,1.0864940887959E-2,1.07521482528711E-2,1.0593022596013401E-2,1.04200939118766E-2,1.0271927683495601E-2,1.0171931171355101E-2,{"$f":"IF($B861=\"\",\"\",VLOOKUP($B861,_tbl!$A:$E,N$2,0))","v":"Male"},{"$f":"IF($B861=\"\",\"\",VLOOKUP($B861,_tbl!$A:$E,O$2,0))","v":"East"},{"$f":"IF($B861=\"\",\"\",VLOOKUP($B861,_tbl!$A:$E,P$2,0))","v":"Urban"},{"$f":"IF($B861=\"\",\"\",VLOOKUP($B861,_tbl!$A:$E,Q$2,0))","v":"Other"},null,1.0905174097309201E-2,1.0171931171355101E-2]
[null,null,null,null,null,null,null,null,null,null,null,null,null,{"$f":"IF($B862=\"\",\"\",VLOOKUP($B862,_tbl!$A:$E,N$2,0))","v":""},{"$f":"IF($B862=\"\",\"\",VLOOKUP($B862,_tbl!$A:$E,O$2,0))","v":""},{"$f":"IF($B862=\"\",\"\",VLOOKUP($B862,_tbl!$A:$E,P$2,0))","v":""},{"$f":"IF($B862=\"\",\"\",VLOOKUP($B862,_tbl!$A:$E,Q$2,0))","v":""}]
[null,null,null,2020,2021,2022,2023,2024,2025,2026,2027,2028,2029,{"$f":"IF($B863=\"\",\"\",VLOOKUP($B863,_tbl!$A:$E,N$2,0))","v":""},{"$f":"IF($B863=\"\",\"\",VLOOKUP($B863,_tbl!$A:$E,O$2,0))","v":""},{"$f":"IF($B863=\"\",\"\",VLOOKUP($B863,_tbl!$A:$E,P$2,0))","v":""},{"$f":"IF($B863=\"\",\"\",VLOOKUP($B863,_tbl!$A:$E,Q$2,0))","v":""}]
[null,"all_m_East Urban respiratory.csv","1-4",4.6913010128644303E-6,4.6024350475072499E-6,4.5018565583357903E-6,4.4008529476970202E-6,4.3121426368906203E-6,4.2407773529906399E-6,4.1640383645046098E-6,4.09905758638002E-6,4.0320809387161096E-6,3.9620045950310702E-6,{"$f":"IF($B864=\"\",\"\",VLOOKUP($B864,_tbl!$A:$E,N$2,0))","v":"Male"},{"$f":"IF($B864=\"\",\"\",VLOOKUP($B864,_tbl!$A:$E,O$2,0))","v":"East"},{"$f":"IF($B864=\"\",\"\",VLOOKUP($B864,_tbl!$A:$E,P$2,0))","v":"Urban"},{"$f":"IF($B864=\"\",\"\",VLOOKUP($B864,_tbl!$A:$E,Q$2,0))","v":"Respiratory"},null,{"$f":"MAX(D864:M864)","v":4.6913010128644303E-6},{"$f":"MIN(D864:M864)","v":3.9620045950310702E-6}]
[null,"all_m_East Urban respiratory.csv","5-9",1.58937384783896E-6,1.5841370252299201E-6,1.57811489597724E-6,1.57548460658728E-6,1.5716340876397401E-6,1.5686593926270401E-6,1.5669598518737699E-6,1.5648658110528599E-6,1.56236067088961E-6,1.56025204377962E-6,{"$f":"IF($B865=\"\",\"\",VLOOKUP($B865,_tbl!$A:$E,N$2,0))","v":"Male"},{"$f":"IF($B865=\"\",\"\",VLOOKUP($B865,_tbl!$A:$E,O$2,0))","v":"East"},{"$f":"IF($B865=\"\",\"\",VLOOKUP($B865,_tbl!$A:$E,P$2,0))","v":"Urban"},{"$f":"IF($B865=\"\",\"\",VLOOKUP($B865,_tbl!$A:$E,Q$2,0))","v":"Respiratory"},null,1.58937384783896E-6,1.56025204377962E-6]
[null,"all_m_East Urban respiratory.csv","10-14",1.4185322861557499E-6,1.4175744070667401E-6,1.41403047322498E-6,1.4077635729133801E-6,1.40923767724197E-6,1.41466721003595E-6,1.42345012213795E-6,1.4334151886462901E-6,1.44296060274128E-6,1.45060297127259E-6,{"$f":"IF($B866=\"\",\"\",VLOOKUP($B866,_tbl!$A:$E,N$2,0))","v":"Male"},{"$f":"IF($B866=\"\",\"\",VLOOKUP($B866,_tbl!$A:$E,O$2,0))","v":"East"},{"$f":"IF($B866=\"\",\"\",VLOOKUP($B866,_tbl!$A:$E,P$2,0))","v":"Urban"},{"$f":"IF($B866=\"\",\"\",VLOOKUP($B866,_tbl!$A:$E,Q$2,0))","v":"Respiratory"},null,1.45060297127259E-6,1.4077635729133801E-6]
[null,"all_m_East Urban respiratory.csv","15-19",1.7303702778138399E-6,1.73429048189097E-6,1.741101269303E-6,1.74628699573536E-6,1.7538065062578501E-6,1.76216316677273E-6,1.77105587787693E-6,1.7799717727966999E-6,1.78858303892652E-6,1.79538496574298E-6,{"$f":"IF($B867=\"\",\"\",VLOOKUP($B867,_tbl!$A:$E,N$2,0))","v":"Male"},{"$f":"IF($B867=\"\",\"\",VLOOKUP($B867,_tbl!$A:$E,O$2,0))","v":"East"},{"$f":"IF($B867=\"\",\"\",VLOOKUP($B867,_tbl!$A:$E,P$2,0))","v":"Urban"},{"$f":"IF($B867=\"\",\"\",VLOOKUP($B867,_tbl!$A:$E,Q$2,0))","v":"Respiratory"},null,1.79538496574298E-6,1.7303702778138399E-6]
[null,"all_m_East Urban respiratory.csv","20-24",2.5461172961786102E-6,2.49742280554783E-6,2.4159221428133101E-6,2.3406313841331502E-6,2.29194776702243E-6,2.2724514779631501E-6,2.2725614564885102E-6,2.27833903017999E-6,2.2802710878722498E-6,2.2726948953668801E-6,{"$f":"IF($B868=\"\",\"\",VLOOKUP($B868,_tbl!$A:$E,N$2,0))","v":"Male"},{"$f":"IF($B868=\"\",\"\",VLOOKUP($B868,_tbl!$A:$E,O$2,0))","v":"East"},{"$f":"IF($B868=\"\",\"\",VLOOKUP($B868,_tbl!$A:$E,P$2,0))","v":"Urban"},{"$f":"IF($B868=\"\",\"\",VLOOKUP($B868,_tbl!$A:$E,Q$2,0))","v":"Respiratory"},null,2.5461172961786102E-6,2.2724514779631501E-6]
[null,"all_m_East Urban respiratory.csv","25-29",3.4431579943165102E-6,3.3862401601354701E-6,3.2976047785937902E-6,3.2131578871957902E-6,3.1601872405118998E-6,3.1378638465010801E-6,3.1380265203807599E-6,3.14421967274846E-6,3.1471658029907202E-6,3.1396232211787098E-6,{"$f":"IF($B869=\"\",\"\",VLOOKUP($B869,_tbl!$A:$E,N$2,0))","v":"Male"},{"$f":"IF($B869=\"\",\"\",VLOOKUP($B869,_tbl!$A:$E,O$2,0))","v":"East"},{"$f":"IF($B869=\"\",\"\",VLOOKUP($B869,_tbl!$A:$E,P$2,0))","v":"Urban"},{"$f":"IF($B869=\"\",\"\",VLOOKUP($B869,_tbl!$A:$E,Q$2,0))","v":"Respiratory"},null,3.4431579943165102E-6,3.1378638465010801E-6]
[null,"all_m_East Urban respiratory.csv","30-34",5.05097738546258E-6,5.0046758986512499E-6,4.9541098693406604E-6,4.9015570322285403E-6,4.8660631276754796E-6,4.8444948344971004E-6,4.8333668722510702E-6,4.8246439699293502E-6,4.8132697760781699E-6,4.7965376858087597E-6,{"$f":"IF($B870=\"\",\"\",VLOOKUP($B870,_tbl!$A:$E,N$2,0))","v":"Male"},{"$f":"IF($B870=\"\",\"\",VLOOKUP($B870,_tbl!$A:$E,O$2,0))","v":"East"},{"$f":"IF($B870=\"\",\"\",VLOOKUP($B870,_tbl!$A:$E,P$2,0))","v":"Urban"},{"$f":"IF($B870=\"\",\"\",VLOOKUP($B870,_tbl!$A:$E,Q$2,0))","v":"Respiratory"},null,5.05097738546258E-6,4.7965376858087597E-6]
[null,"all_m_East Urban respiratory.csv","35-39",7.7463623213506599E-6,7.7257445204450304E-6,7.68622781918783E-6,7.6597196574607996E-6,7.6235004947604198E-6,7.5909755108856502E-6,7.5549941668981403E-6,7.5206016011806499E-6,7.4850969673602298E-6,7.45017795683704E-6,{"$f":"IF($B871=\"\",\"\",VLOOKUP($B871,_tbl!$A:$E,N$2,0))","v":"Male"},{"$f":"IF($B871=\"\",\"\",VLOOKUP($B871,_tbl!$A:$E,O$2,0))","v":"East"},{"$f":"IF($B871=\"\",\"\",VLOOKUP($B871,_tbl!$A:$E,P$2,0))","v":"Urban"},{"$f":"IF($B871=\"\",\"\",VLOOKUP($B871,_tbl!$A:$E,Q$2,0))","v":"Respiratory"},null,7.7463623213506599E-6,7.45017795683704E-6]
[null,"all_m_East Urban respiratory.csv","40-44",1.41923731566866E-5,1.42415149435012E-5,1.40787260557896E-5,1.40256300287379E-5,1.39113116616751E-5,1.38562215135396E-5,1.3769452719089599E-5,1.3704037143720901E-5,1.36119178249553E-5,1.35255035977469E-5,{"$f":"IF($B872=\"\",\"\",VLOOKUP($B872,_tbl!$A:$E,N$2,0))","v":"Male"},{"$f":"IF($B872=\"\",\"\",VLOOKUP($B872,_tbl!$A:$E,O$2,0))","v":"East"},{"$f":"IF($B872=\"\",\"\",VLOOKUP($B872,_tbl!$A:$E,P$2,0))","v":"Urban"},{"$f":"IF($B872=\"\",\"\",VLOOKUP($B872,_tbl!$A:$E,Q$2,0))","v":"Respiratory"},null,1.42415149435012E-5,1.35255035977469E-5]
[null,"all_m_East Urban respiratory.csv","45-49",2.19658349703008E-5,2.15041389007497E-5,2.0508849469644201E-5,1.9634792473438798E-5,1.8719590876701901E-5,1.7899420692557199E-5,1.70914933376879E-5,1.6280525453818701E-5,1.5432828700424899E-5,1.453186433915E-5,{"$f":"IF($B873=\"\",\"\",VLOOKUP($B873,_tbl!$A:$E,N$2,0))","v":"Male"},{"$f":"IF($B873=\"\",\"\",VLOOKUP($B873,_tbl!$A:$E,O$2,0))","v":"East"},{"$f":"IF($B873=\"\",\"\",VLOOKUP($B873,_tbl!$A:$E,P$2,0))","v":"Urban"},{"$f":"IF($B873=\"\",\"\",VLOOKUP($B873,_tbl!$A:$E,Q$2,0))","v":"Respiratory"},null,2.19658349703008E-5,1.453186433915E-5]
[null,"all_m_East Urban respiratory.csv","50-54",4.7797483626827899E-5,4.5616340355768402E-5,4.30236975331183E-5,4.0305634414903201E-5,3.7719426686894397E-5,3.5026840232037402E-5,3.2512748170162999E-5,2.9861346648822902E-5,2.7313491028037401E-5,2.46257408359111E-5,{"$f":"IF($B874=\"\",\"\",VLOOKUP($B874,_tbl!$A:$E,N$2,0))","v":"Male"},{"$f":"IF($B874=\"\",\"\",VLOOKUP($B874,_tbl!$A:$E,O$2,0))","v":"East"},{"$f":"IF($B874=\"\",\"\",VLOOKUP($B874,_tbl!$A:$E,P$2,0))","v":"Urban"},{"$f":"IF($B874=\"\",\"\",VLOOKUP($B874,_tbl!$A:$E,Q$2,0))","v":"Respiratory"},null,4.7797483626827899E-5,2.46257408359111E-5]
[null,"all_m_East Urban respiratory.csv","55-59",1.19826965860008E-4,1.17202117084302E-4,1.13413694412545E-4,1.09498164150476E-4,1.05320898885256E-4,1.00958317858519E-4,9.6593301357912205E-5,9.2085632591825301E-5,8.7659568330934E-5,8.31546261277199E-5,{"$f":"IF($B875=\"\",\"\",VLOOKUP($B875,_tbl!$A:$E,N$2,0))","v":"Male"},{"$f":"IF($B875=\"\",\"\",VLOOKUP($B875,_tbl!$A:$E,O$2,0))","v":"East"},{"$f":"IF($B875=\"\",\"\",VLOOKUP($B875,_tbl!$A:$E,P$2,0))","v":"Urban"},{"$f":"IF($B875=\"\",\"\",VLOOKUP($B875,_tbl!$A:$E,Q$2,0))","v":"Respiratory"},null,1.19826965860008E-4,8.31546261277199E-5]
[null,"all_m_East Urban respiratory.csv","60-64",2.67164781926062E-4,2.6246202093851902E-4,2.5430460428497098E-4,2.4635575792156901E-4,2.3752301152458999E-4,2.2869572249936199E-4,2.19628769799179E-4,2.1042342276835399E-4,2.0114675731256601E-4,1.9176413046771199E-4,{"$f":"IF($B876=\"\",\"\",VLOOKUP($B876,_tbl!$A:$E,N$2,0))","v":"Male"},{"$f":"IF($B876=\"\",\"\",VLOOKUP($B876,_tbl!$A:$E,O$2,0))","v":"East"},{"$f":"IF($B876=\"\",\"\",VLOOKUP($B876,_tbl!$A:$E,P$2,0))","v":"Urban"},{"$f":"IF($B876=\"\",\"\",VLOOKUP($B876,_tbl!$A:$E,Q$2,0))","v":"Respiratory"},null,2.67164781926062E-4,1.9176413046771199E-4]
[null,"all_m_East Urban respiratory.csv","65-69",5.5020651678772798E-4,5.3615005040889699E-4,5.1347857314064502E-4,4.9206224264500102E-4,4.6966530212904701E-4,4.4845859640136102E-4,4.2741414395272402E-4,4.0639030737651797E-4,3.8506416553795201E-4,3.63224472221422E-4,{"$f":"IF($B877=\"\",\"\",VLOOKUP($B877,_tbl!$A:$E,N$2,0))","v":"Male"},{"$f":"IF($B877=\"\",\"\",VLOOKUP($B877,_tbl!$A:$E,O$2,0))","v":"East"},{"$f":"IF($B877=\"\",\"\",VLOOKUP($B877,_tbl!$A:$E,P$2,0))","v":"Urban"},{"$f":"IF($B877=\"\",\"\",VLOOKUP($B877,_tbl!$A:$E,Q$2,0))","v":"Respiratory"},null,5.5020651678772798E-4,3.63224472221422E-4]
[null,"all_m_East Urban respiratory.csv","70-74",1.5427153774566799E-3,1.5427153774566799E-3,1.5427153774566799E-3,1.5427153774566799E-3,1.5427153774566799E-3,1.5427153774566799E-3,1.5427153774566799E-3,1.5427153774566799E-3,1.5427153774566799E-3,1.5427153774566799E-3,{"$f":"IF($B878=\"\",\"\",VLOOKUP($B878,_tbl!$A:$E,N$2,0))","v":"Male"},{"$f":"IF($B878=\"\",\"\",VLOOKUP($B878,_tbl!$A:$E,O$2,0))","v":"East"},{"$f":"IF($B878=\"\",\"\",VLOOKUP($B878,_tbl!$A:$E,P$2,0))","v":"Urban"},{"$f":"IF($B878=\"\",\"\",VLOOKUP($B878,_tbl!$A:$E,Q$2,0))","v":"Respiratory"},null,1.5427153774566799E-3,1.5427153774566799E-3]
[null,"all_m_East Urban respiratory.csv","75-79",2.6233225324312302E-3,2.6122203826769298E-3,2.59695977466738E-3,2.5770438846790299E-3,2.5247656169303701E-3,2.4529043964375001E-3,2.36858462370465E-3,2.2851785814448698E-3,2.2108955081889502E-3,2.1493386278861899E-3,{"$f":"IF($B879=\"\",\"\",VLOOKUP($B879,_tbl!$A:$E,N$2,0))","v":"Male"},{"$f":"IF($B879=\"\",\"\",VLOOKUP($B879,_tbl!$A:$E,O$2,0))","v":"East"},{"$f":"IF($B879=\"\",\"\",VLOOKUP($B879,_tbl!$A:$E,P$2,0))","v":"Urban"},{"$f":"IF($B879=\"\",\"\",VLOOKUP($B879,_tbl!$A:$E,Q$2,0))","v":"Respiratory"},null,2.6233225324312302E-3,2.1493386278861899E-3]
[null,"all_m_East Urban respiratory.csv","80-84",8.1475700615919796E-3,8.2213217506850195E-3,8.2428590874268695E-3,8.2701503934275705E-3,8.2177690109999299E-3,8.1223105424536399E-3,7.98605833960956E-3,7.8458942673312795E-3,7.7222698289612802E-3,7.6339612220347099E-3,{"$f":"IF($B880=\"\",\"\",VLOOKUP($B880,_tbl!$A:$E,N$2,0))","v":"Male"},{"$f":"IF($B880=\"\",\"\",VLOOKUP($B880,_tbl!$A:$E,O$2,0))","v":"East"},{"$f":"IF($B880=\"\",\"\",VLOOKUP($B880,_tbl!$A:$E,P$2,0))","v":"Urban"},{"$f":"IF($B880=\"\",\"\",VLOOKUP($B880,_tbl!$A:$E,Q$2,0))","v":"Respiratory"},null,8.2701503934275705E-3,7.6339612220347099E-3]
[null,"all_m_East Urban respiratory.csv","85+",2.3056121076899101E-2,2.3094544402357201E-2,2.3049360069721799E-2,2.3035120546838699E-2,2.2958673405237402E-2,2.2894225601292801E-2,2.2827729726221799E-2,2.2783427366035999E-2,2.2738518337298799E-2,2.2686438323244199E-2,{"$f":"IF($B881=\"\",\"\",VLOOKUP($B881,_tbl!$A:$E,N$2,0))","v":"Male"},{"$f":"IF($B881=\"\",\"\",VLOOKUP($B881,_tbl!$A:$E,O$2,0))","v":"East"},{"$f":"IF($B881=\"\",\"\",VLOOKUP($B881,_tbl!$A:$E,P$2,0))","v":"Urban"},{"$f":"IF($B881=\"\",\"\",VLOOKUP($B881,_tbl!$A:$E,Q$2,0))","v":"Respiratory"},null,2.3094544402357201E-2,2.2686438323244199E-2]
[null,null,null,null,null,null,null,null,null,null,null,null,null,{"$f":"IF($B882=\"\",\"\",VLOOKUP($B882,_tbl!$A:$E,N$2,0))","v":""},{"$f":"IF($B882=\"\",\"\",VLOOKUP($B882,_tbl!$A:$E,O$2,0))","v":""},{"$f":"IF($B882=\"\",\"\",VLOOKUP($B882,_tbl!$A:$E,P$2,0))","v":""},{"$f":"IF($B882=\"\",\"\",VLOOKUP($B882,_tbl!$A:$E,Q$2,0))","v":""}]
[null,null,null,2020,2021,2022,2023,2024,2025,2026,2027,2028,2029,{"$f":"IF($B883=\"\",\"\",VLOOKUP($B883,_tbl!$A:$E,N$2,0))","v":""},{"$f":"IF($B883=\"\",\"\",VLOOKUP($B883,_tbl!$A:$E,O$2,0))","v":""},{"$f":"IF($B883=\"\",\"\",VLOOKUP($B883,_tbl!$A:$E,P$2,0))","v":""},{"$f":"IF($B883=\"\",\"\",VLOOKUP($B883,_tbl!$A:$E,Q$2,0))","v":""}]
[null,"all_m_East Urban.csv","1-4",3.5941201898734401E-4,3.5279934386311799E-4,3.4615404212032399E-4,3.3971964533925501E-4,3.33973013461967E-4,3.2775985883075402E-4,3.2179589993132401E-4,3.15917872700657E-4,3.1003937122910699E-4,3.0428193647437401E-4,{"$f":"IF($B884=\"\",\"\",VLOOKUP($B884,_tbl!$A:$E,N$2,0))","v":"Male"},{"$f":"IF($B884=\"\",\"\",VLOOKUP($B884,_tbl!$A:$E,O$2,0))","v":"East"},{"$f":"IF($B884=\"\",\"\",VLOOKUP($B884,_tbl!$A:$E,P$2,0))","v":"Urban"},{"$f":"IF($B884=\"\",\"\",VLOOKUP($B884,_tbl!$A:$E,Q$2,0))","v":"Total"},null,{"$f":"MAX(D884:M884)","v":3.5941201898734401E-4},{"$f":"MIN(D884:M884)","v":3.0428193647437401E-4}]
[null,"all_m_East Urban.csv","5-9",1.55810620631439E-4,1.51548444106466E-4,1.4752908451051201E-4,1.43596048199186E-4,1.39922484105399E-4,1.3633463556889301E-4,1.3283378343688799E-4,1.29470521310914E-4,1.2621014440704801E-4,1.2303910660259399E-4,{"$f":"IF($B885=\"\",\"\",VLOOKUP($B885,_tbl!$A:$E,N$2,0))","v":"Male"},{"$f":"IF($B885=\"\",\"\",VLOOKUP($B885,_tbl!$A:$E,O$2,0))","v":"East"},{"$f":"IF($B885=\"\",\"\",VLOOKUP($B885,_tbl!$A:$E,P$2,0))","v":"Urban"},{"$f":"IF($B885=\"\",\"\",VLOOKUP($B885,_tbl!$A:$E,Q$2,0))","v":"Total"},null,1.55810620631439E-4,1.2303910660259399E-4]
[null,"all_m_East Urban.csv","10-14",1.6047412148989201E-4,1.5530450386933299E-4,1.5030591655815201E-4,1.4554529113021999E-4,1.4105594963293301E-4,1.3678504911255601E-4,1.3273347917068599E-4,1.28863714718082E-4,1.2515789059003101E-4,1.21609742579335E-4,{"$f":"IF($B886=\"\",\"\",VLOOKUP($B886,_tbl!$A:$E,N$2,0))","v":"Male"},{"$f":"IF($B886=\"\",\"\",VLOOKUP($B886,_tbl!$A:$E,O$2,0))","v":"East"},{"$f":"IF($B886=\"\",\"\",VLOOKUP($B886,_tbl!$A:$E,P$2,0))","v":"Urban"},{"$f":"IF($B886=\"\",\"\",VLOOKUP($B886,_tbl!$A:$E,Q$2,0))","v":"Total"},null,1.6047412148989201E-4,1.21609742579335E-4]
[null,"all_m_East Urban.csv","15-19",1.78465652003177E-4,1.6993881878981599E-4,1.6207498547849401E-4,1.54526990373547E-4,1.47610688524217E-4,1.4104479318679999E-4,1.3489472442247601E-4,1.2908854038534001E-4,1.2356216902558901E-4,1.18282603109775E-4,{"$f":"IF($B887=\"\",\"\",VLOOKUP($B887,_tbl!$A:$E,N$2,0))","v":"Male"},{"$f":"IF($B887=\"\",\"\",VLOOKUP($B887,_tbl!$A:$E,O$2,0))","v":"East"},{"$f":"IF($B887=\"\",\"\",VLOOKUP($B887,_tbl!$A:$E,P$2,0))","v":"Urban"},{"$f":"IF($B887=\"\",\"\",VLOOKUP($B887,_tbl!$A:$E,Q$2,0))","v":"Total"},null,1.78465652003177E-4,1.18282603109775E-4]
[null,"all_m_East Urban.csv","20-24",2.1118011199794E-4,2.00356462656021E-4,1.9035728824734501E-4,1.80811975116638E-4,1.7214783978010899E-4,1.6411704953874301E-4,1.5674903297291701E-4,1.4986245948158701E-4,1.4340672572656199E-4,1.3730673466856401E-4,{"$f":"IF($B888=\"\",\"\",VLOOKUP($B888,_tbl!$A:$E,N$2,0))","v":"Male"},{"$f":"IF($B888=\"\",\"\",VLOOKUP($B888,_tbl!$A:$E,O$2,0))","v":"East"},{"$f":"IF($B888=\"\",\"\",VLOOKUP($B888,_tbl!$A:$E,P$2,0))","v":"Urban"},{"$f":"IF($B888=\"\",\"\",VLOOKUP($B888,_tbl!$A:$E,Q$2,0))","v":"Total"},null,2.1118011199794E-4,1.3730673466856401E-4]
[null,"all_m_East Urban.csv","25-29",3.0564776475089801E-4,2.9350655499527599E-4,2.8221248283498402E-4,2.71467526575874E-4,2.6138532144650602E-4,2.51829750054134E-4,2.4282043811690301E-4,2.3431397386521901E-4,2.2632057525219499E-4,2.18818839029884E-4,{"$f":"IF($B889=\"\",\"\",VLOOKUP($B889,_tbl!$A:$E,N$2,0))","v":"Male"},{"$f":"IF($B889=\"\",\"\",VLOOKUP($B889,_tbl!$A:$E,O$2,0))","v":"East"},{"$f":"IF($B889=\"\",\"\",VLOOKUP($B889,_tbl!$A:$E,P$2,0))","v":"Urban"},{"$f":"IF($B889=\"\",\"\",VLOOKUP($B889,_tbl!$A:$E,Q$2,0))","v":"Total"},null,3.0564776475089801E-4,2.18818839029884E-4]
[null,"all_m_East Urban.csv","30-34",4.9379934738184503E-4,4.7842605484816898E-4,4.6380445546738701E-4,4.4987801161204403E-4,4.3657690254416098E-4,4.23768790311318E-4,4.11473544927248E-4,3.9969780009818E-4,3.88482246117492E-4,3.7782791387231199E-4,{"$f":"IF($B890=\"\",\"\",VLOOKUP($B890,_tbl!$A:$E,N$2,0))","v":"Male"},{"$f":"IF($B890=\"\",\"\",VLOOKUP($B890,_tbl!$A:$E,O$2,0))","v":"East"},{"$f":"IF($B890=\"\",\"\",VLOOKUP($B890,_tbl!$A:$E,P$2,0))","v":"Urban"},{"$f":"IF($B890=\"\",\"\",VLOOKUP($B890,_tbl!$A:$E,Q$2,0))","v":"Total"},null,4.9379934738184503E-4,3.7782791387231199E-4]
[null,"all_m_East Urban.csv","35-39",7.6464327876851605E-4,7.3777893303858197E-4,7.1220935889842302E-4,6.8721098465376602E-4,6.63280135442134E-4,6.4003594420419503E-4,6.1771432672595998E-4,5.9611019932088105E-4,5.7537507513182105E-4,5.5539211613653402E-4,{"$f":"IF($B891=\"\",\"\",VLOOKUP($B891,_tbl!$A:$E,N$2,0))","v":"Male"},{"$f":"IF($B891=\"\",\"\",VLOOKUP($B891,_tbl!$A:$E,O$2,0))","v":"East"},{"$f":"IF($B891=\"\",\"\",VLOOKUP($B891,_tbl!$A:$E,P$2,0))","v":"Urban"},{"$f":"IF($B891=\"\",\"\",VLOOKUP($B891,_tbl!$A:$E,Q$2,0))","v":"Total"},null,7.6464327876851605E-4,5.5539211613653402E-4]
[null,"all_m_East Urban.csv","40-44",1.05964866402774E-3,1.00628248619393E-3,9.5870846748949705E-4,9.0910021164651599E-4,8.6297394557115301E-4,8.1661274715026297E-4,7.7302314006493097E-4,7.3009918351459404E-4,6.8959611728699902E-4,6.5018033002435798E-4,{"$f":"IF($B892=\"\",\"\",VLOOKUP($B892,_tbl!$A:$E,N$2,0))","v":"Male"},{"$f":"IF($B892=\"\",\"\",VLOOKUP($B892,_tbl!$A:$E,O$2,0))","v":"East"},{"$f":"IF($B892=\"\",\"\",VLOOKUP($B892,_tbl!$A:$E,P$2,0))","v":"Urban"},{"$f":"IF($B892=\"\",\"\",VLOOKUP($B892,_tbl!$A:$E,Q$2,0))","v":"Total"},null,1.05964866402774E-3,6.5018033002435798E-4]
[null,"all_m_East Urban.csv","45-49",1.7855139086335901E-3,1.7085081203216999E-3,1.6366550658231699E-3,1.5642612336910799E-3,1.4939983777327601E-3,1.42470210168292E-3,1.35763797191199E-3,1.29277033252923E-3,1.2306834853514699E-3,1.1713352641135101E-3,{"$f":"IF($B893=\"\",\"\",VLOOKUP($B893,_tbl!$A:$E,N$2,0))","v":"Male"},{"$f":"IF($B893=\"\",\"\",VLOOKUP($B893,_tbl!$A:$E,O$2,0))","v":"East"},{"$f":"IF($B893=\"\",\"\",VLOOKUP($B893,_tbl!$A:$E,P$2,0))","v":"Urban"},{"$f":"IF($B893=\"\",\"\",VLOOKUP($B893,_tbl!$A:$E,Q$2,0))","v":"Total"},null,1.7855139086335901E-3,1.1713352641135101E-3]
[null,"all_m_East Urban.csv","50-54",3.3675968234409101E-3,3.2790472754084402E-3,3.1909040128919302E-3,3.0980100804228299E-3,3.0055595446359701E-3,2.9118697042644298E-3,2.8195896659503499E-3,2.7282474282966001E-3,2.6393427446241798E-3,2.55252046799841E-3,{"$f":"IF($B894=\"\",\"\",VLOOKUP($B894,_tbl!$A:$E,N$2,0))","v":"Male"},{"$f":"IF($B894=\"\",\"\",VLOOKUP($B894,_tbl!$A:$E,O$2,0))","v":"East"},{"$f":"IF($B894=\"\",\"\",VLOOKUP($B894,_tbl!$A:$E,P$2,0))","v":"Urban"},{"$f":"IF($B894=\"\",\"\",VLOOKUP($B894,_tbl!$A:$E,Q$2,0))","v":"Total"},null,3.3675968234409101E-3,2.55252046799841E-3]
[null,"all_m_East Urban.csv","55-59",6.5175093944845703E-3,6.4858612220540096E-3,6.4398841387475498E-3,6.37672096278496E-3,6.3079073057844097E-3,6.2330174442362003E-3,6.15664447624457E-3,6.0782936539937301E-3,5.9997007038733599E-3,5.92043840166585E-3,{"$f":"IF($B895=\"\",\"\",VLOOKUP($B895,_tbl!$A:$E,N$2,0))","v":"Male"},{"$f":"IF($B895=\"\",\"\",VLOOKUP($B895,_tbl!$A:$E,O$2,0))","v":"East"},{"$f":"IF($B895=\"\",\"\",VLOOKUP($B895,_tbl!$A:$E,P$2,0))","v":"Urban"},{"$f":"IF($B895=\"\",\"\",VLOOKUP($B895,_tbl!$A:$E,Q$2,0))","v":"Total"},null,6.5175093944845703E-3,5.92043840166585E-3]
[null,"all_m_East Urban.csv","60-64",1.07047504927131E-2,1.07381397380407E-2,1.07439432412876E-2,1.07244290683946E-2,1.0693218051165101E-2,1.06524052306982E-2,1.06070339363287E-2,1.0558049184308299E-2,1.0507023492948299E-2,1.0454449231238601E-2,{"$f":"IF($B896=\"\",\"\",VLOOKUP($B896,_tbl!$A:$E,N$2,0))","v":"Male"},{"$f":"IF($B896=\"\",\"\",VLOOKUP($B896,_tbl!$A:$E,O$2,0))","v":"East"},{"$f":"IF($B896=\"\",\"\",VLOOKUP($B896,_tbl!$A:$E,P$2,0))","v":"Urban"},{"$f":"IF($B896=\"\",\"\",VLOOKUP($B896,_tbl!$A:$E,Q$2,0))","v":"Total"},null,1.07439432412876E-2,1.0454449231238601E-2]
[null,"all_m_East Urban.csv","65-69",1.53391576184124E-2,1.5223490163388E-2,1.50667498386762E-2,1.4898126464348901E-2,1.47197720653948E-2,1.45397092392712E-2,1.43572105301674E-2,1.41743680045095E-2,1.3990483304792601E-2,1.38069037258513E-2,{"$f":"IF($B897=\"\",\"\",VLOOKUP($B897,_tbl!$A:$E,N$2,0))","v":"Male"},{"$f":"IF($B897=\"\",\"\",VLOOKUP($B897,_tbl!$A:$E,O$2,0))","v":"East"},{"$f":"IF($B897=\"\",\"\",VLOOKUP($B897,_tbl!$A:$E,P$2,0))","v":"Urban"},{"$f":"IF($B897=\"\",\"\",VLOOKUP($B897,_tbl!$A:$E,Q$2,0))","v":"Total"},null,1.53391576184124E-2,1.38069037258513E-2]
[null,"all_m_East Urban.csv","70-74",2.27369680474123E-2,2.22546175826231E-2,2.17269232534981E-2,2.1207674662742999E-2,2.0683339067596299E-2,2.0167890555999601E-2,1.965823503917E-2,1.91575258353818E-2,1.8665283338474999E-2,1.81821553915512E-2,{"$f":"IF($B898=\"\",\"\",VLOOKUP($B898,_tbl!$A:$E,N$2,0))","v":"Male"},{"$f":"IF($B898=\"\",\"\",VLOOKUP($B898,_tbl!$A:$E,O$2,0))","v":"East"},{"$f":"IF($B898=\"\",\"\",VLOOKUP($B898,_tbl!$A:$E,P$2,0))","v":"Urban"},{"$f":"IF($B898=\"\",\"\",VLOOKUP($B898,_tbl!$A:$E,Q$2,0))","v":"Total"},null,2.27369680474123E-2,1.81821553915512E-2]
[null,"all_m_East Urban.csv","75-79",3.9966700724772597E-2,3.9006257627522502E-2,3.8028278329287499E-2,3.7085805227056803E-2,3.6133483385890702E-2,3.5195547697958199E-2,3.42674965007191E-2,3.33649433882965E-2,3.2488443953988901E-2,3.16433667608923E-2,{"$f":"IF($B899=\"\",\"\",VLOOKUP($B899,_tbl!$A:$E,N$2,0))","v":"Male"},{"$f":"IF($B899=\"\",\"\",VLOOKUP($B899,_tbl!$A:$E,O$2,0))","v":"East"},{"$f":"IF($B899=\"\",\"\",VLOOKUP($B899,_tbl!$A:$E,P$2,0))","v":"Urban"},{"$f":"IF($B899=\"\",\"\",VLOOKUP($B899,_tbl!$A:$E,Q$2,0))","v":"Total"},null,3.9966700724772597E-2,3.16433667608923E-2]
[null,"all_m_East Urban.csv","80-84",8.4061262254861296E-2,8.3148038264909699E-2,8.2330617273873793E-2,8.1482762196212297E-2,8.04543457554113E-2,7.9229875042079706E-2,7.7856674157682604E-2,7.6446866660943899E-2,7.5124604848470194E-2,7.3978448867405497E-2,{"$f":"IF($B900=\"\",\"\",VLOOKUP($B900,_tbl!$A:$E,N$2,0))","v":"Male"},{"$f":"IF($B900=\"\",\"\",VLOOKUP($B900,_tbl!$A:$E,O$2,0))","v":"East"},{"$f":"IF($B900=\"\",\"\",VLOOKUP($B900,_tbl!$A:$E,P$2,0))","v":"Urban"},{"$f":"IF($B900=\"\",\"\",VLOOKUP($B900,_tbl!$A:$E,Q$2,0))","v":"Total"},null,8.4061262254861296E-2,7.3978448867405497E-2]
[null,"all_m_East Urban.csv","85+",0.188026259877557,0.18783149274480501,0.18771667691546301,0.18771304579764,0.18745597361486599,0.18715614345960499,0.18681147146347499,0.186543582014703,0.18631931105114599,0.186140874941194,{"$f":"IF($B901=\"\",\"\",VLOOKUP($B901,_tbl!$A:$E,N$2,0))","v":"Male"},{"$f":"IF($B901=\"\",\"\",VLOOKUP($B901,_tbl!$A:$E,O$2,0))","v":"East"},{"$f":"IF($B901=\"\",\"\",VLOOKUP($B901,_tbl!$A:$E,P$2,0))","v":"Urban"},{"$f":"IF($B901=\"\",\"\",VLOOKUP($B901,_tbl!$A:$E,Q$2,0))","v":"Total"},null,0.188026259877557,0.186140874941194]
[null,null,null,null,null,null,null,null,null,null,null,null,null,{"$f":"IF($B902=\"\",\"\",VLOOKUP($B902,_tbl!$A:$E,N$2,0))","v":""},{"$f":"IF($B902=\"\",\"\",VLOOKUP($B902,_tbl!$A:$E,O$2,0))","v":""},{"$f":"IF($B902=\"\",\"\",VLOOKUP($B902,_tbl!$A:$E,P$2,0))","v":""},{"$f":"IF($B902=\"\",\"\",VLOOKUP($B902,_tbl!$A:$E,Q$2,0))","v":""}]
[null,null,null,2020,2021,2022,2023,2024,2025,2026,2027,2028,2029,{"$f":"IF($B903=\"\",\"\",VLOOKUP($B903,_tbl!$A:$E,N$2,0))","v":""},{"$f":"IF($B903=\"\",\"\",VLOOKUP($B903,_tbl!$A:$E,O$2,0))","v":""},{"$f":"IF($B903=\"\",\"\",VLOOKUP($B903,_tbl!$A:$E,P$2,0))","v":""},{"$f":"IF($B903=\"\",\"\",VLOOKUP($B903,_tbl!$A:$E,Q$2,0))","v":""}]
[null,"all_m_East.csv","1-4",4.1163968847338599E-4,3.9761045775447599E-4,3.84438318052802E-4,3.7192395376194802E-4,3.5994635406232101E-4,3.4843011825542802E-4,3.3732654915429798E-4,3.2660266940619302E-4,3.1623482151090301E-4,3.0620493076367601E-4,{"$f":"IF($B904=\"\",\"\",VLOOKUP($B904,_tbl!$A:$E,N$2,0))","v":"Male"},{"$f":"IF($B904=\"\",\"\",VLOOKUP($B904,_tbl!$A:$E,O$2,0))","v":"East"},{"$f":"IF($B904=\"\",\"\",VLOOKUP($B904,_tbl!$A:$E,P$2,0))","v":"Total"},{"$f":"IF($B904=\"\",\"\",VLOOKUP($B904,_tbl!$A:$E,Q$2,0))","v":"Total"},null,{"$f":"MAX(D904:M904)","v":4.1163968847338599E-4},{"$f":"MIN(D904:M904)","v":3.0620493076367601E-4}]
[null,"all_m_East.csv","5-9",2.1158557972605801E-4,2.0492877384217599E-4,1.9880153411702399E-4,1.9304525161862801E-4,1.8756581114795699E-4,1.8230656204087399E-4,1.77232737831402E-4,1.7232240946255201E-4,1.6756120835050001E-4,1.6293923956936399E-4,{"$f":"IF($B905=\"\",\"\",VLOOKUP($B905,_tbl!$A:$E,N$2,0))","v":"Male"},{"$f":"IF($B905=\"\",\"\",VLOOKUP($B905,_tbl!$A:$E,O$2,0))","v":"East"},{"$f":"IF($B905=\"\",\"\",VLOOKUP($B905,_tbl!$A:$E,P$2,0))","v":"Total"},{"$f":"IF($B905=\"\",\"\",VLOOKUP($B905,_tbl!$A:$E,Q$2,0))","v":"Total"},null,2.1158557972605801E-4,1.6293923956936399E-4]
[null,"all_m_East.csv","10-14",2.1104927763588601E-4,2.0260814004950201E-4,1.9477024699605201E-4,1.8738991358882199E-4,1.8037896313744499E-4,1.7368248660499399E-4,1.67264950047167E-4,1.6110218311697399E-4,1.5517674026984901E-4,1.4947520700021001E-4,{"$f":"IF($B906=\"\",\"\",VLOOKUP($B906,_tbl!$A:$E,N$2,0))","v":"Male"},{"$f":"IF($B906=\"\",\"\",VLOOKUP($B906,_tbl!$A:$E,O$2,0))","v":"East"},{"$f":"IF($B906=\"\",\"\",VLOOKUP($B906,_tbl!$A:$E,P$2,0))","v":"Total"},{"$f":"IF($B906=\"\",\"\",VLOOKUP($B906,_tbl!$A:$E,Q$2,0))","v":"Total"},null,2.1104927763588601E-4,1.4947520700021001E-4]
[null,"all_m_East.csv","15-19",2.4205758163999201E-4,2.29584798781924E-4,2.1788173665091999E-4,2.0684805578850899E-4,1.96414880764126E-4,1.86531885364375E-4,1.77159902289254E-4,1.6826667302803299E-4,1.59824389811602E-4,1.5180826311492299E-4,{"$f":"IF($B907=\"\",\"\",VLOOKUP($B907,_tbl!$A:$E,N$2,0))","v":"Male"},{"$f":"IF($B907=\"\",\"\",VLOOKUP($B907,_tbl!$A:$E,O$2,0))","v":"East"},{"$f":"IF($B907=\"\",\"\",VLOOKUP($B907,_tbl!$A:$E,P$2,0))","v":"Total"},{"$f":"IF($B907=\"\",\"\",VLOOKUP($B907,_tbl!$A:$E,Q$2,0))","v":"Total"},null,2.4205758163999201E-4,1.5180826311492299E-4]
[null,"all_m_East.csv","20-24",3.1268834057048001E-4,2.9654136883079299E-4,2.8129599144844199E-4,2.6687321575330502E-4,2.5321217738367199E-4,2.40263181480928E-4,2.2798368483607101E-4,2.1633595861267099E-4,2.05285713683425E-4,1.9480127859695801E-4,{"$f":"IF($B908=\"\",\"\",VLOOKUP($B908,_tbl!$A:$E,N$2,0))","v":"Male"},{"$f":"IF($B908=\"\",\"\",VLOOKUP($B908,_tbl!$A:$E,O$2,0))","v":"East"},{"$f":"IF($B908=\"\",\"\",VLOOKUP($B908,_tbl!$A:$E,P$2,0))","v":"Total"},{"$f":"IF($B908=\"\",\"\",VLOOKUP($B908,_tbl!$A:$E,Q$2,0))","v":"Total"},null,3.1268834057048001E-4,1.9480127859695801E-4]
[null,"all_m_East.csv","25-29",4.77821535242416E-4,4.5893897820332199E-4,4.4106305027399802E-4,4.2403459074083402E-4,4.0775135059421401E-4,3.9214437818923002E-4,3.77164379558639E-4,3.6277381403558698E-4,3.48942300997843E-4,3.3564394304810098E-4,{"$f":"IF($B909=\"\",\"\",VLOOKUP($B909,_tbl!$A:$E,N$2,0))","v":"Male"},{"$f":"IF($B909=\"\",\"\",VLOOKUP($B909,_tbl!$A:$E,O$2,0))","v":"East"},{"$f":"IF($B909=\"\",\"\",VLOOKUP($B909,_tbl!$A:$E,P$2,0))","v":"Total"},{"$f":"IF($B909=\"\",\"\",VLOOKUP($B909,_tbl!$A:$E,Q$2,0))","v":"Total"},null,4.77821535242416E-4,3.3564394304810098E-4]
[null,"all_m_East.csv","30-34",7.4762313507041502E-4,7.2595418081937099E-4,7.0542074298913203E-4,6.8576599862573404E-4,6.6683380825358996E-4,6.4852700963131797E-4,6.3078312205858903E-4,6.1356014448872402E-4,5.9682823557463802E-4,5.8056483203816199E-4,{"$f":"IF($B910=\"\",\"\",VLOOKUP($B910,_tbl!$A:$E,N$2,0))","v":"Male"},{"$f":"IF($B910=\"\",\"\",VLOOKUP($B910,_tbl!$A:$E,O$2,0))","v":"East"},{"$f":"IF($B910=\"\",\"\",VLOOKUP($B910,_tbl!$A:$E,P$2,0))","v":"Total"},{"$f":"IF($B910=\"\",\"\",VLOOKUP($B910,_tbl!$A:$E,Q$2,0))","v":"Total"},null,7.4762313507041502E-4,5.8056483203816199E-4]
[null,"all_m_East.csv","35-39",1.0775749625400099E-3,1.0473679501114301E-3,1.0180555645239401E-3,9.8959162120006703E-4,9.6193998856256501E-4,9.3507068555931296E-4,9.0895758538672104E-4,8.8357706133087796E-4,8.5890718547369197E-4,8.3492725197857295E-4,{"$f":"IF($B911=\"\",\"\",VLOOKUP($B911,_tbl!$A:$E,N$2,0))","v":"Male"},{"$f":"IF($B911=\"\",\"\",VLOOKUP($B911,_tbl!$A:$E,O$2,0))","v":"East"},{"$f":"IF($B911=\"\",\"\",VLOOKUP($B911,_tbl!$A:$E,P$2,0))","v":"Total"},{"$f":"IF($B911=\"\",\"\",VLOOKUP($B911,_tbl!$A:$E,Q$2,0))","v":"Total"},null,1.0775749625400099E-3,8.3492725197857295E-4]
[null,"all_m_East.csv","40-44",1.5362370015489901E-3,1.4894385188289701E-3,1.4426392083214E-3,1.3964768110515801E-3,1.35130458754169E-3,1.3073091348298101E-3,1.2645799608288801E-3,1.22315037229247E-3,1.1830214295412899E-3,1.14417594926423E-3,{"$f":"IF($B912=\"\",\"\",VLOOKUP($B912,_tbl!$A:$E,N$2,0))","v":"Male"},{"$f":"IF($B912=\"\",\"\",VLOOKUP($B912,_tbl!$A:$E,O$2,0))","v":"East"},{"$f":"IF($B912=\"\",\"\",VLOOKUP($B912,_tbl!$A:$E,P$2,0))","v":"Total"},{"$f":"IF($B912=\"\",\"\",VLOOKUP($B912,_tbl!$A:$E,Q$2,0))","v":"Total"},null,1.5362370015489901E-3,1.14417594926423E-3]
[null,"all_m_East.csv","45-49",2.42274857526596E-3,2.3573066010453099E-3,2.2897941958594801E-3,2.2219672916758502E-3,2.15483344766405E-3,2.0889577206056002E-3,2.02464517366249E-3,1.9620488977625601E-3,1.9012336324419901E-3,1.8422131199488799E-3,{"$f":"IF($B913=\"\",\"\",VLOOKUP($B913,_tbl!$A:$E,N$2,0))","v":"Male"},{"$f":"IF($B913=\"\",\"\",VLOOKUP($B913,_tbl!$A:$E,O$2,0))","v":"East"},{"$f":"IF($B913=\"\",\"\",VLOOKUP($B913,_tbl!$A:$E,P$2,0))","v":"Total"},{"$f":"IF($B913=\"\",\"\",VLOOKUP($B913,_tbl!$A:$E,Q$2,0))","v":"Total"},null,2.42274857526596E-3,1.8422131199488799E-3]
[null,"all_m_East.csv","50-54",4.2145572719330098E-3,4.1439806100449098E-3,4.0670699113532797E-3,3.9871394173001196E-3,3.9061497298726201E-3,3.82525024357657E-3,3.74510714625978E-3,3.66609991911575E-3,3.5884384073895598E-3,3.5122323370416499E-3,{"$f":"IF($B914=\"\",\"\",VLOOKUP($B914,_tbl!$A:$E,N$2,0))","v":"Male"},{"$f":"IF($B914=\"\",\"\",VLOOKUP($B914,_tbl!$A:$E,O$2,0))","v":"East"},{"$f":"IF($B914=\"\",\"\",VLOOKUP($B914,_tbl!$A:$E,P$2,0))","v":"Total"},{"$f":"IF($B914=\"\",\"\",VLOOKUP($B914,_tbl!$A:$E,Q$2,0))","v":"Total"},null,4.2145572719330098E-3,3.5122323370416499E-3]
[null,"all_m_East.csv","55-59",7.2854324921318402E-3,7.2358509056074704E-3,7.1733480213091996E-3,7.1034604193154303E-3,7.0295197455007103E-3,6.9535216794605996E-3,6.87665730571711E-3,6.7996348903750503E-3,6.7228736136120603E-3,6.6466198089954499E-3,{"$f":"IF($B915=\"\",\"\",VLOOKUP($B915,_tbl!$A:$E,N$2,0))","v":"Male"},{"$f":"IF($B915=\"\",\"\",VLOOKUP($B915,_tbl!$A:$E,O$2,0))","v":"East"},{"$f":"IF($B915=\"\",\"\",VLOOKUP($B915,_tbl!$A:$E,P$2,0))","v":"Total"},{"$f":"IF($B915=\"\",\"\",VLOOKUP($B915,_tbl!$A:$E,Q$2,0))","v":"Total"},null,7.2854324921318402E-3,6.6466198089954499E-3]
[null,"all_m_East.csv","60-64",1.15323206159484E-2,1.14818962102218E-2,1.1409461622960001E-2,1.13241667931042E-2,1.1231536424624201E-2,1.11348917147373E-2,1.10362230620907E-2,1.0936720210340299E-2,1.08370923156654E-2,1.0737760474776901E-2,{"$f":"IF($B916=\"\",\"\",VLOOKUP($B916,_tbl!$A:$E,N$2,0))","v":"Male"},{"$f":"IF($B916=\"\",\"\",VLOOKUP($B916,_tbl!$A:$E,O$2,0))","v":"East"},{"$f":"IF($B916=\"\",\"\",VLOOKUP($B916,_tbl!$A:$E,P$2,0))","v":"Total"},{"$f":"IF($B916=\"\",\"\",VLOOKUP($B916,_tbl!$A:$E,Q$2,0))","v":"Total"},null,1.15323206159484E-2,1.0737760474776901E-2]
[null,"all_m_East.csv","65-69",1.7113161628420401E-2,1.6939992574100001E-2,1.6735696204562701E-2,1.65142814763597E-2,1.6284140041254998E-2,1.6050270073118902E-2,1.5815632723198501E-2,1.5581971094706401E-2,1.53503017259892E-2,1.51212084762305E-2,{"$f":"IF($B917=\"\",\"\",VLOOKUP($B917,_tbl!$A:$E,N$2,0))","v":"Male"},{"$f":"IF($B917=\"\",\"\",VLOOKUP($B917,_tbl!$A:$E,O$2,0))","v":"East"},{"$f":"IF($B917=\"\",\"\",VLOOKUP($B917,_tbl!$A:$E,P$2,0))","v":"Total"},{"$f":"IF($B917=\"\",\"\",VLOOKUP($B917,_tbl!$A:$E,Q$2,0))","v":"Total"},null,1.7113161628420401E-2,1.51212084762305E-2]
[null,"all_m_East.csv","70-74",2.6328467884491599E-2,2.5834501654178301E-2,2.5314162016765899E-2,2.47832401304873E-2,2.4251011250123401E-2,2.3722864042776001E-2,2.3201879977102099E-2,2.2689775425293501E-2,2.2187461275821399E-2,2.1695374500089799E-2,{"$f":"IF($B918=\"\",\"\",VLOOKUP($B918,_tbl!$A:$E,N$2,0))","v":"Male"},{"$f":"IF($B918=\"\",\"\",VLOOKUP($B918,_tbl!$A:$E,O$2,0))","v":"East"},{"$f":"IF($B918=\"\",\"\",VLOOKUP($B918,_tbl!$A:$E,P$2,0))","v":"Total"},{"$f":"IF($B918=\"\",\"\",VLOOKUP($B918,_tbl!$A:$E,Q$2,0))","v":"Total"},null,2.6328467884491599E-2,2.1695374500089799E-2]
[null,"all_m_East.csv","75-79",4.57907495174888E-2,4.46713638263933E-2,4.3582562942976501E-2,4.2522197360116601E-2,4.1488748275629102E-2,4.0481074390400898E-2,3.9498262719397E-2,3.8539540599821898E-2,3.7604223726448602E-2,3.6691685404762399E-2,{"$f":"IF($B919=\"\",\"\",VLOOKUP($B919,_tbl!$A:$E,N$2,0))","v":"Male"},{"$f":"IF($B919=\"\",\"\",VLOOKUP($B919,_tbl!$A:$E,O$2,0))","v":"East"},{"$f":"IF($B919=\"\",\"\",VLOOKUP($B919,_tbl!$A:$E,P$2,0))","v":"Total"},{"$f":"IF($B919=\"\",\"\",VLOOKUP($B919,_tbl!$A:$E,Q$2,0))","v":"Total"},null,4.57907495174888E-2,3.6691685404762399E-2]
[null,"all_m_East.csv","80-84",9.0540524480023199E-2,8.8271400255144405E-2,8.6265851227389306E-2,8.4428075615301607E-2,8.2701750733686796E-2,8.1053515703408893E-2,7.9463462543561195E-2,7.7919601456785906E-2,7.6414617353704695E-2,7.4943961153557601E-2,{"$f":"IF($B920=\"\",\"\",VLOOKUP($B920,_tbl!$A:$E,N$2,0))","v":"Male"},{"$f":"IF($B920=\"\",\"\",VLOOKUP($B920,_tbl!$A:$E,O$2,0))","v":"East"},{"$f":"IF($B920=\"\",\"\",VLOOKUP($B920,_tbl!$A:$E,P$2,0))","v":"Total"},{"$f":"IF($B920=\"\",\"\",VLOOKUP($B920,_tbl!$A:$E,Q$2,0))","v":"Total"},null,9.0540524480023199E-2,7.4943961153557601E-2]
[null,"all_m_East.csv","85+",0.190255425875692,0.185979277085184,0.182734293531822,0.18010294282803899,0.177841784999656,0.175807434920594,0.173914896757631,0.172113573627553,0.17037325255227501,0.16867584266866401,{"$f":"IF($B921=\"\",\"\",VLOOKUP($B921,_tbl!$A:$E,N$2,0))","v":"Male"},{"$f":"IF($B921=\"\",\"\",VLOOKUP($B921,_tbl!$A:$E,O$2,0))","v":"East"},{"$f":"IF($B921=\"\",\"\",VLOOKUP($B921,_tbl!$A:$E,P$2,0))","v":"Total"},{"$f":"IF($B921=\"\",\"\",VLOOKUP($B921,_tbl!$A:$E,Q$2,0))","v":"Total"},null,0.190255425875692,0.16867584266866401]
[null,null,null,null,null,null,null,null,null,null,null,null,null,{"$f":"IF($B922=\"\",\"\",VLOOKUP($B922,_tbl!$A:$E,N$2,0))","v":""},{"$f":"IF($B922=\"\",\"\",VLOOKUP($B922,_tbl!$A:$E,O$2,0))","v":""},{"$f":"IF($B922=\"\",\"\",VLOOKUP($B922,_tbl!$A:$E,P$2,0))","v":""},{"$f":"IF($B922=\"\",\"\",VLOOKUP($B922,_tbl!$A:$E,Q$2,0))","v":""}]
[null,null,null,2020,2021,2022,2023,2024,2025,2026,2027,2028,2029,{"$f":"IF($B923=\"\",\"\",VLOOKUP($B923,_tbl!$A:$E,N$2,0))","v":""},{"$f":"IF($B923=\"\",\"\",VLOOKUP($B923,_tbl!$A:$E,O$2,0))","v":""},{"$f":"IF($B923=\"\",\"\",VLOOKUP($B923,_tbl!$A:$E,P$2,0))","v":""},{"$f":"IF($B923=\"\",\"\",VLOOKUP($B923,_tbl!$A:$E,Q$2,0))","v":""}]
[null,"all_m_Total.csv","1-4",5.3199954711026596E-4,5.1220605525703199E-4,4.9137060945444804E-4,4.7274879247202501E-4,4.5434286911266302E-4,4.3707147442326199E-4,4.2032449124055699E-4,4.04348316178319E-4,3.8894489733497001E-4,3.7416862003792701E-4,{"$f":"IF($B924=\"\",\"\",VLOOKUP($B924,_tbl!$A:$E,N$2,0))","v":"Male"},{"$f":"IF($B924=\"\",\"\",VLOOKUP($B924,_tbl!$A:$E,O$2,0))","v":"Total"},{"$f":"IF($B924=\"\",\"\",VLOOKUP($B924,_tbl!$A:$E,P$2,0))","v":"Total"},{"$f":"IF($B924=\"\",\"\",VLOOKUP($B924,_tbl!$A:$E,Q$2,0))","v":"Total"},null,{"$f":"MAX(D924:M924)","v":5.3199954711026596E-4},{"$f":"MIN(D924:M924)","v":3.7416862003792701E-4}]
[null,"all_m_Total.csv","5-9",2.8899411630109602E-4,2.8178775229502898E-4,2.7420095078655398E-4,2.67366188800884E-4,2.6055133431887503E-4,2.54085952480914E-4,2.4774263188377199E-4,2.41614811305484E-4,2.3562967267967401E-4,2.2981163324786E-4,{"$f":"IF($B925=\"\",\"\",VLOOKUP($B925,_tbl!$A:$E,N$2,0))","v":"Male"},{"$f":"IF($B925=\"\",\"\",VLOOKUP($B925,_tbl!$A:$E,O$2,0))","v":"Total"},{"$f":"IF($B925=\"\",\"\",VLOOKUP($B925,_tbl!$A:$E,P$2,0))","v":"Total"},{"$f":"IF($B925=\"\",\"\",VLOOKUP($B925,_tbl!$A:$E,Q$2,0))","v":"Total"},null,2.8899411630109602E-4,2.2981163324786E-4]
[null,"all_m_Total.csv","10-14",2.78784089460404E-4,2.7118889151311301E-4,2.6313091658036302E-4,2.5585897826010099E-4,2.48601384149798E-4,2.41721322983707E-4,2.34981005896371E-4,2.28483136489232E-4,2.22151769481108E-4,2.1601336064883901E-4,{"$f":"IF($B926=\"\",\"\",VLOOKUP($B926,_tbl!$A:$E,N$2,0))","v":"Male"},{"$f":"IF($B926=\"\",\"\",VLOOKUP($B926,_tbl!$A:$E,O$2,0))","v":"Total"},{"$f":"IF($B926=\"\",\"\",VLOOKUP($B926,_tbl!$A:$E,P$2,0))","v":"Total"},{"$f":"IF($B926=\"\",\"\",VLOOKUP($B926,_tbl!$A:$E,Q$2,0))","v":"Total"},null,2.78784089460404E-4,2.1601336064883901E-4]
[null,"all_m_Total.csv","15-19",3.2754122447401797E-4,3.1696514155933999E-4,3.0554974724190497E-4,2.9521141908954402E-4,2.8487710402089601E-4,2.7510214773582102E-4,2.6556142773726698E-4,2.5641029027753198E-4,2.47544952184194E-4,2.3900360746119601E-4,{"$f":"IF($B927=\"\",\"\",VLOOKUP($B927,_tbl!$A:$E,N$2,0))","v":"Male"},{"$f":"IF($B927=\"\",\"\",VLOOKUP($B927,_tbl!$A:$E,O$2,0))","v":"Total"},{"$f":"IF($B927=\"\",\"\",VLOOKUP($B927,_tbl!$A:$E,P$2,0))","v":"Total"},{"$f":"IF($B927=\"\",\"\",VLOOKUP($B927,_tbl!$A:$E,Q$2,0))","v":"Total"},null,3.2754122447401797E-4,2.3900360746119601E-4]
[null,"all_m_Total.csv","20-24",4.3042271814411798E-4,4.1658896541834798E-4,4.0154951463893001E-4,3.8788955647636801E-4,3.74204429751057E-4,3.6124613620065499E-4,3.4859074902667897E-4,3.3644963015904002E-4,3.2468783002865702E-4,3.1335772800815002E-4,{"$f":"IF($B928=\"\",\"\",VLOOKUP($B928,_tbl!$A:$E,N$2,0))","v":"Male"},{"$f":"IF($B928=\"\",\"\",VLOOKUP($B928,_tbl!$A:$E,O$2,0))","v":"Total"},{"$f":"IF($B928=\"\",\"\",VLOOKUP($B928,_tbl!$A:$E,P$2,0))","v":"Total"},{"$f":"IF($B928=\"\",\"\",VLOOKUP($B928,_tbl!$A:$E,Q$2,0))","v":"Total"},null,4.3042271814411798E-4,3.1335772800815002E-4]
[null,"all_m_Total.csv","25-29",6.22349665699531E-4,6.0514313529946905E-4,5.8660305766888995E-4,5.69770480654275E-4,5.5289344775915001E-4,5.3686307077206502E-4,5.2114460697366195E-4,5.0599240057235797E-4,4.9123683203010696E-4,4.7694419849481198E-4,{"$f":"IF($B929=\"\",\"\",VLOOKUP($B929,_tbl!$A:$E,N$2,0))","v":"Male"},{"$f":"IF($B929=\"\",\"\",VLOOKUP($B929,_tbl!$A:$E,O$2,0))","v":"Total"},{"$f":"IF($B929=\"\",\"\",VLOOKUP($B929,_tbl!$A:$E,P$2,0))","v":"Total"},{"$f":"IF($B929=\"\",\"\",VLOOKUP($B929,_tbl!$A:$E,Q$2,0))","v":"Total"},null,6.22349665699531E-4,4.7694419849481198E-4]
[null,"all_m_Total.csv","30-34",9.1765130091880302E-4,8.96039844653526E-4,8.7287091417106403E-4,8.5182214614967799E-4,8.3068819719873401E-4,8.1055442186143804E-4,7.9074132958141801E-4,7.7156271893816101E-4,7.5280319116088001E-4,7.3454766547488299E-4,{"$f":"IF($B930=\"\",\"\",VLOOKUP($B930,_tbl!$A:$E,N$2,0))","v":"Male"},{"$f":"IF($B930=\"\",\"\",VLOOKUP($B930,_tbl!$A:$E,O$2,0))","v":"Total"},{"$f":"IF($B930=\"\",\"\",VLOOKUP($B930,_tbl!$A:$E,P$2,0))","v":"Total"},{"$f":"IF($B930=\"\",\"\",VLOOKUP($B930,_tbl!$A:$E,Q$2,0))","v":"Total"},null,9.1765130091880302E-4,7.3454766547488299E-4]
[null,"all_m_Total.csv","35-39",1.32319625205394E-3,1.2945512658240001E-3,1.26304753136916E-3,1.2340930630619399E-3,1.2047447285958601E-3,1.1766263711639E-3,1.14884185979738E-3,1.1218716734919499E-3,1.09543603668538E-3,1.0696701782502E-3,{"$f":"IF($B931=\"\",\"\",VLOOKUP($B931,_tbl!$A:$E,N$2,0))","v":"Male"},{"$f":"IF($B931=\"\",\"\",VLOOKUP($B931,_tbl!$A:$E,O$2,0))","v":"Total"},{"$f":"IF($B931=\"\",\"\",VLOOKUP($B931,_tbl!$A:$E,P$2,0))","v":"Total"},{"$f":"IF($B931=\"\",\"\",VLOOKUP($B931,_tbl!$A:$E,Q$2,0))","v":"Total"},null,1.32319625205394E-3,1.0696701782502E-3]
[null,"all_m_Total.csv","40-44",1.9363844846369E-3,1.8976710138151E-3,1.8533748725868501E-3,1.81198588849299E-3,1.7694851372323801E-3,1.7284725207853101E-3,1.6877504366382501E-3,1.6481071875128E-3,1.6091782326366499E-3,1.5711936724636299E-3,{"$f":"IF($B932=\"\",\"\",VLOOKUP($B932,_tbl!$A:$E,N$2,0))","v":"Male"},{"$f":"IF($B932=\"\",\"\",VLOOKUP($B932,_tbl!$A:$E,O$2,0))","v":"Total"},{"$f":"IF($B932=\"\",\"\",VLOOKUP($B932,_tbl!$A:$E,P$2,0))","v":"Total"},{"$f":"IF($B932=\"\",\"\",VLOOKUP($B932,_tbl!$A:$E,Q$2,0))","v":"Total"},null,1.9363844846369E-3,1.5711936724636299E-3]
[null,"all_m_Total.csv","45-49",3.0053487031955102E-3,2.9553094005247298E-3,2.8963104141281298E-3,2.8404232705153002E-3,2.78238723458884E-3,2.7259646582996401E-3,2.66960772266496E-3,2.6144834277379899E-3,2.56013147747836E-3,2.5069056482416498E-3,{"$f":"IF($B933=\"\",\"\",VLOOKUP($B933,_tbl!$A:$E,N$2,0))","v":"Male"},{"$f":"IF($B933=\"\",\"\",VLOOKUP($B933,_tbl!$A:$E,O$2,0))","v":"Total"},{"$f":"IF($B933=\"\",\"\",VLOOKUP($B933,_tbl!$A:$E,P$2,0))","v":"Total"},{"$f":"IF($B933=\"\",\"\",VLOOKUP($B933,_tbl!$A:$E,Q$2,0))","v":"Total"},null,3.0053487031955102E-3,2.5069056482416498E-3]
[null,"all_m_Total.csv","50-54",4.87400962921719E-3,4.8139531054101304E-3,4.7419984378933404E-3,4.6732020308463598E-3,4.6011642867752603E-3,4.5306468034549503E-3,4.4597672188737897E-3,4.3900318791309E-3,4.3208882844489498E-3,4.2528090045980396E-3,{"$f":"IF($B934=\"\",\"\",VLOOKUP($B934,_tbl!$A:$E,N$2,0))","v":"Male"},{"$f":"IF($B934=\"\",\"\",VLOOKUP($B934,_tbl!$A:$E,O$2,0))","v":"Total"},{"$f":"IF($B934=\"\",\"\",VLOOKUP($B934,_tbl!$A:$E,P$2,0))","v":"Total"},{"$f":"IF($B934=\"\",\"\",VLOOKUP($B934,_tbl!$A:$E,Q$2,0))","v":"Total"},null,4.87400962921719E-3,4.2528090045980396E-3]
[null,"all_m_Total.csv","55-59",7.8183643626483692E-3,7.744058682055E-3,7.6539892152958497E-3,7.5673106368803998E-3,7.4760228427296202E-3,7.3862404935397304E-3,7.29561024067704E-3,7.20609007600213E-3,7.1169943954099701E-3,7.0289494316221604E-3,{"$f":"IF($B935=\"\",\"\",VLOOKUP($B935,_tbl!$A:$E,N$2,0))","v":"Male"},{"$f":"IF($B935=\"\",\"\",VLOOKUP($B935,_tbl!$A:$E,O$2,0))","v":"Total"},{"$f":"IF($B935=\"\",\"\",VLOOKUP($B935,_tbl!$A:$E,P$2,0))","v":"Total"},{"$f":"IF($B935=\"\",\"\",VLOOKUP($B935,_tbl!$A:$E,Q$2,0))","v":"Total"},null,7.8183643626483692E-3,7.0289494316221604E-3]
[null,"all_m_Total.csv","60-64",1.20290592745923E-2,1.19092370313729E-2,1.1762102059365001E-2,1.16199001563546E-2,1.1469687868518499E-2,1.1321782493869901E-2,1.1172413516801E-2,1.10248919790162E-2,1.08781321851491E-2,1.07331947820481E-2,{"$f":"IF($B936=\"\",\"\",VLOOKUP($B936,_tbl!$A:$E,N$2,0))","v":"Male"},{"$f":"IF($B936=\"\",\"\",VLOOKUP($B936,_tbl!$A:$E,O$2,0))","v":"Total"},{"$f":"IF($B936=\"\",\"\",VLOOKUP($B936,_tbl!$A:$E,P$2,0))","v":"Total"},{"$f":"IF($B936=\"\",\"\",VLOOKUP($B936,_tbl!$A:$E,Q$2,0))","v":"Total"},null,1.20290592745923E-2,1.07331947820481E-2]
[null,"all_m_Total.csv","65-69",1.82440336822331E-2,1.8002369519878599E-2,1.77084125599088E-2,1.7426040387311301E-2,1.71294418595297E-2,1.6838856255171099E-2,1.6546785450024599E-2,1.6259639662577801E-2,1.59752455993179E-2,1.5695611776288799E-2,{"$f":"IF($B937=\"\",\"\",VLOOKUP($B937,_tbl!$A:$E,N$2,0))","v":"Male"},{"$f":"IF($B937=\"\",\"\",VLOOKUP($B937,_tbl!$A:$E,O$2,0))","v":"Total"},{"$f":"IF($B937=\"\",\"\",VLOOKUP($B937,_tbl!$A:$E,P$2,0))","v":"Total"},{"$f":"IF($B937=\"\",\"\",VLOOKUP($B937,_tbl!$A:$E,Q$2,0))","v":"Total"},null,1.82440336822331E-2,1.5695611776288799E-2]
[null,"all_m_Total.csv","70-74",2.90032694857307E-2,2.8501001235879599E-2,2.7914768843168101E-2,2.7361808433564599E-2,2.67895106920377E-2,2.6234245355077901E-2,2.5680452690664698E-2,2.5139349800676301E-2,2.4606273604798602E-2,2.4084595659896402E-2,{"$f":"IF($B938=\"\",\"\",VLOOKUP($B938,_tbl!$A:$E,N$2,0))","v":"Male"},{"$f":"IF($B938=\"\",\"\",VLOOKUP($B938,_tbl!$A:$E,O$2,0))","v":"Total"},{"$f":"IF($B938=\"\",\"\",VLOOKUP($B938,_tbl!$A:$E,P$2,0))","v":"Total"},{"$f":"IF($B938=\"\",\"\",VLOOKUP($B938,_tbl!$A:$E,Q$2,0))","v":"Total"},null,2.90032694857307E-2,2.4084595659896402E-2]
[null,"all_m_Total.csv","75-79",5.0471533072783001E-2,4.9449781619849899E-2,4.8341667134575397E-2,4.7327997351791502E-2,4.6303977266463597E-2,4.5323703618022203E-2,4.4354920524094898E-2,4.3413579630660698E-2,4.2489531765670101E-2,4.15872678092866E-2,{"$f":"IF($B939=\"\",\"\",VLOOKUP($B939,_tbl!$A:$E,N$2,0))","v":"Male"},{"$f":"IF($B939=\"\",\"\",VLOOKUP($B939,_tbl!$A:$E,O$2,0))","v":"Total"},{"$f":"IF($B939=\"\",\"\",VLOOKUP($B939,_tbl!$A:$E,P$2,0))","v":"Total"},{"$f":"IF($B939=\"\",\"\",VLOOKUP($B939,_tbl!$A:$E,Q$2,0))","v":"Total"},null,5.0471533072783001E-2,4.15872678092866E-2]
[null,"all_m_Total.csv","80-84",9.5408646098787103E-2,9.3365329380401804E-2,9.13833093765965E-2,8.9659604472392296E-2,8.7990481902204598E-2,8.6428880511658895E-2,8.4908294744794999E-2,8.3441923927218706E-2,8.2007519744228402E-2,8.0607781363912195E-2,{"$f":"IF($B940=\"\",\"\",VLOOKUP($B940,_tbl!$A:$E,N$2,0))","v":"Male"},{"$f":"IF($B940=\"\",\"\",VLOOKUP($B940,_tbl!$A:$E,O$2,0))","v":"Total"},{"$f":"IF($B940=\"\",\"\",VLOOKUP($B940,_tbl!$A:$E,P$2,0))","v":"Total"},{"$f":"IF($B940=\"\",\"\",VLOOKUP($B940,_tbl!$A:$E,Q$2,0))","v":"Total"},null,9.5408646098787103E-2,8.0607781363912195E-2]
[null,"all_m_Total.csv","85+",0.18658871068515101,0.18257631964548901,0.17923463534897499,0.176564641131296,0.17418374558995101,0.17206712937969501,0.17008088615744901,0.168206805190453,0.166396755329904,0.16464074827456199,{"$f":"IF($B941=\"\",\"\",VLOOKUP($B941,_tbl!$A:$E,N$2,0))","v":"Male"},{"$f":"IF($B941=\"\",\"\",VLOOKUP($B941,_tbl!$A:$E,O$2,0))","v":"Total"},{"$f":"IF($B941=\"\",\"\",VLOOKUP($B941,_tbl!$A:$E,P$2,0))","v":"Total"},{"$f":"IF($B941=\"\",\"\",VLOOKUP($B941,_tbl!$A:$E,Q$2,0))","v":"Total"},null,0.18658871068515101,0.16464074827456199]
[null,null,null,null,null,null,null,null,null,null,null,null,null,{"$f":"IF($B942=\"\",\"\",VLOOKUP($B942,_tbl!$A:$E,N$2,0))","v":""},{"$f":"IF($B942=\"\",\"\",VLOOKUP($B942,_tbl!$A:$E,O$2,0))","v":""},{"$f":"IF($B942=\"\",\"\",VLOOKUP($B942,_tbl!$A:$E,P$2,0))","v":""},{"$f":"IF($B942=\"\",\"\",VLOOKUP($B942,_tbl!$A:$E,Q$2,0))","v":""}]
[null,null,null,2020,2021,2022,2023,2024,2025,2026,2027,2028,2029,{"$f":"IF($B943=\"\",\"\",VLOOKUP($B943,_tbl!$A:$E,N$2,0))","v":""},{"$f":"IF($B943=\"\",\"\",VLOOKUP($B943,_tbl!$A:$E,O$2,0))","v":""},{"$f":"IF($B943=\"\",\"\",VLOOKUP($B943,_tbl!$A:$E,P$2,0))","v":""},{"$f":"IF($B943=\"\",\"\",VLOOKUP($B943,_tbl!$A:$E,Q$2,0))","v":""}]
[null,"all_m_West Rural cancer.csv","1-4",4.1342015331197803E-5,4.1096516115723897E-5,4.0584499182300601E-5,4.0256476503953403E-5,3.9857684864790199E-5,3.9493112810909197E-5,3.9140311423599902E-5,3.8792450986707997E-5,3.8440252411030301E-5,3.8113940058822302E-5,{"$f":"IF($B944=\"\",\"\",VLOOKUP($B944,_tbl!$A:$E,N$2,0))","v":"Male"},{"$f":"IF($B944=\"\",\"\",VLOOKUP($B944,_tbl!$A:$E,O$2,0))","v":"West"},{"$f":"IF($B944=\"\",\"\",VLOOKUP($B944,_tbl!$A:$E,P$2,0))","v":"Rural"},{"$f":"IF($B944=\"\",\"\",VLOOKUP($B944,_tbl!$A:$E,Q$2,0))","v":"Cancer"},null,{"$f":"MAX(D944:M944)","v":4.1342015331197803E-5},{"$f":"MIN(D944:M944)","v":3.8113940058822302E-5}]
[null,"all_m_West Rural cancer.csv","5-9",4.2463601018667299E-5,4.2306962557499897E-5,4.21639096254637E-5,4.2030471906752298E-5,4.1890693078449701E-5,4.1757852723881002E-5,4.1614856652294198E-5,4.1475048041153201E-5,4.1326961956100697E-5,4.1176802182928102E-5,{"$f":"IF($B945=\"\",\"\",VLOOKUP($B945,_tbl!$A:$E,N$2,0))","v":"Male"},{"$f":"IF($B945=\"\",\"\",VLOOKUP($B945,_tbl!$A:$E,O$2,0))","v":"West"},{"$f":"IF($B945=\"\",\"\",VLOOKUP($B945,_tbl!$A:$E,P$2,0))","v":"Rural"},{"$f":"IF($B945=\"\",\"\",VLOOKUP($B945,_tbl!$A:$E,Q$2,0))","v":"Cancer"},null,4.2463601018667299E-5,4.1176802182928102E-5]
[null,"all_m_West Rural cancer.csv","10-14",4.9808546795875202E-5,4.9445513073751303E-5,4.9232436015291098E-5,4.9014931526299499E-5,4.8826118214569301E-5,4.8689113871942299E-5,4.8549020615803097E-5,4.84295688746292E-5,4.8297405941710099E-5,4.8142077280253398E-5,{"$f":"IF($B946=\"\",\"\",VLOOKUP($B946,_tbl!$A:$E,N$2,0))","v":"Male"},{"$f":"IF($B946=\"\",\"\",VLOOKUP($B946,_tbl!$A:$E,O$2,0))","v":"West"},{"$f":"IF($B946=\"\",\"\",VLOOKUP($B946,_tbl!$A:$E,P$2,0))","v":"Rural"},{"$f":"IF($B946=\"\",\"\",VLOOKUP($B946,_tbl!$A:$E,Q$2,0))","v":"Cancer"},null,4.9808546795875202E-5,4.8142077280253398E-5]
[null,"all_m_West Rural cancer.csv","15-19",6.5153142094232801E-5,6.4765086005868599E-5,6.4328678414344502E-5,6.4035057353505306E-5,6.3650090130510899E-5,6.3336376864019597E-5,6.2999360982195495E-5,6.2679607003082795E-5,6.2342192065261597E-5,6.1999127447478407E-5,{"$f":"IF($B947=\"\",\"\",VLOOKUP($B947,_tbl!$A:$E,N$2,0))","v":"Male"},{"$f":"IF($B947=\"\",\"\",VLOOKUP($B947,_tbl!$A:$E,O$2,0))","v":"West"},{"$f":"IF($B947=\"\",\"\",VLOOKUP($B947,_tbl!$A:$E,P$2,0))","v":"Rural"},{"$f":"IF($B947=\"\",\"\",VLOOKUP($B947,_tbl!$A:$E,Q$2,0))","v":"Cancer"},null,6.5153142094232801E-5,6.1999127447478407E-5]
[null,"all_m_West Rural cancer.csv","20-24",1.00112705991981E-4,9.9841140341156795E-5,9.8783391152266806E-5,9.8054327408882199E-5,9.7294340765883603E-5,9.6802913577650595E-5,9.63592755232423E-5,9.59881976705717E-5,9.5569677304819901E-5,9.5115335959009202E-5,{"$f":"IF($B948=\"\",\"\",VLOOKUP($B948,_tbl!$A:$E,N$2,0))","v":"Male"},{"$f":"IF($B948=\"\",\"\",VLOOKUP($B948,_tbl!$A:$E,O$2,0))","v":"West"},{"$f":"IF($B948=\"\",\"\",VLOOKUP($B948,_tbl!$A:$E,P$2,0))","v":"Rural"},{"$f":"IF($B948=\"\",\"\",VLOOKUP($B948,_tbl!$A:$E,Q$2,0))","v":"Cancer"},null,1.00112705991981E-4,9.5115335959009202E-5]
[null,"all_m_West Rural cancer.csv","25-29",1.56517655970891E-4,1.5654229620448099E-4,1.5559379938942999E-4,1.5506532237350701E-4,1.5419491087159901E-4,1.53370638898837E-4,1.52408001162712E-4,1.51477944959975E-4,1.5053481942337599E-4,1.49636024148149E-4,{"$f":"IF($B949=\"\",\"\",VLOOKUP($B949,_tbl!$A:$E,N$2,0))","v":"Male"},{"$f":"IF($B949=\"\",\"\",VLOOKUP($B949,_tbl!$A:$E,O$2,0))","v":"West"},{"$f":"IF($B949=\"\",\"\",VLOOKUP($B949,_tbl!$A:$E,P$2,0))","v":"Rural"},{"$f":"IF($B949=\"\",\"\",VLOOKUP($B949,_tbl!$A:$E,Q$2,0))","v":"Cancer"},null,1.5654229620448099E-4,1.49636024148149E-4]
[null,"all_m_West Rural cancer.csv","30-34",2.6878888820062601E-4,2.6825022848705798E-4,2.66366329220243E-4,2.6533192521330798E-4,2.63285860189626E-4,2.61107511730155E-4,2.5843949387804698E-4,2.5579360915070398E-4,2.5314846470334202E-4,2.5067455324025303E-4,{"$f":"IF($B950=\"\",\"\",VLOOKUP($B950,_tbl!$A:$E,N$2,0))","v":"Male"},{"$f":"IF($B950=\"\",\"\",VLOOKUP($B950,_tbl!$A:$E,O$2,0))","v":"West"},{"$f":"IF($B950=\"\",\"\",VLOOKUP($B950,_tbl!$A:$E,P$2,0))","v":"Rural"},{"$f":"IF($B950=\"\",\"\",VLOOKUP($B950,_tbl!$A:$E,Q$2,0))","v":"Cancer"},null,2.6878888820062601E-4,2.5067455324025303E-4]
[null,"all_m_West Rural cancer.csv","35-39",4.3472061738981103E-4,4.3229977340289297E-4,4.2738595098359403E-4,4.2426280753191499E-4,4.1939605170606298E-4,4.15052446477764E-4,4.0997445428046699E-4,4.0520836195701297E-4,4.00203195681551E-4,3.9540959802171E-4,{"$f":"IF($B951=\"\",\"\",VLOOKUP($B951,_tbl!$A:$E,N$2,0))","v":"Male"},{"$f":"IF($B951=\"\",\"\",VLOOKUP($B951,_tbl!$A:$E,O$2,0))","v":"West"},{"$f":"IF($B951=\"\",\"\",VLOOKUP($B951,_tbl!$A:$E,P$2,0))","v":"Rural"},{"$f":"IF($B951=\"\",\"\",VLOOKUP($B951,_tbl!$A:$E,Q$2,0))","v":"Cancer"},null,4.3472061738981103E-4,3.9540959802171E-4]
[null,"all_m_West Rural cancer.csv","40-44",7.5642503883548997E-4,7.5405668410742405E-4,7.4330617118026604E-4,7.3586960892324397E-4,7.2530651018555103E-4,7.1614001726850096E-4,7.0606072380630601E-4,6.9658007967426895E-4,6.8660274601417505E-4,6.7665163519742895E-4,{"$f":"IF($B952=\"\",\"\",VLOOKUP($B952,_tbl!$A:$E,N$2,0))","v":"Male"},{"$f":"IF($B952=\"\",\"\",VLOOKUP($B952,_tbl!$A:$E,O$2,0))","v":"West"},{"$f":"IF($B952=\"\",\"\",VLOOKUP($B952,_tbl!$A:$E,P$2,0))","v":"Rural"},{"$f":"IF($B952=\"\",\"\",VLOOKUP($B952,_tbl!$A:$E,Q$2,0))","v":"Cancer"},null,7.5642503883548997E-4,6.7665163519742895E-4]
[null,"all_m_West Rural cancer.csv","45-49",1.26033630621308E-3,1.2568702680217599E-3,1.24509530739815E-3,1.2328067144172501E-3,1.22015943166746E-3,1.2073827588043699E-3,1.1958171163965099E-3,1.1836730778268E-3,1.17183888951259E-3,1.1586226340185499E-3,{"$f":"IF($B953=\"\",\"\",VLOOKUP($B953,_tbl!$A:$E,N$2,0))","v":"Male"},{"$f":"IF($B953=\"\",\"\",VLOOKUP($B953,_tbl!$A:$E,O$2,0))","v":"West"},{"$f":"IF($B953=\"\",\"\",VLOOKUP($B953,_tbl!$A:$E,P$2,0))","v":"Rural"},{"$f":"IF($B953=\"\",\"\",VLOOKUP($B953,_tbl!$A:$E,Q$2,0))","v":"Cancer"},null,1.26033630621308E-3,1.1586226340185499E-3]
[null,"all_m_West Rural cancer.csv","50-54",2.0803110825051599E-3,2.0730859300023899E-3,2.0541305575783298E-3,2.03717339841206E-3,2.0195705779688798E-3,2.00253291160543E-3,1.9865418003552999E-3,1.9700689637789002E-3,1.9539867153734402E-3,1.9366605817886099E-3,{"$f":"IF($B954=\"\",\"\",VLOOKUP($B954,_tbl!$A:$E,N$2,0))","v":"Male"},{"$f":"IF($B954=\"\",\"\",VLOOKUP($B954,_tbl!$A:$E,O$2,0))","v":"West"},{"$f":"IF($B954=\"\",\"\",VLOOKUP($B954,_tbl!$A:$E,P$2,0))","v":"Rural"},{"$f":"IF($B954=\"\",\"\",VLOOKUP($B954,_tbl!$A:$E,Q$2,0))","v":"Cancer"},null,2.0803110825051599E-3,1.9366605817886099E-3]
[null,"all_m_West Rural cancer.csv","55-59",3.0686653829405E-3,3.04559132170661E-3,3.01159181996949E-3,2.9815044838004301E-3,2.9486600641201299E-3,2.91663367087062E-3,2.88416923653402E-3,2.8518810570680002E-3,2.8199576722051801E-3,2.7881645461164599E-3,{"$f":"IF($B955=\"\",\"\",VLOOKUP($B955,_tbl!$A:$E,N$2,0))","v":"Male"},{"$f":"IF($B955=\"\",\"\",VLOOKUP($B955,_tbl!$A:$E,O$2,0))","v":"West"},{"$f":"IF($B955=\"\",\"\",VLOOKUP($B955,_tbl!$A:$E,P$2,0))","v":"Rural"},{"$f":"IF($B955=\"\",\"\",VLOOKUP($B955,_tbl!$A:$E,Q$2,0))","v":"Cancer"},null,3.0686653829405E-3,2.7881645461164599E-3]
[null,"all_m_West Rural cancer.csv","60-64",4.3597534251238797E-3,4.3237497901483998E-3,4.2755964079897501E-3,4.2310364386026903E-3,4.1806641976446504E-3,4.1310604701028496E-3,4.0802726168726999E-3,4.0302018752152004E-3,3.9803114115221899E-3,3.9307796165495698E-3,{"$f":"IF($B956=\"\",\"\",VLOOKUP($B956,_tbl!$A:$E,N$2,0))","v":"Male"},{"$f":"IF($B956=\"\",\"\",VLOOKUP($B956,_tbl!$A:$E,O$2,0))","v":"West"},{"$f":"IF($B956=\"\",\"\",VLOOKUP($B956,_tbl!$A:$E,P$2,0))","v":"Rural"},{"$f":"IF($B956=\"\",\"\",VLOOKUP($B956,_tbl!$A:$E,Q$2,0))","v":"Cancer"},null,4.3597534251238797E-3,3.9307796165495698E-3]
[null,"all_m_West Rural cancer.csv","65-69",6.1042339198758002E-3,6.0670113482279202E-3,6.0133390478899597E-3,5.9645404478918997E-3,5.90848721963751E-3,5.8547868803509803E-3,5.8000577097550004E-3,5.7469106663158801E-3,5.6934735687593002E-3,5.6401366197766697E-3,{"$f":"IF($B957=\"\",\"\",VLOOKUP($B957,_tbl!$A:$E,N$2,0))","v":"Male"},{"$f":"IF($B957=\"\",\"\",VLOOKUP($B957,_tbl!$A:$E,O$2,0))","v":"West"},{"$f":"IF($B957=\"\",\"\",VLOOKUP($B957,_tbl!$A:$E,P$2,0))","v":"Rural"},{"$f":"IF($B957=\"\",\"\",VLOOKUP($B957,_tbl!$A:$E,Q$2,0))","v":"Cancer"},null,6.1042339198758002E-3,5.6401366197766697E-3]
[null,"all_m_West Rural cancer.csv","70-74",8.4287657312552798E-3,8.4187162755698808E-3,8.3921589994969507E-3,8.3728072463580498E-3,8.3458239768355608E-3,8.3206158881955605E-3,8.2927018815097796E-3,8.2656330660923101E-3,8.2377806765366202E-3,8.2104361126044897E-3,{"$f":"IF($B958=\"\",\"\",VLOOKUP($B958,_tbl!$A:$E,N$2,0))","v":"Male"},{"$f":"IF($B958=\"\",\"\",VLOOKUP($B958,_tbl!$A:$E,O$2,0))","v":"West"},{"$f":"IF($B958=\"\",\"\",VLOOKUP($B958,_tbl!$A:$E,P$2,0))","v":"Rural"},{"$f":"IF($B958=\"\",\"\",VLOOKUP($B958,_tbl!$A:$E,Q$2,0))","v":"Cancer"},null,8.4287657312552798E-3,8.2104361126044897E-3]
[null,"all_m_West Rural cancer.csv","75-79",1.0918723826635701E-2,1.09157906169402E-2,1.08968909657509E-2,1.08880256381053E-2,1.08755359795864E-2,1.08669691145166E-2,1.0855551645392E-2,1.0844417960127599E-2,1.0831031750448901E-2,1.08176210300898E-2,{"$f":"IF($B959=\"\",\"\",VLOOKUP($B959,_tbl!$A:$E,N$2,0))","v":"Male"},{"$f":"IF($B959=\"\",\"\",VLOOKUP($B959,_tbl!$A:$E,O$2,0))","v":"West"},{"$f":"IF($B959=\"\",\"\",VLOOKUP($B959,_tbl!$A:$E,P$2,0))","v":"Rural"},{"$f":"IF($B959=\"\",\"\",VLOOKUP($B959,_tbl!$A:$E,Q$2,0))","v":"Cancer"},null,1.0918723826635701E-2,1.08176210300898E-2]
[null,"all_m_West Rural cancer.csv","80-84",1.3585113922477601E-2,1.3441783009509101E-2,1.32351977719583E-2,1.30969919760011E-2,1.3018354514989901E-2,1.3020209153951001E-2,1.30689509980345E-2,1.3136138404100099E-2,1.3181372033473001E-2,1.3181942544740999E-2,{"$f":"IF($B960=\"\",\"\",VLOOKUP($B960,_tbl!$A:$E,N$2,0))","v":"Male"},{"$f":"IF($B960=\"\",\"\",VLOOKUP($B960,_tbl!$A:$E,O$2,0))","v":"West"},{"$f":"IF($B960=\"\",\"\",VLOOKUP($B960,_tbl!$A:$E,P$2,0))","v":"Rural"},{"$f":"IF($B960=\"\",\"\",VLOOKUP($B960,_tbl!$A:$E,Q$2,0))","v":"Cancer"},null,1.3585113922477601E-2,1.3018354514989901E-2]
[null,"all_m_West Rural cancer.csv","85+",1.6205166770618101E-2,1.6051772567792999E-2,1.5909022056180201E-2,1.5805420914488E-2,1.5721917994613602E-2,1.5667910133078802E-2,1.5635696236999199E-2,1.5616857789195301E-2,1.55946928578388E-2,1.5555180813053701E-2,{"$f":"IF($B961=\"\",\"\",VLOOKUP($B961,_tbl!$A:$E,N$2,0))","v":"Male"},{"$f":"IF($B961=\"\",\"\",VLOOKUP($B961,_tbl!$A:$E,O$2,0))","v":"West"},{"$f":"IF($B961=\"\",\"\",VLOOKUP($B961,_tbl!$A:$E,P$2,0))","v":"Rural"},{"$f":"IF($B961=\"\",\"\",VLOOKUP($B961,_tbl!$A:$E,Q$2,0))","v":"Cancer"},null,1.6205166770618101E-2,1.5555180813053701E-2]
[null,null,null,null,null,null,null,null,null,null,null,null,null,{"$f":"IF($B962=\"\",\"\",VLOOKUP($B962,_tbl!$A:$E,N$2,0))","v":""},{"$f":"IF($B962=\"\",\"\",VLOOKUP($B962,_tbl!$A:$E,O$2,0))","v":""},{"$f":"IF($B962=\"\",\"\",VLOOKUP($B962,_tbl!$A:$E,P$2,0))","v":""},{"$f":"IF($B962=\"\",\"\",VLOOKUP($B962,_tbl!$A:$E,Q$2,0))","v":""}]
[null,null,null,2020,2021,2022,2023,2024,2025,2026,2027,2028,2029,{"$f":"IF($B963=\"\",\"\",VLOOKUP($B963,_tbl!$A:$E,N$2,0))","v":""},{"$f":"IF($B963=\"\",\"\",VLOOKUP($B963,_tbl!$A:$E,O$2,0))","v":""},{"$f":"IF($B963=\"\",\"\",VLOOKUP($B963,_tbl!$A:$E,P$2,0))","v":""},{"$f":"IF($B963=\"\",\"\",VLOOKUP($B963,_tbl!$A:$E,Q$2,0))","v":""}]
[null,"all_m_West Rural circulatory.csv","1-4",3.3730994107929998E-5,3.2913793992290699E-5,3.1836470373664299E-5,3.0949643086674202E-5,3.00831846556063E-5,2.9342638100971199E-5,2.8585732493369699E-5,2.7898042356769201E-5,2.7195418405180799E-5,2.6503258569668501E-5,{"$f":"IF($B964=\"\",\"\",VLOOKUP($B964,_tbl!$A:$E,N$2,0))","v":"Male"},{"$f":"IF($B964=\"\",\"\",VLOOKUP($B964,_tbl!$A:$E,O$2,0))","v":"West"},{"$f":"IF($B964=\"\",\"\",VLOOKUP($B964,_tbl!$A:$E,P$2,0))","v":"Rural"},{"$f":"IF($B964=\"\",\"\",VLOOKUP($B964,_tbl!$A:$E,Q$2,0))","v":"Circulatory"},null,{"$f":"MAX(D964:M964)","v":3.3730994107929998E-5},{"$f":"MIN(D964:M964)","v":2.6503258569668501E-5}]
[null,"all_m_West Rural circulatory.csv","5-9",2.3582848804534901E-5,2.3374207112455499E-5,2.3181546073171901E-5,2.3054599019460099E-5,2.2922163205111201E-5,2.28100564938933E-5,2.2702696674854701E-5,2.25993211423035E-5,2.2493911360497498E-5,2.23926394001012E-5,{"$f":"IF($B965=\"\",\"\",VLOOKUP($B965,_tbl!$A:$E,N$2,0))","v":"Male"},{"$f":"IF($B965=\"\",\"\",VLOOKUP($B965,_tbl!$A:$E,O$2,0))","v":"West"},{"$f":"IF($B965=\"\",\"\",VLOOKUP($B965,_tbl!$A:$E,P$2,0))","v":"Rural"},{"$f":"IF($B965=\"\",\"\",VLOOKUP($B965,_tbl!$A:$E,Q$2,0))","v":"Circulatory"},null,2.3582848804534901E-5,2.23926394001012E-5]
[null,"all_m_West Rural circulatory.csv","10-14",3.31493325546966E-5,3.2832005692550801E-5,3.2656312096920099E-5,3.2554199508617499E-5,3.2422878950116E-5,3.2301610860559497E-5,3.2174138031014597E-5,3.2047302037354403E-5,3.1918666028426402E-5,3.1796650805799299E-5,{"$f":"IF($B966=\"\",\"\",VLOOKUP($B966,_tbl!$A:$E,N$2,0))","v":"Male"},{"$f":"IF($B966=\"\",\"\",VLOOKUP($B966,_tbl!$A:$E,O$2,0))","v":"West"},{"$f":"IF($B966=\"\",\"\",VLOOKUP($B966,_tbl!$A:$E,P$2,0))","v":"Rural"},{"$f":"IF($B966=\"\",\"\",VLOOKUP($B966,_tbl!$A:$E,Q$2,0))","v":"Circulatory"},null,3.31493325546966E-5,3.1796650805799299E-5]
[null,"all_m_West Rural circulatory.csv","15-19",5.1579325453513899E-5,5.1409946369608501E-5,5.1374006725550597E-5,5.1427003362571297E-5,5.1364929886260398E-5,5.1266547803499597E-5,5.1126400822625997E-5,5.0974149504581997E-5,5.08268192460143E-5,5.0710482982682203E-5,{"$f":"IF($B967=\"\",\"\",VLOOKUP($B967,_tbl!$A:$E,N$2,0))","v":"Male"},{"$f":"IF($B967=\"\",\"\",VLOOKUP($B967,_tbl!$A:$E,O$2,0))","v":"West"},{"$f":"IF($B967=\"\",\"\",VLOOKUP($B967,_tbl!$A:$E,P$2,0))","v":"Rural"},{"$f":"IF($B967=\"\",\"\",VLOOKUP($B967,_tbl!$A:$E,Q$2,0))","v":"Circulatory"},null,5.1579325453513899E-5,5.0710482982682203E-5]
[null,"all_m_West Rural circulatory.csv","20-24",8.5291125745826099E-5,8.5445018071342795E-5,8.55340170038735E-5,8.5754753871987194E-5,8.5717820003402493E-5,8.5538820320785102E-5,8.5204378709909697E-5,8.4846700716752397E-5,8.4507598513196803E-5,8.4233858445227993E-5,{"$f":"IF($B968=\"\",\"\",VLOOKUP($B968,_tbl!$A:$E,N$2,0))","v":"Male"},{"$f":"IF($B968=\"\",\"\",VLOOKUP($B968,_tbl!$A:$E,O$2,0))","v":"West"},{"$f":"IF($B968=\"\",\"\",VLOOKUP($B968,_tbl!$A:$E,P$2,0))","v":"Rural"},{"$f":"IF($B968=\"\",\"\",VLOOKUP($B968,_tbl!$A:$E,Q$2,0))","v":"Circulatory"},null,8.5754753871987194E-5,8.4233858445227993E-5]
[null,"all_m_West Rural circulatory.csv","25-29",1.4559372206965601E-4,1.45352239300582E-4,1.44808281789431E-4,1.44476394178285E-4,1.44008035567632E-4,1.4350025919272199E-4,1.42900704117476E-4,1.42298893641281E-4,1.41715625582052E-4,1.4117363151413E-4,{"$f":"IF($B969=\"\",\"\",VLOOKUP($B969,_tbl!$A:$E,N$2,0))","v":"Male"},{"$f":"IF($B969=\"\",\"\",VLOOKUP($B969,_tbl!$A:$E,O$2,0))","v":"West"},{"$f":"IF($B969=\"\",\"\",VLOOKUP($B969,_tbl!$A:$E,P$2,0))","v":"Rural"},{"$f":"IF($B969=\"\",\"\",VLOOKUP($B969,_tbl!$A:$E,Q$2,0))","v":"Circulatory"},null,1.4559372206965601E-4,1.4117363151413E-4]
[null,"all_m_West Rural circulatory.csv","30-34",2.5419495108305803E-4,2.5294769500245901E-4,2.5139062799745102E-4,2.5035712203890301E-4,2.4906447130616799E-4,2.4784088529026502E-4,2.4647119560395199E-4,2.4514431942547602E-4,2.4382307543125301E-4,2.4258100580008601E-4,{"$f":"IF($B970=\"\",\"\",VLOOKUP($B970,_tbl!$A:$E,N$2,0))","v":"Male"},{"$f":"IF($B970=\"\",\"\",VLOOKUP($B970,_tbl!$A:$E,O$2,0))","v":"West"},{"$f":"IF($B970=\"\",\"\",VLOOKUP($B970,_tbl!$A:$E,P$2,0))","v":"Rural"},{"$f":"IF($B970=\"\",\"\",VLOOKUP($B970,_tbl!$A:$E,Q$2,0))","v":"Circulatory"},null,2.5419495108305803E-4,2.4258100580008601E-4]
[null,"all_m_West Rural circulatory.csv","35-39",4.1893380902767203E-4,4.18031426718801E-4,4.1664672761288602E-4,4.1614746678924101E-4,4.1484273811661298E-4,4.1352571954848501E-4,4.1183947284573099E-4,4.1025047588220303E-4,4.0874390159464301E-4,4.0749194159919402E-4,{"$f":"IF($B971=\"\",\"\",VLOOKUP($B971,_tbl!$A:$E,N$2,0))","v":"Male"},{"$f":"IF($B971=\"\",\"\",VLOOKUP($B971,_tbl!$A:$E,O$2,0))","v":"West"},{"$f":"IF($B971=\"\",\"\",VLOOKUP($B971,_tbl!$A:$E,P$2,0))","v":"Rural"},{"$f":"IF($B971=\"\",\"\",VLOOKUP($B971,_tbl!$A:$E,Q$2,0))","v":"Circulatory"},null,4.1893380902767203E-4,4.0749194159919402E-4]
[null,"all_m_West Rural circulatory.csv","40-44",7.3814604353815601E-4,7.41402353508602E-4,7.3977016660233604E-4,7.4087953373100097E-4,7.3886027186063398E-4,7.3729376483137302E-4,7.3413231852645301E-4,7.3150617264390995E-4,7.2859813593077803E-4,7.2649760300670196E-4,{"$f":"IF($B972=\"\",\"\",VLOOKUP($B972,_tbl!$A:$E,N$2,0))","v":"Male"},{"$f":"IF($B972=\"\",\"\",VLOOKUP($B972,_tbl!$A:$E,O$2,0))","v":"West"},{"$f":"IF($B972=\"\",\"\",VLOOKUP($B972,_tbl!$A:$E,P$2,0))","v":"Rural"},{"$f":"IF($B972=\"\",\"\",VLOOKUP($B972,_tbl!$A:$E,Q$2,0))","v":"Circulatory"},null,7.41402353508602E-4,7.2649760300670196E-4]
[null,"all_m_West Rural circulatory.csv","45-49",1.22543861093763E-3,1.2280595873639299E-3,1.2267678266622E-3,1.22604394249073E-3,1.22444320886026E-3,1.22289315381067E-3,1.2212574439761099E-3,1.2195317790995499E-3,1.2177532755662801E-3,1.2157003340103399E-3,{"$f":"IF($B973=\"\",\"\",VLOOKUP($B973,_tbl!$A:$E,N$2,0))","v":"Male"},{"$f":"IF($B973=\"\",\"\",VLOOKUP($B973,_tbl!$A:$E,O$2,0))","v":"West"},{"$f":"IF($B973=\"\",\"\",VLOOKUP($B973,_tbl!$A:$E,P$2,0))","v":"Rural"},{"$f":"IF($B973=\"\",\"\",VLOOKUP($B973,_tbl!$A:$E,Q$2,0))","v":"Circulatory"},null,1.2280595873639299E-3,1.2157003340103399E-3]
[null,"all_m_West Rural circulatory.csv","50-54",2.0017301200281998E-3,1.9997645412262802E-3,1.99235493018337E-3,1.9875902356118001E-3,1.98229272466344E-3,1.9779603127759201E-3,1.9738403228448101E-3,1.9698243770552401E-3,1.9657841140373398E-3,1.9613640056316702E-3,{"$f":"IF($B974=\"\",\"\",VLOOKUP($B974,_tbl!$A:$E,N$2,0))","v":"Male"},{"$f":"IF($B974=\"\",\"\",VLOOKUP($B974,_tbl!$A:$E,O$2,0))","v":"West"},{"$f":"IF($B974=\"\",\"\",VLOOKUP($B974,_tbl!$A:$E,P$2,0))","v":"Rural"},{"$f":"IF($B974=\"\",\"\",VLOOKUP($B974,_tbl!$A:$E,Q$2,0))","v":"Circulatory"},null,2.0017301200281998E-3,1.9613640056316702E-3]
[null,"all_m_West Rural circulatory.csv","55-59",3.1106454392322101E-3,3.0898375192314901E-3,3.0639871485833199E-3,3.0428814728539399E-3,3.0209779261504699E-3,3.0004414827550199E-3,2.9799933128419201E-3,2.9599253257664398E-3,2.94023168507429E-3,2.92071531070085E-3,{"$f":"IF($B975=\"\",\"\",VLOOKUP($B975,_tbl!$A:$E,N$2,0))","v":"Male"},{"$f":"IF($B975=\"\",\"\",VLOOKUP($B975,_tbl!$A:$E,O$2,0))","v":"West"},{"$f":"IF($B975=\"\",\"\",VLOOKUP($B975,_tbl!$A:$E,P$2,0))","v":"Rural"},{"$f":"IF($B975=\"\",\"\",VLOOKUP($B975,_tbl!$A:$E,Q$2,0))","v":"Circulatory"},null,3.1106454392322101E-3,2.92071531070085E-3]
[null,"all_m_West Rural circulatory.csv","60-64",4.8187795083756303E-3,4.7666181151019699E-3,4.7050305169959198E-3,4.6500791192941099E-3,4.5898969444540397E-3,4.5313712880517701E-3,4.4719983696093297E-3,4.41384475501954E-3,4.3562946227698202E-3,4.2994974357877299E-3,{"$f":"IF($B976=\"\",\"\",VLOOKUP($B976,_tbl!$A:$E,N$2,0))","v":"Male"},{"$f":"IF($B976=\"\",\"\",VLOOKUP($B976,_tbl!$A:$E,O$2,0))","v":"West"},{"$f":"IF($B976=\"\",\"\",VLOOKUP($B976,_tbl!$A:$E,P$2,0))","v":"Rural"},{"$f":"IF($B976=\"\",\"\",VLOOKUP($B976,_tbl!$A:$E,Q$2,0))","v":"Circulatory"},null,4.8187795083756303E-3,4.2994974357877299E-3]
[null,"all_m_West Rural circulatory.csv","65-69",7.8499302473340905E-3,7.7614528906539996E-3,7.6500911269072099E-3,7.5463681529486099E-3,7.4282903152676303E-3,7.3120568785281096E-3,7.1942713866973004E-3,7.0791717277186696E-3,6.9651724730866596E-3,6.8518640333453101E-3,{"$f":"IF($B977=\"\",\"\",VLOOKUP($B977,_tbl!$A:$E,N$2,0))","v":"Male"},{"$f":"IF($B977=\"\",\"\",VLOOKUP($B977,_tbl!$A:$E,O$2,0))","v":"West"},{"$f":"IF($B977=\"\",\"\",VLOOKUP($B977,_tbl!$A:$E,P$2,0))","v":"Rural"},{"$f":"IF($B977=\"\",\"\",VLOOKUP($B977,_tbl!$A:$E,Q$2,0))","v":"Circulatory"},null,7.8499302473340905E-3,6.8518640333453101E-3]
[null,"all_m_West Rural circulatory.csv","70-74",1.3804616876107101E-2,1.3673112867972299E-2,1.3496515364986399E-2,1.33363975729783E-2,1.31525798737426E-2,1.29707430388479E-2,1.27838567423078E-2,1.2599771493595599E-2,1.24172911120122E-2,1.22370776561538E-2,{"$f":"IF($B978=\"\",\"\",VLOOKUP($B978,_tbl!$A:$E,N$2,0))","v":"Male"},{"$f":"IF($B978=\"\",\"\",VLOOKUP($B978,_tbl!$A:$E,O$2,0))","v":"West"},{"$f":"IF($B978=\"\",\"\",VLOOKUP($B978,_tbl!$A:$E,P$2,0))","v":"Rural"},{"$f":"IF($B978=\"\",\"\",VLOOKUP($B978,_tbl!$A:$E,Q$2,0))","v":"Circulatory"},null,1.3804616876107101E-2,1.22370776561538E-2]
[null,"all_m_West Rural circulatory.csv","75-79",2.5667530868879199E-2,2.5371918414113799E-2,2.4993934060499198E-2,2.4698235936248699E-2,2.4401429980579401E-2,2.4124786241438101E-2,2.3832869020928099E-2,2.35365623986762E-2,2.3238187422199501E-2,2.2950330132293601E-2,{"$f":"IF($B979=\"\",\"\",VLOOKUP($B979,_tbl!$A:$E,N$2,0))","v":"Male"},{"$f":"IF($B979=\"\",\"\",VLOOKUP($B979,_tbl!$A:$E,O$2,0))","v":"West"},{"$f":"IF($B979=\"\",\"\",VLOOKUP($B979,_tbl!$A:$E,P$2,0))","v":"Rural"},{"$f":"IF($B979=\"\",\"\",VLOOKUP($B979,_tbl!$A:$E,Q$2,0))","v":"Circulatory"},null,2.5667530868879199E-2,2.2950330132293601E-2]
[null,"all_m_West Rural circulatory.csv","80-84",4.9583947180265299E-2,4.91749395803616E-2,4.83596277861785E-2,4.7975218484172501E-2,4.7666017733157401E-2,4.7586961185357997E-2,4.7542651323019998E-2,4.7529317785236003E-2,4.7464512861968899E-2,4.73500820504065E-2,{"$f":"IF($B980=\"\",\"\",VLOOKUP($B980,_tbl!$A:$E,N$2,0))","v":"Male"},{"$f":"IF($B980=\"\",\"\",VLOOKUP($B980,_tbl!$A:$E,O$2,0))","v":"West"},{"$f":"IF($B980=\"\",\"\",VLOOKUP($B980,_tbl!$A:$E,P$2,0))","v":"Rural"},{"$f":"IF($B980=\"\",\"\",VLOOKUP($B980,_tbl!$A:$E,Q$2,0))","v":"Circulatory"},null,4.9583947180265299E-2,4.73500820504065E-2]
[null,"all_m_West Rural circulatory.csv","85+",8.8250498323816706E-2,8.6591006076528004E-2,8.4519432510365797E-2,8.3496561254858895E-2,8.3145397488262093E-2,8.3473711379912399E-2,8.4041730974385498E-2,8.4675863697134895E-2,8.5166089821215707E-2,8.5472603774257097E-2,{"$f":"IF($B981=\"\",\"\",VLOOKUP($B981,_tbl!$A:$E,N$2,0))","v":"Male"},{"$f":"IF($B981=\"\",\"\",VLOOKUP($B981,_tbl!$A:$E,O$2,0))","v":"West"},{"$f":"IF($B981=\"\",\"\",VLOOKUP($B981,_tbl!$A:$E,P$2,0))","v":"Rural"},{"$f":"IF($B981=\"\",\"\",VLOOKUP($B981,_tbl!$A:$E,Q$2,0))","v":"Circulatory"},null,8.8250498323816706E-2,8.3145397488262093E-2]
[null,null,null,null,null,null,null,null,null,null,null,null,null,{"$f":"IF($B982=\"\",\"\",VLOOKUP($B982,_tbl!$A:$E,N$2,0))","v":""},{"$f":"IF($B982=\"\",\"\",VLOOKUP($B982,_tbl!$A:$E,O$2,0))","v":""},{"$f":"IF($B982=\"\",\"\",VLOOKUP($B982,_tbl!$A:$E,P$2,0))","v":""},{"$f":"IF($B982=\"\",\"\",VLOOKUP($B982,_tbl!$A:$E,Q$2,0))","v":""}]
[null,null,null,2020,2021,2022,2023,2024,2025,2026,2027,2028,2029,{"$f":"IF($B983=\"\",\"\",VLOOKUP($B983,_tbl!$A:$E,N$2,0))","v":""},{"$f":"IF($B983=\"\",\"\",VLOOKUP($B983,_tbl!$A:$E,O$2,0))","v":""},{"$f":"IF($B983=\"\",\"\",VLOOKUP($B983,_tbl!$A:$E,P$2,0))","v":""},{"$f":"IF($B983=\"\",\"\",VLOOKUP($B983,_tbl!$A:$E,Q$2,0))","v":""}]
[null,"all_m_West Rural congenital.csv","1-4",5.8436411469272501E-5,5.8356700720372502E-5,5.7267348259719903E-5,5.6889386638108699E-5,5.6126110079718701E-5,5.5448803851430802E-5,5.4846996323068301E-5,5.4191360186853301E-5,5.3554032132533799E-5,5.30162759486566E-5,{"$f":"IF($B984=\"\",\"\",VLOOKUP($B984,_tbl!$A:$E,N$2,0))","v":"Male"},{"$f":"IF($B984=\"\",\"\",VLOOKUP($B984,_tbl!$A:$E,O$2,0))","v":"West"},{"$f":"IF($B984=\"\",\"\",VLOOKUP($B984,_tbl!$A:$E,P$2,0))","v":"Rural"},{"$f":"IF($B984=\"\",\"\",VLOOKUP($B984,_tbl!$A:$E,Q$2,0))","v":"Congenital"},null,{"$f":"MAX(D984:M984)","v":5.8436411469272501E-5},{"$f":"MIN(D984:M984)","v":5.30162759486566E-5}]
[null,"all_m_West Rural congenital.csv","5-9",2.08451466773076E-5,2.07680123971276E-5,2.0654825352735001E-5,2.0582953048463899E-5,2.0483764097323401E-5,2.0395076232952998E-5,2.0302107947319099E-5,2.0208288707031701E-5,2.0108205370302E-5,2.0010138217203501E-5,{"$f":"IF($B985=\"\",\"\",VLOOKUP($B985,_tbl!$A:$E,N$2,0))","v":"Male"},{"$f":"IF($B985=\"\",\"\",VLOOKUP($B985,_tbl!$A:$E,O$2,0))","v":"West"},{"$f":"IF($B985=\"\",\"\",VLOOKUP($B985,_tbl!$A:$E,P$2,0))","v":"Rural"},{"$f":"IF($B985=\"\",\"\",VLOOKUP($B985,_tbl!$A:$E,Q$2,0))","v":"Congenital"},null,2.08451466773076E-5,2.0010138217203501E-5]
[null,"all_m_West Rural congenital.csv","10-14",1.1473451243874899E-5,1.14353910786751E-5,1.13940565650969E-5,1.1361242133639001E-5,1.1333162924248701E-5,1.13157267949023E-5,1.13008087725361E-5,1.12895983249699E-5,1.12766982681599E-5,1.1261348073892399E-5,{"$f":"IF($B986=\"\",\"\",VLOOKUP($B986,_tbl!$A:$E,N$2,0))","v":"Male"},{"$f":"IF($B986=\"\",\"\",VLOOKUP($B986,_tbl!$A:$E,O$2,0))","v":"West"},{"$f":"IF($B986=\"\",\"\",VLOOKUP($B986,_tbl!$A:$E,P$2,0))","v":"Rural"},{"$f":"IF($B986=\"\",\"\",VLOOKUP($B986,_tbl!$A:$E,Q$2,0))","v":"Congenital"},null,1.1473451243874899E-5,1.1261348073892399E-5]
[null,"all_m_West Rural congenital.csv","15-19",9.3444111235385694E-6,9.2899710037588796E-6,9.2241191647654306E-6,9.1696957430801606E-6,9.1130594411307596E-6,9.06535737192078E-6,9.0173258342044496E-6,8.9723208330205593E-6,8.9255353047051004E-6,8.8782734872582801E-6,{"$f":"IF($B987=\"\",\"\",VLOOKUP($B987,_tbl!$A:$E,N$2,0))","v":"Male"},{"$f":"IF($B987=\"\",\"\",VLOOKUP($B987,_tbl!$A:$E,O$2,0))","v":"West"},{"$f":"IF($B987=\"\",\"\",VLOOKUP($B987,_tbl!$A:$E,P$2,0))","v":"Rural"},{"$f":"IF($B987=\"\",\"\",VLOOKUP($B987,_tbl!$A:$E,Q$2,0))","v":"Congenital"},null,9.3444111235385694E-6,8.8782734872582801E-6]
[null,"all_m_West Rural congenital.csv","20-24",8.9672995203030799E-6,8.9439226170341704E-6,8.8961177887128392E-6,8.8599683311595102E-6,8.8329236286527993E-6,8.8231917619984906E-6,8.8213818173698598E-6,8.8242836900134198E-6,8.8245042696723401E-6,8.8213069614899695E-6,{"$f":"IF($B988=\"\",\"\",VLOOKUP($B988,_tbl!$A:$E,N$2,0))","v":"Male"},{"$f":"IF($B988=\"\",\"\",VLOOKUP($B988,_tbl!$A:$E,O$2,0))","v":"West"},{"$f":"IF($B988=\"\",\"\",VLOOKUP($B988,_tbl!$A:$E,P$2,0))","v":"Rural"},{"$f":"IF($B988=\"\",\"\",VLOOKUP($B988,_tbl!$A:$E,Q$2,0))","v":"Congenital"},null,8.9672995203030799E-6,8.8213069614899695E-6]
[null,"all_m_West Rural congenital.csv","25-29",8.56120018613948E-6,8.3784804607449707E-6,8.2063578233932205E-6,7.9999373286385605E-6,7.8811973087731098E-6,7.8046915924264599E-6,7.7778937335886995E-6,7.7542211845951508E-6,7.7255719770245001E-6,7.6696138483286594E-6,{"$f":"IF($B989=\"\",\"\",VLOOKUP($B989,_tbl!$A:$E,N$2,0))","v":"Male"},{"$f":"IF($B989=\"\",\"\",VLOOKUP($B989,_tbl!$A:$E,O$2,0))","v":"West"},{"$f":"IF($B989=\"\",\"\",VLOOKUP($B989,_tbl!$A:$E,P$2,0))","v":"Rural"},{"$f":"IF($B989=\"\",\"\",VLOOKUP($B989,_tbl!$A:$E,Q$2,0))","v":"Congenital"},null,8.56120018613948E-6,7.6696138483286594E-6]
[null,"all_m_West Rural congenital.csv",null,null,null,null,null,null,null,null,null,null,null,{"$f":"IF($B990=\"\",\"\",VLOOKUP($B990,_tbl!$A:$E,N$2,0))","v":"Male"},{"$f":"IF($B990=\"\",\"\",VLOOKUP($B990,_tbl!$A:$E,O$2,0))","v":"West"},{"$f":"IF($B990=\"\",\"\",VLOOKUP($B990,_tbl!$A:$E,P$2,0))","v":"Rural"},{"$f":"IF($B990=\"\",\"\",VLOOKUP($B990,_tbl!$A:$E,Q$2,0))","v":"Congenital"},null,0,0]
[null,"all_m_West Rural congenital.csv",null,null,null,null,null,null,null,null,null,null,null,{"$f":"IF($B991=\"\",\"\",VLOOKUP($B991,_tbl!$A:$E,N$2,0))","v":"Male"},{"$f":"IF($B991=\"\",\"\",VLOOKUP($B991,_tbl!$A:$E,O$2,0))","v":"West"},{"$f":"IF($B991=\"\",\"\",VLOOKUP($B991,_tbl!$A:$E,P$2,0))","v":"Rural"},{"$f":"IF($B991=\"\",\"\",VLOOKUP($B991,_tbl!$A:$E,Q$2,0))","v":"Congenital"},null,0,0]
[null,"all_m_West Rural congenital.csv",null,null,null,null,null,null,null,null,null,null,null,{"$f":"IF($B992=\"\",\"\",VLOOKUP($B992,_tbl!$A:$E,N$2,0))","v":"Male"},{"$f":"IF($B992=\"\",\"\",VLOOKUP($B992,_tbl!$A:$E,O$2,0))","v":"West"},{"$f":"IF($B992=\"\",\"\",VLOOKUP($B992,_tbl!$A:$E,P$2,0))","v":"Rural"},{"$f":"IF($B992=\"\",\"\",VLOOKUP($B992,_tbl!$A:$E,Q$2,0))","v":"Congenital"},null,0,0]
[null,"all_m_West Rural congenital.csv",null,null,null,null,null,null,null,null,null,null,null,{"$f":"IF($B993=\"\",\"\",VLOOKUP($B993,_tbl!$A:$E,N$2,0))","v":"Male"},{"$f":"IF($B993=\"\",\"\",VLOOKUP($B993,_tbl!$A:$E,O$2,0))","v":"West"},{"$f":"IF($B993=\"\",\"\",VLOOKUP($B993,_tbl!$A:$E,P$2,0))","v":"Rural"},{"$f":"IF($B993=\"\",\"\",VLOOKUP($B993,_tbl!$A:$E,Q$2,0))","v":"Congenital"},null,0,0]
[null,"all_m_West Rural congenital.csv",null,null,null,null,null,null,null,null,null,null,null,{"$f":"IF($B994=\"\",\"\",VLOOKUP($B994,_tbl!$A:$E,N$2,0))","v":"Male"},{"$f":"IF($B994=\"\",\"\",VLOOKUP($B994,_tbl!$A:$E,O$2,0))","v":"West"},{"$f":"IF($B994=\"\",\"\",VLOOKUP($B994,_tbl!$A:$E,P$2,0))","v":"Rural"},{"$f":"IF($B994=\"\",\"\",VLOOKUP($B994,_tbl!$A:$E,Q$2,0))","v":"Congenital"},null,0,0]
[null,"all_m_West Rural congenital.csv",null,null,null,null,null,null,null,null,null,null,null,{"$f":"IF($B995=\"\",\"\",VLOOKUP($B995,_tbl!$A:$E,N$2,0))","v":"Male"},{"$f":"IF($B995=\"\",\"\",VLOOKUP($B995,_tbl!$A:$E,O$2,0))","v":"West"},{"$f":"IF($B995=\"\",\"\",VLOOKUP($B995,_tbl!$A:$E,P$2,0))","v":"Rural"},{"$f":"IF($B995=\"\",\"\",VLOOKUP($B995,_tbl!$A:$E,Q$2,0))","v":"Congenital"},null,0,0]
[null,"all_m_West Rural congenital.csv",null,null,null,null,null,null,null,null,null,null,null,{"$f":"IF($B996=\"\",\"\",VLOOKUP($B996,_tbl!$A:$E,N$2,0))","v":"Male"},{"$f":"IF($B996=\"\",\"\",VLOOKUP($B996,_tbl!$A:$E,O$2,0))","v":"West"},{"$f":"IF($B996=\"\",\"\",VLOOKUP($B996,_tbl!$A:$E,P$2,0))","v":"Rural"},{"$f":"IF($B996=\"\",\"\",VLOOKUP($B996,_tbl!$A:$E,Q$2,0))","v":"Congenital"},null,0,0]
[null,"all_m_West Rural congenital.csv",null,null,null,null,null,null,null,null,null,null,null,{"$f":"IF($B997=\"\",\"\",VLOOKUP($B997,_tbl!$A:$E,N$2,0))","v":"Male"},{"$f":"IF($B997=\"\",\"\",VLOOKUP($B997,_tbl!$A:$E,O$2,0))","v":"West"},{"$f":"IF($B997=\"\",\"\",VLOOKUP($B997,_tbl!$A:$E,P$2,0))","v":"Rural"},{"$f":"IF($B997=\"\",\"\",VLOOKUP($B997,_tbl!$A:$E,Q$2,0))","v":"Congenital"},null,0,0]
[null,"all_m_West Rural congenital.csv",null,null,null,null,null,null,null,null,null,null,null,{"$f":"IF($B998=\"\",\"\",VLOOKUP($B998,_tbl!$A:$E,N$2,0))","v":"Male"},{"$f":"IF($B998=\"\",\"\",VLOOKUP($B998,_tbl!$A:$E,O$2,0))","v":"West"},{"$f":"IF($B998=\"\",\"\",VLOOKUP($B998,_tbl!$A:$E,P$2,0))","v":"Rural"},{"$f":"IF($B998=\"\",\"\",VLOOKUP($B998,_tbl!$A:$E,Q$2,0))","v":"Congenital"},null,0,0]
[null,"all_m_West Rural congenital.csv",null,null,null,null,null,null,null,null,null,null,null,{"$f":"IF($B999=\"\",\"\",VLOOKUP($B999,_tbl!$A:$E,N$2,0))","v":"Male"},{"$f":"IF($B999=\"\",\"\",VLOOKUP($B999,_tbl!$A:$E,O$2,0))","v":"West"},{"$f":"IF($B999=\"\",\"\",VLOOKUP($B999,_tbl!$A:$E,P$2,0))","v":"Rural"},{"$f":"IF($B999=\"\",\"\",VLOOKUP($B999,_tbl!$A:$E,Q$2,0))","v":"Congenital"},null,0,0]
[null,"all_m_West Rural congenital.csv",null,null,null,null,null,null,null,null,null,null,null,{"$f":"IF($B1000=\"\",\"\",VLOOKUP($B1000,_tbl!$A:$E,N$2,0))","v":"Male"},{"$f":"IF($B1000=\"\",\"\",VLOOKUP($B1000,_tbl!$A:$E,O$2,0))","v":"West"},{"$f":"IF($B1000=\"\",\"\",VLOOKUP($B1000,_tbl!$A:$E,P$2,0))","v":"Rural"},{"$f":"IF($B1000=\"\",\"\",VLOOKUP($B1000,_tbl!$A:$E,Q$2,0))","v":"Congenital"},null,0,0]
[null,"all_m_West Rural congenital.csv",null,null,null,null,null,null,null,null,null,null,null,{"$f":"IF($B1001=\"\",\"\",VLOOKUP($B1001,_tbl!$A:$E,N$2,0))","v":"Male"},{"$f":"IF($B1001=\"\",\"\",VLOOKUP($B1001,_tbl!$A:$E,O$2,0))","v":"West"},{"$f":"IF($B1001=\"\",\"\",VLOOKUP($B1001,_tbl!$A:$E,P$2,0))","v":"Rural"},{"$f":"IF($B1001=\"\",\"\",VLOOKUP($B1001,_tbl!$A:$E,Q$2,0))","v":"Congenital"},null,0,0]
[null,null,null,null,null,null,null,null,null,null,null,null,null,{"$f":"IF($B1002=\"\",\"\",VLOOKUP($B1002,_tbl!$A:$E,N$2,0))","v":""},{"$f":"IF($B1002=\"\",\"\",VLOOKUP($B1002,_tbl!$A:$E,O$2,0))","v":""},{"$f":"IF($B1002=\"\",\"\",VLOOKUP($B1002,_tbl!$A:$E,P$2,0))","v":""},{"$f":"IF($B1002=\"\",\"\",VLOOKUP($B1002,_tbl!$A:$E,Q$2,0))","v":""}]
[null,null,null,2020,2021,2022,2023,2024,2025,2026,2027,2028,2029,{"$f":"IF($B1003=\"\",\"\",VLOOKUP($B1003,_tbl!$A:$E,N$2,0))","v":""},{"$f":"IF($B1003=\"\",\"\",VLOOKUP($B1003,_tbl!$A:$E,O$2,0))","v":""},{"$f":"IF($B1003=\"\",\"\",VLOOKUP($B1003,_tbl!$A:$E,P$2,0))","v":""},{"$f":"IF($B1003=\"\",\"\",VLOOKUP($B1003,_tbl!$A:$E,Q$2,0))","v":""}]
[null,"all_m_West Rural diabetes.csv","30-34",8.6245613500984008E-6,8.4320049310812797E-6,8.0234285878012802E-6,7.7235754529568706E-6,7.40420472648151E-6,7.1598635386070104E-6,6.9295463927515504E-6,6.7232540318831999E-6,6.5101898151618798E-6,6.2914645002054701E-6,{"$f":"IF($B1004=\"\",\"\",VLOOKUP($B1004,_tbl!$A:$E,N$2,0))","v":"Male"},{"$f":"IF($B1004=\"\",\"\",VLOOKUP($B1004,_tbl!$A:$E,O$2,0))","v":"West"},{"$f":"IF($B1004=\"\",\"\",VLOOKUP($B1004,_tbl!$A:$E,P$2,0))","v":"Rural"},{"$f":"IF($B1004=\"\",\"\",VLOOKUP($B1004,_tbl!$A:$E,Q$2,0))","v":"Diabetes"},null,{"$f":"MAX(D1004:M1004)","v":8.6245613500984008E-6},{"$f":"MIN(D1004:M1004)","v":6.2914645002054701E-6}]
[null,"all_m_West Rural diabetes.csv","35-39",1.5113148088188001E-5,1.5094212515344499E-5,1.5050295822468401E-5,1.5025771116556301E-5,1.4964200731402601E-5,1.48957287749055E-5,1.4807850498333401E-5,1.4721377585229E-5,1.4635246863522299E-5,1.4558739349205901E-5,{"$f":"IF($B1005=\"\",\"\",VLOOKUP($B1005,_tbl!$A:$E,N$2,0))","v":"Male"},{"$f":"IF($B1005=\"\",\"\",VLOOKUP($B1005,_tbl!$A:$E,O$2,0))","v":"West"},{"$f":"IF($B1005=\"\",\"\",VLOOKUP($B1005,_tbl!$A:$E,P$2,0))","v":"Rural"},{"$f":"IF($B1005=\"\",\"\",VLOOKUP($B1005,_tbl!$A:$E,Q$2,0))","v":"Diabetes"},null,1.5113148088188001E-5,1.4558739349205901E-5]
[null,"all_m_West Rural diabetes.csv","40-44",3.3527295878291302E-5,3.3730245384466501E-5,3.3704381943624502E-5,3.3829046831493399E-5,3.3854605888914098E-5,3.3978438829664798E-5,3.4048757027511997E-5,3.4167588595404397E-5,3.4236591068665599E-5,3.4319098164763998E-5,{"$f":"IF($B1006=\"\",\"\",VLOOKUP($B1006,_tbl!$A:$E,N$2,0))","v":"Male"},{"$f":"IF($B1006=\"\",\"\",VLOOKUP($B1006,_tbl!$A:$E,O$2,0))","v":"West"},{"$f":"IF($B1006=\"\",\"\",VLOOKUP($B1006,_tbl!$A:$E,P$2,0))","v":"Rural"},{"$f":"IF($B1006=\"\",\"\",VLOOKUP($B1006,_tbl!$A:$E,Q$2,0))","v":"Diabetes"},null,3.4319098164763998E-5,3.3527295878291302E-5]
[null,"all_m_West Rural diabetes.csv","45-49",6.0034278619658799E-5,6.0457293617338702E-5,6.0537646384896102E-5,6.0765165881244103E-5,6.0833409579113801E-5,6.0988892849300603E-5,6.1054354388044994E-5,6.1170789929687903E-5,6.1225231602234106E-5,6.1305246100813105E-5,{"$f":"IF($B1007=\"\",\"\",VLOOKUP($B1007,_tbl!$A:$E,N$2,0))","v":"Male"},{"$f":"IF($B1007=\"\",\"\",VLOOKUP($B1007,_tbl!$A:$E,O$2,0))","v":"West"},{"$f":"IF($B1007=\"\",\"\",VLOOKUP($B1007,_tbl!$A:$E,P$2,0))","v":"Rural"},{"$f":"IF($B1007=\"\",\"\",VLOOKUP($B1007,_tbl!$A:$E,Q$2,0))","v":"Diabetes"},null,6.1305246100813105E-5,6.0034278619658799E-5]
[null,"all_m_West Rural diabetes.csv","50-54",1.0902694259398801E-4,1.08485006105589E-4,1.07901966342882E-4,1.07237958168566E-4,1.06585742791913E-4,1.05876793908584E-4,1.05193431656855E-4,1.04475480225121E-4,1.03788423678054E-4,1.03086158556829E-4,{"$f":"IF($B1008=\"\",\"\",VLOOKUP($B1008,_tbl!$A:$E,N$2,0))","v":"Male"},{"$f":"IF($B1008=\"\",\"\",VLOOKUP($B1008,_tbl!$A:$E,O$2,0))","v":"West"},{"$f":"IF($B1008=\"\",\"\",VLOOKUP($B1008,_tbl!$A:$E,P$2,0))","v":"Rural"},{"$f":"IF($B1008=\"\",\"\",VLOOKUP($B1008,_tbl!$A:$E,Q$2,0))","v":"Diabetes"},null,1.0902694259398801E-4,1.03086158556829E-4]
[null,"all_m_West Rural diabetes.csv","55-59",1.8187905902719901E-4,1.8235634122333499E-4,1.82761496127177E-4,1.8282678923625E-4,1.8284962871616101E-4,1.82726686168238E-4,1.8259820983026001E-4,1.8240517368001399E-4,1.82217489879262E-4,1.8199562075893599E-4,{"$f":"IF($B1009=\"\",\"\",VLOOKUP($B1009,_tbl!$A:$E,N$2,0))","v":"Male"},{"$f":"IF($B1009=\"\",\"\",VLOOKUP($B1009,_tbl!$A:$E,O$2,0))","v":"West"},{"$f":"IF($B1009=\"\",\"\",VLOOKUP($B1009,_tbl!$A:$E,P$2,0))","v":"Rural"},{"$f":"IF($B1009=\"\",\"\",VLOOKUP($B1009,_tbl!$A:$E,Q$2,0))","v":"Diabetes"},null,1.8284962871616101E-4,1.8187905902719901E-4]
[null,"all_m_West Rural diabetes.csv","60-64",3.0325994612232399E-4,3.04162154006525E-4,3.0479009977127098E-4,3.0531026526125999E-4,3.0577090651128002E-4,3.0621625262579902E-4,3.06637896996618E-4,3.0704301530843698E-4,3.0741587856953397E-4,3.0776580600139198E-4,{"$f":"IF($B1010=\"\",\"\",VLOOKUP($B1010,_tbl!$A:$E,N$2,0))","v":"Male"},{"$f":"IF($B1010=\"\",\"\",VLOOKUP($B1010,_tbl!$A:$E,O$2,0))","v":"West"},{"$f":"IF($B1010=\"\",\"\",VLOOKUP($B1010,_tbl!$A:$E,P$2,0))","v":"Rural"},{"$f":"IF($B1010=\"\",\"\",VLOOKUP($B1010,_tbl!$A:$E,Q$2,0))","v":"Diabetes"},null,3.0776580600139198E-4,3.0325994612232399E-4]
[null,"all_m_West Rural diabetes.csv","65-69",4.7729166275638799E-4,4.78172368062094E-4,4.78876106727535E-4,4.7955978813870199E-4,4.8008889608490098E-4,4.8065814517215302E-4,4.8114988744773801E-4,4.8169875660407298E-4,4.8218909145036697E-4,4.82709184951933E-4,{"$f":"IF($B1011=\"\",\"\",VLOOKUP($B1011,_tbl!$A:$E,N$2,0))","v":"Male"},{"$f":"IF($B1011=\"\",\"\",VLOOKUP($B1011,_tbl!$A:$E,O$2,0))","v":"West"},{"$f":"IF($B1011=\"\",\"\",VLOOKUP($B1011,_tbl!$A:$E,P$2,0))","v":"Rural"},{"$f":"IF($B1011=\"\",\"\",VLOOKUP($B1011,_tbl!$A:$E,Q$2,0))","v":"Diabetes"},null,4.82709184951933E-4,4.7729166275638799E-4]
[null,"all_m_West Rural diabetes.csv","70-74",7.2742982460444303E-4,7.3100935676447898E-4,7.3530643810061299E-4,7.3937943199369003E-4,7.4360265510397801E-4,7.4783942988120098E-4,7.5205934984716699E-4,7.5630876194481098E-4,7.6046401687589204E-4,7.6460169231550403E-4,{"$f":"IF($B1012=\"\",\"\",VLOOKUP($B1012,_tbl!$A:$E,N$2,0))","v":"Male"},{"$f":"IF($B1012=\"\",\"\",VLOOKUP($B1012,_tbl!$A:$E,O$2,0))","v":"West"},{"$f":"IF($B1012=\"\",\"\",VLOOKUP($B1012,_tbl!$A:$E,P$2,0))","v":"Rural"},{"$f":"IF($B1012=\"\",\"\",VLOOKUP($B1012,_tbl!$A:$E,Q$2,0))","v":"Diabetes"},null,7.6460169231550403E-4,7.2742982460444303E-4]
[null,"all_m_West Rural diabetes.csv","75-79",1.10518663843181E-3,1.1100701871384999E-3,1.1153491591844799E-3,1.12057512737914E-3,1.12660425214467E-3,1.13306031006889E-3,1.13970505754575E-3,1.1462995313490599E-3,1.1526013410157799E-3,1.1586299727613799E-3,{"$f":"IF($B1013=\"\",\"\",VLOOKUP($B1013,_tbl!$A:$E,N$2,0))","v":"Male"},{"$f":"IF($B1013=\"\",\"\",VLOOKUP($B1013,_tbl!$A:$E,O$2,0))","v":"West"},{"$f":"IF($B1013=\"\",\"\",VLOOKUP($B1013,_tbl!$A:$E,P$2,0))","v":"Rural"},{"$f":"IF($B1013=\"\",\"\",VLOOKUP($B1013,_tbl!$A:$E,Q$2,0))","v":"Diabetes"},null,1.1586299727613799E-3,1.10518663843181E-3]
[null,"all_m_West Rural diabetes.csv","80-84",1.6375753452534301E-3,1.6303080657301401E-3,1.6173991536173099E-3,1.6084548217953499E-3,1.6016671435836599E-3,1.60055916322879E-3,1.6031886683865999E-3,1.60792122166369E-3,1.6111932188423101E-3,1.61078066201959E-3,{"$f":"IF($B1014=\"\",\"\",VLOOKUP($B1014,_tbl!$A:$E,N$2,0))","v":"Male"},{"$f":"IF($B1014=\"\",\"\",VLOOKUP($B1014,_tbl!$A:$E,O$2,0))","v":"West"},{"$f":"IF($B1014=\"\",\"\",VLOOKUP($B1014,_tbl!$A:$E,P$2,0))","v":"Rural"},{"$f":"IF($B1014=\"\",\"\",VLOOKUP($B1014,_tbl!$A:$E,Q$2,0))","v":"Diabetes"},null,1.6375753452534301E-3,1.60055916322879E-3]
[null,"all_m_West Rural diabetes.csv","85+",2.4567991447936701E-3,2.4606534788638602E-3,2.4669675869543901E-3,2.4698218409378199E-3,2.4663159882515298E-3,2.4595246731189901E-3,2.4520585225555501E-3,2.4456192568935299E-3,2.4405082207253999E-3,2.43590547502284E-3,{"$f":"IF($B1015=\"\",\"\",VLOOKUP($B1015,_tbl!$A:$E,N$2,0))","v":"Male"},{"$f":"IF($B1015=\"\",\"\",VLOOKUP($B1015,_tbl!$A:$E,O$2,0))","v":"West"},{"$f":"IF($B1015=\"\",\"\",VLOOKUP($B1015,_tbl!$A:$E,P$2,0))","v":"Rural"},{"$f":"IF($B1015=\"\",\"\",VLOOKUP($B1015,_tbl!$A:$E,Q$2,0))","v":"Diabetes"},null,2.4698218409378199E-3,2.43590547502284E-3]
[null,"all_m_West Rural diabetes.csv",null,null,null,null,null,null,null,null,null,null,null,{"$f":"IF($B1016=\"\",\"\",VLOOKUP($B1016,_tbl!$A:$E,N$2,0))","v":"Male"},{"$f":"IF($B1016=\"\",\"\",VLOOKUP($B1016,_tbl!$A:$E,O$2,0))","v":"West"},{"$f":"IF($B1016=\"\",\"\",VLOOKUP($B1016,_tbl!$A:$E,P$2,0))","v":"Rural"},{"$f":"IF($B1016=\"\",\"\",VLOOKUP($B1016,_tbl!$A:$E,Q$2,0))","v":"Diabetes"},null,0,0]
[null,"all_m_West Rural diabetes.csv",null,null,null,null,null,null,null,null,null,null,null,{"$f":"IF($B1017=\"\",\"\",VLOOKUP($B1017,_tbl!$A:$E,N$2,0))","v":"Male"},{"$f":"IF($B1017=\"\",\"\",VLOOKUP($B1017,_tbl!$A:$E,O$2,0))","v":"West"},{"$f":"IF($B1017=\"\",\"\",VLOOKUP($B1017,_tbl!$A:$E,P$2,0))","v":"Rural"},{"$f":"IF($B1017=\"\",\"\",VLOOKUP($B1017,_tbl!$A:$E,Q$2,0))","v":"Diabetes"},null,0,0]
[null,"all_m_West Rural diabetes.csv",null,null,null,null,null,null,null,null,null,null,null,{"$f":"IF($B1018=\"\",\"\",VLOOKUP($B1018,_tbl!$A:$E,N$2,0))","v":"Male"},{"$f":"IF($B1018=\"\",\"\",VLOOKUP($B1018,_tbl!$A:$E,O$2,0))","v":"West"},{"$f":"IF($B1018=\"\",\"\",VLOOKUP($B1018,_tbl!$A:$E,P$2,0))","v":"Rural"},{"$f":"IF($B1018=\"\",\"\",VLOOKUP($B1018,_tbl!$A:$E,Q$2,0))","v":"Diabetes"},null,0,0]
[null,"all_m_West Rural diabetes.csv",null,null,null,null,null,null,null,null,null,null,null,{"$f":"IF($B1019=\"\",\"\",VLOOKUP($B1019,_tbl!$A:$E,N$2,0))","v":"Male"},{"$f":"IF($B1019=\"\",\"\",VLOOKUP($B1019,_tbl!$A:$E,O$2,0))","v":"West"},{"$f":"IF($B1019=\"\",\"\",VLOOKUP($B1019,_tbl!$A:$E,P$2,0))","v":"Rural"},{"$f":"IF($B1019=\"\",\"\",VLOOKUP($B1019,_tbl!$A:$E,Q$2,0))","v":"Diabetes"},null,0,0]
[null,"all_m_West Rural diabetes.csv",null,null,null,null,null,null,null,null,null,null,null,{"$f":"IF($B1020=\"\",\"\",VLOOKUP($B1020,_tbl!$A:$E,N$2,0))","v":"Male"},{"$f":"IF($B1020=\"\",\"\",VLOOKUP($B1020,_tbl!$A:$E,O$2,0))","v":"West"},{"$f":"IF($B1020=\"\",\"\",VLOOKUP($B1020,_tbl!$A:$E,P$2,0))","v":"Rural"},{"$f":"IF($B1020=\"\",\"\",VLOOKUP($B1020,_tbl!$A:$E,Q$2,0))","v":"Diabetes"},null,0,0]
[null,"all_m_West Rural diabetes.csv",null,null,null,null,null,null,null,null,null,null,null,{"$f":"IF($B1021=\"\",\"\",VLOOKUP($B1021,_tbl!$A:$E,N$2,0))","v":"Male"},{"$f":"IF($B1021=\"\",\"\",VLOOKUP($B1021,_tbl!$A:$E,O$2,0))","v":"West"},{"$f":"IF($B1021=\"\",\"\",VLOOKUP($B1021,_tbl!$A:$E,P$2,0))","v":"Rural"},{"$f":"IF($B1021=\"\",\"\",VLOOKUP($B1021,_tbl!$A:$E,Q$2,0))","v":"Diabetes"},null,0,0]
[null,null,null,null,null,null,null,null,null,null,null,null,null,{"$f":"IF($B1022=\"\",\"\",VLOOKUP($B1022,_tbl!$A:$E,N$2,0))","v":""},{"$f":"IF($B1022=\"\",\"\",VLOOKUP($B1022,_tbl!$A:$E,O$2,0))","v":""},{"$f":"IF($B1022=\"\",\"\",VLOOKUP($B1022,_tbl!$A:$E,P$2,0))","v":""},{"$f":"IF($B1022=\"\",\"\",VLOOKUP($B1022,_tbl!$A:$E,Q$2,0))","v":""}]
[null,null,null,2020,2021,2022,2023,2024,2025,2026,2027,2028,2029,{"$f":"IF($B1023=\"\",\"\",VLOOKUP($B1023,_tbl!$A:$E,N$2,0))","v":""},{"$f":"IF($B1023=\"\",\"\",VLOOKUP($B1023,_tbl!$A:$E,O$2,0))","v":""},{"$f":"IF($B1023=\"\",\"\",VLOOKUP($B1023,_tbl!$A:$E,P$2,0))","v":""},{"$f":"IF($B1023=\"\",\"\",VLOOKUP($B1023,_tbl!$A:$E,Q$2,0))","v":""}]
[null,"all_m_West Rural digestive.csv","1-4",2.9742703595999799E-5,2.7956676386538898E-5,2.5949043870927499E-5,2.3995751985621701E-5,2.2217526708071602E-5,2.0549812321671401E-5,1.8906647168034499E-5,1.74140021208685E-5,1.6003985349189299E-5,1.46526431693934E-5,{"$f":"IF($B1024=\"\",\"\",VLOOKUP($B1024,_tbl!$A:$E,N$2,0))","v":"Male"},{"$f":"IF($B1024=\"\",\"\",VLOOKUP($B1024,_tbl!$A:$E,O$2,0))","v":"West"},{"$f":"IF($B1024=\"\",\"\",VLOOKUP($B1024,_tbl!$A:$E,P$2,0))","v":"Rural"},{"$f":"IF($B1024=\"\",\"\",VLOOKUP($B1024,_tbl!$A:$E,Q$2,0))","v":"Digestive"},null,{"$f":"MAX(D1024:M1024)","v":2.9742703595999799E-5},{"$f":"MIN(D1024:M1024)","v":1.46526431693934E-5}]
[null,"all_m_West Rural digestive.csv","5-9",7.4799578230175399E-6,7.0414680872579904E-6,6.6123935761518196E-6,6.2032886307072403E-6,5.8084022311427398E-6,5.4358408202116201E-6,5.0802400625290796E-6,4.7452989789788097E-6,4.4306187957446801E-6,4.1346479668326197E-6,{"$f":"IF($B1025=\"\",\"\",VLOOKUP($B1025,_tbl!$A:$E,N$2,0))","v":"Male"},{"$f":"IF($B1025=\"\",\"\",VLOOKUP($B1025,_tbl!$A:$E,O$2,0))","v":"West"},{"$f":"IF($B1025=\"\",\"\",VLOOKUP($B1025,_tbl!$A:$E,P$2,0))","v":"Rural"},{"$f":"IF($B1025=\"\",\"\",VLOOKUP($B1025,_tbl!$A:$E,Q$2,0))","v":"Digestive"},null,7.4799578230175399E-6,4.1346479668326197E-6]
[null,"all_m_West Rural digestive.csv","10-14",6.59426815416122E-6,6.2522266900357703E-6,5.9380851172820502E-6,5.6754987067792503E-6,5.4039284293377804E-6,5.14117527183208E-6,4.8888782743283596E-6,4.6434232238247902E-6,4.4095907848720498E-6,4.1933116814439703E-6,{"$f":"IF($B1026=\"\",\"\",VLOOKUP($B1026,_tbl!$A:$E,N$2,0))","v":"Male"},{"$f":"IF($B1026=\"\",\"\",VLOOKUP($B1026,_tbl!$A:$E,O$2,0))","v":"West"},{"$f":"IF($B1026=\"\",\"\",VLOOKUP($B1026,_tbl!$A:$E,P$2,0))","v":"Rural"},{"$f":"IF($B1026=\"\",\"\",VLOOKUP($B1026,_tbl!$A:$E,Q$2,0))","v":"Digestive"},null,6.59426815416122E-6,4.1933116814439703E-6]
[null,"all_m_West Rural digestive.csv","15-19",8.9215105274735099E-6,8.3703145218036494E-6,7.8961528953096403E-6,7.4665793639520104E-6,7.0892914197250402E-6,6.7445913313268596E-6,6.42717381160829E-6,6.1291919828545102E-6,5.8447754859181899E-6,5.5698886640698804E-6,{"$f":"IF($B1027=\"\",\"\",VLOOKUP($B1027,_tbl!$A:$E,N$2,0))","v":"Male"},{"$f":"IF($B1027=\"\",\"\",VLOOKUP($B1027,_tbl!$A:$E,O$2,0))","v":"West"},{"$f":"IF($B1027=\"\",\"\",VLOOKUP($B1027,_tbl!$A:$E,P$2,0))","v":"Rural"},{"$f":"IF($B1027=\"\",\"\",VLOOKUP($B1027,_tbl!$A:$E,Q$2,0))","v":"Digestive"},null,8.9215105274735099E-6,5.5698886640698804E-6]
[null,"all_m_West Rural digestive.csv","20-24",1.6529354673413499E-5,1.5603287050126401E-5,1.47869865880603E-5,1.40669764861434E-5,1.34445410928676E-5,1.2903028911213399E-5,1.241951638993E-5,1.19700598961735E-5,1.1539479006109099E-5,1.11192586214301E-5,{"$f":"IF($B1028=\"\",\"\",VLOOKUP($B1028,_tbl!$A:$E,N$2,0))","v":"Male"},{"$f":"IF($B1028=\"\",\"\",VLOOKUP($B1028,_tbl!$A:$E,O$2,0))","v":"West"},{"$f":"IF($B1028=\"\",\"\",VLOOKUP($B1028,_tbl!$A:$E,P$2,0))","v":"Rural"},{"$f":"IF($B1028=\"\",\"\",VLOOKUP($B1028,_tbl!$A:$E,Q$2,0))","v":"Digestive"},null,1.6529354673413499E-5,1.11192586214301E-5]
[null,"all_m_West Rural digestive.csv","25-29",3.4489606871864002E-5,3.3233888069620702E-5,3.20472212454471E-5,3.1061392555310801E-5,3.0119285205099901E-5,2.92592386825318E-5,2.8429584169551899E-5,2.7640405867950799E-5,2.6871235517360301E-5,2.6127841588486799E-5,{"$f":"IF($B1029=\"\",\"\",VLOOKUP($B1029,_tbl!$A:$E,N$2,0))","v":"Male"},{"$f":"IF($B1029=\"\",\"\",VLOOKUP($B1029,_tbl!$A:$E,O$2,0))","v":"West"},{"$f":"IF($B1029=\"\",\"\",VLOOKUP($B1029,_tbl!$A:$E,P$2,0))","v":"Rural"},{"$f":"IF($B1029=\"\",\"\",VLOOKUP($B1029,_tbl!$A:$E,Q$2,0))","v":"Digestive"},null,3.4489606871864002E-5,2.6127841588486799E-5]
[null,"all_m_West Rural digestive.csv","30-34",7.2283491166101401E-5,7.0552280659364494E-5,6.8635813822540807E-5,6.7134160045355005E-5,6.5551335576613003E-5,6.4086386223774394E-5,6.2601599399789005E-5,6.1173820236832806E-5,5.9762724941281099E-5,5.8390531091389503E-5,{"$f":"IF($B1030=\"\",\"\",VLOOKUP($B1030,_tbl!$A:$E,N$2,0))","v":"Male"},{"$f":"IF($B1030=\"\",\"\",VLOOKUP($B1030,_tbl!$A:$E,O$2,0))","v":"West"},{"$f":"IF($B1030=\"\",\"\",VLOOKUP($B1030,_tbl!$A:$E,P$2,0))","v":"Rural"},{"$f":"IF($B1030=\"\",\"\",VLOOKUP($B1030,_tbl!$A:$E,Q$2,0))","v":"Digestive"},null,7.2283491166101401E-5,5.8390531091389503E-5]
[null,"all_m_West Rural digestive.csv","35-39",1.2524976141845299E-4,1.22924425426154E-4,1.2040982701652399E-4,1.18465518448682E-4,1.1634703875654701E-4,1.14422979815731E-4,1.12431623193899E-4,1.10535166731613E-4,1.0861863176421901E-4,1.06750299553613E-4,{"$f":"IF($B1031=\"\",\"\",VLOOKUP($B1031,_tbl!$A:$E,N$2,0))","v":"Male"},{"$f":"IF($B1031=\"\",\"\",VLOOKUP($B1031,_tbl!$A:$E,O$2,0))","v":"West"},{"$f":"IF($B1031=\"\",\"\",VLOOKUP($B1031,_tbl!$A:$E,P$2,0))","v":"Rural"},{"$f":"IF($B1031=\"\",\"\",VLOOKUP($B1031,_tbl!$A:$E,Q$2,0))","v":"Digestive"},null,1.2524976141845299E-4,1.06750299553613E-4]
[null,"all_m_West Rural digestive.csv","40-44",2.0522730556601701E-4,2.0176371072983001E-4,1.9774822609663101E-4,1.9445445979551101E-4,1.9103508833424301E-4,1.87932975128979E-4,1.8482774839116001E-4,1.8183904257575701E-4,1.78824867739924E-4,1.7582599192016401E-4,{"$f":"IF($B1032=\"\",\"\",VLOOKUP($B1032,_tbl!$A:$E,N$2,0))","v":"Male"},{"$f":"IF($B1032=\"\",\"\",VLOOKUP($B1032,_tbl!$A:$E,O$2,0))","v":"West"},{"$f":"IF($B1032=\"\",\"\",VLOOKUP($B1032,_tbl!$A:$E,P$2,0))","v":"Rural"},{"$f":"IF($B1032=\"\",\"\",VLOOKUP($B1032,_tbl!$A:$E,Q$2,0))","v":"Digestive"},null,2.0522730556601701E-4,1.7582599192016401E-4]
[null,"all_m_West Rural digestive.csv","45-49",2.9376692449945002E-4,2.8855473622679801E-4,2.8322063900643098E-4,2.7801783839105702E-4,2.73179953473755E-4,2.6834578722326202E-4,2.6383713645420498E-4,2.5922554988062901E-4,2.54770098374891E-4,2.5015179032616801E-4,{"$f":"IF($B1033=\"\",\"\",VLOOKUP($B1033,_tbl!$A:$E,N$2,0))","v":"Male"},{"$f":"IF($B1033=\"\",\"\",VLOOKUP($B1033,_tbl!$A:$E,O$2,0))","v":"West"},{"$f":"IF($B1033=\"\",\"\",VLOOKUP($B1033,_tbl!$A:$E,P$2,0))","v":"Rural"},{"$f":"IF($B1033=\"\",\"\",VLOOKUP($B1033,_tbl!$A:$E,Q$2,0))","v":"Digestive"},null,2.9376692449945002E-4,2.5015179032616801E-4]
[null,"all_m_West Rural digestive.csv","50-54",3.87886868073883E-4,3.7992829038441099E-4,3.71905447685854E-4,3.64459265065691E-4,3.5741143430012502E-4,3.50538587755437E-4,3.4400668924106602E-4,3.3746524235838998E-4,3.3111706906264202E-4,3.2467888988862498E-4,{"$f":"IF($B1034=\"\",\"\",VLOOKUP($B1034,_tbl!$A:$E,N$2,0))","v":"Male"},{"$f":"IF($B1034=\"\",\"\",VLOOKUP($B1034,_tbl!$A:$E,O$2,0))","v":"West"},{"$f":"IF($B1034=\"\",\"\",VLOOKUP($B1034,_tbl!$A:$E,P$2,0))","v":"Rural"},{"$f":"IF($B1034=\"\",\"\",VLOOKUP($B1034,_tbl!$A:$E,Q$2,0))","v":"Digestive"},null,3.87886868073883E-4,3.2467888988862498E-4]
[null,"all_m_West Rural digestive.csv","55-59",4.5544355877108402E-4,4.4036017108654602E-4,4.2571685689240699E-4,4.1247700824083598E-4,3.9959448018228599E-4,3.8725930766284999E-4,3.7520362417595702E-4,3.6343599894594599E-4,3.5191997532452E-4,3.4061636365949701E-4,{"$f":"IF($B1035=\"\",\"\",VLOOKUP($B1035,_tbl!$A:$E,N$2,0))","v":"Male"},{"$f":"IF($B1035=\"\",\"\",VLOOKUP($B1035,_tbl!$A:$E,O$2,0))","v":"West"},{"$f":"IF($B1035=\"\",\"\",VLOOKUP($B1035,_tbl!$A:$E,P$2,0))","v":"Rural"},{"$f":"IF($B1035=\"\",\"\",VLOOKUP($B1035,_tbl!$A:$E,Q$2,0))","v":"Digestive"},null,4.5544355877108402E-4,3.4061636365949701E-4]
[null,"all_m_West Rural digestive.csv","60-64",5.2148246723381195E-4,4.9535600800655404E-4,4.70662196943911E-4,4.4813380619452799E-4,4.2624174042146698E-4,4.0523580780036403E-4,3.8473059614678597E-4,3.6475896979604698E-4,3.4525475200136702E-4,3.2617577550156103E-4,{"$f":"IF($B1036=\"\",\"\",VLOOKUP($B1036,_tbl!$A:$E,N$2,0))","v":"Male"},{"$f":"IF($B1036=\"\",\"\",VLOOKUP($B1036,_tbl!$A:$E,O$2,0))","v":"West"},{"$f":"IF($B1036=\"\",\"\",VLOOKUP($B1036,_tbl!$A:$E,P$2,0))","v":"Rural"},{"$f":"IF($B1036=\"\",\"\",VLOOKUP($B1036,_tbl!$A:$E,Q$2,0))","v":"Digestive"},null,5.2148246723381195E-4,3.2617577550156103E-4]
[null,"all_m_West Rural digestive.csv","65-69",6.3633790892107995E-4,5.9627319748186498E-4,5.5820851071814598E-4,5.2322954281047598E-4,4.8920960759886597E-4,4.56466977919309E-4,4.2457588017406602E-4,3.9348935591568599E-4,3.63212916775672E-4,3.33604200224455E-4,{"$f":"IF($B1037=\"\",\"\",VLOOKUP($B1037,_tbl!$A:$E,N$2,0))","v":"Male"},{"$f":"IF($B1037=\"\",\"\",VLOOKUP($B1037,_tbl!$A:$E,O$2,0))","v":"West"},{"$f":"IF($B1037=\"\",\"\",VLOOKUP($B1037,_tbl!$A:$E,P$2,0))","v":"Rural"},{"$f":"IF($B1037=\"\",\"\",VLOOKUP($B1037,_tbl!$A:$E,Q$2,0))","v":"Digestive"},null,6.3633790892107995E-4,3.33604200224455E-4]
[null,"all_m_West Rural digestive.csv","70-74",9.2655358258726596E-4,8.7361236340743496E-4,8.22211515927215E-4,7.7535004437799505E-4,7.2953695616608698E-4,6.8552928141313199E-4,6.4252908799160497E-4,6.0064712011068902E-4,5.5983008578912904E-4,5.2000077094914595E-4,{"$f":"IF($B1038=\"\",\"\",VLOOKUP($B1038,_tbl!$A:$E,N$2,0))","v":"Male"},{"$f":"IF($B1038=\"\",\"\",VLOOKUP($B1038,_tbl!$A:$E,O$2,0))","v":"West"},{"$f":"IF($B1038=\"\",\"\",VLOOKUP($B1038,_tbl!$A:$E,P$2,0))","v":"Rural"},{"$f":"IF($B1038=\"\",\"\",VLOOKUP($B1038,_tbl!$A:$E,Q$2,0))","v":"Digestive"},null,9.2655358258726596E-4,5.2000077094914595E-4]
[null,"all_m_West Rural digestive.csv","75-79",1.5587148550576099E-3,1.5050676416963199E-3,1.4524696995447501E-3,1.40463108245071E-3,1.35534761119006E-3,1.30663928601112E-3,1.2577998196550001E-3,1.2100120803464399E-3,1.16352820820593E-3,1.11860469445698E-3,{"$f":"IF($B1039=\"\",\"\",VLOOKUP($B1039,_tbl!$A:$E,N$2,0))","v":"Male"},{"$f":"IF($B1039=\"\",\"\",VLOOKUP($B1039,_tbl!$A:$E,O$2,0))","v":"West"},{"$f":"IF($B1039=\"\",\"\",VLOOKUP($B1039,_tbl!$A:$E,P$2,0))","v":"Rural"},{"$f":"IF($B1039=\"\",\"\",VLOOKUP($B1039,_tbl!$A:$E,Q$2,0))","v":"Digestive"},null,1.5587148550576099E-3,1.11860469445698E-3]
[null,"all_m_West Rural digestive.csv","80-84",2.7266401292118398E-3,2.7078856447323501E-3,2.6724560696837602E-3,2.6437821120016301E-3,2.6056507081966E-3,2.5670649686258501E-3,2.52502218568532E-3,2.4837355735336398E-3,2.4432087850863701E-3,2.4050261953472E-3,{"$f":"IF($B1040=\"\",\"\",VLOOKUP($B1040,_tbl!$A:$E,N$2,0))","v":"Male"},{"$f":"IF($B1040=\"\",\"\",VLOOKUP($B1040,_tbl!$A:$E,O$2,0))","v":"West"},{"$f":"IF($B1040=\"\",\"\",VLOOKUP($B1040,_tbl!$A:$E,P$2,0))","v":"Rural"},{"$f":"IF($B1040=\"\",\"\",VLOOKUP($B1040,_tbl!$A:$E,Q$2,0))","v":"Digestive"},null,2.7266401292118398E-3,2.4050261953472E-3]
[null,"all_m_West Rural digestive.csv","85+",4.6056668271343103E-3,4.6192325911517604E-3,4.6031220390210801E-3,4.59900364308009E-3,4.6079876398456097E-3,4.6300561957399299E-3,4.6564764502111198E-3,4.6821452505724798E-3,4.7024781292696804E-3,4.7164516762777603E-3,{"$f":"IF($B1041=\"\",\"\",VLOOKUP($B1041,_tbl!$A:$E,N$2,0))","v":"Male"},{"$f":"IF($B1041=\"\",\"\",VLOOKUP($B1041,_tbl!$A:$E,O$2,0))","v":"West"},{"$f":"IF($B1041=\"\",\"\",VLOOKUP($B1041,_tbl!$A:$E,P$2,0))","v":"Rural"},{"$f":"IF($B1041=\"\",\"\",VLOOKUP($B1041,_tbl!$A:$E,Q$2,0))","v":"Digestive"},null,4.7164516762777603E-3,4.59900364308009E-3]
[null,null,null,null,null,null,null,null,null,null,null,null,null,{"$f":"IF($B1042=\"\",\"\",VLOOKUP($B1042,_tbl!$A:$E,N$2,0))","v":""},{"$f":"IF($B1042=\"\",\"\",VLOOKUP($B1042,_tbl!$A:$E,O$2,0))","v":""},{"$f":"IF($B1042=\"\",\"\",VLOOKUP($B1042,_tbl!$A:$E,P$2,0))","v":""},{"$f":"IF($B1042=\"\",\"\",VLOOKUP($B1042,_tbl!$A:$E,Q$2,0))","v":""}]
[null,null,null,2020,2021,2022,2023,2024,2025,2026,2027,2028,2029,{"$f":"IF($B1043=\"\",\"\",VLOOKUP($B1043,_tbl!$A:$E,N$2,0))","v":""},{"$f":"IF($B1043=\"\",\"\",VLOOKUP($B1043,_tbl!$A:$E,O$2,0))","v":""},{"$f":"IF($B1043=\"\",\"\",VLOOKUP($B1043,_tbl!$A:$E,P$2,0))","v":""},{"$f":"IF($B1043=\"\",\"\",VLOOKUP($B1043,_tbl!$A:$E,Q$2,0))","v":""}]
[null,"all_m_West Rural external.csv","1-4",3.2674027560771602E-4,2.9979839595053098E-4,2.77156685341012E-4,2.5802538713415801E-4,2.38548236140437E-4,2.2058910144586699E-4,2.0298851594825401E-4,1.86271321046952E-4,1.70169466592085E-4,1.5489983299923999E-4,{"$f":"IF($B1044=\"\",\"\",VLOOKUP($B1044,_tbl!$A:$E,N$2,0))","v":"Male"},{"$f":"IF($B1044=\"\",\"\",VLOOKUP($B1044,_tbl!$A:$E,O$2,0))","v":"West"},{"$f":"IF($B1044=\"\",\"\",VLOOKUP($B1044,_tbl!$A:$E,P$2,0))","v":"Rural"},{"$f":"IF($B1044=\"\",\"\",VLOOKUP($B1044,_tbl!$A:$E,Q$2,0))","v":"External"},null,{"$f":"MAX(D1044:M1044)","v":3.2674027560771602E-4},{"$f":"MIN(D1044:M1044)","v":1.5489983299923999E-4}]
[null,"all_m_West Rural external.csv","5-9",2.40531814057216E-4,2.3017622468956899E-4,2.1802231825958999E-4,2.07368136728412E-4,1.96263439406781E-4,1.8584409084032699E-4,1.7545158614714701E-4,1.6542236895772101E-4,1.5552419663441899E-4,1.4590066544182401E-4,{"$f":"IF($B1045=\"\",\"\",VLOOKUP($B1045,_tbl!$A:$E,N$2,0))","v":"Male"},{"$f":"IF($B1045=\"\",\"\",VLOOKUP($B1045,_tbl!$A:$E,O$2,0))","v":"West"},{"$f":"IF($B1045=\"\",\"\",VLOOKUP($B1045,_tbl!$A:$E,P$2,0))","v":"Rural"},{"$f":"IF($B1045=\"\",\"\",VLOOKUP($B1045,_tbl!$A:$E,Q$2,0))","v":"External"},null,2.40531814057216E-4,1.4590066544182401E-4]
[null,"all_m_West Rural external.csv","10-14",2.2151459370384099E-4,2.1444710934559799E-4,2.04164145451051E-4,1.9491013253883401E-4,1.85181961454398E-4,1.7594764696412E-4,1.6675067957574199E-4,1.5786305911757699E-4,1.49121289321275E-4,1.40651703444869E-4,{"$f":"IF($B1046=\"\",\"\",VLOOKUP($B1046,_tbl!$A:$E,N$2,0))","v":"Male"},{"$f":"IF($B1046=\"\",\"\",VLOOKUP($B1046,_tbl!$A:$E,O$2,0))","v":"West"},{"$f":"IF($B1046=\"\",\"\",VLOOKUP($B1046,_tbl!$A:$E,P$2,0))","v":"Rural"},{"$f":"IF($B1046=\"\",\"\",VLOOKUP($B1046,_tbl!$A:$E,Q$2,0))","v":"External"},null,2.2151459370384099E-4,1.40651703444869E-4]
[null,"all_m_West Rural external.csv","15-19",2.6682055223651902E-4,2.5586296988407701E-4,2.41514031297872E-4,2.2853338578836301E-4,2.1481915295861701E-4,2.0172310138771401E-4,1.8861564889664399E-4,1.7595065347928199E-4,1.63531053177513E-4,1.51531600015986E-4,{"$f":"IF($B1047=\"\",\"\",VLOOKUP($B1047,_tbl!$A:$E,N$2,0))","v":"Male"},{"$f":"IF($B1047=\"\",\"\",VLOOKUP($B1047,_tbl!$A:$E,O$2,0))","v":"West"},{"$f":"IF($B1047=\"\",\"\",VLOOKUP($B1047,_tbl!$A:$E,P$2,0))","v":"Rural"},{"$f":"IF($B1047=\"\",\"\",VLOOKUP($B1047,_tbl!$A:$E,Q$2,0))","v":"External"},null,2.6682055223651902E-4,1.51531600015986E-4]
[null,"all_m_West Rural external.csv","20-24",4.0734512869910301E-4,3.9041507560600097E-4,3.68415762413468E-4,3.5006760844033102E-4,3.2916163062174901E-4,3.0882531226839402E-4,2.8765700111506998E-4,2.6709428047714601E-4,2.4689215522446102E-4,2.27522896253177E-4,{"$f":"IF($B1048=\"\",\"\",VLOOKUP($B1048,_tbl!$A:$E,N$2,0))","v":"Male"},{"$f":"IF($B1048=\"\",\"\",VLOOKUP($B1048,_tbl!$A:$E,O$2,0))","v":"West"},{"$f":"IF($B1048=\"\",\"\",VLOOKUP($B1048,_tbl!$A:$E,P$2,0))","v":"Rural"},{"$f":"IF($B1048=\"\",\"\",VLOOKUP($B1048,_tbl!$A:$E,Q$2,0))","v":"External"},null,4.0734512869910301E-4,2.27522896253177E-4]
[null,"all_m_West Rural external.csv","25-29",5.11470451142897E-4,4.8846478644412497E-4,4.6155641917764399E-4,4.3898918155650202E-4,4.1450827098734097E-4,3.9134151984556299E-4,3.6770449217843999E-4,3.44899493443753E-4,3.2243927309018701E-4,3.0080626993453201E-4,{"$f":"IF($B1049=\"\",\"\",VLOOKUP($B1049,_tbl!$A:$E,N$2,0))","v":"Male"},{"$f":"IF($B1049=\"\",\"\",VLOOKUP($B1049,_tbl!$A:$E,O$2,0))","v":"West"},{"$f":"IF($B1049=\"\",\"\",VLOOKUP($B1049,_tbl!$A:$E,P$2,0))","v":"Rural"},{"$f":"IF($B1049=\"\",\"\",VLOOKUP($B1049,_tbl!$A:$E,Q$2,0))","v":"External"},null,5.11470451142897E-4,3.0080626993453201E-4]
[null,"all_m_West Rural external.csv","30-34",5.8815187050414303E-4,5.6138091522737598E-4,5.3077599022175804E-4,5.0388063842566895E-4,4.7636307421036099E-4,4.50705097725723E-4,4.2533363384770399E-4,4.0098407666799997E-4,3.7710208582754698E-4,3.5393424639511999E-4,{"$f":"IF($B1050=\"\",\"\",VLOOKUP($B1050,_tbl!$A:$E,N$2,0))","v":"Male"},{"$f":"IF($B1050=\"\",\"\",VLOOKUP($B1050,_tbl!$A:$E,O$2,0))","v":"West"},{"$f":"IF($B1050=\"\",\"\",VLOOKUP($B1050,_tbl!$A:$E,P$2,0))","v":"Rural"},{"$f":"IF($B1050=\"\",\"\",VLOOKUP($B1050,_tbl!$A:$E,Q$2,0))","v":"External"},null,5.8815187050414303E-4,3.5393424639511999E-4]
[null,"all_m_West Rural external.csv","35-39",5.7723213391995E-4,5.5182614077295899E-4,5.2128864654526303E-4,4.9275647640966E-4,4.6433285663436801E-4,4.3710192223127303E-4,4.10639473773386E-4,3.84952978430346E-4,3.60052590867848E-4,3.3574525935787202E-4,{"$f":"IF($B1051=\"\",\"\",VLOOKUP($B1051,_tbl!$A:$E,N$2,0))","v":"Male"},{"$f":"IF($B1051=\"\",\"\",VLOOKUP($B1051,_tbl!$A:$E,O$2,0))","v":"West"},{"$f":"IF($B1051=\"\",\"\",VLOOKUP($B1051,_tbl!$A:$E,P$2,0))","v":"Rural"},{"$f":"IF($B1051=\"\",\"\",VLOOKUP($B1051,_tbl!$A:$E,Q$2,0))","v":"External"},null,5.7723213391995E-4,3.3574525935787202E-4]
[null,"all_m_West Rural external.csv","40-44",6.6112470706008899E-4,6.3675020217892502E-4,6.0678828415766499E-4,5.7938850001969602E-4,5.5111902825154496E-4,5.23968621804138E-4,4.9716822887074905E-4,4.7108791082396499E-4,4.45658452239196E-4,4.20806935028261E-4,{"$f":"IF($B1052=\"\",\"\",VLOOKUP($B1052,_tbl!$A:$E,N$2,0))","v":"Male"},{"$f":"IF($B1052=\"\",\"\",VLOOKUP($B1052,_tbl!$A:$E,O$2,0))","v":"West"},{"$f":"IF($B1052=\"\",\"\",VLOOKUP($B1052,_tbl!$A:$E,P$2,0))","v":"Rural"},{"$f":"IF($B1052=\"\",\"\",VLOOKUP($B1052,_tbl!$A:$E,Q$2,0))","v":"External"},null,6.6112470706008899E-4,4.20806935028261E-4]
[null,"all_m_West Rural external.csv","45-49",8.1111955447170695E-4,7.8176525968734305E-4,7.5820207385305098E-4,7.3544223757541799E-4,7.1322082644234E-4,6.9168937891874295E-4,6.7111172812878302E-4,6.5075368010094898E-4,6.3086302892366496E-4,6.10804442807358E-4,{"$f":"IF($B1053=\"\",\"\",VLOOKUP($B1053,_tbl!$A:$E,N$2,0))","v":"Male"},{"$f":"IF($B1053=\"\",\"\",VLOOKUP($B1053,_tbl!$A:$E,O$2,0))","v":"West"},{"$f":"IF($B1053=\"\",\"\",VLOOKUP($B1053,_tbl!$A:$E,P$2,0))","v":"Rural"},{"$f":"IF($B1053=\"\",\"\",VLOOKUP($B1053,_tbl!$A:$E,Q$2,0))","v":"External"},null,8.1111955447170695E-4,6.10804442807358E-4]
[null,"all_m_West Rural external.csv","50-54",9.5607003112112895E-4,9.2625960360875296E-4,9.0848250252255499E-4,8.9188857552769296E-4,8.7526302202256903E-4,8.5910744162588897E-4,8.43405132101906E-4,8.2774236875708999E-4,8.1234323660438299E-4,7.9674710905178496E-4,{"$f":"IF($B1054=\"\",\"\",VLOOKUP($B1054,_tbl!$A:$E,N$2,0))","v":"Male"},{"$f":"IF($B1054=\"\",\"\",VLOOKUP($B1054,_tbl!$A:$E,O$2,0))","v":"West"},{"$f":"IF($B1054=\"\",\"\",VLOOKUP($B1054,_tbl!$A:$E,P$2,0))","v":"Rural"},{"$f":"IF($B1054=\"\",\"\",VLOOKUP($B1054,_tbl!$A:$E,Q$2,0))","v":"External"},null,9.5607003112112895E-4,7.9674710905178496E-4]
[null,"all_m_West Rural external.csv","55-59",9.9995085460588009E-4,9.7906600050043997E-4,9.6236110872271303E-4,9.4670424640584802E-4,9.3041879958728204E-4,9.1438318034677295E-4,8.9828726076977697E-4,8.8228987208745105E-4,8.6645065182817602E-4,8.5071817816058696E-4,{"$f":"IF($B1055=\"\",\"\",VLOOKUP($B1055,_tbl!$A:$E,N$2,0))","v":"Male"},{"$f":"IF($B1055=\"\",\"\",VLOOKUP($B1055,_tbl!$A:$E,O$2,0))","v":"West"},{"$f":"IF($B1055=\"\",\"\",VLOOKUP($B1055,_tbl!$A:$E,P$2,0))","v":"Rural"},{"$f":"IF($B1055=\"\",\"\",VLOOKUP($B1055,_tbl!$A:$E,Q$2,0))","v":"External"},null,9.9995085460588009E-4,8.5071817816058696E-4]
[null,"all_m_West Rural external.csv","60-64",1.0601603611545001E-3,1.06382769135227E-3,1.04936927002477E-3,1.0359030715357601E-3,1.02157901344757E-3,1.0077684788950699E-3,9.937625296516121E-4,9.7992904926266907E-4,9.65999962697858E-4,9.5211416157091301E-4,{"$f":"IF($B1056=\"\",\"\",VLOOKUP($B1056,_tbl!$A:$E,N$2,0))","v":"Male"},{"$f":"IF($B1056=\"\",\"\",VLOOKUP($B1056,_tbl!$A:$E,O$2,0))","v":"West"},{"$f":"IF($B1056=\"\",\"\",VLOOKUP($B1056,_tbl!$A:$E,P$2,0))","v":"Rural"},{"$f":"IF($B1056=\"\",\"\",VLOOKUP($B1056,_tbl!$A:$E,Q$2,0))","v":"External"},null,1.06382769135227E-3,9.5211416157091301E-4]
[null,"all_m_West Rural external.csv","65-69",1.18840486901245E-3,1.2092475079005501E-3,1.1912162449798701E-3,1.17546792308674E-3,1.1595591194828701E-3,1.1454791450407401E-3,1.1316888120956499E-3,1.11838921387097E-3,1.10469736906015E-3,1.09072299405847E-3,{"$f":"IF($B1057=\"\",\"\",VLOOKUP($B1057,_tbl!$A:$E,N$2,0))","v":"Male"},{"$f":"IF($B1057=\"\",\"\",VLOOKUP($B1057,_tbl!$A:$E,O$2,0))","v":"West"},{"$f":"IF($B1057=\"\",\"\",VLOOKUP($B1057,_tbl!$A:$E,P$2,0))","v":"Rural"},{"$f":"IF($B1057=\"\",\"\",VLOOKUP($B1057,_tbl!$A:$E,Q$2,0))","v":"External"},null,1.2092475079005501E-3,1.09072299405847E-3]
[null,"all_m_West Rural external.csv","70-74",1.5346135992076E-3,1.5543241454709701E-3,1.53691797157858E-3,1.52262258279644E-3,1.5076343220903001E-3,1.4941386386663499E-3,1.4806100822209599E-3,1.46746652247032E-3,1.45415614900483E-3,1.44080577815525E-3,{"$f":"IF($B1058=\"\",\"\",VLOOKUP($B1058,_tbl!$A:$E,N$2,0))","v":"Male"},{"$f":"IF($B1058=\"\",\"\",VLOOKUP($B1058,_tbl!$A:$E,O$2,0))","v":"West"},{"$f":"IF($B1058=\"\",\"\",VLOOKUP($B1058,_tbl!$A:$E,P$2,0))","v":"Rural"},{"$f":"IF($B1058=\"\",\"\",VLOOKUP($B1058,_tbl!$A:$E,Q$2,0))","v":"External"},null,1.5543241454709701E-3,1.44080577815525E-3]
[null,"all_m_West Rural external.csv","75-79",2.2467033199640202E-3,2.21809565522478E-3,2.2162979860385298E-3,2.2146983621791501E-3,2.2061249605710999E-3,2.1934791846596698E-3,2.1773623108046602E-3,2.16080215510668E-3,2.14562013087145E-3,2.1329980620067102E-3,{"$f":"IF($B1059=\"\",\"\",VLOOKUP($B1059,_tbl!$A:$E,N$2,0))","v":"Male"},{"$f":"IF($B1059=\"\",\"\",VLOOKUP($B1059,_tbl!$A:$E,O$2,0))","v":"West"},{"$f":"IF($B1059=\"\",\"\",VLOOKUP($B1059,_tbl!$A:$E,P$2,0))","v":"Rural"},{"$f":"IF($B1059=\"\",\"\",VLOOKUP($B1059,_tbl!$A:$E,Q$2,0))","v":"External"},null,2.2467033199640202E-3,2.1329980620067102E-3]
[null,"all_m_West Rural external.csv","80-84",3.46436301583115E-3,3.4760107042939299E-3,3.4809397447025498E-3,3.4865803091351502E-3,3.4780154125091298E-3,3.4638619746959602E-3,3.4447481671477601E-3,3.4264110820233398E-3,3.41024729206796E-3,3.39779003469307E-3,{"$f":"IF($B1060=\"\",\"\",VLOOKUP($B1060,_tbl!$A:$E,N$2,0))","v":"Male"},{"$f":"IF($B1060=\"\",\"\",VLOOKUP($B1060,_tbl!$A:$E,O$2,0))","v":"West"},{"$f":"IF($B1060=\"\",\"\",VLOOKUP($B1060,_tbl!$A:$E,P$2,0))","v":"Rural"},{"$f":"IF($B1060=\"\",\"\",VLOOKUP($B1060,_tbl!$A:$E,Q$2,0))","v":"External"},null,3.4865803091351502E-3,3.39779003469307E-3]
[null,"all_m_West Rural external.csv","85+",5.87353899030454E-3,5.8962150312652896E-3,5.9245781129789402E-3,5.9437156129557101E-3,5.9378700229817498E-3,5.9163653405881599E-3,5.8857618027171902E-3,5.8553281812625197E-3,5.8303105997974903E-3,5.8133671531437397E-3,{"$f":"IF($B1061=\"\",\"\",VLOOKUP($B1061,_tbl!$A:$E,N$2,0))","v":"Male"},{"$f":"IF($B1061=\"\",\"\",VLOOKUP($B1061,_tbl!$A:$E,O$2,0))","v":"West"},{"$f":"IF($B1061=\"\",\"\",VLOOKUP($B1061,_tbl!$A:$E,P$2,0))","v":"Rural"},{"$f":"IF($B1061=\"\",\"\",VLOOKUP($B1061,_tbl!$A:$E,Q$2,0))","v":"External"},null,5.9437156129557101E-3,5.8133671531437397E-3]
[null,null,null,null,null,null,null,null,null,null,null,null,null,{"$f":"IF($B1062=\"\",\"\",VLOOKUP($B1062,_tbl!$A:$E,N$2,0))","v":""},{"$f":"IF($B1062=\"\",\"\",VLOOKUP($B1062,_tbl!$A:$E,O$2,0))","v":""},{"$f":"IF($B1062=\"\",\"\",VLOOKUP($B1062,_tbl!$A:$E,P$2,0))","v":""},{"$f":"IF($B1062=\"\",\"\",VLOOKUP($B1062,_tbl!$A:$E,Q$2,0))","v":""}]
[null,null,null,2020,2021,2022,2023,2024,2025,2026,2027,2028,2029,{"$f":"IF($B1063=\"\",\"\",VLOOKUP($B1063,_tbl!$A:$E,N$2,0))","v":""},{"$f":"IF($B1063=\"\",\"\",VLOOKUP($B1063,_tbl!$A:$E,O$2,0))","v":""},{"$f":"IF($B1063=\"\",\"\",VLOOKUP($B1063,_tbl!$A:$E,P$2,0))","v":""},{"$f":"IF($B1063=\"\",\"\",VLOOKUP($B1063,_tbl!$A:$E,Q$2,0))","v":""}]
[null,"all_m_West Rural infectious.csv","1-4",1.82934832211825E-4,1.6883327755260101E-4,1.4878259081987401E-4,1.3063960171397801E-4,1.12927379355698E-4,9.6663967200709896E-5,8.1314601933775503E-5,6.7030432921135003E-5,5.3677141632727202E-5,4.1074365869623802E-5,{"$f":"IF($B1064=\"\",\"\",VLOOKUP($B1064,_tbl!$A:$E,N$2,0))","v":"Male"},{"$f":"IF($B1064=\"\",\"\",VLOOKUP($B1064,_tbl!$A:$E,O$2,0))","v":"West"},{"$f":"IF($B1064=\"\",\"\",VLOOKUP($B1064,_tbl!$A:$E,P$2,0))","v":"Rural"},{"$f":"IF($B1064=\"\",\"\",VLOOKUP($B1064,_tbl!$A:$E,Q$2,0))","v":"Infectious"},null,{"$f":"MAX(D1064:M1064)","v":1.82934832211825E-4},{"$f":"MIN(D1064:M1064)","v":4.1074365869623802E-5}]
[null,"all_m_West Rural infectious.csv","5-9",3.7771114502929898E-5,3.4647080926060302E-5,3.1996592316740099E-5,2.9356226740212101E-5,2.6976458407317799E-5,2.4650417988666899E-5,2.2521225476091699E-5,2.04695532634302E-5,1.8560406466853999E-5,1.6743298560947401E-5,{"$f":"IF($B1065=\"\",\"\",VLOOKUP($B1065,_tbl!$A:$E,N$2,0))","v":"Male"},{"$f":"IF($B1065=\"\",\"\",VLOOKUP($B1065,_tbl!$A:$E,O$2,0))","v":"West"},{"$f":"IF($B1065=\"\",\"\",VLOOKUP($B1065,_tbl!$A:$E,P$2,0))","v":"Rural"},{"$f":"IF($B1065=\"\",\"\",VLOOKUP($B1065,_tbl!$A:$E,Q$2,0))","v":"Infectious"},null,3.7771114502929898E-5,1.6743298560947401E-5]
[null,"all_m_West Rural infectious.csv","10-14",2.57812931086023E-5,2.3657803363587799E-5,2.2237913220055299E-5,2.0869924133459501E-5,1.9694948145814999E-5,1.8532967385346601E-5,1.7438966051093001E-5,1.6348328190026299E-5,1.5298762350546201E-5,1.42582604951502E-5,{"$f":"IF($B1066=\"\",\"\",VLOOKUP($B1066,_tbl!$A:$E,N$2,0))","v":"Male"},{"$f":"IF($B1066=\"\",\"\",VLOOKUP($B1066,_tbl!$A:$E,O$2,0))","v":"West"},{"$f":"IF($B1066=\"\",\"\",VLOOKUP($B1066,_tbl!$A:$E,P$2,0))","v":"Rural"},{"$f":"IF($B1066=\"\",\"\",VLOOKUP($B1066,_tbl!$A:$E,Q$2,0))","v":"Infectious"},null,2.57812931086023E-5,1.42582604951502E-5]
[null,"all_m_West Rural infectious.csv","15-19",2.55755814048255E-5,2.3790596584717199E-5,2.25243758123228E-5,2.13000647783658E-5,2.0283134167936E-5,1.9254898723797601E-5,1.82930780112997E-5,1.73170587719728E-5,1.63808213656358E-5,1.5449455933391699E-5,{"$f":"IF($B1067=\"\",\"\",VLOOKUP($B1067,_tbl!$A:$E,N$2,0))","v":"Male"},{"$f":"IF($B1067=\"\",\"\",VLOOKUP($B1067,_tbl!$A:$E,O$2,0))","v":"West"},{"$f":"IF($B1067=\"\",\"\",VLOOKUP($B1067,_tbl!$A:$E,P$2,0))","v":"Rural"},{"$f":"IF($B1067=\"\",\"\",VLOOKUP($B1067,_tbl!$A:$E,Q$2,0))","v":"Infectious"},null,2.55755814048255E-5,1.5449455933391699E-5]
[null,"all_m_West Rural infectious.csv","20-24",3.7040924791719499E-5,3.52257824042072E-5,3.3805537467114101E-5,3.2417987545849097E-5,3.1208711598376202E-5,2.99702205632954E-5,2.8804093563359199E-5,2.7625279544498502E-5,2.6498204440277301E-5,2.5389582644334001E-5,{"$f":"IF($B1068=\"\",\"\",VLOOKUP($B1068,_tbl!$A:$E,N$2,0))","v":"Male"},{"$f":"IF($B1068=\"\",\"\",VLOOKUP($B1068,_tbl!$A:$E,O$2,0))","v":"West"},{"$f":"IF($B1068=\"\",\"\",VLOOKUP($B1068,_tbl!$A:$E,P$2,0))","v":"Rural"},{"$f":"IF($B1068=\"\",\"\",VLOOKUP($B1068,_tbl!$A:$E,Q$2,0))","v":"Infectious"},null,3.7040924791719499E-5,2.5389582644334001E-5]
[null,"all_m_West Rural infectious.csv","25-29",5.7794774942133497E-5,5.5791082059990498E-5,5.4033825947444799E-5,5.2163833251526197E-5,5.0424138937001298E-5,4.8597459386423503E-5,4.6859276892883201E-5,4.5112659030263498E-5,4.3450038000773703E-5,4.1819135858886702E-5,{"$f":"IF($B1069=\"\",\"\",VLOOKUP($B1069,_tbl!$A:$E,N$2,0))","v":"Male"},{"$f":"IF($B1069=\"\",\"\",VLOOKUP($B1069,_tbl!$A:$E,O$2,0))","v":"West"},{"$f":"IF($B1069=\"\",\"\",VLOOKUP($B1069,_tbl!$A:$E,P$2,0))","v":"Rural"},{"$f":"IF($B1069=\"\",\"\",VLOOKUP($B1069,_tbl!$A:$E,Q$2,0))","v":"Infectious"},null,5.7794774942133497E-5,4.1819135858886702E-5]
[null,"all_m_West Rural infectious.csv","30-34",9.2908000035015501E-5,9.0096598082218E-5,8.7333902413361104E-5,8.4538794748973794E-5,8.1894462924251502E-5,7.9227521028441304E-5,7.6682134964110196E-5,7.4136018158909106E-5,7.1675110755217694E-5,6.9228910035275295E-5,{"$f":"IF($B1070=\"\",\"\",VLOOKUP($B1070,_tbl!$A:$E,N$2,0))","v":"Male"},{"$f":"IF($B1070=\"\",\"\",VLOOKUP($B1070,_tbl!$A:$E,O$2,0))","v":"West"},{"$f":"IF($B1070=\"\",\"\",VLOOKUP($B1070,_tbl!$A:$E,P$2,0))","v":"Rural"},{"$f":"IF($B1070=\"\",\"\",VLOOKUP($B1070,_tbl!$A:$E,Q$2,0))","v":"Infectious"},null,9.2908000035015501E-5,6.9228910035275295E-5]
[null,"all_m_West Rural infectious.csv","35-39",1.2430471510593499E-4,1.20070523318474E-4,1.16668978347583E-4,1.13718831616613E-4,1.1105019950743699E-4,1.0846450249383E-4,1.0586682486404499E-4,1.03221682703413E-4,1.00506816860703E-4,9.7769597445556601E-5,{"$f":"IF($B1071=\"\",\"\",VLOOKUP($B1071,_tbl!$A:$E,N$2,0))","v":"Male"},{"$f":"IF($B1071=\"\",\"\",VLOOKUP($B1071,_tbl!$A:$E,O$2,0))","v":"West"},{"$f":"IF($B1071=\"\",\"\",VLOOKUP($B1071,_tbl!$A:$E,P$2,0))","v":"Rural"},{"$f":"IF($B1071=\"\",\"\",VLOOKUP($B1071,_tbl!$A:$E,Q$2,0))","v":"Infectious"},null,1.2430471510593499E-4,9.7769597445556601E-5]
[null,"all_m_West Rural infectious.csv","40-44",1.5838757313634501E-4,1.5154755812715699E-4,1.4698676706654301E-4,1.4364973723180401E-4,1.4115496587726001E-4,1.3881544020285299E-4,1.3644777855404501E-4,1.33834904993142E-4,1.3099903252045499E-4,1.2797559912828199E-4,{"$f":"IF($B1072=\"\",\"\",VLOOKUP($B1072,_tbl!$A:$E,N$2,0))","v":"Male"},{"$f":"IF($B1072=\"\",\"\",VLOOKUP($B1072,_tbl!$A:$E,O$2,0))","v":"West"},{"$f":"IF($B1072=\"\",\"\",VLOOKUP($B1072,_tbl!$A:$E,P$2,0))","v":"Rural"},{"$f":"IF($B1072=\"\",\"\",VLOOKUP($B1072,_tbl!$A:$E,Q$2,0))","v":"Infectious"},null,1.5838757313634501E-4,1.2797559912828199E-4]
[null,"all_m_West Rural infectious.csv","45-49",1.9862610077453399E-4,1.88518149695137E-4,1.82199555284353E-4,1.7756916624165199E-4,1.7429096426401601E-4,1.7099008861877599E-4,1.6764857438008099E-4,1.63807637873011E-4,1.5972826543351199E-4,1.5537877859319601E-4,{"$f":"IF($B1073=\"\",\"\",VLOOKUP($B1073,_tbl!$A:$E,N$2,0))","v":"Male"},{"$f":"IF($B1073=\"\",\"\",VLOOKUP($B1073,_tbl!$A:$E,O$2,0))","v":"West"},{"$f":"IF($B1073=\"\",\"\",VLOOKUP($B1073,_tbl!$A:$E,P$2,0))","v":"Rural"},{"$f":"IF($B1073=\"\",\"\",VLOOKUP($B1073,_tbl!$A:$E,Q$2,0))","v":"Infectious"},null,1.9862610077453399E-4,1.5537877859319601E-4]
[null,"all_m_West Rural infectious.csv","50-54",2.5495396406736699E-4,2.4105113141602001E-4,2.32320278550738E-4,2.2520502449422999E-4,2.1989369522192601E-4,2.14305655741501E-4,2.08799072075766E-4,2.0265121232603399E-4,1.96393142929603E-4,1.8987657403938301E-4,{"$f":"IF($B1074=\"\",\"\",VLOOKUP($B1074,_tbl!$A:$E,N$2,0))","v":"Male"},{"$f":"IF($B1074=\"\",\"\",VLOOKUP($B1074,_tbl!$A:$E,O$2,0))","v":"West"},{"$f":"IF($B1074=\"\",\"\",VLOOKUP($B1074,_tbl!$A:$E,P$2,0))","v":"Rural"},{"$f":"IF($B1074=\"\",\"\",VLOOKUP($B1074,_tbl!$A:$E,Q$2,0))","v":"Infectious"},null,2.5495396406736699E-4,1.8987657403938301E-4]
[null,"all_m_West Rural infectious.csv","55-59",3.1531657228528698E-4,2.9500552831646202E-4,2.8148545188490498E-4,2.69668048355987E-4,2.6020666772310198E-4,2.50328182763213E-4,2.4075800747868701E-4,2.30557547950473E-4,2.2050789758856201E-4,2.10376082639894E-4,{"$f":"IF($B1075=\"\",\"\",VLOOKUP($B1075,_tbl!$A:$E,N$2,0))","v":"Male"},{"$f":"IF($B1075=\"\",\"\",VLOOKUP($B1075,_tbl!$A:$E,O$2,0))","v":"West"},{"$f":"IF($B1075=\"\",\"\",VLOOKUP($B1075,_tbl!$A:$E,P$2,0))","v":"Rural"},{"$f":"IF($B1075=\"\",\"\",VLOOKUP($B1075,_tbl!$A:$E,Q$2,0))","v":"Infectious"},null,3.1531657228528698E-4,2.10376082639894E-4]
[null,"all_m_West Rural infectious.csv","60-64",3.8292323905701498E-4,3.50508538430264E-4,3.2736419156034898E-4,3.06629200836148E-4,2.8943567536504199E-4,2.7195801196308399E-4,2.5525580962169902E-4,2.37929123088346E-4,2.2104226470476301E-4,2.04194098317542E-4,{"$f":"IF($B1076=\"\",\"\",VLOOKUP($B1076,_tbl!$A:$E,N$2,0))","v":"Male"},{"$f":"IF($B1076=\"\",\"\",VLOOKUP($B1076,_tbl!$A:$E,O$2,0))","v":"West"},{"$f":"IF($B1076=\"\",\"\",VLOOKUP($B1076,_tbl!$A:$E,P$2,0))","v":"Rural"},{"$f":"IF($B1076=\"\",\"\",VLOOKUP($B1076,_tbl!$A:$E,Q$2,0))","v":"Infectious"},null,3.8292323905701498E-4,2.04194098317542E-4]
[null,"all_m_West Rural infectious.csv","65-69",5.1788146994315902E-4,4.68273915907812E-4,4.3120350628311202E-4,3.9771416784115598E-4,3.6946179146147098E-4,3.41217368785089E-4,3.1440060818991401E-4,2.8691527310799997E-4,2.6014726411342201E-4,2.33450902318552E-4,{"$f":"IF($B1077=\"\",\"\",VLOOKUP($B1077,_tbl!$A:$E,N$2,0))","v":"Male"},{"$f":"IF($B1077=\"\",\"\",VLOOKUP($B1077,_tbl!$A:$E,O$2,0))","v":"West"},{"$f":"IF($B1077=\"\",\"\",VLOOKUP($B1077,_tbl!$A:$E,P$2,0))","v":"Rural"},{"$f":"IF($B1077=\"\",\"\",VLOOKUP($B1077,_tbl!$A:$E,Q$2,0))","v":"Infectious"},null,5.1788146994315902E-4,2.33450902318552E-4]
[null,"all_m_West Rural infectious.csv","70-74",8.3777535164179903E-4,7.6810427500343097E-4,7.1440931330810499E-4,6.6486632177266598E-4,6.2182453691778301E-4,5.7827411215220195E-4,5.3664752967538701E-4,4.9420171942775001E-4,4.5314377024975301E-4,4.1255464205692302E-4,{"$f":"IF($B1078=\"\",\"\",VLOOKUP($B1078,_tbl!$A:$E,N$2,0))","v":"Male"},{"$f":"IF($B1078=\"\",\"\",VLOOKUP($B1078,_tbl!$A:$E,O$2,0))","v":"West"},{"$f":"IF($B1078=\"\",\"\",VLOOKUP($B1078,_tbl!$A:$E,P$2,0))","v":"Rural"},{"$f":"IF($B1078=\"\",\"\",VLOOKUP($B1078,_tbl!$A:$E,Q$2,0))","v":"Infectious"},null,8.3777535164179903E-4,4.1255464205692302E-4]
[null,"all_m_West Rural infectious.csv","75-79",1.5558197927057699E-3,1.471754206556E-3,1.40029227854194E-3,1.3265223696084199E-3,1.25483013733854E-3,1.1785610395033E-3,1.1038963373462801E-3,1.0289348067039699E-3,9.5802692413068902E-4,8.9004029556865E-4,{"$f":"IF($B1079=\"\",\"\",VLOOKUP($B1079,_tbl!$A:$E,N$2,0))","v":"Male"},{"$f":"IF($B1079=\"\",\"\",VLOOKUP($B1079,_tbl!$A:$E,O$2,0))","v":"West"},{"$f":"IF($B1079=\"\",\"\",VLOOKUP($B1079,_tbl!$A:$E,P$2,0))","v":"Rural"},{"$f":"IF($B1079=\"\",\"\",VLOOKUP($B1079,_tbl!$A:$E,Q$2,0))","v":"Infectious"},null,1.5558197927057699E-3,8.9004029556865E-4]
[null,"all_m_West Rural infectious.csv","80-84",3.3621373804943802E-3,3.3922893503601898E-3,3.3679692274764601E-3,3.3067244379804098E-3,3.2032040121377902E-3,3.07640683329352E-3,2.9429912458320399E-3,2.81428405532979E-3,2.7013068065101001E-3,2.60575190117943E-3,{"$f":"IF($B1080=\"\",\"\",VLOOKUP($B1080,_tbl!$A:$E,N$2,0))","v":"Male"},{"$f":"IF($B1080=\"\",\"\",VLOOKUP($B1080,_tbl!$A:$E,O$2,0))","v":"West"},{"$f":"IF($B1080=\"\",\"\",VLOOKUP($B1080,_tbl!$A:$E,P$2,0))","v":"Rural"},{"$f":"IF($B1080=\"\",\"\",VLOOKUP($B1080,_tbl!$A:$E,Q$2,0))","v":"Infectious"},null,3.3922893503601898E-3,2.60575190117943E-3]
[null,"all_m_West Rural infectious.csv","85+",6.9728087983730903E-3,7.3321227330350796E-3,7.4385804777040701E-3,7.3732380036597997E-3,7.2018411010188101E-3,7.0071301052350102E-3,6.8323503756544399E-3,6.6948166388236504E-3,6.5944333597095801E-3,6.5199585618907398E-3,{"$f":"IF($B1081=\"\",\"\",VLOOKUP($B1081,_tbl!$A:$E,N$2,0))","v":"Male"},{"$f":"IF($B1081=\"\",\"\",VLOOKUP($B1081,_tbl!$A:$E,O$2,0))","v":"West"},{"$f":"IF($B1081=\"\",\"\",VLOOKUP($B1081,_tbl!$A:$E,P$2,0))","v":"Rural"},{"$f":"IF($B1081=\"\",\"\",VLOOKUP($B1081,_tbl!$A:$E,Q$2,0))","v":"Infectious"},null,7.4385804777040701E-3,6.5199585618907398E-3]
[null,null,null,null,null,null,null,null,null,null,null,null,null,{"$f":"IF($B1082=\"\",\"\",VLOOKUP($B1082,_tbl!$A:$E,N$2,0))","v":""},{"$f":"IF($B1082=\"\",\"\",VLOOKUP($B1082,_tbl!$A:$E,O$2,0))","v":""},{"$f":"IF($B1082=\"\",\"\",VLOOKUP($B1082,_tbl!$A:$E,P$2,0))","v":""},{"$f":"IF($B1082=\"\",\"\",VLOOKUP($B1082,_tbl!$A:$E,Q$2,0))","v":""}]
[null,null,null,2020,2021,2022,2023,2024,2025,2026,2027,2028,2029,{"$f":"IF($B1083=\"\",\"\",VLOOKUP($B1083,_tbl!$A:$E,N$2,0))","v":""},{"$f":"IF($B1083=\"\",\"\",VLOOKUP($B1083,_tbl!$A:$E,O$2,0))","v":""},{"$f":"IF($B1083=\"\",\"\",VLOOKUP($B1083,_tbl!$A:$E,P$2,0))","v":""},{"$f":"IF($B1083=\"\",\"\",VLOOKUP($B1083,_tbl!$A:$E,Q$2,0))","v":""}]
[null,"all_m_West Rural mental.csv","1-4",3.3100253864965397E-5,3.3202361862516499E-5,3.3347364066732502E-5,3.3443789769576497E-5,3.3555470788031701E-5,3.3646770044939701E-5,3.3730511844201799E-5,3.3809258984656597E-5,3.38877691726941E-5,3.3962170393174401E-5,{"$f":"IF($B1084=\"\",\"\",VLOOKUP($B1084,_tbl!$A:$E,N$2,0))","v":"Male"},{"$f":"IF($B1084=\"\",\"\",VLOOKUP($B1084,_tbl!$A:$E,O$2,0))","v":"West"},{"$f":"IF($B1084=\"\",\"\",VLOOKUP($B1084,_tbl!$A:$E,P$2,0))","v":"Rural"},{"$f":"IF($B1084=\"\",\"\",VLOOKUP($B1084,_tbl!$A:$E,Q$2,0))","v":"Mental"},null,{"$f":"MAX(D1084:M1084)","v":3.3962170393174401E-5},{"$f":"MIN(D1084:M1084)","v":3.3100253864965397E-5}]
[null,"all_m_West Rural mental.csv","5-9",2.6928299946678701E-5,2.69875104905943E-5,2.7079448722637799E-5,2.7132390823493099E-5,2.71920690958902E-5,2.72377654023885E-5,2.7273408736133899E-5,2.7306718829222999E-5,2.7342475859672101E-5,2.73769014593611E-5,{"$f":"IF($B1085=\"\",\"\",VLOOKUP($B1085,_tbl!$A:$E,N$2,0))","v":"Male"},{"$f":"IF($B1085=\"\",\"\",VLOOKUP($B1085,_tbl!$A:$E,O$2,0))","v":"West"},{"$f":"IF($B1085=\"\",\"\",VLOOKUP($B1085,_tbl!$A:$E,P$2,0))","v":"Rural"},{"$f":"IF($B1085=\"\",\"\",VLOOKUP($B1085,_tbl!$A:$E,Q$2,0))","v":"Mental"},null,2.73769014593611E-5,2.6928299946678701E-5]
[null,"all_m_West Rural mental.csv","10-14",2.8806449976475499E-5,2.8815871755693201E-5,2.8908771121195799E-5,2.8970480934877299E-5,2.9014731667929399E-5,2.9032800225188901E-5,2.9035236633975299E-5,2.9030270526062301E-5,2.90278545689443E-5,2.90290136080882E-5,{"$f":"IF($B1086=\"\",\"\",VLOOKUP($B1086,_tbl!$A:$E,N$2,0))","v":"Male"},{"$f":"IF($B1086=\"\",\"\",VLOOKUP($B1086,_tbl!$A:$E,O$2,0))","v":"West"},{"$f":"IF($B1086=\"\",\"\",VLOOKUP($B1086,_tbl!$A:$E,P$2,0))","v":"Rural"},{"$f":"IF($B1086=\"\",\"\",VLOOKUP($B1086,_tbl!$A:$E,Q$2,0))","v":"Mental"},null,2.9035236633975299E-5,2.8806449976475499E-5]
[null,"all_m_West Rural mental.csv","15-19",3.1301675347138697E-5,3.1240407276087298E-5,3.1206478154556598E-5,3.11734050605362E-5,3.1115362156023502E-5,3.1047410882697802E-5,3.0963041195929197E-5,3.0878439320072899E-5,3.0795977386171501E-5,3.0719189948251201E-5,{"$f":"IF($B1087=\"\",\"\",VLOOKUP($B1087,_tbl!$A:$E,N$2,0))","v":"Male"},{"$f":"IF($B1087=\"\",\"\",VLOOKUP($B1087,_tbl!$A:$E,O$2,0))","v":"West"},{"$f":"IF($B1087=\"\",\"\",VLOOKUP($B1087,_tbl!$A:$E,P$2,0))","v":"Rural"},{"$f":"IF($B1087=\"\",\"\",VLOOKUP($B1087,_tbl!$A:$E,Q$2,0))","v":"Mental"},null,3.1301675347138697E-5,3.0719189948251201E-5]
[null,"all_m_West Rural mental.csv","20-24",3.5557389447577701E-5,3.5596707904409201E-5,3.5592108744918202E-5,3.5613393933824898E-5,3.55965733267226E-5,3.55699522007944E-5,3.5522975912189402E-5,3.5476477843955103E-5,3.5432298118493998E-5,3.5399132495546101E-5,{"$f":"IF($B1088=\"\",\"\",VLOOKUP($B1088,_tbl!$A:$E,N$2,0))","v":"Male"},{"$f":"IF($B1088=\"\",\"\",VLOOKUP($B1088,_tbl!$A:$E,O$2,0))","v":"West"},{"$f":"IF($B1088=\"\",\"\",VLOOKUP($B1088,_tbl!$A:$E,P$2,0))","v":"Rural"},{"$f":"IF($B1088=\"\",\"\",VLOOKUP($B1088,_tbl!$A:$E,Q$2,0))","v":"Mental"},null,3.5613393933824898E-5,3.5399132495546101E-5]
[null,"all_m_West Rural mental.csv","25-29",4.1715060783446699E-5,4.17178777816076E-5,4.1612786417479599E-5,4.15587894372279E-5,4.14626184147742E-5,4.1374019182873003E-5,4.1269505053310298E-5,4.1170645227015399E-5,4.1070839472006101E-5,4.09789081346975E-5,{"$f":"IF($B1089=\"\",\"\",VLOOKUP($B1089,_tbl!$A:$E,N$2,0))","v":"Male"},{"$f":"IF($B1089=\"\",\"\",VLOOKUP($B1089,_tbl!$A:$E,O$2,0))","v":"West"},{"$f":"IF($B1089=\"\",\"\",VLOOKUP($B1089,_tbl!$A:$E,P$2,0))","v":"Rural"},{"$f":"IF($B1089=\"\",\"\",VLOOKUP($B1089,_tbl!$A:$E,Q$2,0))","v":"Mental"},null,4.17178777816076E-5,4.09789081346975E-5]
[null,"all_m_West Rural mental.csv","30-34",4.9996404601531803E-5,4.9845202907183502E-5,4.9499414135427498E-5,4.9263236051390198E-5,4.8945960054603002E-5,4.8653233595796999E-5,4.83332317620648E-5,4.8026212845690201E-5,4.7716649398384502E-5,4.7416370665725803E-5,{"$f":"IF($B1090=\"\",\"\",VLOOKUP($B1090,_tbl!$A:$E,N$2,0))","v":"Male"},{"$f":"IF($B1090=\"\",\"\",VLOOKUP($B1090,_tbl!$A:$E,O$2,0))","v":"West"},{"$f":"IF($B1090=\"\",\"\",VLOOKUP($B1090,_tbl!$A:$E,P$2,0))","v":"Rural"},{"$f":"IF($B1090=\"\",\"\",VLOOKUP($B1090,_tbl!$A:$E,Q$2,0))","v":"Mental"},null,4.9996404601531803E-5,4.7416370665725803E-5]
[null,"all_m_West Rural mental.csv","35-39",5.3203463205443801E-5,5.3143060190268001E-5,5.2898750645281597E-5,5.2786651549280402E-5,5.2570565246639499E-5,5.2396402475107303E-5,5.2178956831163598E-5,5.1984979604721202E-5,5.1777406598653701E-5,5.1585746473678201E-5,{"$f":"IF($B1091=\"\",\"\",VLOOKUP($B1091,_tbl!$A:$E,N$2,0))","v":"Male"},{"$f":"IF($B1091=\"\",\"\",VLOOKUP($B1091,_tbl!$A:$E,O$2,0))","v":"West"},{"$f":"IF($B1091=\"\",\"\",VLOOKUP($B1091,_tbl!$A:$E,P$2,0))","v":"Rural"},{"$f":"IF($B1091=\"\",\"\",VLOOKUP($B1091,_tbl!$A:$E,Q$2,0))","v":"Mental"},null,5.3203463205443801E-5,5.1585746473678201E-5]
[null,"all_m_West Rural mental.csv","40-44",5.9975538949241898E-5,6.0220261065168801E-5,5.9982572020896602E-5,6.0042227260774597E-5,5.98599455573249E-5,5.9803109066194901E-5,5.9613227431106899E-5,5.94935826220917E-5,5.93095380050925E-5,5.9179594951520399E-5,{"$f":"IF($B1092=\"\",\"\",VLOOKUP($B1092,_tbl!$A:$E,N$2,0))","v":"Male"},{"$f":"IF($B1092=\"\",\"\",VLOOKUP($B1092,_tbl!$A:$E,O$2,0))","v":"West"},{"$f":"IF($B1092=\"\",\"\",VLOOKUP($B1092,_tbl!$A:$E,P$2,0))","v":"Rural"},{"$f":"IF($B1092=\"\",\"\",VLOOKUP($B1092,_tbl!$A:$E,Q$2,0))","v":"Mental"},null,6.0220261065168801E-5,5.9179594951520399E-5]
[null,"all_m_West Rural mental.csv","45-49",6.5761474138494196E-5,6.5925045369308899E-5,6.5811672068054797E-5,6.5751883178933796E-5,6.5662094346750406E-5,6.5592910397337695E-5,6.5524473955050097E-5,6.5440734584881906E-5,6.5343828817322595E-5,6.5215120392244695E-5,{"$f":"IF($B1093=\"\",\"\",VLOOKUP($B1093,_tbl!$A:$E,N$2,0))","v":"Male"},{"$f":"IF($B1093=\"\",\"\",VLOOKUP($B1093,_tbl!$A:$E,O$2,0))","v":"West"},{"$f":"IF($B1093=\"\",\"\",VLOOKUP($B1093,_tbl!$A:$E,P$2,0))","v":"Rural"},{"$f":"IF($B1093=\"\",\"\",VLOOKUP($B1093,_tbl!$A:$E,Q$2,0))","v":"Mental"},null,6.5925045369308899E-5,6.5215120392244695E-5]
[null,"all_m_West Rural mental.csv","50-54",7.5301687318515405E-5,7.5346157965592694E-5,7.5068131432948706E-5,7.4916265961505097E-5,7.4709402913558995E-5,7.4557207980459702E-5,7.4397452615029399E-5,7.4242234280398804E-5,7.40703810502136E-5,7.3878531521750604E-5,{"$f":"IF($B1094=\"\",\"\",VLOOKUP($B1094,_tbl!$A:$E,N$2,0))","v":"Male"},{"$f":"IF($B1094=\"\",\"\",VLOOKUP($B1094,_tbl!$A:$E,O$2,0))","v":"West"},{"$f":"IF($B1094=\"\",\"\",VLOOKUP($B1094,_tbl!$A:$E,P$2,0))","v":"Rural"},{"$f":"IF($B1094=\"\",\"\",VLOOKUP($B1094,_tbl!$A:$E,Q$2,0))","v":"Mental"},null,7.5346157965592694E-5,7.3878531521750604E-5]
[null,"all_m_West Rural mental.csv","55-59",8.7885502968736297E-5,8.7901269954382901E-5,8.7635671269636404E-5,8.7459989538921402E-5,8.71982467543925E-5,8.695685395269E-5,8.6685162141455699E-5,8.6416564785048598E-5,8.61416207784924E-5,8.5870947633441406E-5,{"$f":"IF($B1095=\"\",\"\",VLOOKUP($B1095,_tbl!$A:$E,N$2,0))","v":"Male"},{"$f":"IF($B1095=\"\",\"\",VLOOKUP($B1095,_tbl!$A:$E,O$2,0))","v":"West"},{"$f":"IF($B1095=\"\",\"\",VLOOKUP($B1095,_tbl!$A:$E,P$2,0))","v":"Rural"},{"$f":"IF($B1095=\"\",\"\",VLOOKUP($B1095,_tbl!$A:$E,Q$2,0))","v":"Mental"},null,8.7901269954382901E-5,8.5870947633441406E-5]
[null,"all_m_West Rural mental.csv","60-64",1.11687436995511E-4,1.1153677234216501E-4,1.11026227010341E-4,1.10685234152414E-4,1.1028767015165E-4,1.0996572747638499E-4,1.0962866690311901E-4,1.09301661921435E-4,1.08957952059529E-4,1.08606687266513E-4,{"$f":"IF($B1096=\"\",\"\",VLOOKUP($B1096,_tbl!$A:$E,N$2,0))","v":"Male"},{"$f":"IF($B1096=\"\",\"\",VLOOKUP($B1096,_tbl!$A:$E,O$2,0))","v":"West"},{"$f":"IF($B1096=\"\",\"\",VLOOKUP($B1096,_tbl!$A:$E,P$2,0))","v":"Rural"},{"$f":"IF($B1096=\"\",\"\",VLOOKUP($B1096,_tbl!$A:$E,Q$2,0))","v":"Mental"},null,1.11687436995511E-4,1.08606687266513E-4]
[null,"all_m_West Rural mental.csv","65-69",1.69062295609743E-4,1.69060522734826E-4,1.68615698305703E-4,1.6835154341977599E-4,1.68136762474396E-4,1.6807798893451E-4,1.6807239579274099E-4,1.68078856294478E-4,1.6804584518726601E-4,1.67949573767711E-4,{"$f":"IF($B1097=\"\",\"\",VLOOKUP($B1097,_tbl!$A:$E,N$2,0))","v":"Male"},{"$f":"IF($B1097=\"\",\"\",VLOOKUP($B1097,_tbl!$A:$E,O$2,0))","v":"West"},{"$f":"IF($B1097=\"\",\"\",VLOOKUP($B1097,_tbl!$A:$E,P$2,0))","v":"Rural"},{"$f":"IF($B1097=\"\",\"\",VLOOKUP($B1097,_tbl!$A:$E,Q$2,0))","v":"Mental"},null,1.69062295609743E-4,1.67949573767711E-4]
[null,"all_m_West Rural mental.csv","70-74",3.1225579910292901E-4,3.1339438926122502E-4,3.1430681341792599E-4,3.1534103608832299E-4,3.1641496366344602E-4,3.1755723434365803E-4,3.1872074657686E-4,3.1986697905216099E-4,3.2098734806772602E-4,3.2205811092668202E-4,{"$f":"IF($B1098=\"\",\"\",VLOOKUP($B1098,_tbl!$A:$E,N$2,0))","v":"Male"},{"$f":"IF($B1098=\"\",\"\",VLOOKUP($B1098,_tbl!$A:$E,O$2,0))","v":"West"},{"$f":"IF($B1098=\"\",\"\",VLOOKUP($B1098,_tbl!$A:$E,P$2,0))","v":"Rural"},{"$f":"IF($B1098=\"\",\"\",VLOOKUP($B1098,_tbl!$A:$E,Q$2,0))","v":"Mental"},null,3.2205811092668202E-4,3.1225579910292901E-4]
[null,"all_m_West Rural mental.csv","75-79",6.7961939461148901E-4,6.8274188007147398E-4,6.8590897921652996E-4,6.8905920187844701E-4,6.9214072569616901E-4,6.9525287287525302E-4,6.9830970845085401E-4,7.0136199871271405E-4,7.0432815733416495E-4,7.0723983658152305E-4,{"$f":"IF($B1099=\"\",\"\",VLOOKUP($B1099,_tbl!$A:$E,N$2,0))","v":"Male"},{"$f":"IF($B1099=\"\",\"\",VLOOKUP($B1099,_tbl!$A:$E,O$2,0))","v":"West"},{"$f":"IF($B1099=\"\",\"\",VLOOKUP($B1099,_tbl!$A:$E,P$2,0))","v":"Rural"},{"$f":"IF($B1099=\"\",\"\",VLOOKUP($B1099,_tbl!$A:$E,Q$2,0))","v":"Mental"},null,7.0723983658152305E-4,6.7961939461148901E-4]
[null,"all_m_West Rural mental.csv","80-84",1.64908063138888E-3,1.6421775413166301E-3,1.6233989820759499E-3,1.61239829833245E-3,1.6064587520810401E-3,1.6113573131526799E-3,1.62302475725261E-3,1.6381663631929999E-3,1.6503775091185201E-3,1.65580964073949E-3,{"$f":"IF($B1100=\"\",\"\",VLOOKUP($B1100,_tbl!$A:$E,N$2,0))","v":"Male"},{"$f":"IF($B1100=\"\",\"\",VLOOKUP($B1100,_tbl!$A:$E,O$2,0))","v":"West"},{"$f":"IF($B1100=\"\",\"\",VLOOKUP($B1100,_tbl!$A:$E,P$2,0))","v":"Rural"},{"$f":"IF($B1100=\"\",\"\",VLOOKUP($B1100,_tbl!$A:$E,Q$2,0))","v":"Mental"},null,1.65580964073949E-3,1.6064587520810401E-3]
[null,"all_m_West Rural mental.csv","85+",4.1572110649207E-3,4.1459232659739904E-3,4.1245863159191801E-3,4.1097118507796701E-3,4.0957539380586296E-3,4.09376797014989E-3,4.1019801391880403E-3,4.1181792992496004E-3,4.1319954834038598E-3,4.1354399144183504E-3,{"$f":"IF($B1101=\"\",\"\",VLOOKUP($B1101,_tbl!$A:$E,N$2,0))","v":"Male"},{"$f":"IF($B1101=\"\",\"\",VLOOKUP($B1101,_tbl!$A:$E,O$2,0))","v":"West"},{"$f":"IF($B1101=\"\",\"\",VLOOKUP($B1101,_tbl!$A:$E,P$2,0))","v":"Rural"},{"$f":"IF($B1101=\"\",\"\",VLOOKUP($B1101,_tbl!$A:$E,Q$2,0))","v":"Mental"},null,4.1572110649207E-3,4.09376797014989E-3]
[null,null,null,null,null,null,null,null,null,null,null,null,null,{"$f":"IF($B1102=\"\",\"\",VLOOKUP($B1102,_tbl!$A:$E,N$2,0))","v":""},{"$f":"IF($B1102=\"\",\"\",VLOOKUP($B1102,_tbl!$A:$E,O$2,0))","v":""},{"$f":"IF($B1102=\"\",\"\",VLOOKUP($B1102,_tbl!$A:$E,P$2,0))","v":""},{"$f":"IF($B1102=\"\",\"\",VLOOKUP($B1102,_tbl!$A:$E,Q$2,0))","v":""}]
[null,null,null,2020,2021,2022,2023,2024,2025,2026,2027,2028,2029,{"$f":"IF($B1103=\"\",\"\",VLOOKUP($B1103,_tbl!$A:$E,N$2,0))","v":""},{"$f":"IF($B1103=\"\",\"\",VLOOKUP($B1103,_tbl!$A:$E,O$2,0))","v":""},{"$f":"IF($B1103=\"\",\"\",VLOOKUP($B1103,_tbl!$A:$E,P$2,0))","v":""},{"$f":"IF($B1103=\"\",\"\",VLOOKUP($B1103,_tbl!$A:$E,Q$2,0))","v":""}]
[null,"all_m_West Rural other.csv","1-4",9.2856320871617396E-5,9.1797336501283803E-5,8.9615983570105802E-5,8.7719206650960305E-5,8.5700094109776595E-5,8.3962838205251607E-5,8.2043099260868202E-5,8.0274522198536593E-5,7.84760912959562E-5,7.6673083959516303E-5,{"$f":"IF($B1104=\"\",\"\",VLOOKUP($B1104,_tbl!$A:$E,N$2,0))","v":"Male"},{"$f":"IF($B1104=\"\",\"\",VLOOKUP($B1104,_tbl!$A:$E,O$2,0))","v":"West"},{"$f":"IF($B1104=\"\",\"\",VLOOKUP($B1104,_tbl!$A:$E,P$2,0))","v":"Rural"},{"$f":"IF($B1104=\"\",\"\",VLOOKUP($B1104,_tbl!$A:$E,Q$2,0))","v":"Other"},null,{"$f":"MAX(D1104:M1104)","v":9.2856320871617396E-5},{"$f":"MIN(D1104:M1104)","v":7.6673083959516303E-5}]
[null,"all_m_West Rural other.csv","5-9",3.5336328878396997E-5,3.52032692764869E-5,3.5033638807264601E-5,3.4872983399676403E-5,3.4677633233838697E-5,3.44851254810091E-5,3.4260332820552003E-5,3.4039931388853802E-5,3.3811982683151898E-5,3.3581743683637102E-5,{"$f":"IF($B1105=\"\",\"\",VLOOKUP($B1105,_tbl!$A:$E,N$2,0))","v":"Male"},{"$f":"IF($B1105=\"\",\"\",VLOOKUP($B1105,_tbl!$A:$E,O$2,0))","v":"West"},{"$f":"IF($B1105=\"\",\"\",VLOOKUP($B1105,_tbl!$A:$E,P$2,0))","v":"Rural"},{"$f":"IF($B1105=\"\",\"\",VLOOKUP($B1105,_tbl!$A:$E,Q$2,0))","v":"Other"},null,3.5336328878396997E-5,3.3581743683637102E-5]
[null,"all_m_West Rural other.csv","10-14",2.8526149676678601E-5,2.8146376947631001E-5,2.7921921546599999E-5,2.7756177916934999E-5,2.7521984433741301E-5,2.7303570544161801E-5,2.7051487969130901E-5,2.6805731702389699E-5,2.6551273849366202E-5,2.62959564892753E-5,{"$f":"IF($B1106=\"\",\"\",VLOOKUP($B1106,_tbl!$A:$E,N$2,0))","v":"Male"},{"$f":"IF($B1106=\"\",\"\",VLOOKUP($B1106,_tbl!$A:$E,O$2,0))","v":"West"},{"$f":"IF($B1106=\"\",\"\",VLOOKUP($B1106,_tbl!$A:$E,P$2,0))","v":"Rural"},{"$f":"IF($B1106=\"\",\"\",VLOOKUP($B1106,_tbl!$A:$E,Q$2,0))","v":"Other"},null,2.8526149676678601E-5,2.62959564892753E-5]
[null,"all_m_West Rural other.csv","15-19",3.04325096109686E-5,3.01794119873817E-5,2.9884970171832099E-5,2.9676994284153802E-5,2.9406627605139499E-5,2.91674341722583E-5,2.8907636200158401E-5,2.86564537658036E-5,2.83927223000576E-5,2.8122852110695599E-5,{"$f":"IF($B1107=\"\",\"\",VLOOKUP($B1107,_tbl!$A:$E,N$2,0))","v":"Male"},{"$f":"IF($B1107=\"\",\"\",VLOOKUP($B1107,_tbl!$A:$E,O$2,0))","v":"West"},{"$f":"IF($B1107=\"\",\"\",VLOOKUP($B1107,_tbl!$A:$E,P$2,0))","v":"Rural"},{"$f":"IF($B1107=\"\",\"\",VLOOKUP($B1107,_tbl!$A:$E,Q$2,0))","v":"Other"},null,3.04325096109686E-5,2.8122852110695599E-5]
[null,"all_m_West Rural other.csv","20-24",4.1671419854079002E-5,4.1699999530841797E-5,4.1560176655203901E-5,4.14836421703871E-5,4.13816642534613E-5,4.1319954574423401E-5,4.1258395437222298E-5,4.1205922949624702E-5,4.1140296274312798E-5,4.1063958222928897E-5,{"$f":"IF($B1108=\"\",\"\",VLOOKUP($B1108,_tbl!$A:$E,N$2,0))","v":"Male"},{"$f":"IF($B1108=\"\",\"\",VLOOKUP($B1108,_tbl!$A:$E,O$2,0))","v":"West"},{"$f":"IF($B1108=\"\",\"\",VLOOKUP($B1108,_tbl!$A:$E,P$2,0))","v":"Rural"},{"$f":"IF($B1108=\"\",\"\",VLOOKUP($B1108,_tbl!$A:$E,Q$2,0))","v":"Other"},null,4.1699999530841797E-5,4.1063958222928897E-5]
[null,"all_m_West Rural other.csv","25-29",5.7480692606774699E-5,5.7452595536096699E-5,5.7262582168385698E-5,5.70775134383365E-5,5.6901324288350597E-5,5.6765922462846102E-5,5.6650479401214203E-5,5.6538187058475399E-5,5.6409722007827401E-5,5.6255480600778503E-5,{"$f":"IF($B1109=\"\",\"\",VLOOKUP($B1109,_tbl!$A:$E,N$2,0))","v":"Male"},{"$f":"IF($B1109=\"\",\"\",VLOOKUP($B1109,_tbl!$A:$E,O$2,0))","v":"West"},{"$f":"IF($B1109=\"\",\"\",VLOOKUP($B1109,_tbl!$A:$E,P$2,0))","v":"Rural"},{"$f":"IF($B1109=\"\",\"\",VLOOKUP($B1109,_tbl!$A:$E,Q$2,0))","v":"Other"},null,5.7480692606774699E-5,5.6255480600778503E-5]
[null,"all_m_West Rural other.csv","30-34",7.9141140767093098E-5,7.9106730789807003E-5,7.8765556952179399E-5,7.8548223818560196E-5,7.81477447047436E-5,7.7724414500333E-5,7.7219466594484194E-5,7.6712825497692806E-5,7.6196674222569905E-5,7.5695556938205501E-5,{"$f":"IF($B1110=\"\",\"\",VLOOKUP($B1110,_tbl!$A:$E,N$2,0))","v":"Male"},{"$f":"IF($B1110=\"\",\"\",VLOOKUP($B1110,_tbl!$A:$E,O$2,0))","v":"West"},{"$f":"IF($B1110=\"\",\"\",VLOOKUP($B1110,_tbl!$A:$E,P$2,0))","v":"Rural"},{"$f":"IF($B1110=\"\",\"\",VLOOKUP($B1110,_tbl!$A:$E,Q$2,0))","v":"Other"},null,7.9141140767093098E-5,7.5695556938205501E-5]
[null,"all_m_West Rural other.csv","35-39",9.2612580776502994E-5,9.1957164248395701E-5,9.0908099571536499E-5,9.0130860918253197E-5,8.9210037861659996E-5,8.8388618835163094E-5,8.7533544707611702E-5,8.6712678742279997E-5,8.5883430950357706E-5,8.5062118500096501E-5,{"$f":"IF($B1111=\"\",\"\",VLOOKUP($B1111,_tbl!$A:$E,N$2,0))","v":"Male"},{"$f":"IF($B1111=\"\",\"\",VLOOKUP($B1111,_tbl!$A:$E,O$2,0))","v":"West"},{"$f":"IF($B1111=\"\",\"\",VLOOKUP($B1111,_tbl!$A:$E,P$2,0))","v":"Rural"},{"$f":"IF($B1111=\"\",\"\",VLOOKUP($B1111,_tbl!$A:$E,Q$2,0))","v":"Other"},null,9.2612580776502994E-5,8.5062118500096501E-5]
[null,"all_m_West Rural other.csv","40-44",1.14320919990433E-4,1.13317673687104E-4,1.1181522235714399E-4,1.10628974718737E-4,1.0941956520750601E-4,1.08334239057344E-4,1.0729744018726201E-4,1.06273816699944E-4,1.05271538576772E-4,1.0424142128919399E-4,{"$f":"IF($B1112=\"\",\"\",VLOOKUP($B1112,_tbl!$A:$E,N$2,0))","v":"Male"},{"$f":"IF($B1112=\"\",\"\",VLOOKUP($B1112,_tbl!$A:$E,O$2,0))","v":"West"},{"$f":"IF($B1112=\"\",\"\",VLOOKUP($B1112,_tbl!$A:$E,P$2,0))","v":"Rural"},{"$f":"IF($B1112=\"\",\"\",VLOOKUP($B1112,_tbl!$A:$E,Q$2,0))","v":"Other"},null,1.14320919990433E-4,1.0424142128919399E-4]
[null,"all_m_West Rural other.csv","45-49",1.48932328999393E-4,1.4790541857045899E-4,1.4654087354105499E-4,1.4548773338477299E-4,1.4453610680896099E-4,1.43788790436718E-4,1.4314981500990599E-4,1.4255925023831301E-4,1.41967851693316E-4,1.4132524128692101E-4,{"$f":"IF($B1113=\"\",\"\",VLOOKUP($B1113,_tbl!$A:$E,N$2,0))","v":"Male"},{"$f":"IF($B1113=\"\",\"\",VLOOKUP($B1113,_tbl!$A:$E,O$2,0))","v":"West"},{"$f":"IF($B1113=\"\",\"\",VLOOKUP($B1113,_tbl!$A:$E,P$2,0))","v":"Rural"},{"$f":"IF($B1113=\"\",\"\",VLOOKUP($B1113,_tbl!$A:$E,Q$2,0))","v":"Other"},null,1.48932328999393E-4,1.4132524128692101E-4]
[null,"all_m_West Rural other.csv","50-54",2.00869121279206E-4,2.0018985429429099E-4,1.9904908958486901E-4,1.9825399952822E-4,1.9745417091726801E-4,1.9685911894471499E-4,1.96312554576495E-4,1.9583864659284301E-4,1.9535191785251599E-4,1.9485024439126601E-4,{"$f":"IF($B1114=\"\",\"\",VLOOKUP($B1114,_tbl!$A:$E,N$2,0))","v":"Male"},{"$f":"IF($B1114=\"\",\"\",VLOOKUP($B1114,_tbl!$A:$E,O$2,0))","v":"West"},{"$f":"IF($B1114=\"\",\"\",VLOOKUP($B1114,_tbl!$A:$E,P$2,0))","v":"Rural"},{"$f":"IF($B1114=\"\",\"\",VLOOKUP($B1114,_tbl!$A:$E,Q$2,0))","v":"Other"},null,2.00869121279206E-4,1.9485024439126601E-4]
[null,"all_m_West Rural other.csv","55-59",2.5942009025013501E-4,2.5781641440706402E-4,2.55862476236965E-4,2.54468160050002E-4,2.5301567257938502E-4,2.5179344423972101E-4,2.5058174804705701E-4,2.4948834341642601E-4,2.4842448388380398E-4,2.4743119205518501E-4,{"$f":"IF($B1115=\"\",\"\",VLOOKUP($B1115,_tbl!$A:$E,N$2,0))","v":"Male"},{"$f":"IF($B1115=\"\",\"\",VLOOKUP($B1115,_tbl!$A:$E,O$2,0))","v":"West"},{"$f":"IF($B1115=\"\",\"\",VLOOKUP($B1115,_tbl!$A:$E,P$2,0))","v":"Rural"},{"$f":"IF($B1115=\"\",\"\",VLOOKUP($B1115,_tbl!$A:$E,Q$2,0))","v":"Other"},null,2.5942009025013501E-4,2.4743119205518501E-4]
[null,"all_m_West Rural other.csv","60-64",3.3367488822599103E-4,3.29151433123425E-4,3.2448747743206999E-4,3.2079174626280899E-4,3.1718959790208001E-4,3.1401791445068898E-4,3.1095876387746E-4,3.0809820238006299E-4,3.0531838092410802E-4,3.0264033277465399E-4,{"$f":"IF($B1116=\"\",\"\",VLOOKUP($B1116,_tbl!$A:$E,N$2,0))","v":"Male"},{"$f":"IF($B1116=\"\",\"\",VLOOKUP($B1116,_tbl!$A:$E,O$2,0))","v":"West"},{"$f":"IF($B1116=\"\",\"\",VLOOKUP($B1116,_tbl!$A:$E,P$2,0))","v":"Rural"},{"$f":"IF($B1116=\"\",\"\",VLOOKUP($B1116,_tbl!$A:$E,Q$2,0))","v":"Other"},null,3.3367488822599103E-4,3.0264033277465399E-4]
[null,"all_m_West Rural other.csv","65-69",4.72932212262915E-4,4.6462779681923999E-4,4.5613362520549399E-4,4.4916679170125E-4,4.4270420396901701E-4,4.3705947329201799E-4,4.3180312990009001E-4,4.2684747726073798E-4,4.2204337639177098E-4,4.1730738243264399E-4,{"$f":"IF($B1117=\"\",\"\",VLOOKUP($B1117,_tbl!$A:$E,N$2,0))","v":"Male"},{"$f":"IF($B1117=\"\",\"\",VLOOKUP($B1117,_tbl!$A:$E,O$2,0))","v":"West"},{"$f":"IF($B1117=\"\",\"\",VLOOKUP($B1117,_tbl!$A:$E,P$2,0))","v":"Rural"},{"$f":"IF($B1117=\"\",\"\",VLOOKUP($B1117,_tbl!$A:$E,Q$2,0))","v":"Other"},null,4.72932212262915E-4,4.1730738243264399E-4]
[null,"all_m_West Rural other.csv","70-74",7.8198375679326899E-4,7.6890207144419802E-4,7.5559030578537596E-4,7.4448124660397798E-4,7.3400754750848696E-4,7.2450785204293804E-4,7.1557013383926097E-4,7.0704269567418597E-4,6.9891984898564903E-4,6.9102104020965396E-4,{"$f":"IF($B1118=\"\",\"\",VLOOKUP($B1118,_tbl!$A:$E,N$2,0))","v":"Male"},{"$f":"IF($B1118=\"\",\"\",VLOOKUP($B1118,_tbl!$A:$E,O$2,0))","v":"West"},{"$f":"IF($B1118=\"\",\"\",VLOOKUP($B1118,_tbl!$A:$E,P$2,0))","v":"Rural"},{"$f":"IF($B1118=\"\",\"\",VLOOKUP($B1118,_tbl!$A:$E,Q$2,0))","v":"Other"},null,7.8198375679326899E-4,6.9102104020965396E-4]
[null,"all_m_West Rural other.csv","75-79",1.54756767508465E-3,1.5374547186474601E-3,1.52661746729837E-3,1.51679325286909E-3,1.50443662526055E-3,1.49040118338262E-3,1.4752951825885399E-3,1.46008629916632E-3,1.44603923556452E-3,1.43336892876645E-3,{"$f":"IF($B1119=\"\",\"\",VLOOKUP($B1119,_tbl!$A:$E,N$2,0))","v":"Male"},{"$f":"IF($B1119=\"\",\"\",VLOOKUP($B1119,_tbl!$A:$E,O$2,0))","v":"West"},{"$f":"IF($B1119=\"\",\"\",VLOOKUP($B1119,_tbl!$A:$E,P$2,0))","v":"Rural"},{"$f":"IF($B1119=\"\",\"\",VLOOKUP($B1119,_tbl!$A:$E,Q$2,0))","v":"Other"},null,1.54756767508465E-3,1.43336892876645E-3]
[null,"all_m_West Rural other.csv","80-84",3.3552711096259901E-3,3.3593206477816398E-3,3.3632553998727099E-3,3.36317570195452E-3,3.3505670946874099E-3,3.3232988484583302E-3,3.2827335418577001E-3,3.2360144791773798E-3,3.1919998428101099E-3,3.1579635708433901E-3,{"$f":"IF($B1120=\"\",\"\",VLOOKUP($B1120,_tbl!$A:$E,N$2,0))","v":"Male"},{"$f":"IF($B1120=\"\",\"\",VLOOKUP($B1120,_tbl!$A:$E,O$2,0))","v":"West"},{"$f":"IF($B1120=\"\",\"\",VLOOKUP($B1120,_tbl!$A:$E,P$2,0))","v":"Rural"},{"$f":"IF($B1120=\"\",\"\",VLOOKUP($B1120,_tbl!$A:$E,Q$2,0))","v":"Other"},null,3.3632553998727099E-3,3.1579635708433901E-3]
[null,"all_m_West Rural other.csv","85+",7.5944847757542797E-3,7.6751221619914701E-3,7.7451062685828902E-3,7.8045594682191804E-3,7.84314835269527E-3,7.8468480436302297E-3,7.8137150158155404E-3,7.7551381511453002E-3,7.6956456262699804E-3,7.6578224315483204E-3,{"$f":"IF($B1121=\"\",\"\",VLOOKUP($B1121,_tbl!$A:$E,N$2,0))","v":"Male"},{"$f":"IF($B1121=\"\",\"\",VLOOKUP($B1121,_tbl!$A:$E,O$2,0))","v":"West"},{"$f":"IF($B1121=\"\",\"\",VLOOKUP($B1121,_tbl!$A:$E,P$2,0))","v":"Rural"},{"$f":"IF($B1121=\"\",\"\",VLOOKUP($B1121,_tbl!$A:$E,Q$2,0))","v":"Other"},null,7.8468480436302297E-3,7.5944847757542797E-3]
[null,null,null,null,null,null,null,null,null,null,null,null,null,{"$f":"IF($B1122=\"\",\"\",VLOOKUP($B1122,_tbl!$A:$E,N$2,0))","v":""},{"$f":"IF($B1122=\"\",\"\",VLOOKUP($B1122,_tbl!$A:$E,O$2,0))","v":""},{"$f":"IF($B1122=\"\",\"\",VLOOKUP($B1122,_tbl!$A:$E,P$2,0))","v":""},{"$f":"IF($B1122=\"\",\"\",VLOOKUP($B1122,_tbl!$A:$E,Q$2,0))","v":""}]
[null,null,null,2020,2021,2022,2023,2024,2025,2026,2027,2028,2029,{"$f":"IF($B1123=\"\",\"\",VLOOKUP($B1123,_tbl!$A:$E,N$2,0))","v":""},{"$f":"IF($B1123=\"\",\"\",VLOOKUP($B1123,_tbl!$A:$E,O$2,0))","v":""},{"$f":"IF($B1123=\"\",\"\",VLOOKUP($B1123,_tbl!$A:$E,P$2,0))","v":""},{"$f":"IF($B1123=\"\",\"\",VLOOKUP($B1123,_tbl!$A:$E,Q$2,0))","v":""}]
[null,"all_m_West Rural respiratory.csv","1-4",1.6189962450344401E-5,1.5926707772578999E-5,1.56567976914553E-5,1.5370696887971301E-5,1.51277841536441E-5,1.49251697859406E-5,1.47018283352028E-5,1.45120470900594E-5,1.4314504463617E-5,1.4109748604046501E-5,{"$f":"IF($B1124=\"\",\"\",VLOOKUP($B1124,_tbl!$A:$E,N$2,0))","v":"Male"},{"$f":"IF($B1124=\"\",\"\",VLOOKUP($B1124,_tbl!$A:$E,O$2,0))","v":"West"},{"$f":"IF($B1124=\"\",\"\",VLOOKUP($B1124,_tbl!$A:$E,P$2,0))","v":"Rural"},{"$f":"IF($B1124=\"\",\"\",VLOOKUP($B1124,_tbl!$A:$E,Q$2,0))","v":"Respiratory"},null,{"$f":"MAX(D1124:M1124)","v":1.6189962450344401E-5},{"$f":"MIN(D1124:M1124)","v":1.4109748604046501E-5}]
[null,"all_m_West Rural respiratory.csv","5-9",7.4157557774619203E-6,7.4154938130213299E-6,7.4035995018052703E-6,7.3981802933015803E-6,7.38839615883046E-6,7.37992082724151E-6,7.37070745342645E-6,7.3617845209568297E-6,7.3531142902156401E-6,7.3448805832337702E-6,{"$f":"IF($B1125=\"\",\"\",VLOOKUP($B1125,_tbl!$A:$E,N$2,0))","v":"Male"},{"$f":"IF($B1125=\"\",\"\",VLOOKUP($B1125,_tbl!$A:$E,O$2,0))","v":"West"},{"$f":"IF($B1125=\"\",\"\",VLOOKUP($B1125,_tbl!$A:$E,P$2,0))","v":"Rural"},{"$f":"IF($B1125=\"\",\"\",VLOOKUP($B1125,_tbl!$A:$E,Q$2,0))","v":"Respiratory"},null,7.4157557774619203E-6,7.3448805832337702E-6]
[null,"all_m_West Rural respiratory.csv","10-14",7.2747831113948703E-6,7.2499900062532404E-6,7.2209692030424399E-6,7.2035869691161303E-6,7.1800390509428297E-6,7.1601353724479604E-6,7.1397014297404699E-6,7.1200388997297699E-6,7.0996597676188298E-6,7.0799902866446299E-6,{"$f":"IF($B1126=\"\",\"\",VLOOKUP($B1126,_tbl!$A:$E,N$2,0))","v":"Male"},{"$f":"IF($B1126=\"\",\"\",VLOOKUP($B1126,_tbl!$A:$E,O$2,0))","v":"West"},{"$f":"IF($B1126=\"\",\"\",VLOOKUP($B1126,_tbl!$A:$E,P$2,0))","v":"Rural"},{"$f":"IF($B1126=\"\",\"\",VLOOKUP($B1126,_tbl!$A:$E,Q$2,0))","v":"Respiratory"},null,7.2747831113948703E-6,7.0799902866446299E-6]
[null,"all_m_West Rural respiratory.csv","15-19",8.2651199086297102E-6,8.2280126700384395E-6,8.1846761267911192E-6,8.1435718831901394E-6,8.1126341878656097E-6,8.0952235459622804E-6,8.0832686218457994E-6,8.0750266366379601E-6,8.0648917657138406E-6,8.0513332565637104E-6,{"$f":"IF($B1127=\"\",\"\",VLOOKUP($B1127,_tbl!$A:$E,N$2,0))","v":"Male"},{"$f":"IF($B1127=\"\",\"\",VLOOKUP($B1127,_tbl!$A:$E,O$2,0))","v":"West"},{"$f":"IF($B1127=\"\",\"\",VLOOKUP($B1127,_tbl!$A:$E,P$2,0))","v":"Rural"},{"$f":"IF($B1127=\"\",\"\",VLOOKUP($B1127,_tbl!$A:$E,Q$2,0))","v":"Respiratory"},null,8.2651199086297102E-6,8.0513332565637104E-6]
[null,"all_m_West Rural respiratory.csv","20-24",1.11786620553557E-5,1.1134074195663199E-5,1.1014912252547E-5,1.0922900201309599E-5,1.0855208087647499E-5,1.0834102934594799E-5,1.08347296905589E-5,1.0847084789702099E-5,1.08547252942759E-5,1.08545899470111E-5,{"$f":"IF($B1128=\"\",\"\",VLOOKUP($B1128,_tbl!$A:$E,N$2,0))","v":"Male"},{"$f":"IF($B1128=\"\",\"\",VLOOKUP($B1128,_tbl!$A:$E,O$2,0))","v":"West"},{"$f":"IF($B1128=\"\",\"\",VLOOKUP($B1128,_tbl!$A:$E,P$2,0))","v":"Rural"},{"$f":"IF($B1128=\"\",\"\",VLOOKUP($B1128,_tbl!$A:$E,Q$2,0))","v":"Respiratory"},null,1.11786620553557E-5,1.0834102934594799E-5]
[null,"all_m_West Rural respiratory.csv","25-29",1.6456681641677899E-5,1.64924721207368E-5,1.6430287499625002E-5,1.64268686508884E-5,1.63772236004908E-5,1.6339017747420999E-5,1.6284407467280401E-5,1.6237823369822901E-5,1.6189429580121899E-5,1.61514277342907E-5,{"$f":"IF($B1129=\"\",\"\",VLOOKUP($B1129,_tbl!$A:$E,N$2,0))","v":"Male"},{"$f":"IF($B1129=\"\",\"\",VLOOKUP($B1129,_tbl!$A:$E,O$2,0))","v":"West"},{"$f":"IF($B1129=\"\",\"\",VLOOKUP($B1129,_tbl!$A:$E,P$2,0))","v":"Rural"},{"$f":"IF($B1129=\"\",\"\",VLOOKUP($B1129,_tbl!$A:$E,Q$2,0))","v":"Respiratory"},null,1.64924721207368E-5,1.61514277342907E-5]
[null,"all_m_West Rural respiratory.csv","30-34",2.7328438416371302E-5,2.7344077770985501E-5,2.7185209543287701E-5,2.7134270218712601E-5,2.6977576483254199E-5,2.6818524535591401E-5,2.66143975829794E-5,2.6417213085773101E-5,2.6221787307910901E-5,2.60442595102261E-5,{"$f":"IF($B1130=\"\",\"\",VLOOKUP($B1130,_tbl!$A:$E,N$2,0))","v":"Male"},{"$f":"IF($B1130=\"\",\"\",VLOOKUP($B1130,_tbl!$A:$E,O$2,0))","v":"West"},{"$f":"IF($B1130=\"\",\"\",VLOOKUP($B1130,_tbl!$A:$E,P$2,0))","v":"Rural"},{"$f":"IF($B1130=\"\",\"\",VLOOKUP($B1130,_tbl!$A:$E,Q$2,0))","v":"Respiratory"},null,2.7344077770985501E-5,2.60442595102261E-5]
[null,"all_m_West Rural respiratory.csv","35-39",4.5482663360935399E-5,4.5334511310472603E-5,4.4848292459607599E-5,4.4614222873384397E-5,4.4142348769854697E-5,4.3760325608006298E-5,4.3256273732804497E-5,4.2810788944141697E-5,4.23126236480874E-5,4.1858628630011501E-5,{"$f":"IF($B1131=\"\",\"\",VLOOKUP($B1131,_tbl!$A:$E,N$2,0))","v":"Male"},{"$f":"IF($B1131=\"\",\"\",VLOOKUP($B1131,_tbl!$A:$E,O$2,0))","v":"West"},{"$f":"IF($B1131=\"\",\"\",VLOOKUP($B1131,_tbl!$A:$E,P$2,0))","v":"Rural"},{"$f":"IF($B1131=\"\",\"\",VLOOKUP($B1131,_tbl!$A:$E,Q$2,0))","v":"Respiratory"},null,4.5482663360935399E-5,4.1858628630011501E-5]
[null,"all_m_West Rural respiratory.csv","40-44",7.8792393255331498E-5,7.7812083630085502E-5,7.6407145459639006E-5,7.5026581432653403E-5,7.3519771639380795E-5,7.2110848405102301E-5,7.0691205863831507E-5,6.93075471249834E-5,6.7867906674964605E-5,6.6387441747524194E-5,{"$f":"IF($B1132=\"\",\"\",VLOOKUP($B1132,_tbl!$A:$E,N$2,0))","v":"Male"},{"$f":"IF($B1132=\"\",\"\",VLOOKUP($B1132,_tbl!$A:$E,O$2,0))","v":"West"},{"$f":"IF($B1132=\"\",\"\",VLOOKUP($B1132,_tbl!$A:$E,P$2,0))","v":"Rural"},{"$f":"IF($B1132=\"\",\"\",VLOOKUP($B1132,_tbl!$A:$E,Q$2,0))","v":"Respiratory"},null,7.8792393255331498E-5,6.6387441747524194E-5]
[null,"all_m_West Rural respiratory.csv","45-49",1.45022246027249E-4,1.4332548385916801E-4,1.40817318864418E-4,1.37992505358122E-4,1.3504430214025901E-4,1.3193380812578299E-4,1.28901768548353E-4,1.25782037772808E-4,1.2273913932103899E-4,1.19611518131552E-4,{"$f":"IF($B1133=\"\",\"\",VLOOKUP($B1133,_tbl!$A:$E,N$2,0))","v":"Male"},{"$f":"IF($B1133=\"\",\"\",VLOOKUP($B1133,_tbl!$A:$E,O$2,0))","v":"West"},{"$f":"IF($B1133=\"\",\"\",VLOOKUP($B1133,_tbl!$A:$E,P$2,0))","v":"Rural"},{"$f":"IF($B1133=\"\",\"\",VLOOKUP($B1133,_tbl!$A:$E,Q$2,0))","v":"Respiratory"},null,1.45022246027249E-4,1.19611518131552E-4]
[null,"all_m_West Rural respiratory.csv","50-54",3.1313727606062299E-4,3.1249697439081798E-4,3.1023474474959701E-4,3.07693059422892E-4,3.0500480346278198E-4,3.0217567043730101E-4,2.9948058557446899E-4,2.9664838886386699E-4,2.9388784435734099E-4,2.9093774855135503E-4,{"$f":"IF($B1134=\"\",\"\",VLOOKUP($B1134,_tbl!$A:$E,N$2,0))","v":"Male"},{"$f":"IF($B1134=\"\",\"\",VLOOKUP($B1134,_tbl!$A:$E,O$2,0))","v":"West"},{"$f":"IF($B1134=\"\",\"\",VLOOKUP($B1134,_tbl!$A:$E,P$2,0))","v":"Rural"},{"$f":"IF($B1134=\"\",\"\",VLOOKUP($B1134,_tbl!$A:$E,Q$2,0))","v":"Respiratory"},null,3.1313727606062299E-4,2.9093774855135503E-4]
[null,"all_m_West Rural respiratory.csv","55-59",5.9682748682672495E-4,5.9198845857010203E-4,5.8506349525459897E-4,5.8055814330940602E-4,5.7551985672465598E-4,5.7131906952480598E-4,5.6697004807803903E-4,5.6297840081551099E-4,5.5900403932451998E-4,5.5523470269679305E-4,{"$f":"IF($B1135=\"\",\"\",VLOOKUP($B1135,_tbl!$A:$E,N$2,0))","v":"Male"},{"$f":"IF($B1135=\"\",\"\",VLOOKUP($B1135,_tbl!$A:$E,O$2,0))","v":"West"},{"$f":"IF($B1135=\"\",\"\",VLOOKUP($B1135,_tbl!$A:$E,P$2,0))","v":"Rural"},{"$f":"IF($B1135=\"\",\"\",VLOOKUP($B1135,_tbl!$A:$E,Q$2,0))","v":"Respiratory"},null,5.9682748682672495E-4,5.5523470269679305E-4]
[null,"all_m_West Rural respiratory.csv","60-64",1.1388931720986901E-3,1.1156935362313101E-3,1.0906212996538401E-3,1.07075242973659E-3,1.0496701449420099E-3,1.03032652685883E-3,1.0109596143557901E-3,9.925070342343661E-4,9.7437476164454395E-4,9.5670603087480302E-4,{"$f":"IF($B1136=\"\",\"\",VLOOKUP($B1136,_tbl!$A:$E,N$2,0))","v":"Male"},{"$f":"IF($B1136=\"\",\"\",VLOOKUP($B1136,_tbl!$A:$E,O$2,0))","v":"West"},{"$f":"IF($B1136=\"\",\"\",VLOOKUP($B1136,_tbl!$A:$E,P$2,0))","v":"Rural"},{"$f":"IF($B1136=\"\",\"\",VLOOKUP($B1136,_tbl!$A:$E,Q$2,0))","v":"Respiratory"},null,1.1388931720986901E-3,9.5670603087480302E-4]
[null,"all_m_West Rural respiratory.csv","65-69",2.2618522132103499E-3,2.2102513183548701E-3,2.1537431163334902E-3,2.1032521540936401E-3,2.0498069632606899E-3,1.9987306056325699E-3,1.9486180564536001E-3,1.8998955857899901E-3,1.85195645379848E-3,1.8038044350748099E-3,{"$f":"IF($B1137=\"\",\"\",VLOOKUP($B1137,_tbl!$A:$E,N$2,0))","v":"Male"},{"$f":"IF($B1137=\"\",\"\",VLOOKUP($B1137,_tbl!$A:$E,O$2,0))","v":"West"},{"$f":"IF($B1137=\"\",\"\",VLOOKUP($B1137,_tbl!$A:$E,P$2,0))","v":"Rural"},{"$f":"IF($B1137=\"\",\"\",VLOOKUP($B1137,_tbl!$A:$E,Q$2,0))","v":"Respiratory"},null,2.2618522132103499E-3,1.8038044350748099E-3]
[null,"all_m_West Rural respiratory.csv","70-74",4.5017468479049399E-3,4.3935241168707997E-3,4.2674864940513996E-3,4.1471856565620897E-3,4.0183987105238102E-3,3.8904815935006699E-3,3.7625390635645101E-3,3.6364082044650901E-3,3.5126539942974401E-3,3.39034479502938E-3,{"$f":"IF($B1138=\"\",\"\",VLOOKUP($B1138,_tbl!$A:$E,N$2,0))","v":"Male"},{"$f":"IF($B1138=\"\",\"\",VLOOKUP($B1138,_tbl!$A:$E,O$2,0))","v":"West"},{"$f":"IF($B1138=\"\",\"\",VLOOKUP($B1138,_tbl!$A:$E,P$2,0))","v":"Rural"},{"$f":"IF($B1138=\"\",\"\",VLOOKUP($B1138,_tbl!$A:$E,Q$2,0))","v":"Respiratory"},null,4.5017468479049399E-3,3.39034479502938E-3]
[null,"all_m_West Rural respiratory.csv","75-79",9.94927013707992E-3,9.6665187162483495E-3,9.3079725729739698E-3,9.0015196610651604E-3,8.7060308724060294E-3,8.4305723550125305E-3,8.1503165843169901E-3,7.8666387096778794E-3,7.5799215842960897E-3,7.2972307708249404E-3,{"$f":"IF($B1139=\"\",\"\",VLOOKUP($B1139,_tbl!$A:$E,N$2,0))","v":"Male"},{"$f":"IF($B1139=\"\",\"\",VLOOKUP($B1139,_tbl!$A:$E,O$2,0))","v":"West"},{"$f":"IF($B1139=\"\",\"\",VLOOKUP($B1139,_tbl!$A:$E,P$2,0))","v":"Rural"},{"$f":"IF($B1139=\"\",\"\",VLOOKUP($B1139,_tbl!$A:$E,Q$2,0))","v":"Respiratory"},null,9.94927013707992E-3,7.2972307708249404E-3]
[null,"all_m_West Rural respiratory.csv","80-84",2.3076304677421E-2,2.23843551512968E-2,2.1334055631779401E-2,2.06441898876304E-2,2.0111026293349502E-2,1.97851526508332E-2,1.9485812455343698E-2,1.9181799243722701E-2,1.88205869554301E-2,1.8419670693859198E-2,{"$f":"IF($B1140=\"\",\"\",VLOOKUP($B1140,_tbl!$A:$E,N$2,0))","v":"Male"},{"$f":"IF($B1140=\"\",\"\",VLOOKUP($B1140,_tbl!$A:$E,O$2,0))","v":"West"},{"$f":"IF($B1140=\"\",\"\",VLOOKUP($B1140,_tbl!$A:$E,P$2,0))","v":"Rural"},{"$f":"IF($B1140=\"\",\"\",VLOOKUP($B1140,_tbl!$A:$E,Q$2,0))","v":"Respiratory"},null,2.3076304677421E-2,1.8419670693859198E-2]
[null,"all_m_West Rural respiratory.csv","85+",4.6403533681584702E-2,4.6113521379504398E-2,4.5303555556050902E-2,4.50723904554413E-2,4.5021772003347497E-2,4.5138408808823499E-2,4.5145986620018903E-2,4.5047726716769099E-2,4.4903418378034299E-2,4.48474598934493E-2,{"$f":"IF($B1141=\"\",\"\",VLOOKUP($B1141,_tbl!$A:$E,N$2,0))","v":"Male"},{"$f":"IF($B1141=\"\",\"\",VLOOKUP($B1141,_tbl!$A:$E,O$2,0))","v":"West"},{"$f":"IF($B1141=\"\",\"\",VLOOKUP($B1141,_tbl!$A:$E,P$2,0))","v":"Rural"},{"$f":"IF($B1141=\"\",\"\",VLOOKUP($B1141,_tbl!$A:$E,Q$2,0))","v":"Respiratory"},null,4.6403533681584702E-2,4.48474598934493E-2]
[null,null,null,null,null,null,null,null,null,null,null,null,null,{"$f":"IF($B1142=\"\",\"\",VLOOKUP($B1142,_tbl!$A:$E,N$2,0))","v":""},{"$f":"IF($B1142=\"\",\"\",VLOOKUP($B1142,_tbl!$A:$E,O$2,0))","v":""},{"$f":"IF($B1142=\"\",\"\",VLOOKUP($B1142,_tbl!$A:$E,P$2,0))","v":""},{"$f":"IF($B1142=\"\",\"\",VLOOKUP($B1142,_tbl!$A:$E,Q$2,0))","v":""}]
[null,null,null,2020,2021,2022,2023,2024,2025,2026,2027,2028,2029,{"$f":"IF($B1143=\"\",\"\",VLOOKUP($B1143,_tbl!$A:$E,N$2,0))","v":""},{"$f":"IF($B1143=\"\",\"\",VLOOKUP($B1143,_tbl!$A:$E,O$2,0))","v":""},{"$f":"IF($B1143=\"\",\"\",VLOOKUP($B1143,_tbl!$A:$E,P$2,0))","v":""},{"$f":"IF($B1143=\"\",\"\",VLOOKUP($B1143,_tbl!$A:$E,Q$2,0))","v":""}]
[null,"all_m_West Rural.csv","1-4",8.1507376951086804E-4,7.6988176685443698E-4,7.20196783175792E-4,6.7728994037100098E-4,6.3414347085577396E-4,5.9462221376769197E-4,5.5625824473037498E-4,5.2019343789253903E-4,4.8571866145501403E-4,4.53005319572142E-4,{"$f":"IF($B1144=\"\",\"\",VLOOKUP($B1144,_tbl!$A:$E,N$2,0))","v":"Male"},{"$f":"IF($B1144=\"\",\"\",VLOOKUP($B1144,_tbl!$A:$E,O$2,0))","v":"West"},{"$f":"IF($B1144=\"\",\"\",VLOOKUP($B1144,_tbl!$A:$E,P$2,0))","v":"Rural"},{"$f":"IF($B1144=\"\",\"\",VLOOKUP($B1144,_tbl!$A:$E,Q$2,0))","v":"Total"},null,{"$f":"MAX(D1144:M1144)","v":8.1507376951086804E-4},{"$f":"MIN(D1144:M1144)","v":4.53005319572142E-4}]
[null,"all_m_West Rural.csv","5-9",4.4235486748621101E-4,4.2792022935007299E-4,4.1214827223555998E-4,3.9799923059047798E-4,3.8360301891468502E-4,3.6999614681057199E-4,3.5657716197034801E-4,3.43628313829652E-4,3.3095187341695699E-4,3.1866171749606899E-4,{"$f":"IF($B1145=\"\",\"\",VLOOKUP($B1145,_tbl!$A:$E,N$2,0))","v":"Male"},{"$f":"IF($B1145=\"\",\"\",VLOOKUP($B1145,_tbl!$A:$E,O$2,0))","v":"West"},{"$f":"IF($B1145=\"\",\"\",VLOOKUP($B1145,_tbl!$A:$E,P$2,0))","v":"Rural"},{"$f":"IF($B1145=\"\",\"\",VLOOKUP($B1145,_tbl!$A:$E,Q$2,0))","v":"Total"},null,4.4235486748621101E-4,3.1866171749606899E-4]
[null,"all_m_West Rural.csv","10-14",4.1292886832560002E-4,4.0228228795377601E-4,3.8967461033653398E-4,3.7831617436855699E-4,3.6657975327109802E-4,3.5542474729050201E-4,3.4432891735336398E-4,3.3357732089656301E-4,3.23001200880919E-4,3.12708312165416E-4,{"$f":"IF($B1146=\"\",\"\",VLOOKUP($B1146,_tbl!$A:$E,N$2,0))","v":"Male"},{"$f":"IF($B1146=\"\",\"\",VLOOKUP($B1146,_tbl!$A:$E,O$2,0))","v":"West"},{"$f":"IF($B1146=\"\",\"\",VLOOKUP($B1146,_tbl!$A:$E,P$2,0))","v":"Rural"},{"$f":"IF($B1146=\"\",\"\",VLOOKUP($B1146,_tbl!$A:$E,Q$2,0))","v":"Total"},null,4.1292886832560002E-4,3.12708312165416E-4]
[null,"all_m_West Rural.csv","15-19",4.9739382770684095E-4,4.83136716303342E-4,4.6613748876334402E-4,4.5092575761771701E-4,4.34954281953208E-4,4.19700942083197E-4,4.0443293437651201E-4,3.8963290129730897E-4,3.7510478809699101E-4,3.6103220384637702E-4,{"$f":"IF($B1147=\"\",\"\",VLOOKUP($B1147,_tbl!$A:$E,N$2,0))","v":"Male"},{"$f":"IF($B1147=\"\",\"\",VLOOKUP($B1147,_tbl!$A:$E,O$2,0))","v":"West"},{"$f":"IF($B1147=\"\",\"\",VLOOKUP($B1147,_tbl!$A:$E,P$2,0))","v":"Rural"},{"$f":"IF($B1147=\"\",\"\",VLOOKUP($B1147,_tbl!$A:$E,Q$2,0))","v":"Total"},null,4.9739382770684095E-4,3.6103220384637702E-4]
[null,"all_m_West Rural.csv","20-24",7.43694010779359E-4,7.2390500772078305E-4,6.9838901006616405E-4,6.7724155838987305E-4,6.5349341337876297E-4,6.3058749711314898E-4,6.0688174815885104E-4,5.8387828757843797E-4,5.6125893844561898E-4,5.3951991955015501E-4,{"$f":"IF($B1148=\"\",\"\",VLOOKUP($B1148,_tbl!$A:$E,N$2,0))","v":"Male"},{"$f":"IF($B1148=\"\",\"\",VLOOKUP($B1148,_tbl!$A:$E,O$2,0))","v":"West"},{"$f":"IF($B1148=\"\",\"\",VLOOKUP($B1148,_tbl!$A:$E,P$2,0))","v":"Rural"},{"$f":"IF($B1148=\"\",\"\",VLOOKUP($B1148,_tbl!$A:$E,Q$2,0))","v":"Total"},null,7.43694010779359E-4,5.3951991955015501E-4]
[null,"all_m_West Rural.csv","25-29",1.03007984621548E-3,1.0034257179779801E-3,9.7155156145827903E-4,9.4481923277022297E-4,9.1587700518106201E-4,8.8835276699164405E-4,8.6028434417645698E-4,8.3313027378313198E-4,8.0640655465072895E-4,7.8061833336228099E-4,{"$f":"IF($B1149=\"\",\"\",VLOOKUP($B1149,_tbl!$A:$E,N$2,0))","v":"Male"},{"$f":"IF($B1149=\"\",\"\",VLOOKUP($B1149,_tbl!$A:$E,O$2,0))","v":"West"},{"$f":"IF($B1149=\"\",\"\",VLOOKUP($B1149,_tbl!$A:$E,P$2,0))","v":"Rural"},{"$f":"IF($B1149=\"\",\"\",VLOOKUP($B1149,_tbl!$A:$E,Q$2,0))","v":"Total"},null,1.03007984621548E-3,7.8061833336228099E-4]
[null,"all_m_West Rural.csv","30-34",1.4414177461240399E-3,1.4079557338575301E-3,1.3679762728940499E-3,1.3339119460138299E-3,1.2976346901761001E-3,1.2633234381686899E-3,1.2286247000258799E-3,1.1951113491009599E-3,1.16215676240267E-3,1.1302568981764901E-3,{"$f":"IF($B1150=\"\",\"\",VLOOKUP($B1150,_tbl!$A:$E,N$2,0))","v":"Male"},{"$f":"IF($B1150=\"\",\"\",VLOOKUP($B1150,_tbl!$A:$E,O$2,0))","v":"West"},{"$f":"IF($B1150=\"\",\"\",VLOOKUP($B1150,_tbl!$A:$E,P$2,0))","v":"Rural"},{"$f":"IF($B1150=\"\",\"\",VLOOKUP($B1150,_tbl!$A:$E,Q$2,0))","v":"Total"},null,1.4414177461240399E-3,1.1302568981764901E-3]
[null,"all_m_West Rural.csv","35-39",1.88685289229289E-3,1.8506812379037599E-3,1.8061055690047399E-3,1.76790860725359E-3,1.72685603733058E-3,1.6880086462602601E-3,1.6485284747274401E-3,1.6103984905809601E-3,1.57273384482958E-3,1.5362319289309401E-3,{"$f":"IF($B1151=\"\",\"\",VLOOKUP($B1151,_tbl!$A:$E,N$2,0))","v":"Male"},{"$f":"IF($B1151=\"\",\"\",VLOOKUP($B1151,_tbl!$A:$E,O$2,0))","v":"West"},{"$f":"IF($B1151=\"\",\"\",VLOOKUP($B1151,_tbl!$A:$E,P$2,0))","v":"Rural"},{"$f":"IF($B1151=\"\",\"\",VLOOKUP($B1151,_tbl!$A:$E,Q$2,0))","v":"Total"},null,1.88685289229289E-3,1.5362319289309401E-3]
[null,"all_m_West Rural.csv","40-44",2.8059268162093898E-3,2.7706007724187598E-3,2.7165089368847398E-3,2.6737686699449099E-3,2.6241297528023602E-3,2.5783774545941498E-3,2.5302874286584299E-3,2.4840906457534698E-3,2.4373688087700198E-3,2.3918853204338399E-3,{"$f":"IF($B1152=\"\",\"\",VLOOKUP($B1152,_tbl!$A:$E,N$2,0))","v":"Male"},{"$f":"IF($B1152=\"\",\"\",VLOOKUP($B1152,_tbl!$A:$E,O$2,0))","v":"West"},{"$f":"IF($B1152=\"\",\"\",VLOOKUP($B1152,_tbl!$A:$E,P$2,0))","v":"Rural"},{"$f":"IF($B1152=\"\",\"\",VLOOKUP($B1152,_tbl!$A:$E,Q$2,0))","v":"Total"},null,2.8059268162093898E-3,2.3918853204338399E-3]
[null,"all_m_West Rural.csv","45-49",4.2090378246811997E-3,4.16138124241124E-3,4.1091929130626101E-3,4.0598771869191797E-3,4.0113702975829099E-3,3.9636055691849598E-3,3.9183024112370403E-3,3.8719445373066302E-3,3.8262296092448499E-3,3.7781151056671398E-3,{"$f":"IF($B1153=\"\",\"\",VLOOKUP($B1153,_tbl!$A:$E,N$2,0))","v":"Male"},{"$f":"IF($B1153=\"\",\"\",VLOOKUP($B1153,_tbl!$A:$E,O$2,0))","v":"West"},{"$f":"IF($B1153=\"\",\"\",VLOOKUP($B1153,_tbl!$A:$E,P$2,0))","v":"Rural"},{"$f":"IF($B1153=\"\",\"\",VLOOKUP($B1153,_tbl!$A:$E,Q$2,0))","v":"Total"},null,4.2090378246811997E-3,3.7781151056671398E-3]
[null,"all_m_West Rural.csv","50-54",6.3792870930480701E-3,6.3166074893941399E-3,6.2514476486311404E-3,6.1944177821926603E-3,6.1381855742624501E-3,6.0839137007752302E-3,6.03197704104169E-3,5.9789569142378804E-3,5.9267228449455299E-3,5.87207984342127E-3,{"$f":"IF($B1154=\"\",\"\",VLOOKUP($B1154,_tbl!$A:$E,N$2,0))","v":"Male"},{"$f":"IF($B1154=\"\",\"\",VLOOKUP($B1154,_tbl!$A:$E,O$2,0))","v":"West"},{"$f":"IF($B1154=\"\",\"\",VLOOKUP($B1154,_tbl!$A:$E,P$2,0))","v":"Rural"},{"$f":"IF($B1154=\"\",\"\",VLOOKUP($B1154,_tbl!$A:$E,Q$2,0))","v":"Total"},null,6.3792870930480701E-3,5.87207984342127E-3]
[null,"all_m_West Rural.csv","55-59",9.0760339469077595E-3,8.9699230249964297E-3,8.8564655249412094E-3,8.7585483417916207E-3,8.6584413425378603E-3,8.5618418782839305E-3,8.4652466098971806E-3,8.3693782845153195E-3,8.2748555158868101E-3,8.1811229444216493E-3,{"$f":"IF($B1155=\"\",\"\",VLOOKUP($B1155,_tbl!$A:$E,N$2,0))","v":"Male"},{"$f":"IF($B1155=\"\",\"\",VLOOKUP($B1155,_tbl!$A:$E,O$2,0))","v":"West"},{"$f":"IF($B1155=\"\",\"\",VLOOKUP($B1155,_tbl!$A:$E,P$2,0))","v":"Rural"},{"$f":"IF($B1155=\"\",\"\",VLOOKUP($B1155,_tbl!$A:$E,Q$2,0))","v":"Total"},null,9.0760339469077595E-3,8.1811229444216493E-3]
[null,"all_m_West Rural.csv","60-64",1.30306144443874E-2,1.2860604038742901E-2,1.26589476873822E-2,1.2479321311876301E-2,1.22907358908398E-2,1.2107920478224799E-2,1.1924204864035099E-2,1.17436136862261E-2,1.15649699868937E-2,1.1388479944644699E-2,{"$f":"IF($B1156=\"\",\"\",VLOOKUP($B1156,_tbl!$A:$E,N$2,0))","v":"Male"},{"$f":"IF($B1156=\"\",\"\",VLOOKUP($B1156,_tbl!$A:$E,O$2,0))","v":"West"},{"$f":"IF($B1156=\"\",\"\",VLOOKUP($B1156,_tbl!$A:$E,P$2,0))","v":"Rural"},{"$f":"IF($B1156=\"\",\"\",VLOOKUP($B1156,_tbl!$A:$E,Q$2,0))","v":"Total"},null,1.30306144443874E-2,1.1388479944644699E-2]
[null,"all_m_West Rural.csv","65-69",1.9677926798926E-2,1.9424370866143199E-2,1.9101426983350499E-2,1.88076505119322E-2,1.8495744879237299E-2,1.8194533463655502E-2,1.7894637866506101E-2,1.76013969128785E-2,1.7310938358623101E-2,1.70215493259506E-2,{"$f":"IF($B1157=\"\",\"\",VLOOKUP($B1157,_tbl!$A:$E,N$2,0))","v":"Male"},{"$f":"IF($B1157=\"\",\"\",VLOOKUP($B1157,_tbl!$A:$E,O$2,0))","v":"West"},{"$f":"IF($B1157=\"\",\"\",VLOOKUP($B1157,_tbl!$A:$E,P$2,0))","v":"Rural"},{"$f":"IF($B1157=\"\",\"\",VLOOKUP($B1157,_tbl!$A:$E,Q$2,0))","v":"Total"},null,1.9677926798926E-2,1.70215493259506E-2]
[null,"all_m_West Rural.csv","70-74",3.1855741369204597E-2,3.1494699861764702E-2,3.1034903216652601E-2,3.0618431139531499E-2,3.0169823542552002E-2,2.9729687069043598E-2,2.92852346175334E-2,2.8847346562832998E-2,2.8415227001819199E-2,2.7988900598400802E-2,{"$f":"IF($B1158=\"\",\"\",VLOOKUP($B1158,_tbl!$A:$E,N$2,0))","v":"Male"},{"$f":"IF($B1158=\"\",\"\",VLOOKUP($B1158,_tbl!$A:$E,O$2,0))","v":"West"},{"$f":"IF($B1158=\"\",\"\",VLOOKUP($B1158,_tbl!$A:$E,P$2,0))","v":"Rural"},{"$f":"IF($B1158=\"\",\"\",VLOOKUP($B1158,_tbl!$A:$E,Q$2,0))","v":"Total"},null,3.1855741369204597E-2,2.7988900598400802E-2]
[null,"all_m_West Rural.csv","75-79",5.52291365084501E-2,5.44794120366369E-2,5.3595733169048601E-2,5.2860060631784098E-2,5.21224811447729E-2,5.1419721587467999E-2,5.06911056670281E-2,4.9955115939866901E-2,4.9219284754066998E-2,4.850606372335E-2,{"$f":"IF($B1159=\"\",\"\",VLOOKUP($B1159,_tbl!$A:$E,N$2,0))","v":"Male"},{"$f":"IF($B1159=\"\",\"\",VLOOKUP($B1159,_tbl!$A:$E,O$2,0))","v":"West"},{"$f":"IF($B1159=\"\",\"\",VLOOKUP($B1159,_tbl!$A:$E,P$2,0))","v":"Rural"},{"$f":"IF($B1159=\"\",\"\",VLOOKUP($B1159,_tbl!$A:$E,Q$2,0))","v":"Total"},null,5.52291365084501E-2,4.850606372335E-2]
[null,"all_m_West Rural.csv","80-84",0.10244043339197,0.101209069695382,9.9054299767344894E-2,9.7737516029003504E-2,9.6640961664692507E-2,9.6034872091597404E-2,9.5519123342560297E-2,9.5053788207979703E-2,9.4474805305307302E-2,9.3784817293828801E-2,{"$f":"IF($B1160=\"\",\"\",VLOOKUP($B1160,_tbl!$A:$E,N$2,0))","v":"Male"},{"$f":"IF($B1160=\"\",\"\",VLOOKUP($B1160,_tbl!$A:$E,O$2,0))","v":"West"},{"$f":"IF($B1160=\"\",\"\",VLOOKUP($B1160,_tbl!$A:$E,P$2,0))","v":"Rural"},{"$f":"IF($B1160=\"\",\"\",VLOOKUP($B1160,_tbl!$A:$E,Q$2,0))","v":"Total"},null,0.10244043339197,9.3784817293828801E-2]
[null,"all_m_West Rural.csv","85+",0.1825197083773,0.180885569286107,0.17803495092375701,0.17667442304442099,0.17604200452907501,0.17623372265027701,0.17656575613754499,0.17689167498104599,0.177059572476265,0.17715418969306199,{"$f":"IF($B1161=\"\",\"\",VLOOKUP($B1161,_tbl!$A:$E,N$2,0))","v":"Male"},{"$f":"IF($B1161=\"\",\"\",VLOOKUP($B1161,_tbl!$A:$E,O$2,0))","v":"West"},{"$f":"IF($B1161=\"\",\"\",VLOOKUP($B1161,_tbl!$A:$E,P$2,0))","v":"Rural"},{"$f":"IF($B1161=\"\",\"\",VLOOKUP($B1161,_tbl!$A:$E,Q$2,0))","v":"Total"},null,0.1825197083773,0.17604200452907501]
[null,null,null,null,null,null,null,null,null,null,null,null,null,{"$f":"IF($B1162=\"\",\"\",VLOOKUP($B1162,_tbl!$A:$E,N$2,0))","v":""},{"$f":"IF($B1162=\"\",\"\",VLOOKUP($B1162,_tbl!$A:$E,O$2,0))","v":""},{"$f":"IF($B1162=\"\",\"\",VLOOKUP($B1162,_tbl!$A:$E,P$2,0))","v":""},{"$f":"IF($B1162=\"\",\"\",VLOOKUP($B1162,_tbl!$A:$E,Q$2,0))","v":""}]
[null,null,null,2020,2021,2022,2023,2024,2025,2026,2027,2028,2029,{"$f":"IF($B1163=\"\",\"\",VLOOKUP($B1163,_tbl!$A:$E,N$2,0))","v":""},{"$f":"IF($B1163=\"\",\"\",VLOOKUP($B1163,_tbl!$A:$E,O$2,0))","v":""},{"$f":"IF($B1163=\"\",\"\",VLOOKUP($B1163,_tbl!$A:$E,P$2,0))","v":""},{"$f":"IF($B1163=\"\",\"\",VLOOKUP($B1163,_tbl!$A:$E,Q$2,0))","v":""}]
[null,"all_m_West Urban cancer.csv","1-4",3.2408260570659503E-5,3.22009783870791E-5,3.1858176932053697E-5,3.1534051532219403E-5,3.1244424867131298E-5,3.09595037533021E-5,3.0658391384292797E-5,3.0380789665622301E-5,3.0100109354562399E-5,2.9812532392020499E-5,{"$f":"IF($B1164=\"\",\"\",VLOOKUP($B1164,_tbl!$A:$E,N$2,0))","v":"Male"},{"$f":"IF($B1164=\"\",\"\",VLOOKUP($B1164,_tbl!$A:$E,O$2,0))","v":"West"},{"$f":"IF($B1164=\"\",\"\",VLOOKUP($B1164,_tbl!$A:$E,P$2,0))","v":"Urban"},{"$f":"IF($B1164=\"\",\"\",VLOOKUP($B1164,_tbl!$A:$E,Q$2,0))","v":"Cancer"},null,{"$f":"MAX(D1164:M1164)","v":3.2408260570659503E-5},{"$f":"MIN(D1164:M1164)","v":2.9812532392020499E-5}]
[null,"all_m_West Urban cancer.csv","5-9",3.2441471308891298E-5,3.2451114203050599E-5,3.2606791669329002E-5,3.2654922691288103E-5,3.2749218220785701E-5,3.2815428198819999E-5,3.2872687589513402E-5,3.2924242741712397E-5,3.2970947609500103E-5,3.3002623203219302E-5,{"$f":"IF($B1165=\"\",\"\",VLOOKUP($B1165,_tbl!$A:$E,N$2,0))","v":"Male"},{"$f":"IF($B1165=\"\",\"\",VLOOKUP($B1165,_tbl!$A:$E,O$2,0))","v":"West"},{"$f":"IF($B1165=\"\",\"\",VLOOKUP($B1165,_tbl!$A:$E,P$2,0))","v":"Urban"},{"$f":"IF($B1165=\"\",\"\",VLOOKUP($B1165,_tbl!$A:$E,Q$2,0))","v":"Cancer"},null,3.3002623203219302E-5,3.2441471308891298E-5]
[null,"all_m_West Urban cancer.csv","10-14",3.9631892776478702E-5,3.9527751237018999E-5,3.99965793179708E-5,4.0220359867374802E-5,4.0498746073813099E-5,4.0690118312771999E-5,4.0856439266152698E-5,4.0988383259021302E-5,4.1100237828642898E-5,4.11875270563947E-5,{"$f":"IF($B1166=\"\",\"\",VLOOKUP($B1166,_tbl!$A:$E,N$2,0))","v":"Male"},{"$f":"IF($B1166=\"\",\"\",VLOOKUP($B1166,_tbl!$A:$E,O$2,0))","v":"West"},{"$f":"IF($B1166=\"\",\"\",VLOOKUP($B1166,_tbl!$A:$E,P$2,0))","v":"Urban"},{"$f":"IF($B1166=\"\",\"\",VLOOKUP($B1166,_tbl!$A:$E,Q$2,0))","v":"Cancer"},null,4.11875270563947E-5,3.9527751237018999E-5]
[null,"all_m_West Urban cancer.csv","15-19",4.6572849143201399E-5,4.6446816717860498E-5,4.6633582961088303E-5,4.6675696548133397E-5,4.6762419342546897E-5,4.6801745546962499E-5,4.6833048921292097E-5,4.6843770824947598E-5,4.68363391655501E-5,4.68064739022858E-5,{"$f":"IF($B1167=\"\",\"\",VLOOKUP($B1167,_tbl!$A:$E,N$2,0))","v":"Male"},{"$f":"IF($B1167=\"\",\"\",VLOOKUP($B1167,_tbl!$A:$E,O$2,0))","v":"West"},{"$f":"IF($B1167=\"\",\"\",VLOOKUP($B1167,_tbl!$A:$E,P$2,0))","v":"Urban"},{"$f":"IF($B1167=\"\",\"\",VLOOKUP($B1167,_tbl!$A:$E,Q$2,0))","v":"Cancer"},null,4.6843770824947598E-5,4.6446816717860498E-5]
[null,"all_m_West Urban cancer.csv","20-24",6.9341891172718302E-5,6.9246850402666899E-5,6.9117960134214602E-5,6.8963370151501095E-5,6.8887283466206406E-5,6.8875795098669298E-5,6.89120726616509E-5,6.8958894724657901E-5,6.8994549340874897E-5,6.9007279441106605E-5,{"$f":"IF($B1168=\"\",\"\",VLOOKUP($B1168,_tbl!$A:$E,N$2,0))","v":"Male"},{"$f":"IF($B1168=\"\",\"\",VLOOKUP($B1168,_tbl!$A:$E,O$2,0))","v":"West"},{"$f":"IF($B1168=\"\",\"\",VLOOKUP($B1168,_tbl!$A:$E,P$2,0))","v":"Urban"},{"$f":"IF($B1168=\"\",\"\",VLOOKUP($B1168,_tbl!$A:$E,Q$2,0))","v":"Cancer"},null,6.9341891172718302E-5,6.8875795098669298E-5]
[null,"all_m_West Urban cancer.csv","25-29",1.107133304453E-4,1.10549602208335E-4,1.10028487628879E-4,1.09600461030283E-4,1.0925380166871599E-4,1.09074197138052E-4,1.08979676783195E-4,1.0892581489118799E-4,1.0885482168358901E-4,1.0874469596680001E-4,{"$f":"IF($B1169=\"\",\"\",VLOOKUP($B1169,_tbl!$A:$E,N$2,0))","v":"Male"},{"$f":"IF($B1169=\"\",\"\",VLOOKUP($B1169,_tbl!$A:$E,O$2,0))","v":"West"},{"$f":"IF($B1169=\"\",\"\",VLOOKUP($B1169,_tbl!$A:$E,P$2,0))","v":"Urban"},{"$f":"IF($B1169=\"\",\"\",VLOOKUP($B1169,_tbl!$A:$E,Q$2,0))","v":"Cancer"},null,1.107133304453E-4,1.0874469596680001E-4]
[null,"all_m_West Urban cancer.csv","30-34",1.9472230220087599E-4,1.9405879386270901E-4,1.9295206076875399E-4,1.9200939518808699E-4,1.9111173175792801E-4,1.90444079486709E-4,1.8984830569232199E-4,1.8930678562669001E-4,1.88713472336544E-4,1.8805948917247699E-4,{"$f":"IF($B1170=\"\",\"\",VLOOKUP($B1170,_tbl!$A:$E,N$2,0))","v":"Male"},{"$f":"IF($B1170=\"\",\"\",VLOOKUP($B1170,_tbl!$A:$E,O$2,0))","v":"West"},{"$f":"IF($B1170=\"\",\"\",VLOOKUP($B1170,_tbl!$A:$E,P$2,0))","v":"Urban"},{"$f":"IF($B1170=\"\",\"\",VLOOKUP($B1170,_tbl!$A:$E,Q$2,0))","v":"Cancer"},null,1.9472230220087599E-4,1.8805948917247699E-4]
[null,"all_m_West Urban cancer.csv","35-39",3.30426977458313E-4,3.2701224501192802E-4,3.2406134005812201E-4,3.2038691187928202E-4,3.1721631412652399E-4,3.14152316126416E-4,3.1137145564788602E-4,3.08443071599718E-4,3.0539237439970002E-4,3.0199820013796901E-4,{"$f":"IF($B1171=\"\",\"\",VLOOKUP($B1171,_tbl!$A:$E,N$2,0))","v":"Male"},{"$f":"IF($B1171=\"\",\"\",VLOOKUP($B1171,_tbl!$A:$E,O$2,0))","v":"West"},{"$f":"IF($B1171=\"\",\"\",VLOOKUP($B1171,_tbl!$A:$E,P$2,0))","v":"Urban"},{"$f":"IF($B1171=\"\",\"\",VLOOKUP($B1171,_tbl!$A:$E,Q$2,0))","v":"Cancer"},null,3.30426977458313E-4,3.0199820013796901E-4]
[null,"all_m_West Urban cancer.csv","40-44",5.4879762308562201E-4,5.4423555712112995E-4,5.3900597775834896E-4,5.33008435724422E-4,5.27721056168843E-4,5.2239475480382201E-4,5.1768093924055205E-4,5.1253116467703599E-4,5.0739424398752299E-4,5.0156237571846697E-4,{"$f":"IF($B1172=\"\",\"\",VLOOKUP($B1172,_tbl!$A:$E,N$2,0))","v":"Male"},{"$f":"IF($B1172=\"\",\"\",VLOOKUP($B1172,_tbl!$A:$E,O$2,0))","v":"West"},{"$f":"IF($B1172=\"\",\"\",VLOOKUP($B1172,_tbl!$A:$E,P$2,0))","v":"Urban"},{"$f":"IF($B1172=\"\",\"\",VLOOKUP($B1172,_tbl!$A:$E,Q$2,0))","v":"Cancer"},null,5.4879762308562201E-4,5.0156237571846697E-4]
[null,"all_m_West Urban cancer.csv","45-49",9.9080974633931592E-4,9.8739299772536491E-4,9.8420558568533306E-4,9.7848202542072209E-4,9.7453113874026195E-4,9.6978802068942204E-4,9.6635562386995603E-4,9.6200730639540196E-4,9.5795667805884002E-4,9.5272775830505005E-4,{"$f":"IF($B1173=\"\",\"\",VLOOKUP($B1173,_tbl!$A:$E,N$2,0))","v":"Male"},{"$f":"IF($B1173=\"\",\"\",VLOOKUP($B1173,_tbl!$A:$E,O$2,0))","v":"West"},{"$f":"IF($B1173=\"\",\"\",VLOOKUP($B1173,_tbl!$A:$E,P$2,0))","v":"Urban"},{"$f":"IF($B1173=\"\",\"\",VLOOKUP($B1173,_tbl!$A:$E,Q$2,0))","v":"Cancer"},null,9.9080974633931592E-4,9.5272775830505005E-4]
[null,"all_m_West Urban cancer.csv","50-54",1.7517702619993399E-3,1.74563056742036E-3,1.73593149874372E-3,1.7263097419583E-3,1.71656209327138E-3,1.7064145252629101E-3,1.6967229933762199E-3,1.6865213248854799E-3,1.67667952047929E-3,1.6662769308889E-3,{"$f":"IF($B1174=\"\",\"\",VLOOKUP($B1174,_tbl!$A:$E,N$2,0))","v":"Male"},{"$f":"IF($B1174=\"\",\"\",VLOOKUP($B1174,_tbl!$A:$E,O$2,0))","v":"West"},{"$f":"IF($B1174=\"\",\"\",VLOOKUP($B1174,_tbl!$A:$E,P$2,0))","v":"Urban"},{"$f":"IF($B1174=\"\",\"\",VLOOKUP($B1174,_tbl!$A:$E,Q$2,0))","v":"Cancer"},null,1.7517702619993399E-3,1.6662769308889E-3]
[null,"all_m_West Urban cancer.csv","55-59",2.8173442819421201E-3,2.7986063242296899E-3,2.7751842944407899E-3,2.74809385599525E-3,2.7192002636188001E-3,2.6882458811750601E-3,2.6573084265537001E-3,2.6255568003423699E-3,2.5943674725052101E-3,2.5627717605714402E-3,{"$f":"IF($B1175=\"\",\"\",VLOOKUP($B1175,_tbl!$A:$E,N$2,0))","v":"Male"},{"$f":"IF($B1175=\"\",\"\",VLOOKUP($B1175,_tbl!$A:$E,O$2,0))","v":"West"},{"$f":"IF($B1175=\"\",\"\",VLOOKUP($B1175,_tbl!$A:$E,P$2,0))","v":"Urban"},{"$f":"IF($B1175=\"\",\"\",VLOOKUP($B1175,_tbl!$A:$E,Q$2,0))","v":"Cancer"},null,2.8173442819421201E-3,2.5627717605714402E-3]
[null,"all_m_West Urban cancer.csv","60-64",4.3396008634940903E-3,4.3373325588079298E-3,4.32852053766687E-3,4.3115342950816602E-3,4.2904328881762602E-3,4.2655935272035298E-3,4.2395677950729203E-3,4.2123340093665499E-3,4.1850476341420096E-3,4.1573358422175802E-3,{"$f":"IF($B1176=\"\",\"\",VLOOKUP($B1176,_tbl!$A:$E,N$2,0))","v":"Male"},{"$f":"IF($B1176=\"\",\"\",VLOOKUP($B1176,_tbl!$A:$E,O$2,0))","v":"West"},{"$f":"IF($B1176=\"\",\"\",VLOOKUP($B1176,_tbl!$A:$E,P$2,0))","v":"Urban"},{"$f":"IF($B1176=\"\",\"\",VLOOKUP($B1176,_tbl!$A:$E,Q$2,0))","v":"Cancer"},null,4.3396008634940903E-3,4.1573358422175802E-3]
[null,"all_m_West Urban cancer.csv","65-69",6.2100905984944499E-3,6.2049522078745697E-3,6.1866043969437999E-3,6.1645382382279502E-3,6.1384346144096298E-3,6.1118339061956304E-3,6.0840353872608699E-3,6.0561249956948698E-3,6.0273786155568597E-3,5.9983917440165702E-3,{"$f":"IF($B1177=\"\",\"\",VLOOKUP($B1177,_tbl!$A:$E,N$2,0))","v":"Male"},{"$f":"IF($B1177=\"\",\"\",VLOOKUP($B1177,_tbl!$A:$E,O$2,0))","v":"West"},{"$f":"IF($B1177=\"\",\"\",VLOOKUP($B1177,_tbl!$A:$E,P$2,0))","v":"Urban"},{"$f":"IF($B1177=\"\",\"\",VLOOKUP($B1177,_tbl!$A:$E,Q$2,0))","v":"Cancer"},null,6.2100905984944499E-3,5.9983917440165702E-3]
[null,"all_m_West Urban cancer.csv","70-74",9.0880961424004408E-3,9.0888909674138492E-3,9.07433735380604E-3,9.0654146255112998E-3,9.0542660104229004E-3,9.0457225320552202E-3,9.0369413770084901E-3,9.0283264560727296E-3,9.0191723096956795E-3,9.0093706672195201E-3,{"$f":"IF($B1178=\"\",\"\",VLOOKUP($B1178,_tbl!$A:$E,N$2,0))","v":"Male"},{"$f":"IF($B1178=\"\",\"\",VLOOKUP($B1178,_tbl!$A:$E,O$2,0))","v":"West"},{"$f":"IF($B1178=\"\",\"\",VLOOKUP($B1178,_tbl!$A:$E,P$2,0))","v":"Urban"},{"$f":"IF($B1178=\"\",\"\",VLOOKUP($B1178,_tbl!$A:$E,Q$2,0))","v":"Cancer"},null,9.0888909674138492E-3,9.0093706672195201E-3]
[null,"all_m_West Urban cancer.csv","75-79",1.2810104506855E-2,1.28541910441508E-2,1.28950364433882E-2,1.2931049586395399E-2,1.29446858302288E-2,1.2942217391764699E-2,1.2929194442044999E-2,1.29145645359535E-2,1.2905831582202499E-2,1.2905942866925301E-2,{"$f":"IF($B1179=\"\",\"\",VLOOKUP($B1179,_tbl!$A:$E,N$2,0))","v":"Male"},{"$f":"IF($B1179=\"\",\"\",VLOOKUP($B1179,_tbl!$A:$E,O$2,0))","v":"West"},{"$f":"IF($B1179=\"\",\"\",VLOOKUP($B1179,_tbl!$A:$E,P$2,0))","v":"Urban"},{"$f":"IF($B1179=\"\",\"\",VLOOKUP($B1179,_tbl!$A:$E,Q$2,0))","v":"Cancer"},null,1.29446858302288E-2,1.2810104506855E-2]
[null,"all_m_West Urban cancer.csv","80-84",1.68767750831341E-2,1.6945569536004599E-2,1.69864557636305E-2,1.70213327481748E-2,1.6964721786814199E-2,1.68605445311912E-2,1.671921092867E-2,1.65795272459076E-2,1.6457981258411199E-2,1.63675186552527E-2,{"$f":"IF($B1180=\"\",\"\",VLOOKUP($B1180,_tbl!$A:$E,N$2,0))","v":"Male"},{"$f":"IF($B1180=\"\",\"\",VLOOKUP($B1180,_tbl!$A:$E,O$2,0))","v":"West"},{"$f":"IF($B1180=\"\",\"\",VLOOKUP($B1180,_tbl!$A:$E,P$2,0))","v":"Urban"},{"$f":"IF($B1180=\"\",\"\",VLOOKUP($B1180,_tbl!$A:$E,Q$2,0))","v":"Cancer"},null,1.70213327481748E-2,1.63675186552527E-2]
[null,"all_m_West Urban cancer.csv","85+",2.2471048809856401E-2,2.28080738676695E-2,2.3231138496260201E-2,2.3529517144653098E-2,2.35672716480359E-2,2.3407555661978201E-2,2.3122658260752101E-2,2.2817757052835501E-2,2.25748120679744E-2,2.2446652833282E-2,{"$f":"IF($B1181=\"\",\"\",VLOOKUP($B1181,_tbl!$A:$E,N$2,0))","v":"Male"},{"$f":"IF($B1181=\"\",\"\",VLOOKUP($B1181,_tbl!$A:$E,O$2,0))","v":"West"},{"$f":"IF($B1181=\"\",\"\",VLOOKUP($B1181,_tbl!$A:$E,P$2,0))","v":"Urban"},{"$f":"IF($B1181=\"\",\"\",VLOOKUP($B1181,_tbl!$A:$E,Q$2,0))","v":"Cancer"},null,2.35672716480359E-2,2.2446652833282E-2]
[null,null,null,null,null,null,null,null,null,null,null,null,null,{"$f":"IF($B1182=\"\",\"\",VLOOKUP($B1182,_tbl!$A:$E,N$2,0))","v":""},{"$f":"IF($B1182=\"\",\"\",VLOOKUP($B1182,_tbl!$A:$E,O$2,0))","v":""},{"$f":"IF($B1182=\"\",\"\",VLOOKUP($B1182,_tbl!$A:$E,P$2,0))","v":""},{"$f":"IF($B1182=\"\",\"\",VLOOKUP($B1182,_tbl!$A:$E,Q$2,0))","v":""}]
[null,null,null,2020,2021,2022,2023,2024,2025,2026,2027,2028,2029,{"$f":"IF($B1183=\"\",\"\",VLOOKUP($B1183,_tbl!$A:$E,N$2,0))","v":""},{"$f":"IF($B1183=\"\",\"\",VLOOKUP($B1183,_tbl!$A:$E,O$2,0))","v":""},{"$f":"IF($B1183=\"\",\"\",VLOOKUP($B1183,_tbl!$A:$E,P$2,0))","v":""},{"$f":"IF($B1183=\"\",\"\",VLOOKUP($B1183,_tbl!$A:$E,Q$2,0))","v":""}]
[null,"all_m_West Urban circulatory.csv","1-4",2.9570380309189698E-5,2.9077003369902799E-5,2.83970622135336E-5,2.7870629729319799E-5,2.7317427704428501E-5,2.6842888428409899E-5,2.6373965138339599E-5,2.5936518675023701E-5,2.54887004634094E-5,2.5056038154332201E-5,{"$f":"IF($B1184=\"\",\"\",VLOOKUP($B1184,_tbl!$A:$E,N$2,0))","v":"Male"},{"$f":"IF($B1184=\"\",\"\",VLOOKUP($B1184,_tbl!$A:$E,O$2,0))","v":"West"},{"$f":"IF($B1184=\"\",\"\",VLOOKUP($B1184,_tbl!$A:$E,P$2,0))","v":"Urban"},{"$f":"IF($B1184=\"\",\"\",VLOOKUP($B1184,_tbl!$A:$E,Q$2,0))","v":"Circulatory"},null,{"$f":"MAX(D1184:M1184)","v":2.9570380309189698E-5},{"$f":"MIN(D1184:M1184)","v":2.5056038154332201E-5}]
[null,"all_m_West Urban circulatory.csv","5-9",1.93885965239674E-5,1.93146893633837E-5,1.9257937892406498E-5,1.92192288435927E-5,1.9169372477645399E-5,1.91224723498947E-5,1.9080991519002601E-5,1.9034893343465701E-5,1.8981884862710001E-5,1.8930338616576802E-5,{"$f":"IF($B1185=\"\",\"\",VLOOKUP($B1185,_tbl!$A:$E,N$2,0))","v":"Male"},{"$f":"IF($B1185=\"\",\"\",VLOOKUP($B1185,_tbl!$A:$E,O$2,0))","v":"West"},{"$f":"IF($B1185=\"\",\"\",VLOOKUP($B1185,_tbl!$A:$E,P$2,0))","v":"Urban"},{"$f":"IF($B1185=\"\",\"\",VLOOKUP($B1185,_tbl!$A:$E,Q$2,0))","v":"Circulatory"},null,1.93885965239674E-5,1.8930338616576802E-5]
[null,"all_m_West Urban circulatory.csv","10-14",2.31525140299392E-5,2.30724565766223E-5,2.3064647053044999E-5,2.30461243348025E-5,2.3032253726901101E-5,2.30210775505204E-5,2.3010332556953101E-5,2.29987675336563E-5,2.2981578086570501E-5,2.2959648346332101E-5,{"$f":"IF($B1186=\"\",\"\",VLOOKUP($B1186,_tbl!$A:$E,N$2,0))","v":"Male"},{"$f":"IF($B1186=\"\",\"\",VLOOKUP($B1186,_tbl!$A:$E,O$2,0))","v":"West"},{"$f":"IF($B1186=\"\",\"\",VLOOKUP($B1186,_tbl!$A:$E,P$2,0))","v":"Urban"},{"$f":"IF($B1186=\"\",\"\",VLOOKUP($B1186,_tbl!$A:$E,Q$2,0))","v":"Circulatory"},null,2.31525140299392E-5,2.2959648346332101E-5]
[null,"all_m_West Urban circulatory.csv","15-19",3.3689725756244397E-5,3.3679016706203099E-5,3.3671435856269198E-5,3.3672471531295203E-5,3.3657997478416799E-5,3.3638285104329297E-5,3.3612713477605002E-5,3.3585159063410702E-5,3.3557009904177099E-5,3.3531583030981297E-5,{"$f":"IF($B1187=\"\",\"\",VLOOKUP($B1187,_tbl!$A:$E,N$2,0))","v":"Male"},{"$f":"IF($B1187=\"\",\"\",VLOOKUP($B1187,_tbl!$A:$E,O$2,0))","v":"West"},{"$f":"IF($B1187=\"\",\"\",VLOOKUP($B1187,_tbl!$A:$E,P$2,0))","v":"Urban"},{"$f":"IF($B1187=\"\",\"\",VLOOKUP($B1187,_tbl!$A:$E,Q$2,0))","v":"Circulatory"},null,3.3689725756244397E-5,3.3531583030981297E-5]
[null,"all_m_West Urban circulatory.csv","20-24",5.5180633165500197E-5,5.5219170004243397E-5,5.5218056932074803E-5,5.5243724721304798E-5,5.5205361197515403E-5,5.5135692114804101E-5,5.5029534372410902E-5,5.4917447566453499E-5,5.4807217908700801E-5,5.4709422586107499E-5,{"$f":"IF($B1188=\"\",\"\",VLOOKUP($B1188,_tbl!$A:$E,N$2,0))","v":"Male"},{"$f":"IF($B1188=\"\",\"\",VLOOKUP($B1188,_tbl!$A:$E,O$2,0))","v":"West"},{"$f":"IF($B1188=\"\",\"\",VLOOKUP($B1188,_tbl!$A:$E,P$2,0))","v":"Urban"},{"$f":"IF($B1188=\"\",\"\",VLOOKUP($B1188,_tbl!$A:$E,Q$2,0))","v":"Circulatory"},null,5.5243724721304798E-5,5.4709422586107499E-5]
[null,"all_m_West Urban circulatory.csv","25-29",9.5892360976877902E-5,9.5824851850837505E-5,9.5440740218787098E-5,9.5157470524784293E-5,9.4834832611977499E-5,9.4570328214387998E-5,9.4304369850909498E-5,9.4055787218780905E-5,9.3799224026472802E-5,9.3537886194037894E-5,{"$f":"IF($B1189=\"\",\"\",VLOOKUP($B1189,_tbl!$A:$E,N$2,0))","v":"Male"},{"$f":"IF($B1189=\"\",\"\",VLOOKUP($B1189,_tbl!$A:$E,O$2,0))","v":"West"},{"$f":"IF($B1189=\"\",\"\",VLOOKUP($B1189,_tbl!$A:$E,P$2,0))","v":"Urban"},{"$f":"IF($B1189=\"\",\"\",VLOOKUP($B1189,_tbl!$A:$E,Q$2,0))","v":"Circulatory"},null,9.5892360976877902E-5,9.3537886194037894E-5]
[null,"all_m_West Urban circulatory.csv","30-34",1.7528795665828801E-4,1.74872085979627E-4,1.74017159081281E-4,1.7336752119190201E-4,1.7269139592021501E-4,1.7218820038646999E-4,1.7171488700854E-4,1.7129233537933601E-4,1.70846446390135E-4,1.7038378444092899E-4,{"$f":"IF($B1190=\"\",\"\",VLOOKUP($B1190,_tbl!$A:$E,N$2,0))","v":"Male"},{"$f":"IF($B1190=\"\",\"\",VLOOKUP($B1190,_tbl!$A:$E,O$2,0))","v":"West"},{"$f":"IF($B1190=\"\",\"\",VLOOKUP($B1190,_tbl!$A:$E,P$2,0))","v":"Urban"},{"$f":"IF($B1190=\"\",\"\",VLOOKUP($B1190,_tbl!$A:$E,Q$2,0))","v":"Circulatory"},null,1.7528795665828801E-4,1.7038378444092899E-4]
[null,"all_m_West Urban circulatory.csv","35-39",3.0454443112831303E-4,3.0377014894318897E-4,3.0254847619928002E-4,3.01476812612546E-4,3.0010303051347702E-4,2.9883498487141499E-4,2.97422051663165E-4,2.9603656420264203E-4,2.94582934460474E-4,2.9314568348665603E-4,{"$f":"IF($B1191=\"\",\"\",VLOOKUP($B1191,_tbl!$A:$E,N$2,0))","v":"Male"},{"$f":"IF($B1191=\"\",\"\",VLOOKUP($B1191,_tbl!$A:$E,O$2,0))","v":"West"},{"$f":"IF($B1191=\"\",\"\",VLOOKUP($B1191,_tbl!$A:$E,P$2,0))","v":"Urban"},{"$f":"IF($B1191=\"\",\"\",VLOOKUP($B1191,_tbl!$A:$E,Q$2,0))","v":"Circulatory"},null,3.0454443112831303E-4,2.9314568348665603E-4]
[null,"all_m_West Urban circulatory.csv","40-44",5.3602298250018704E-4,5.3861558867853104E-4,5.3726019529353396E-4,5.3724902328370196E-4,5.3545741526335705E-4,5.3389163221039101E-4,5.3133721589659899E-4,5.2881834303613402E-4,5.2598197443003299E-4,5.2335789381071599E-4,{"$f":"IF($B1192=\"\",\"\",VLOOKUP($B1192,_tbl!$A:$E,N$2,0))","v":"Male"},{"$f":"IF($B1192=\"\",\"\",VLOOKUP($B1192,_tbl!$A:$E,O$2,0))","v":"West"},{"$f":"IF($B1192=\"\",\"\",VLOOKUP($B1192,_tbl!$A:$E,P$2,0))","v":"Urban"},{"$f":"IF($B1192=\"\",\"\",VLOOKUP($B1192,_tbl!$A:$E,Q$2,0))","v":"Circulatory"},null,5.3861558867853104E-4,5.2335789381071599E-4]
[null,"all_m_West Urban circulatory.csv","45-49",9.2754314649379395E-4,9.3205081656738795E-4,9.3380289202214199E-4,9.3609901458561605E-4,9.37762858995877E-4,9.4011424454852903E-4,9.4205819577382896E-4,9.4411330903780501E-4,9.4553937228387703E-4,9.4669834187007603E-4,{"$f":"IF($B1193=\"\",\"\",VLOOKUP($B1193,_tbl!$A:$E,N$2,0))","v":"Male"},{"$f":"IF($B1193=\"\",\"\",VLOOKUP($B1193,_tbl!$A:$E,O$2,0))","v":"West"},{"$f":"IF($B1193=\"\",\"\",VLOOKUP($B1193,_tbl!$A:$E,P$2,0))","v":"Urban"},{"$f":"IF($B1193=\"\",\"\",VLOOKUP($B1193,_tbl!$A:$E,Q$2,0))","v":"Circulatory"},null,9.4669834187007603E-4,9.2754314649379395E-4]
[null,"all_m_West Urban circulatory.csv","50-54",1.55371143566633E-3,1.5559528295861201E-3,1.5540862360825E-3,1.5541600428999E-3,1.55312063807175E-3,1.55307718666801E-3,1.55256527131847E-3,1.55232530077731E-3,1.5515881015959901E-3,1.55074261419094E-3,{"$f":"IF($B1194=\"\",\"\",VLOOKUP($B1194,_tbl!$A:$E,N$2,0))","v":"Male"},{"$f":"IF($B1194=\"\",\"\",VLOOKUP($B1194,_tbl!$A:$E,O$2,0))","v":"West"},{"$f":"IF($B1194=\"\",\"\",VLOOKUP($B1194,_tbl!$A:$E,P$2,0))","v":"Urban"},{"$f":"IF($B1194=\"\",\"\",VLOOKUP($B1194,_tbl!$A:$E,Q$2,0))","v":"Circulatory"},null,1.5559528295861201E-3,1.55074261419094E-3]
[null,"all_m_West Urban circulatory.csv","55-59",2.4714423421244398E-3,2.46893621609041E-3,2.4592689169691401E-3,2.4487128458022698E-3,2.43547874005429E-3,2.42138802400545E-3,2.4065744270728999E-3,2.3913944338341E-3,2.3762337119628799E-3,2.3609510886608799E-3,{"$f":"IF($B1195=\"\",\"\",VLOOKUP($B1195,_tbl!$A:$E,N$2,0))","v":"Male"},{"$f":"IF($B1195=\"\",\"\",VLOOKUP($B1195,_tbl!$A:$E,O$2,0))","v":"West"},{"$f":"IF($B1195=\"\",\"\",VLOOKUP($B1195,_tbl!$A:$E,P$2,0))","v":"Urban"},{"$f":"IF($B1195=\"\",\"\",VLOOKUP($B1195,_tbl!$A:$E,Q$2,0))","v":"Circulatory"},null,2.4714423421244398E-3,2.3609510886608799E-3]
[null,"all_m_West Urban circulatory.csv","60-64",3.7714692040177601E-3,3.7517850676421498E-3,3.7176456253122602E-3,3.6849082289788799E-3,3.64760766145204E-3,3.61038873567827E-3,3.5719747744288898E-3,3.5332480799718899E-3,3.4943014394009202E-3,3.4550956745701298E-3,{"$f":"IF($B1196=\"\",\"\",VLOOKUP($B1196,_tbl!$A:$E,N$2,0))","v":"Male"},{"$f":"IF($B1196=\"\",\"\",VLOOKUP($B1196,_tbl!$A:$E,O$2,0))","v":"West"},{"$f":"IF($B1196=\"\",\"\",VLOOKUP($B1196,_tbl!$A:$E,P$2,0))","v":"Urban"},{"$f":"IF($B1196=\"\",\"\",VLOOKUP($B1196,_tbl!$A:$E,Q$2,0))","v":"Circulatory"},null,3.7714692040177601E-3,3.4550956745701298E-3]
[null,"all_m_West Urban circulatory.csv","65-69",6.3279792112584804E-3,6.2890813362351397E-3,6.22622377671774E-3,6.1695972071818903E-3,6.1109803574848397E-3,6.0567686707183304E-3,6.0038226413196899E-3,5.9508153024623598E-3,5.8971028155150196E-3,5.8412392170162E-3,{"$f":"IF($B1197=\"\",\"\",VLOOKUP($B1197,_tbl!$A:$E,N$2,0))","v":"Male"},{"$f":"IF($B1197=\"\",\"\",VLOOKUP($B1197,_tbl!$A:$E,O$2,0))","v":"West"},{"$f":"IF($B1197=\"\",\"\",VLOOKUP($B1197,_tbl!$A:$E,P$2,0))","v":"Urban"},{"$f":"IF($B1197=\"\",\"\",VLOOKUP($B1197,_tbl!$A:$E,Q$2,0))","v":"Circulatory"},null,6.3279792112584804E-3,5.8412392170162E-3]
[null,"all_m_West Urban circulatory.csv","70-74",1.1611092778340999E-2,1.15502774745993E-2,1.14508674185992E-2,1.13648390533726E-2,1.1269713310703099E-2,1.11780227984303E-2,1.1085909912668199E-2,1.0993597275446E-2,1.0902220241578E-2,1.0809750582239E-2,{"$f":"IF($B1198=\"\",\"\",VLOOKUP($B1198,_tbl!$A:$E,N$2,0))","v":"Male"},{"$f":"IF($B1198=\"\",\"\",VLOOKUP($B1198,_tbl!$A:$E,O$2,0))","v":"West"},{"$f":"IF($B1198=\"\",\"\",VLOOKUP($B1198,_tbl!$A:$E,P$2,0))","v":"Urban"},{"$f":"IF($B1198=\"\",\"\",VLOOKUP($B1198,_tbl!$A:$E,Q$2,0))","v":"Circulatory"},null,1.1611092778340999E-2,1.0809750582239E-2]
[null,"all_m_West Urban circulatory.csv","75-79",2.2812957420758902E-2,2.28140868088599E-2,2.2778130674532299E-2,2.273883533657E-2,2.2612532161078999E-2,2.2434375931264499E-2,2.2219196133513398E-2,2.1999878916631702E-2,2.1800332693433799E-2,2.16291318812862E-2,{"$f":"IF($B1199=\"\",\"\",VLOOKUP($B1199,_tbl!$A:$E,N$2,0))","v":"Male"},{"$f":"IF($B1199=\"\",\"\",VLOOKUP($B1199,_tbl!$A:$E,O$2,0))","v":"West"},{"$f":"IF($B1199=\"\",\"\",VLOOKUP($B1199,_tbl!$A:$E,P$2,0))","v":"Urban"},{"$f":"IF($B1199=\"\",\"\",VLOOKUP($B1199,_tbl!$A:$E,Q$2,0))","v":"Circulatory"},null,2.28140868088599E-2,2.16291318812862E-2]
[null,"all_m_West Urban circulatory.csv","80-84",4.5360269217636799E-2,4.6334247571684098E-2,4.7027571297787202E-2,4.7651573857638303E-2,4.7742681682158797E-2,4.7603502987411297E-2,4.7285338746985803E-2,4.69919386632398E-2,4.6776287592846397E-2,4.6684894096944998E-2,{"$f":"IF($B1200=\"\",\"\",VLOOKUP($B1200,_tbl!$A:$E,N$2,0))","v":"Male"},{"$f":"IF($B1200=\"\",\"\",VLOOKUP($B1200,_tbl!$A:$E,O$2,0))","v":"West"},{"$f":"IF($B1200=\"\",\"\",VLOOKUP($B1200,_tbl!$A:$E,P$2,0))","v":"Urban"},{"$f":"IF($B1200=\"\",\"\",VLOOKUP($B1200,_tbl!$A:$E,Q$2,0))","v":"Circulatory"},null,4.7742681682158797E-2,4.5360269217636799E-2]
[null,"all_m_West Urban circulatory.csv","85+",8.4303982878433506E-2,8.5442523985301305E-2,8.6074001014311605E-2,8.6636604923537697E-2,8.6712459721104196E-2,8.68331473658739E-2,8.7031902344276296E-2,8.7442969274693305E-2,8.7863034204503906E-2,8.8145880763389903E-2,{"$f":"IF($B1201=\"\",\"\",VLOOKUP($B1201,_tbl!$A:$E,N$2,0))","v":"Male"},{"$f":"IF($B1201=\"\",\"\",VLOOKUP($B1201,_tbl!$A:$E,O$2,0))","v":"West"},{"$f":"IF($B1201=\"\",\"\",VLOOKUP($B1201,_tbl!$A:$E,P$2,0))","v":"Urban"},{"$f":"IF($B1201=\"\",\"\",VLOOKUP($B1201,_tbl!$A:$E,Q$2,0))","v":"Circulatory"},null,8.8145880763389903E-2,8.4303982878433506E-2]
[null,null,null,null,null,null,null,null,null,null,null,null,null,{"$f":"IF($B1202=\"\",\"\",VLOOKUP($B1202,_tbl!$A:$E,N$2,0))","v":""},{"$f":"IF($B1202=\"\",\"\",VLOOKUP($B1202,_tbl!$A:$E,O$2,0))","v":""},{"$f":"IF($B1202=\"\",\"\",VLOOKUP($B1202,_tbl!$A:$E,P$2,0))","v":""},{"$f":"IF($B1202=\"\",\"\",VLOOKUP($B1202,_tbl!$A:$E,Q$2,0))","v":""}]
[null,null,null,2020,2021,2022,2023,2024,2025,2026,2027,2028,2029,{"$f":"IF($B1203=\"\",\"\",VLOOKUP($B1203,_tbl!$A:$E,N$2,0))","v":""},{"$f":"IF($B1203=\"\",\"\",VLOOKUP($B1203,_tbl!$A:$E,O$2,0))","v":""},{"$f":"IF($B1203=\"\",\"\",VLOOKUP($B1203,_tbl!$A:$E,P$2,0))","v":""},{"$f":"IF($B1203=\"\",\"\",VLOOKUP($B1203,_tbl!$A:$E,Q$2,0))","v":""}]
[null,"all_m_West Urban congenital.csv","1-4",7.2333940603405304E-5,7.2178595205483098E-5,7.1725752508519603E-5,7.1350880595714403E-5,7.0999685436437497E-5,7.0567957888321794E-5,7.0148246381742502E-5,6.9713588603669902E-5,6.9262575291797004E-5,6.8814955942427696E-5,{"$f":"IF($B1204=\"\",\"\",VLOOKUP($B1204,_tbl!$A:$E,N$2,0))","v":"Male"},{"$f":"IF($B1204=\"\",\"\",VLOOKUP($B1204,_tbl!$A:$E,O$2,0))","v":"West"},{"$f":"IF($B1204=\"\",\"\",VLOOKUP($B1204,_tbl!$A:$E,P$2,0))","v":"Urban"},{"$f":"IF($B1204=\"\",\"\",VLOOKUP($B1204,_tbl!$A:$E,Q$2,0))","v":"Congenital"},null,{"$f":"MAX(D1204:M1204)","v":7.2333940603405304E-5},{"$f":"MIN(D1204:M1204)","v":6.8814955942427696E-5}]
[null,"all_m_West Urban congenital.csv","5-9",1.63018177933703E-5,1.6343895480917099E-5,1.6461983146598201E-5,1.65390304009711E-5,1.6618270087145099E-5,1.6680276950519101E-5,1.67407886435591E-5,1.67936024437201E-5,1.68480792624212E-5,1.6905858463670499E-5,{"$f":"IF($B1205=\"\",\"\",VLOOKUP($B1205,_tbl!$A:$E,N$2,0))","v":"Male"},{"$f":"IF($B1205=\"\",\"\",VLOOKUP($B1205,_tbl!$A:$E,O$2,0))","v":"West"},{"$f":"IF($B1205=\"\",\"\",VLOOKUP($B1205,_tbl!$A:$E,P$2,0))","v":"Urban"},{"$f":"IF($B1205=\"\",\"\",VLOOKUP($B1205,_tbl!$A:$E,Q$2,0))","v":"Congenital"},null,1.6905858463670499E-5,1.63018177933703E-5]
[null,"all_m_West Urban congenital.csv","10-14",1.21909152480607E-5,1.21651019354248E-5,1.2190465431228501E-5,1.22032861947374E-5,1.2218742099032601E-5,1.22307697030144E-5,1.2246019975582201E-5,1.2256996813905499E-5,1.22643479653331E-5,1.22703799801679E-5,{"$f":"IF($B1206=\"\",\"\",VLOOKUP($B1206,_tbl!$A:$E,N$2,0))","v":"Male"},{"$f":"IF($B1206=\"\",\"\",VLOOKUP($B1206,_tbl!$A:$E,O$2,0))","v":"West"},{"$f":"IF($B1206=\"\",\"\",VLOOKUP($B1206,_tbl!$A:$E,P$2,0))","v":"Urban"},{"$f":"IF($B1206=\"\",\"\",VLOOKUP($B1206,_tbl!$A:$E,Q$2,0))","v":"Congenital"},null,1.22703799801679E-5,1.21651019354248E-5]
[null,"all_m_West Urban congenital.csv","15-19",1.03686678606319E-5,1.0340652061431499E-5,1.03231961763633E-5,1.02917413330349E-5,1.0283401010513E-5,1.02855464994881E-5,1.02982695279897E-5,1.0313373470935101E-5,1.03258695139112E-5,1.0333895588891101E-5,{"$f":"IF($B1207=\"\",\"\",VLOOKUP($B1207,_tbl!$A:$E,N$2,0))","v":"Male"},{"$f":"IF($B1207=\"\",\"\",VLOOKUP($B1207,_tbl!$A:$E,O$2,0))","v":"West"},{"$f":"IF($B1207=\"\",\"\",VLOOKUP($B1207,_tbl!$A:$E,P$2,0))","v":"Urban"},{"$f":"IF($B1207=\"\",\"\",VLOOKUP($B1207,_tbl!$A:$E,Q$2,0))","v":"Congenital"},null,1.03686678606319E-5,1.0283401010513E-5]
[null,"all_m_West Urban congenital.csv","20-24",9.3499255034956607E-6,9.2918810275593804E-6,9.2269388975151897E-6,9.1537202217508808E-6,9.1178746209581495E-6,9.1086137209858796E-6,9.1222998315171498E-6,9.1405727602356095E-6,9.1532236768831307E-6,9.1539395041799808E-6,{"$f":"IF($B1208=\"\",\"\",VLOOKUP($B1208,_tbl!$A:$E,N$2,0))","v":"Male"},{"$f":"IF($B1208=\"\",\"\",VLOOKUP($B1208,_tbl!$A:$E,O$2,0))","v":"West"},{"$f":"IF($B1208=\"\",\"\",VLOOKUP($B1208,_tbl!$A:$E,P$2,0))","v":"Urban"},{"$f":"IF($B1208=\"\",\"\",VLOOKUP($B1208,_tbl!$A:$E,Q$2,0))","v":"Congenital"},null,9.3499255034956607E-6,9.1086137209858796E-6]
[null,"all_m_West Urban congenital.csv","25-29",9.1875737312526399E-6,9.1073277065900994E-6,9.0128597756113198E-6,8.9052284843547699E-6,8.83904457605542E-6,8.7939405550292197E-6,8.7746441662645506E-6,8.7563728822336306E-6,8.7363683804722098E-6,8.6980014977566005E-6,{"$f":"IF($B1209=\"\",\"\",VLOOKUP($B1209,_tbl!$A:$E,N$2,0))","v":"Male"},{"$f":"IF($B1209=\"\",\"\",VLOOKUP($B1209,_tbl!$A:$E,O$2,0))","v":"West"},{"$f":"IF($B1209=\"\",\"\",VLOOKUP($B1209,_tbl!$A:$E,P$2,0))","v":"Urban"},{"$f":"IF($B1209=\"\",\"\",VLOOKUP($B1209,_tbl!$A:$E,Q$2,0))","v":"Congenital"},null,9.1875737312526399E-6,8.6980014977566005E-6]
[null,"all_m_West Urban congenital.csv",null,null,null,null,null,null,null,null,null,null,null,{"$f":"IF($B1210=\"\",\"\",VLOOKUP($B1210,_tbl!$A:$E,N$2,0))","v":"Male"},{"$f":"IF($B1210=\"\",\"\",VLOOKUP($B1210,_tbl!$A:$E,O$2,0))","v":"West"},{"$f":"IF($B1210=\"\",\"\",VLOOKUP($B1210,_tbl!$A:$E,P$2,0))","v":"Urban"},{"$f":"IF($B1210=\"\",\"\",VLOOKUP($B1210,_tbl!$A:$E,Q$2,0))","v":"Congenital"},null,0,0]
[null,"all_m_West Urban congenital.csv",null,null,null,null,null,null,null,null,null,null,null,{"$f":"IF($B1211=\"\",\"\",VLOOKUP($B1211,_tbl!$A:$E,N$2,0))","v":"Male"},{"$f":"IF($B1211=\"\",\"\",VLOOKUP($B1211,_tbl!$A:$E,O$2,0))","v":"West"},{"$f":"IF($B1211=\"\",\"\",VLOOKUP($B1211,_tbl!$A:$E,P$2,0))","v":"Urban"},{"$f":"IF($B1211=\"\",\"\",VLOOKUP($B1211,_tbl!$A:$E,Q$2,0))","v":"Congenital"},null,0,0]
[null,"all_m_West Urban congenital.csv",null,null,null,null,null,null,null,null,null,null,null,{"$f":"IF($B1212=\"\",\"\",VLOOKUP($B1212,_tbl!$A:$E,N$2,0))","v":"Male"},{"$f":"IF($B1212=\"\",\"\",VLOOKUP($B1212,_tbl!$A:$E,O$2,0))","v":"West"},{"$f":"IF($B1212=\"\",\"\",VLOOKUP($B1212,_tbl!$A:$E,P$2,0))","v":"Urban"},{"$f":"IF($B1212=\"\",\"\",VLOOKUP($B1212,_tbl!$A:$E,Q$2,0))","v":"Congenital"},null,0,0]
[null,"all_m_West Urban congenital.csv",null,null,null,null,null,null,null,null,null,null,null,{"$f":"IF($B1213=\"\",\"\",VLOOKUP($B1213,_tbl!$A:$E,N$2,0))","v":"Male"},{"$f":"IF($B1213=\"\",\"\",VLOOKUP($B1213,_tbl!$A:$E,O$2,0))","v":"West"},{"$f":"IF($B1213=\"\",\"\",VLOOKUP($B1213,_tbl!$A:$E,P$2,0))","v":"Urban"},{"$f":"IF($B1213=\"\",\"\",VLOOKUP($B1213,_tbl!$A:$E,Q$2,0))","v":"Congenital"},null,0,0]
[null,"all_m_West Urban congenital.csv",null,null,null,null,null,null,null,null,null,null,null,{"$f":"IF($B1214=\"\",\"\",VLOOKUP($B1214,_tbl!$A:$E,N$2,0))","v":"Male"},{"$f":"IF($B1214=\"\",\"\",VLOOKUP($B1214,_tbl!$A:$E,O$2,0))","v":"West"},{"$f":"IF($B1214=\"\",\"\",VLOOKUP($B1214,_tbl!$A:$E,P$2,0))","v":"Urban"},{"$f":"IF($B1214=\"\",\"\",VLOOKUP($B1214,_tbl!$A:$E,Q$2,0))","v":"Congenital"},null,0,0]
[null,"all_m_West Urban congenital.csv",null,null,null,null,null,null,null,null,null,null,null,{"$f":"IF($B1215=\"\",\"\",VLOOKUP($B1215,_tbl!$A:$E,N$2,0))","v":"Male"},{"$f":"IF($B1215=\"\",\"\",VLOOKUP($B1215,_tbl!$A:$E,O$2,0))","v":"West"},{"$f":"IF($B1215=\"\",\"\",VLOOKUP($B1215,_tbl!$A:$E,P$2,0))","v":"Urban"},{"$f":"IF($B1215=\"\",\"\",VLOOKUP($B1215,_tbl!$A:$E,Q$2,0))","v":"Congenital"},null,0,0]
[null,"all_m_West Urban congenital.csv",null,null,null,null,null,null,null,null,null,null,null,{"$f":"IF($B1216=\"\",\"\",VLOOKUP($B1216,_tbl!$A:$E,N$2,0))","v":"Male"},{"$f":"IF($B1216=\"\",\"\",VLOOKUP($B1216,_tbl!$A:$E,O$2,0))","v":"West"},{"$f":"IF($B1216=\"\",\"\",VLOOKUP($B1216,_tbl!$A:$E,P$2,0))","v":"Urban"},{"$f":"IF($B1216=\"\",\"\",VLOOKUP($B1216,_tbl!$A:$E,Q$2,0))","v":"Congenital"},null,0,0]
[null,"all_m_West Urban congenital.csv",null,null,null,null,null,null,null,null,null,null,null,{"$f":"IF($B1217=\"\",\"\",VLOOKUP($B1217,_tbl!$A:$E,N$2,0))","v":"Male"},{"$f":"IF($B1217=\"\",\"\",VLOOKUP($B1217,_tbl!$A:$E,O$2,0))","v":"West"},{"$f":"IF($B1217=\"\",\"\",VLOOKUP($B1217,_tbl!$A:$E,P$2,0))","v":"Urban"},{"$f":"IF($B1217=\"\",\"\",VLOOKUP($B1217,_tbl!$A:$E,Q$2,0))","v":"Congenital"},null,0,0]
[null,"all_m_West Urban congenital.csv",null,null,null,null,null,null,null,null,null,null,null,{"$f":"IF($B1218=\"\",\"\",VLOOKUP($B1218,_tbl!$A:$E,N$2,0))","v":"Male"},{"$f":"IF($B1218=\"\",\"\",VLOOKUP($B1218,_tbl!$A:$E,O$2,0))","v":"West"},{"$f":"IF($B1218=\"\",\"\",VLOOKUP($B1218,_tbl!$A:$E,P$2,0))","v":"Urban"},{"$f":"IF($B1218=\"\",\"\",VLOOKUP($B1218,_tbl!$A:$E,Q$2,0))","v":"Congenital"},null,0,0]
[null,"all_m_West Urban congenital.csv",null,null,null,null,null,null,null,null,null,null,null,{"$f":"IF($B1219=\"\",\"\",VLOOKUP($B1219,_tbl!$A:$E,N$2,0))","v":"Male"},{"$f":"IF($B1219=\"\",\"\",VLOOKUP($B1219,_tbl!$A:$E,O$2,0))","v":"West"},{"$f":"IF($B1219=\"\",\"\",VLOOKUP($B1219,_tbl!$A:$E,P$2,0))","v":"Urban"},{"$f":"IF($B1219=\"\",\"\",VLOOKUP($B1219,_tbl!$A:$E,Q$2,0))","v":"Congenital"},null,0,0]
[null,"all_m_West Urban congenital.csv",null,null,null,null,null,null,null,null,null,null,null,{"$f":"IF($B1220=\"\",\"\",VLOOKUP($B1220,_tbl!$A:$E,N$2,0))","v":"Male"},{"$f":"IF($B1220=\"\",\"\",VLOOKUP($B1220,_tbl!$A:$E,O$2,0))","v":"West"},{"$f":"IF($B1220=\"\",\"\",VLOOKUP($B1220,_tbl!$A:$E,P$2,0))","v":"Urban"},{"$f":"IF($B1220=\"\",\"\",VLOOKUP($B1220,_tbl!$A:$E,Q$2,0))","v":"Congenital"},null,0,0]
[null,"all_m_West Urban congenital.csv",null,null,null,null,null,null,null,null,null,null,null,{"$f":"IF($B1221=\"\",\"\",VLOOKUP($B1221,_tbl!$A:$E,N$2,0))","v":"Male"},{"$f":"IF($B1221=\"\",\"\",VLOOKUP($B1221,_tbl!$A:$E,O$2,0))","v":"West"},{"$f":"IF($B1221=\"\",\"\",VLOOKUP($B1221,_tbl!$A:$E,P$2,0))","v":"Urban"},{"$f":"IF($B1221=\"\",\"\",VLOOKUP($B1221,_tbl!$A:$E,Q$2,0))","v":"Congenital"},null,0,0]
[null,null,null,null,null,null,null,null,null,null,null,null,null,{"$f":"IF($B1222=\"\",\"\",VLOOKUP($B1222,_tbl!$A:$E,N$2,0))","v":""},{"$f":"IF($B1222=\"\",\"\",VLOOKUP($B1222,_tbl!$A:$E,O$2,0))","v":""},{"$f":"IF($B1222=\"\",\"\",VLOOKUP($B1222,_tbl!$A:$E,P$2,0))","v":""},{"$f":"IF($B1222=\"\",\"\",VLOOKUP($B1222,_tbl!$A:$E,Q$2,0))","v":""}]
[null,null,null,2020,2021,2022,2023,2024,2025,2026,2027,2028,2029,{"$f":"IF($B1223=\"\",\"\",VLOOKUP($B1223,_tbl!$A:$E,N$2,0))","v":""},{"$f":"IF($B1223=\"\",\"\",VLOOKUP($B1223,_tbl!$A:$E,O$2,0))","v":""},{"$f":"IF($B1223=\"\",\"\",VLOOKUP($B1223,_tbl!$A:$E,P$2,0))","v":""},{"$f":"IF($B1223=\"\",\"\",VLOOKUP($B1223,_tbl!$A:$E,Q$2,0))","v":""}]
[null,"all_m_West Urban diabetes.csv","30-34",8.6122188475779701E-6,8.1632960620956408E-6,7.7753913967326994E-6,7.5098845806260101E-6,7.2906825235914701E-6,7.1298330407059201E-6,6.9959117442529702E-6,6.8853916610041296E-6,6.7833557993487696E-6,6.6866087475192601E-6,{"$f":"IF($B1224=\"\",\"\",VLOOKUP($B1224,_tbl!$A:$E,N$2,0))","v":"Male"},{"$f":"IF($B1224=\"\",\"\",VLOOKUP($B1224,_tbl!$A:$E,O$2,0))","v":"West"},{"$f":"IF($B1224=\"\",\"\",VLOOKUP($B1224,_tbl!$A:$E,P$2,0))","v":"Urban"},{"$f":"IF($B1224=\"\",\"\",VLOOKUP($B1224,_tbl!$A:$E,Q$2,0))","v":"Diabetes"},null,{"$f":"MAX(D1224:M1224)","v":8.6122188475779701E-6},{"$f":"MIN(D1224:M1224)","v":6.6866087475192601E-6}]
[null,"all_m_West Urban diabetes.csv","35-39",1.7583184561437799E-5,1.65621003658165E-5,1.5881924973619301E-5,1.5433091891660001E-5,1.5114751109204299E-5,1.48922296265277E-5,1.47256678843631E-5,1.46070315496536E-5,1.45178229436667E-5,1.44557873944872E-5,{"$f":"IF($B1225=\"\",\"\",VLOOKUP($B1225,_tbl!$A:$E,N$2,0))","v":"Male"},{"$f":"IF($B1225=\"\",\"\",VLOOKUP($B1225,_tbl!$A:$E,O$2,0))","v":"West"},{"$f":"IF($B1225=\"\",\"\",VLOOKUP($B1225,_tbl!$A:$E,P$2,0))","v":"Urban"},{"$f":"IF($B1225=\"\",\"\",VLOOKUP($B1225,_tbl!$A:$E,Q$2,0))","v":"Diabetes"},null,1.7583184561437799E-5,1.44557873944872E-5]
[null,"all_m_West Urban diabetes.csv","40-44",3.3812548890760101E-5,3.1827735949677602E-5,3.0568734558717803E-5,2.9533407270080399E-5,2.88196849439168E-5,2.8197281955374099E-5,2.7737104497411201E-5,2.7315703965072801E-5,2.6981633119041902E-5,2.6662366345042501E-5,{"$f":"IF($B1226=\"\",\"\",VLOOKUP($B1226,_tbl!$A:$E,N$2,0))","v":"Male"},{"$f":"IF($B1226=\"\",\"\",VLOOKUP($B1226,_tbl!$A:$E,O$2,0))","v":"West"},{"$f":"IF($B1226=\"\",\"\",VLOOKUP($B1226,_tbl!$A:$E,P$2,0))","v":"Urban"},{"$f":"IF($B1226=\"\",\"\",VLOOKUP($B1226,_tbl!$A:$E,Q$2,0))","v":"Diabetes"},null,3.3812548890760101E-5,2.6662366345042501E-5]
[null,"all_m_West Urban diabetes.csv","45-49",6.1879256657516198E-5,5.9893932038874198E-5,5.8617752886629402E-5,5.7878489796706303E-5,5.73394038872479E-5,5.7055891658150101E-5,5.6833285250938697E-5,5.6769647991172498E-5,5.6740750094580302E-5,5.6822156384676197E-5,{"$f":"IF($B1227=\"\",\"\",VLOOKUP($B1227,_tbl!$A:$E,N$2,0))","v":"Male"},{"$f":"IF($B1227=\"\",\"\",VLOOKUP($B1227,_tbl!$A:$E,O$2,0))","v":"West"},{"$f":"IF($B1227=\"\",\"\",VLOOKUP($B1227,_tbl!$A:$E,P$2,0))","v":"Urban"},{"$f":"IF($B1227=\"\",\"\",VLOOKUP($B1227,_tbl!$A:$E,Q$2,0))","v":"Diabetes"},null,6.1879256657516198E-5,5.6740750094580302E-5]
[null,"all_m_West Urban diabetes.csv","50-54",9.8924505409020194E-5,9.5530430753410793E-5,9.3251309441664599E-5,9.1533036610379204E-5,9.0175281590423095E-5,8.9075584736240395E-5,8.8112470363468606E-5,8.7321089880218895E-5,8.6625027654906798E-5,8.6068619214632304E-5,{"$f":"IF($B1228=\"\",\"\",VLOOKUP($B1228,_tbl!$A:$E,N$2,0))","v":"Male"},{"$f":"IF($B1228=\"\",\"\",VLOOKUP($B1228,_tbl!$A:$E,O$2,0))","v":"West"},{"$f":"IF($B1228=\"\",\"\",VLOOKUP($B1228,_tbl!$A:$E,P$2,0))","v":"Urban"},{"$f":"IF($B1228=\"\",\"\",VLOOKUP($B1228,_tbl!$A:$E,Q$2,0))","v":"Diabetes"},null,9.8924505409020194E-5,8.6068619214632304E-5]
[null,"all_m_West Urban diabetes.csv","55-59",1.8360036755865101E-4,1.8074001870651101E-4,1.78998725704179E-4,1.77797787602641E-4,1.7709853594389901E-4,1.76679235150307E-4,1.7649715080357101E-4,1.7645620699713901E-4,1.7652590416519499E-4,1.7666385183019801E-4,{"$f":"IF($B1229=\"\",\"\",VLOOKUP($B1229,_tbl!$A:$E,N$2,0))","v":"Male"},{"$f":"IF($B1229=\"\",\"\",VLOOKUP($B1229,_tbl!$A:$E,O$2,0))","v":"West"},{"$f":"IF($B1229=\"\",\"\",VLOOKUP($B1229,_tbl!$A:$E,P$2,0))","v":"Urban"},{"$f":"IF($B1229=\"\",\"\",VLOOKUP($B1229,_tbl!$A:$E,Q$2,0))","v":"Diabetes"},null,1.8360036755865101E-4,1.7645620699713901E-4]
[null,"all_m_West Urban diabetes.csv","60-64",2.9679768176636999E-4,2.9318718106642101E-4,2.9061473965326297E-4,2.88719910917523E-4,2.87409390290882E-4,2.8645320850480201E-4,2.85776262201023E-4,2.8525607276671399E-4,2.8486064574000802E-4,2.8453551420353098E-4,{"$f":"IF($B1230=\"\",\"\",VLOOKUP($B1230,_tbl!$A:$E,N$2,0))","v":"Male"},{"$f":"IF($B1230=\"\",\"\",VLOOKUP($B1230,_tbl!$A:$E,O$2,0))","v":"West"},{"$f":"IF($B1230=\"\",\"\",VLOOKUP($B1230,_tbl!$A:$E,P$2,0))","v":"Urban"},{"$f":"IF($B1230=\"\",\"\",VLOOKUP($B1230,_tbl!$A:$E,Q$2,0))","v":"Diabetes"},null,2.9679768176636999E-4,2.8453551420353098E-4]
[null,"all_m_West Urban diabetes.csv","65-69",4.80209998470044E-4,4.7312267016652902E-4,4.6787529265851702E-4,4.64062468977702E-4,4.6124530266327399E-4,4.5912179012699698E-4,4.5743503984526501E-4,4.5607927096593997E-4,4.54950018329368E-4,4.5403204862393701E-4,{"$f":"IF($B1231=\"\",\"\",VLOOKUP($B1231,_tbl!$A:$E,N$2,0))","v":"Male"},{"$f":"IF($B1231=\"\",\"\",VLOOKUP($B1231,_tbl!$A:$E,O$2,0))","v":"West"},{"$f":"IF($B1231=\"\",\"\",VLOOKUP($B1231,_tbl!$A:$E,P$2,0))","v":"Urban"},{"$f":"IF($B1231=\"\",\"\",VLOOKUP($B1231,_tbl!$A:$E,Q$2,0))","v":"Diabetes"},null,4.80209998470044E-4,4.5403204862393701E-4]
[null,"all_m_West Urban diabetes.csv","70-74",8.2868885445338799E-4,8.1648767408380903E-4,8.0746892725184496E-4,8.0232855867912699E-4,7.9914206147824901E-4,7.9766073979053802E-4,7.9706839013868401E-4,7.9711629980819905E-4,7.9753327757089E-4,7.9820289394901196E-4,{"$f":"IF($B1232=\"\",\"\",VLOOKUP($B1232,_tbl!$A:$E,N$2,0))","v":"Male"},{"$f":"IF($B1232=\"\",\"\",VLOOKUP($B1232,_tbl!$A:$E,O$2,0))","v":"West"},{"$f":"IF($B1232=\"\",\"\",VLOOKUP($B1232,_tbl!$A:$E,P$2,0))","v":"Urban"},{"$f":"IF($B1232=\"\",\"\",VLOOKUP($B1232,_tbl!$A:$E,Q$2,0))","v":"Diabetes"},null,8.2868885445338799E-4,7.9706839013868401E-4]
[null,"all_m_West Urban diabetes.csv","75-79",1.34918522321724E-3,1.33624525512043E-3,1.3292973169028101E-3,1.32673717158646E-3,1.3237375746181299E-3,1.3210627688614899E-3,1.3184102173501801E-3,1.3167735847361801E-3,1.3164150703816901E-3,1.31751201683972E-3,{"$f":"IF($B1233=\"\",\"\",VLOOKUP($B1233,_tbl!$A:$E,N$2,0))","v":"Male"},{"$f":"IF($B1233=\"\",\"\",VLOOKUP($B1233,_tbl!$A:$E,O$2,0))","v":"West"},{"$f":"IF($B1233=\"\",\"\",VLOOKUP($B1233,_tbl!$A:$E,P$2,0))","v":"Urban"},{"$f":"IF($B1233=\"\",\"\",VLOOKUP($B1233,_tbl!$A:$E,Q$2,0))","v":"Diabetes"},null,1.34918522321724E-3,1.3164150703816901E-3]
[null,"all_m_West Urban diabetes.csv","80-84",2.09202915133643E-3,2.0898393329459898E-3,2.07865705438321E-3,2.0760028973616299E-3,2.0680984593163098E-3,2.0657995682082202E-3,2.0667833990242598E-3,2.0725188165620001E-3,2.0785715894760001E-3,2.0824053640271399E-3,{"$f":"IF($B1234=\"\",\"\",VLOOKUP($B1234,_tbl!$A:$E,N$2,0))","v":"Male"},{"$f":"IF($B1234=\"\",\"\",VLOOKUP($B1234,_tbl!$A:$E,O$2,0))","v":"West"},{"$f":"IF($B1234=\"\",\"\",VLOOKUP($B1234,_tbl!$A:$E,P$2,0))","v":"Urban"},{"$f":"IF($B1234=\"\",\"\",VLOOKUP($B1234,_tbl!$A:$E,Q$2,0))","v":"Diabetes"},null,2.09202915133643E-3,2.0657995682082202E-3]
[null,"all_m_West Urban diabetes.csv","85+",3.1517596328775998E-3,3.12149800180535E-3,3.0833208550251801E-3,3.0566836609901E-3,3.03813089955343E-3,3.03443333576533E-3,3.04166797223863E-3,3.0560270595108101E-3,3.0676831673820898E-3,3.0698030909667899E-3,{"$f":"IF($B1235=\"\",\"\",VLOOKUP($B1235,_tbl!$A:$E,N$2,0))","v":"Male"},{"$f":"IF($B1235=\"\",\"\",VLOOKUP($B1235,_tbl!$A:$E,O$2,0))","v":"West"},{"$f":"IF($B1235=\"\",\"\",VLOOKUP($B1235,_tbl!$A:$E,P$2,0))","v":"Urban"},{"$f":"IF($B1235=\"\",\"\",VLOOKUP($B1235,_tbl!$A:$E,Q$2,0))","v":"Diabetes"},null,3.1517596328775998E-3,3.03443333576533E-3]
[null,"all_m_West Urban diabetes.csv",null,null,null,null,null,null,null,null,null,null,null,{"$f":"IF($B1236=\"\",\"\",VLOOKUP($B1236,_tbl!$A:$E,N$2,0))","v":"Male"},{"$f":"IF($B1236=\"\",\"\",VLOOKUP($B1236,_tbl!$A:$E,O$2,0))","v":"West"},{"$f":"IF($B1236=\"\",\"\",VLOOKUP($B1236,_tbl!$A:$E,P$2,0))","v":"Urban"},{"$f":"IF($B1236=\"\",\"\",VLOOKUP($B1236,_tbl!$A:$E,Q$2,0))","v":"Diabetes"},null,0,0]
[null,"all_m_West Urban diabetes.csv",null,null,null,null,null,null,null,null,null,null,null,{"$f":"IF($B1237=\"\",\"\",VLOOKUP($B1237,_tbl!$A:$E,N$2,0))","v":"Male"},{"$f":"IF($B1237=\"\",\"\",VLOOKUP($B1237,_tbl!$A:$E,O$2,0))","v":"West"},{"$f":"IF($B1237=\"\",\"\",VLOOKUP($B1237,_tbl!$A:$E,P$2,0))","v":"Urban"},{"$f":"IF($B1237=\"\",\"\",VLOOKUP($B1237,_tbl!$A:$E,Q$2,0))","v":"Diabetes"},null,0,0]
[null,"all_m_West Urban diabetes.csv",null,null,null,null,null,null,null,null,null,null,null,{"$f":"IF($B1238=\"\",\"\",VLOOKUP($B1238,_tbl!$A:$E,N$2,0))","v":"Male"},{"$f":"IF($B1238=\"\",\"\",VLOOKUP($B1238,_tbl!$A:$E,O$2,0))","v":"West"},{"$f":"IF($B1238=\"\",\"\",VLOOKUP($B1238,_tbl!$A:$E,P$2,0))","v":"Urban"},{"$f":"IF($B1238=\"\",\"\",VLOOKUP($B1238,_tbl!$A:$E,Q$2,0))","v":"Diabetes"},null,0,0]
[null,"all_m_West Urban diabetes.csv",null,null,null,null,null,null,null,null,null,null,null,{"$f":"IF($B1239=\"\",\"\",VLOOKUP($B1239,_tbl!$A:$E,N$2,0))","v":"Male"},{"$f":"IF($B1239=\"\",\"\",VLOOKUP($B1239,_tbl!$A:$E,O$2,0))","v":"West"},{"$f":"IF($B1239=\"\",\"\",VLOOKUP($B1239,_tbl!$A:$E,P$2,0))","v":"Urban"},{"$f":"IF($B1239=\"\",\"\",VLOOKUP($B1239,_tbl!$A:$E,Q$2,0))","v":"Diabetes"},null,0,0]
[null,"all_m_West Urban diabetes.csv",null,null,null,null,null,null,null,null,null,null,null,{"$f":"IF($B1240=\"\",\"\",VLOOKUP($B1240,_tbl!$A:$E,N$2,0))","v":"Male"},{"$f":"IF($B1240=\"\",\"\",VLOOKUP($B1240,_tbl!$A:$E,O$2,0))","v":"West"},{"$f":"IF($B1240=\"\",\"\",VLOOKUP($B1240,_tbl!$A:$E,P$2,0))","v":"Urban"},{"$f":"IF($B1240=\"\",\"\",VLOOKUP($B1240,_tbl!$A:$E,Q$2,0))","v":"Diabetes"},null,0,0]
[null,"all_m_West Urban diabetes.csv",null,null,null,null,null,null,null,null,null,null,null,{"$f":"IF($B1241=\"\",\"\",VLOOKUP($B1241,_tbl!$A:$E,N$2,0))","v":"Male"},{"$f":"IF($B1241=\"\",\"\",VLOOKUP($B1241,_tbl!$A:$E,O$2,0))","v":"West"},{"$f":"IF($B1241=\"\",\"\",VLOOKUP($B1241,_tbl!$A:$E,P$2,0))","v":"Urban"},{"$f":"IF($B1241=\"\",\"\",VLOOKUP($B1241,_tbl!$A:$E,Q$2,0))","v":"Diabetes"},null,0,0]
[null,null,null,null,null,null,null,null,null,null,null,null,null,{"$f":"IF($B1242=\"\",\"\",VLOOKUP($B1242,_tbl!$A:$E,N$2,0))","v":""},{"$f":"IF($B1242=\"\",\"\",VLOOKUP($B1242,_tbl!$A:$E,O$2,0))","v":""},{"$f":"IF($B1242=\"\",\"\",VLOOKUP($B1242,_tbl!$A:$E,P$2,0))","v":""},{"$f":"IF($B1242=\"\",\"\",VLOOKUP($B1242,_tbl!$A:$E,Q$2,0))","v":""}]
[null,null,null,2020,2021,2022,2023,2024,2025,2026,2027,2028,2029,{"$f":"IF($B1243=\"\",\"\",VLOOKUP($B1243,_tbl!$A:$E,N$2,0))","v":""},{"$f":"IF($B1243=\"\",\"\",VLOOKUP($B1243,_tbl!$A:$E,O$2,0))","v":""},{"$f":"IF($B1243=\"\",\"\",VLOOKUP($B1243,_tbl!$A:$E,P$2,0))","v":""},{"$f":"IF($B1243=\"\",\"\",VLOOKUP($B1243,_tbl!$A:$E,Q$2,0))","v":""}]
[null,"all_m_West Urban digestive.csv","1-4",1.22084150193485E-5,1.23199659418938E-5,1.23748812922888E-5,1.24516416120235E-5,1.2512260565587E-5,1.2536947181989E-5,1.25720655776072E-5,1.25895035440137E-5,1.2610306130604899E-5,1.26342108861503E-5,{"$f":"IF($B1244=\"\",\"\",VLOOKUP($B1244,_tbl!$A:$E,N$2,0))","v":"Male"},{"$f":"IF($B1244=\"\",\"\",VLOOKUP($B1244,_tbl!$A:$E,O$2,0))","v":"West"},{"$f":"IF($B1244=\"\",\"\",VLOOKUP($B1244,_tbl!$A:$E,P$2,0))","v":"Urban"},{"$f":"IF($B1244=\"\",\"\",VLOOKUP($B1244,_tbl!$A:$E,Q$2,0))","v":"Digestive"},null,{"$f":"MAX(D1244:M1244)","v":1.26342108861503E-5},{"$f":"MIN(D1244:M1244)","v":1.22084150193485E-5}]
[null,"all_m_West Urban digestive.csv","5-9",5.7362269606355201E-6,5.7321921757125301E-6,5.7295800409869803E-6,5.72417615179225E-6,5.7228256216041202E-6,5.7222917922033499E-6,5.7214633369152896E-6,5.7216489413317303E-6,5.7214002164156898E-6,5.7196775737932797E-6,{"$f":"IF($B1245=\"\",\"\",VLOOKUP($B1245,_tbl!$A:$E,N$2,0))","v":"Male"},{"$f":"IF($B1245=\"\",\"\",VLOOKUP($B1245,_tbl!$A:$E,O$2,0))","v":"West"},{"$f":"IF($B1245=\"\",\"\",VLOOKUP($B1245,_tbl!$A:$E,P$2,0))","v":"Urban"},{"$f":"IF($B1245=\"\",\"\",VLOOKUP($B1245,_tbl!$A:$E,Q$2,0))","v":"Digestive"},null,5.7362269606355201E-6,5.7196775737932797E-6]
[null,"all_m_West Urban digestive.csv","10-14",4.9220093435927496E-6,4.9249361495181798E-6,4.9321416096466201E-6,4.93577595801424E-6,4.9434009268398503E-6,4.9520930586470599E-6,4.9623172724013902E-6,4.97274340977064E-6,4.9828207204719597E-6,4.9919575299664403E-6,{"$f":"IF($B1246=\"\",\"\",VLOOKUP($B1246,_tbl!$A:$E,N$2,0))","v":"Male"},{"$f":"IF($B1246=\"\",\"\",VLOOKUP($B1246,_tbl!$A:$E,O$2,0))","v":"West"},{"$f":"IF($B1246=\"\",\"\",VLOOKUP($B1246,_tbl!$A:$E,P$2,0))","v":"Urban"},{"$f":"IF($B1246=\"\",\"\",VLOOKUP($B1246,_tbl!$A:$E,Q$2,0))","v":"Digestive"},null,4.9919575299664403E-6,4.9220093435927496E-6]
[null,"all_m_West Urban digestive.csv","15-19",6.2162152969163604E-6,6.2273930988867097E-6,6.2472036675392601E-6,6.2613509918827503E-6,6.2785829296725701E-6,6.2939386076025097E-6,6.3110282562532597E-6,6.3271219001067297E-6,6.3430088419721603E-6,6.3587879159064399E-6,{"$f":"IF($B1247=\"\",\"\",VLOOKUP($B1247,_tbl!$A:$E,N$2,0))","v":"Male"},{"$f":"IF($B1247=\"\",\"\",VLOOKUP($B1247,_tbl!$A:$E,O$2,0))","v":"West"},{"$f":"IF($B1247=\"\",\"\",VLOOKUP($B1247,_tbl!$A:$E,P$2,0))","v":"Urban"},{"$f":"IF($B1247=\"\",\"\",VLOOKUP($B1247,_tbl!$A:$E,Q$2,0))","v":"Digestive"},null,6.3587879159064399E-6,6.2162152969163604E-6]
[null,"all_m_West Urban digestive.csv","20-24",9.9078844952944894E-6,9.8978711061822998E-6,9.9141495852770504E-6,9.9113045937374094E-6,9.9325054080832408E-6,9.9597158921123693E-6,9.9991650049120406E-6,1.00383802550674E-5,1.00764498184866E-5,1.01087633050903E-5,{"$f":"IF($B1248=\"\",\"\",VLOOKUP($B1248,_tbl!$A:$E,N$2,0))","v":"Male"},{"$f":"IF($B1248=\"\",\"\",VLOOKUP($B1248,_tbl!$A:$E,O$2,0))","v":"West"},{"$f":"IF($B1248=\"\",\"\",VLOOKUP($B1248,_tbl!$A:$E,P$2,0))","v":"Urban"},{"$f":"IF($B1248=\"\",\"\",VLOOKUP($B1248,_tbl!$A:$E,Q$2,0))","v":"Digestive"},null,1.01087633050903E-5,9.8978711061822998E-6]
[null,"all_m_West Urban digestive.csv","25-29",1.83719636603394E-5,1.8450073210879499E-5,1.8622511940873302E-5,1.8760829837838399E-5,1.8884923583751301E-5,1.8969416151103999E-5,1.9036964434998001E-5,1.9094542522643401E-5,1.91562664686158E-5,1.9224254858853E-5,{"$f":"IF($B1249=\"\",\"\",VLOOKUP($B1249,_tbl!$A:$E,N$2,0))","v":"Male"},{"$f":"IF($B1249=\"\",\"\",VLOOKUP($B1249,_tbl!$A:$E,O$2,0))","v":"West"},{"$f":"IF($B1249=\"\",\"\",VLOOKUP($B1249,_tbl!$A:$E,P$2,0))","v":"Urban"},{"$f":"IF($B1249=\"\",\"\",VLOOKUP($B1249,_tbl!$A:$E,Q$2,0))","v":"Digestive"},null,1.9224254858853E-5,1.83719636603394E-5]
[null,"all_m_West Urban digestive.csv","30-34",3.6478320938460702E-5,3.68472536439878E-5,3.7299630281344399E-5,3.7740920355812301E-5,3.8047660397506303E-5,3.82393212498074E-5,3.8349143178546799E-5,3.8440670447355698E-5,3.8551096134979498E-5,3.87002150860531E-5,{"$f":"IF($B1250=\"\",\"\",VLOOKUP($B1250,_tbl!$A:$E,N$2,0))","v":"Male"},{"$f":"IF($B1250=\"\",\"\",VLOOKUP($B1250,_tbl!$A:$E,O$2,0))","v":"West"},{"$f":"IF($B1250=\"\",\"\",VLOOKUP($B1250,_tbl!$A:$E,P$2,0))","v":"Urban"},{"$f":"IF($B1250=\"\",\"\",VLOOKUP($B1250,_tbl!$A:$E,Q$2,0))","v":"Digestive"},null,3.87002150860531E-5,3.6478320938460702E-5]
[null,"all_m_West Urban digestive.csv","35-39",7.6290049361926401E-5,7.6067742479928697E-5,7.57621864154375E-5,7.5488441944604996E-5,7.5158653167000698E-5,7.4845243658241498E-5,7.4506033143681004E-5,7.4170471725446604E-5,7.3818321638642807E-5,7.34629900658921E-5,{"$f":"IF($B1251=\"\",\"\",VLOOKUP($B1251,_tbl!$A:$E,N$2,0))","v":"Male"},{"$f":"IF($B1251=\"\",\"\",VLOOKUP($B1251,_tbl!$A:$E,O$2,0))","v":"West"},{"$f":"IF($B1251=\"\",\"\",VLOOKUP($B1251,_tbl!$A:$E,P$2,0))","v":"Urban"},{"$f":"IF($B1251=\"\",\"\",VLOOKUP($B1251,_tbl!$A:$E,Q$2,0))","v":"Digestive"},null,7.6290049361926401E-5,7.34629900658921E-5]
[null,"all_m_West Urban digestive.csv","40-44",1.21770425687768E-4,1.2095221824590901E-4,1.20155610954624E-4,1.19140157187074E-4,1.1815964193056E-4,1.17059887548362E-4,1.1600350274737699E-4,1.14880230230847E-4,1.1379994165635401E-4,1.12686408465997E-4,{"$f":"IF($B1252=\"\",\"\",VLOOKUP($B1252,_tbl!$A:$E,N$2,0))","v":"Male"},{"$f":"IF($B1252=\"\",\"\",VLOOKUP($B1252,_tbl!$A:$E,O$2,0))","v":"West"},{"$f":"IF($B1252=\"\",\"\",VLOOKUP($B1252,_tbl!$A:$E,P$2,0))","v":"Urban"},{"$f":"IF($B1252=\"\",\"\",VLOOKUP($B1252,_tbl!$A:$E,Q$2,0))","v":"Digestive"},null,1.21770425687768E-4,1.12686408465997E-4]
[null,"all_m_West Urban digestive.csv","45-49",1.76746645940062E-4,1.7722321754125601E-4,1.7724194305227301E-4,1.7729123321389399E-4,1.76994926483919E-4,1.7661543655593E-4,1.76024939231079E-4,1.7544415892425499E-4,1.7483487925429E-4,1.74324460038838E-4,{"$f":"IF($B1253=\"\",\"\",VLOOKUP($B1253,_tbl!$A:$E,N$2,0))","v":"Male"},{"$f":"IF($B1253=\"\",\"\",VLOOKUP($B1253,_tbl!$A:$E,O$2,0))","v":"West"},{"$f":"IF($B1253=\"\",\"\",VLOOKUP($B1253,_tbl!$A:$E,P$2,0))","v":"Urban"},{"$f":"IF($B1253=\"\",\"\",VLOOKUP($B1253,_tbl!$A:$E,Q$2,0))","v":"Digestive"},null,1.7729123321389399E-4,1.74324460038838E-4]
[null,"all_m_West Urban digestive.csv","50-54",2.28698208680775E-4,2.27561088581772E-4,2.25800870098861E-4,2.24099644966619E-4,2.21971141259741E-4,2.1977560908478699E-4,2.1733841799784499E-4,2.1494115288207401E-4,2.1252243820036001E-4,2.1024996667572501E-4,{"$f":"IF($B1254=\"\",\"\",VLOOKUP($B1254,_tbl!$A:$E,N$2,0))","v":"Male"},{"$f":"IF($B1254=\"\",\"\",VLOOKUP($B1254,_tbl!$A:$E,O$2,0))","v":"West"},{"$f":"IF($B1254=\"\",\"\",VLOOKUP($B1254,_tbl!$A:$E,P$2,0))","v":"Urban"},{"$f":"IF($B1254=\"\",\"\",VLOOKUP($B1254,_tbl!$A:$E,Q$2,0))","v":"Digestive"},null,2.28698208680775E-4,2.1024996667572501E-4]
[null,"all_m_West Urban digestive.csv","55-59",3.1038446960768198E-4,3.0841244637011702E-4,3.0572467931438703E-4,3.0220917252619099E-4,2.9841273561550201E-4,2.94268192803743E-4,2.9007695291294598E-4,2.8574755421656802E-4,2.8143673661252801E-4,2.7705989888939398E-4,{"$f":"IF($B1255=\"\",\"\",VLOOKUP($B1255,_tbl!$A:$E,N$2,0))","v":"Male"},{"$f":"IF($B1255=\"\",\"\",VLOOKUP($B1255,_tbl!$A:$E,O$2,0))","v":"West"},{"$f":"IF($B1255=\"\",\"\",VLOOKUP($B1255,_tbl!$A:$E,P$2,0))","v":"Urban"},{"$f":"IF($B1255=\"\",\"\",VLOOKUP($B1255,_tbl!$A:$E,Q$2,0))","v":"Digestive"},null,3.1038446960768198E-4,2.7705989888939398E-4]
[null,"all_m_West Urban digestive.csv","60-64",3.9727731187874199E-4,3.9578245424132702E-4,3.9309077886627401E-4,3.8959404496405E-4,3.85560488188583E-4,3.8114823031033302E-4,3.76575801187883E-4,3.7185629928602901E-4,3.67118452639712E-4,3.6232709219960799E-4,{"$f":"IF($B1256=\"\",\"\",VLOOKUP($B1256,_tbl!$A:$E,N$2,0))","v":"Male"},{"$f":"IF($B1256=\"\",\"\",VLOOKUP($B1256,_tbl!$A:$E,O$2,0))","v":"West"},{"$f":"IF($B1256=\"\",\"\",VLOOKUP($B1256,_tbl!$A:$E,P$2,0))","v":"Urban"},{"$f":"IF($B1256=\"\",\"\",VLOOKUP($B1256,_tbl!$A:$E,Q$2,0))","v":"Digestive"},null,3.9727731187874199E-4,3.6232709219960799E-4]
[null,"all_m_West Urban digestive.csv","65-69",5.2881950591675904E-4,5.2554158124709204E-4,5.2071115345447903E-4,5.1560149933059301E-4,5.0992268141493403E-4,5.0408057831800802E-4,4.9811470369102398E-4,4.9208743197116098E-4,4.8607280922633198E-4,4.8004248952957798E-4,{"$f":"IF($B1257=\"\",\"\",VLOOKUP($B1257,_tbl!$A:$E,N$2,0))","v":"Male"},{"$f":"IF($B1257=\"\",\"\",VLOOKUP($B1257,_tbl!$A:$E,O$2,0))","v":"West"},{"$f":"IF($B1257=\"\",\"\",VLOOKUP($B1257,_tbl!$A:$E,P$2,0))","v":"Urban"},{"$f":"IF($B1257=\"\",\"\",VLOOKUP($B1257,_tbl!$A:$E,Q$2,0))","v":"Digestive"},null,5.2881950591675904E-4,4.8004248952957798E-4]
[null,"all_m_West Urban digestive.csv","70-74",8.1389066280452595E-4,8.1105477669757297E-4,8.0661527812691701E-4,8.0258842589299201E-4,7.9817910080312202E-4,7.9383343459150598E-4,7.8943457581318196E-4,7.8500094820019805E-4,7.8059590096771203E-4,7.7615958180859903E-4,{"$f":"IF($B1258=\"\",\"\",VLOOKUP($B1258,_tbl!$A:$E,N$2,0))","v":"Male"},{"$f":"IF($B1258=\"\",\"\",VLOOKUP($B1258,_tbl!$A:$E,O$2,0))","v":"West"},{"$f":"IF($B1258=\"\",\"\",VLOOKUP($B1258,_tbl!$A:$E,P$2,0))","v":"Urban"},{"$f":"IF($B1258=\"\",\"\",VLOOKUP($B1258,_tbl!$A:$E,Q$2,0))","v":"Digestive"},null,8.1389066280452595E-4,7.7615958180859903E-4]
[null,"all_m_West Urban digestive.csv","75-79",1.3366354367035E-3,1.33384757772749E-3,1.3286564432140201E-3,1.32454132620907E-3,1.318660179343E-3,1.31234020081534E-3,1.30515578051592E-3,1.29802682889349E-3,1.2911541366907101E-3,1.28495713033301E-3,{"$f":"IF($B1259=\"\",\"\",VLOOKUP($B1259,_tbl!$A:$E,N$2,0))","v":"Male"},{"$f":"IF($B1259=\"\",\"\",VLOOKUP($B1259,_tbl!$A:$E,O$2,0))","v":"West"},{"$f":"IF($B1259=\"\",\"\",VLOOKUP($B1259,_tbl!$A:$E,P$2,0))","v":"Urban"},{"$f":"IF($B1259=\"\",\"\",VLOOKUP($B1259,_tbl!$A:$E,Q$2,0))","v":"Digestive"},null,1.3366354367035E-3,1.28495713033301E-3]
[null,"all_m_West Urban digestive.csv","80-84",2.3517642106535299E-3,2.3945153456480998E-3,2.4258564328348601E-3,2.4558986070765299E-3,2.4605767748840201E-3,2.45199942688664E-3,2.4322693906783598E-3,2.41214113276942E-3,2.3964445318594399E-3,2.3892854214772E-3,{"$f":"IF($B1260=\"\",\"\",VLOOKUP($B1260,_tbl!$A:$E,N$2,0))","v":"Male"},{"$f":"IF($B1260=\"\",\"\",VLOOKUP($B1260,_tbl!$A:$E,O$2,0))","v":"West"},{"$f":"IF($B1260=\"\",\"\",VLOOKUP($B1260,_tbl!$A:$E,P$2,0))","v":"Urban"},{"$f":"IF($B1260=\"\",\"\",VLOOKUP($B1260,_tbl!$A:$E,Q$2,0))","v":"Digestive"},null,2.4605767748840201E-3,2.3517642106535299E-3]
[null,"all_m_West Urban digestive.csv","85+",4.1744479754725001E-3,4.2828645449267703E-3,4.38572992773639E-3,4.4697870149495297E-3,4.4969519268124496E-3,4.4871265769838098E-3,4.4489309795574397E-3,4.40663154228179E-3,4.3750887941651799E-3,4.3676288525174804E-3,{"$f":"IF($B1261=\"\",\"\",VLOOKUP($B1261,_tbl!$A:$E,N$2,0))","v":"Male"},{"$f":"IF($B1261=\"\",\"\",VLOOKUP($B1261,_tbl!$A:$E,O$2,0))","v":"West"},{"$f":"IF($B1261=\"\",\"\",VLOOKUP($B1261,_tbl!$A:$E,P$2,0))","v":"Urban"},{"$f":"IF($B1261=\"\",\"\",VLOOKUP($B1261,_tbl!$A:$E,Q$2,0))","v":"Digestive"},null,4.4969519268124496E-3,4.1744479754725001E-3]
[null,null,null,null,null,null,null,null,null,null,null,null,null,{"$f":"IF($B1262=\"\",\"\",VLOOKUP($B1262,_tbl!$A:$E,N$2,0))","v":""},{"$f":"IF($B1262=\"\",\"\",VLOOKUP($B1262,_tbl!$A:$E,O$2,0))","v":""},{"$f":"IF($B1262=\"\",\"\",VLOOKUP($B1262,_tbl!$A:$E,P$2,0))","v":""},{"$f":"IF($B1262=\"\",\"\",VLOOKUP($B1262,_tbl!$A:$E,Q$2,0))","v":""}]
[null,null,null,2020,2021,2022,2023,2024,2025,2026,2027,2028,2029,{"$f":"IF($B1263=\"\",\"\",VLOOKUP($B1263,_tbl!$A:$E,N$2,0))","v":""},{"$f":"IF($B1263=\"\",\"\",VLOOKUP($B1263,_tbl!$A:$E,O$2,0))","v":""},{"$f":"IF($B1263=\"\",\"\",VLOOKUP($B1263,_tbl!$A:$E,P$2,0))","v":""},{"$f":"IF($B1263=\"\",\"\",VLOOKUP($B1263,_tbl!$A:$E,Q$2,0))","v":""}]
[null,"all_m_West Urban external.csv","1-4",2.2681263797961901E-4,2.2170847956099E-4,2.0817440544407899E-4,1.99262327132236E-4,1.8905410915251E-4,1.8032611629436999E-4,1.7136556449439099E-4,1.6319458962529501E-4,1.55204110979785E-4,1.47576644898609E-4,{"$f":"IF($B1264=\"\",\"\",VLOOKUP($B1264,_tbl!$A:$E,N$2,0))","v":"Male"},{"$f":"IF($B1264=\"\",\"\",VLOOKUP($B1264,_tbl!$A:$E,O$2,0))","v":"West"},{"$f":"IF($B1264=\"\",\"\",VLOOKUP($B1264,_tbl!$A:$E,P$2,0))","v":"Urban"},{"$f":"IF($B1264=\"\",\"\",VLOOKUP($B1264,_tbl!$A:$E,Q$2,0))","v":"External"},null,{"$f":"MAX(D1264:M1264)","v":2.2681263797961901E-4},{"$f":"MIN(D1264:M1264)","v":1.47576644898609E-4}]
[null,"all_m_West Urban external.csv","5-9",1.3867407697693701E-4,1.3608427397808899E-4,1.28375261340204E-4,1.23646817793261E-4,1.1789593563074499E-4,1.13130989567058E-4,1.0821945462200699E-4,1.0376338862126799E-4,9.9442325709135594E-5,9.5348478251988002E-5,{"$f":"IF($B1265=\"\",\"\",VLOOKUP($B1265,_tbl!$A:$E,N$2,0))","v":"Male"},{"$f":"IF($B1265=\"\",\"\",VLOOKUP($B1265,_tbl!$A:$E,O$2,0))","v":"West"},{"$f":"IF($B1265=\"\",\"\",VLOOKUP($B1265,_tbl!$A:$E,P$2,0))","v":"Urban"},{"$f":"IF($B1265=\"\",\"\",VLOOKUP($B1265,_tbl!$A:$E,Q$2,0))","v":"External"},null,1.3867407697693701E-4,9.5348478251988002E-5]
[null,"all_m_West Urban external.csv","10-14",1.43368381465367E-4,1.4035645310396701E-4,1.3205634117349801E-4,1.2713705961795699E-4,1.20955951321408E-4,1.15841280421925E-4,1.1057069377843599E-4,1.0576188363531199E-4,1.01088794317526E-4,9.6691120815262403E-5,{"$f":"IF($B1266=\"\",\"\",VLOOKUP($B1266,_tbl!$A:$E,N$2,0))","v":"Male"},{"$f":"IF($B1266=\"\",\"\",VLOOKUP($B1266,_tbl!$A:$E,O$2,0))","v":"West"},{"$f":"IF($B1266=\"\",\"\",VLOOKUP($B1266,_tbl!$A:$E,P$2,0))","v":"Urban"},{"$f":"IF($B1266=\"\",\"\",VLOOKUP($B1266,_tbl!$A:$E,Q$2,0))","v":"External"},null,1.43368381465367E-4,9.6691120815262403E-5]
[null,"all_m_West Urban external.csv","15-19",1.8234123085593399E-4,1.7818351206598E-4,1.6773501344392801E-4,1.61151784982131E-4,1.5324925389681801E-4,1.4671545888238099E-4,1.4005733401920801E-4,1.3395378877234301E-4,1.2794353478962899E-4,1.22161130243017E-4,{"$f":"IF($B1267=\"\",\"\",VLOOKUP($B1267,_tbl!$A:$E,N$2,0))","v":"Male"},{"$f":"IF($B1267=\"\",\"\",VLOOKUP($B1267,_tbl!$A:$E,O$2,0))","v":"West"},{"$f":"IF($B1267=\"\",\"\",VLOOKUP($B1267,_tbl!$A:$E,P$2,0))","v":"Urban"},{"$f":"IF($B1267=\"\",\"\",VLOOKUP($B1267,_tbl!$A:$E,Q$2,0))","v":"External"},null,1.8234123085593399E-4,1.22161130243017E-4]
[null,"all_m_West Urban external.csv","20-24",2.5623666698960002E-4,2.5112650396904798E-4,2.3829766985156999E-4,2.290554719056E-4,2.19651018433642E-4,2.1266350891208701E-4,2.06362225419177E-4,2.0073799558006499E-4,1.9502230840628301E-4,1.8912351343949201E-4,{"$f":"IF($B1268=\"\",\"\",VLOOKUP($B1268,_tbl!$A:$E,N$2,0))","v":"Male"},{"$f":"IF($B1268=\"\",\"\",VLOOKUP($B1268,_tbl!$A:$E,O$2,0))","v":"West"},{"$f":"IF($B1268=\"\",\"\",VLOOKUP($B1268,_tbl!$A:$E,P$2,0))","v":"Urban"},{"$f":"IF($B1268=\"\",\"\",VLOOKUP($B1268,_tbl!$A:$E,Q$2,0))","v":"External"},null,2.5623666698960002E-4,1.8912351343949201E-4]
[null,"all_m_West Urban external.csv","25-29",3.1750663993120802E-4,3.12728827767082E-4,2.9777204820489702E-4,2.8759081451143199E-4,2.7634975021769201E-4,2.6758642688698902E-4,2.5919033166322002E-4,2.5159429799608202E-4,2.4398912043688999E-4,2.3638730172901299E-4,{"$f":"IF($B1269=\"\",\"\",VLOOKUP($B1269,_tbl!$A:$E,N$2,0))","v":"Male"},{"$f":"IF($B1269=\"\",\"\",VLOOKUP($B1269,_tbl!$A:$E,O$2,0))","v":"West"},{"$f":"IF($B1269=\"\",\"\",VLOOKUP($B1269,_tbl!$A:$E,P$2,0))","v":"Urban"},{"$f":"IF($B1269=\"\",\"\",VLOOKUP($B1269,_tbl!$A:$E,Q$2,0))","v":"External"},null,3.1750663993120802E-4,2.3638730172901299E-4]
[null,"all_m_West Urban external.csv","30-34",3.75203392031412E-4,3.6734367351982803E-4,3.4614505638723702E-4,3.3235833987696901E-4,3.1636499235341003E-4,3.0344014282268801E-4,2.90587897319439E-4,2.7882910172907598E-4,2.6713594761108698E-4,2.5573921606735899E-4,{"$f":"IF($B1270=\"\",\"\",VLOOKUP($B1270,_tbl!$A:$E,N$2,0))","v":"Male"},{"$f":"IF($B1270=\"\",\"\",VLOOKUP($B1270,_tbl!$A:$E,O$2,0))","v":"West"},{"$f":"IF($B1270=\"\",\"\",VLOOKUP($B1270,_tbl!$A:$E,P$2,0))","v":"Urban"},{"$f":"IF($B1270=\"\",\"\",VLOOKUP($B1270,_tbl!$A:$E,Q$2,0))","v":"External"},null,3.75203392031412E-4,2.5573921606735899E-4]
[null,"all_m_West Urban external.csv","35-39",3.8696693833788898E-4,3.7749691555989001E-4,3.5222000544546102E-4,3.35981746568731E-4,3.1637188812572202E-4,2.9973823137046301E-4,2.8280477717903098E-4,2.67041819324663E-4,2.5155638741006697E-4,2.3666801549978E-4,{"$f":"IF($B1271=\"\",\"\",VLOOKUP($B1271,_tbl!$A:$E,N$2,0))","v":"Male"},{"$f":"IF($B1271=\"\",\"\",VLOOKUP($B1271,_tbl!$A:$E,O$2,0))","v":"West"},{"$f":"IF($B1271=\"\",\"\",VLOOKUP($B1271,_tbl!$A:$E,P$2,0))","v":"Urban"},{"$f":"IF($B1271=\"\",\"\",VLOOKUP($B1271,_tbl!$A:$E,Q$2,0))","v":"External"},null,3.8696693833788898E-4,2.3666801549978E-4]
[null,"all_m_West Urban external.csv","40-44",4.3367900421908799E-4,4.2249172508862498E-4,3.95160977078733E-4,3.7615460991869001E-4,3.5414699408567397E-4,3.3446319066584798E-4,3.1495058558262101E-4,2.96210659238853E-4,2.7816296328400398E-4,2.6047368546693798E-4,{"$f":"IF($B1272=\"\",\"\",VLOOKUP($B1272,_tbl!$A:$E,N$2,0))","v":"Male"},{"$f":"IF($B1272=\"\",\"\",VLOOKUP($B1272,_tbl!$A:$E,O$2,0))","v":"West"},{"$f":"IF($B1272=\"\",\"\",VLOOKUP($B1272,_tbl!$A:$E,P$2,0))","v":"Urban"},{"$f":"IF($B1272=\"\",\"\",VLOOKUP($B1272,_tbl!$A:$E,Q$2,0))","v":"External"},null,4.3367900421908799E-4,2.6047368546693798E-4]
[null,"all_m_West Urban external.csv","45-49",5.6325585564981795E-4,5.56689281568233E-4,5.34990285828452E-4,5.2163093950966704E-4,5.0434355269691003E-4,4.8964279998828003E-4,4.7412154744427398E-4,4.5966881531190598E-4,4.4524608660093199E-4,4.3143951174675802E-4,{"$f":"IF($B1273=\"\",\"\",VLOOKUP($B1273,_tbl!$A:$E,N$2,0))","v":"Male"},{"$f":"IF($B1273=\"\",\"\",VLOOKUP($B1273,_tbl!$A:$E,O$2,0))","v":"West"},{"$f":"IF($B1273=\"\",\"\",VLOOKUP($B1273,_tbl!$A:$E,P$2,0))","v":"Urban"},{"$f":"IF($B1273=\"\",\"\",VLOOKUP($B1273,_tbl!$A:$E,Q$2,0))","v":"External"},null,5.6325585564981795E-4,4.3143951174675802E-4]
[null,"all_m_West Urban external.csv","50-54",6.8776034009999096E-4,6.8369705995923401E-4,6.7158402624913798E-4,6.6375113520491104E-4,6.5367257182855304E-4,6.4474546767688404E-4,6.3523818329938098E-4,6.2615101634313705E-4,6.1703901518284695E-4,6.0818740609045602E-4,{"$f":"IF($B1274=\"\",\"\",VLOOKUP($B1274,_tbl!$A:$E,N$2,0))","v":"Male"},{"$f":"IF($B1274=\"\",\"\",VLOOKUP($B1274,_tbl!$A:$E,O$2,0))","v":"West"},{"$f":"IF($B1274=\"\",\"\",VLOOKUP($B1274,_tbl!$A:$E,P$2,0))","v":"Urban"},{"$f":"IF($B1274=\"\",\"\",VLOOKUP($B1274,_tbl!$A:$E,Q$2,0))","v":"External"},null,6.8776034009999096E-4,6.0818740609045602E-4]
[null,"all_m_West Urban external.csv","55-59",7.5666731347625996E-4,7.5296686736541797E-4,7.4639979702705603E-4,7.4053866375556495E-4,7.3390411979496102E-4,7.27348868952091E-4,7.2069341029979697E-4,7.1402248686474397E-4,7.0739660840944999E-4,7.0071784097201404E-4,{"$f":"IF($B1275=\"\",\"\",VLOOKUP($B1275,_tbl!$A:$E,N$2,0))","v":"Male"},{"$f":"IF($B1275=\"\",\"\",VLOOKUP($B1275,_tbl!$A:$E,O$2,0))","v":"West"},{"$f":"IF($B1275=\"\",\"\",VLOOKUP($B1275,_tbl!$A:$E,P$2,0))","v":"Urban"},{"$f":"IF($B1275=\"\",\"\",VLOOKUP($B1275,_tbl!$A:$E,Q$2,0))","v":"External"},null,7.5666731347625996E-4,7.0071784097201404E-4]
[null,"all_m_West Urban external.csv","60-64",7.9117523658021503E-4,7.8887232117511605E-4,7.8233295502303402E-4,7.77122562313111E-4,7.7043336861282402E-4,7.63894472215826E-4,7.5695778888436001E-4,7.5009459130551299E-4,7.4322118293699299E-4,7.3642362975428002E-4,{"$f":"IF($B1276=\"\",\"\",VLOOKUP($B1276,_tbl!$A:$E,N$2,0))","v":"Male"},{"$f":"IF($B1276=\"\",\"\",VLOOKUP($B1276,_tbl!$A:$E,O$2,0))","v":"West"},{"$f":"IF($B1276=\"\",\"\",VLOOKUP($B1276,_tbl!$A:$E,P$2,0))","v":"Urban"},{"$f":"IF($B1276=\"\",\"\",VLOOKUP($B1276,_tbl!$A:$E,Q$2,0))","v":"External"},null,7.9117523658021503E-4,7.3642362975428002E-4]
[null,"all_m_West Urban external.csv","65-69",8.6902178564229003E-4,8.6482213264656095E-4,8.5021342591849595E-4,8.4100285844287905E-4,8.28729456210316E-4,8.1789145788138402E-4,8.0622282279374502E-4,7.9510697648458705E-4,7.8392056082983701E-4,7.7309594696128002E-4,{"$f":"IF($B1277=\"\",\"\",VLOOKUP($B1277,_tbl!$A:$E,N$2,0))","v":"Male"},{"$f":"IF($B1277=\"\",\"\",VLOOKUP($B1277,_tbl!$A:$E,O$2,0))","v":"West"},{"$f":"IF($B1277=\"\",\"\",VLOOKUP($B1277,_tbl!$A:$E,P$2,0))","v":"Urban"},{"$f":"IF($B1277=\"\",\"\",VLOOKUP($B1277,_tbl!$A:$E,Q$2,0))","v":"External"},null,8.6902178564229003E-4,7.7309594696128002E-4]
[null,"all_m_West Urban external.csv","70-74",1.13745200620893E-3,1.13261924823307E-3,1.11014677063209E-3,1.0974926353847299E-3,1.08019612505254E-3,1.06587259545382E-3,1.0504134906291901E-3,1.0359632194643701E-3,1.0213086860050499E-3,1.00709434719396E-3,{"$f":"IF($B1278=\"\",\"\",VLOOKUP($B1278,_tbl!$A:$E,N$2,0))","v":"Male"},{"$f":"IF($B1278=\"\",\"\",VLOOKUP($B1278,_tbl!$A:$E,O$2,0))","v":"West"},{"$f":"IF($B1278=\"\",\"\",VLOOKUP($B1278,_tbl!$A:$E,P$2,0))","v":"Urban"},{"$f":"IF($B1278=\"\",\"\",VLOOKUP($B1278,_tbl!$A:$E,Q$2,0))","v":"External"},null,1.13745200620893E-3,1.00709434719396E-3]
[null,"all_m_West Urban external.csv","75-79",1.73194268276566E-3,1.7305724883301999E-3,1.7090958731156699E-3,1.6982943013888899E-3,1.68055040460584E-3,1.66524674558131E-3,1.64761652936583E-3,1.6310259128409501E-3,1.61421610073617E-3,1.59840847200282E-3,{"$f":"IF($B1279=\"\",\"\",VLOOKUP($B1279,_tbl!$A:$E,N$2,0))","v":"Male"},{"$f":"IF($B1279=\"\",\"\",VLOOKUP($B1279,_tbl!$A:$E,O$2,0))","v":"West"},{"$f":"IF($B1279=\"\",\"\",VLOOKUP($B1279,_tbl!$A:$E,P$2,0))","v":"Urban"},{"$f":"IF($B1279=\"\",\"\",VLOOKUP($B1279,_tbl!$A:$E,Q$2,0))","v":"External"},null,1.73194268276566E-3,1.59840847200282E-3]
[null,"all_m_West Urban external.csv","80-84",3.0323453474868098E-3,3.0692664949858498E-3,3.0978487812376998E-3,3.1245524179773802E-3,3.1375193941965401E-3,3.14583976472055E-3,3.15074758245099E-3,3.1571310406547401E-3,3.1651567812028799E-3,3.1751569617166102E-3,{"$f":"IF($B1280=\"\",\"\",VLOOKUP($B1280,_tbl!$A:$E,N$2,0))","v":"Male"},{"$f":"IF($B1280=\"\",\"\",VLOOKUP($B1280,_tbl!$A:$E,O$2,0))","v":"West"},{"$f":"IF($B1280=\"\",\"\",VLOOKUP($B1280,_tbl!$A:$E,P$2,0))","v":"Urban"},{"$f":"IF($B1280=\"\",\"\",VLOOKUP($B1280,_tbl!$A:$E,Q$2,0))","v":"External"},null,3.1751569617166102E-3,3.0323453474868098E-3]
[null,"all_m_West Urban external.csv","85+",5.6381365248889797E-3,5.7215581884390004E-3,5.9027855915907397E-3,6.0236084648881399E-3,6.1649211522658599E-3,6.2925380447459399E-3,6.4344140547882801E-3,6.5800242393269101E-3,6.7310992599767198E-3,6.8793560035657099E-3,{"$f":"IF($B1281=\"\",\"\",VLOOKUP($B1281,_tbl!$A:$E,N$2,0))","v":"Male"},{"$f":"IF($B1281=\"\",\"\",VLOOKUP($B1281,_tbl!$A:$E,O$2,0))","v":"West"},{"$f":"IF($B1281=\"\",\"\",VLOOKUP($B1281,_tbl!$A:$E,P$2,0))","v":"Urban"},{"$f":"IF($B1281=\"\",\"\",VLOOKUP($B1281,_tbl!$A:$E,Q$2,0))","v":"External"},null,6.8793560035657099E-3,5.6381365248889797E-3]
[null,null,null,null,null,null,null,null,null,null,null,null,null,{"$f":"IF($B1282=\"\",\"\",VLOOKUP($B1282,_tbl!$A:$E,N$2,0))","v":""},{"$f":"IF($B1282=\"\",\"\",VLOOKUP($B1282,_tbl!$A:$E,O$2,0))","v":""},{"$f":"IF($B1282=\"\",\"\",VLOOKUP($B1282,_tbl!$A:$E,P$2,0))","v":""},{"$f":"IF($B1282=\"\",\"\",VLOOKUP($B1282,_tbl!$A:$E,Q$2,0))","v":""}]
[null,null,null,2020,2021,2022,2023,2024,2025,2026,2027,2028,2029,{"$f":"IF($B1283=\"\",\"\",VLOOKUP($B1283,_tbl!$A:$E,N$2,0))","v":""},{"$f":"IF($B1283=\"\",\"\",VLOOKUP($B1283,_tbl!$A:$E,O$2,0))","v":""},{"$f":"IF($B1283=\"\",\"\",VLOOKUP($B1283,_tbl!$A:$E,P$2,0))","v":""},{"$f":"IF($B1283=\"\",\"\",VLOOKUP($B1283,_tbl!$A:$E,Q$2,0))","v":""}]
[null,"all_m_West Urban infectious.csv","1-4",6.3962893491665903E-5,6.3869513102908206E-5,6.3497938390876294E-5,6.3473167315628902E-5,6.3280093034909302E-5,6.3046431287069405E-5,6.2903651690030801E-5,6.2697032114040105E-5,6.2466246964561805E-5,6.2306861934585699E-5,{"$f":"IF($B1284=\"\",\"\",VLOOKUP($B1284,_tbl!$A:$E,N$2,0))","v":"Male"},{"$f":"IF($B1284=\"\",\"\",VLOOKUP($B1284,_tbl!$A:$E,O$2,0))","v":"West"},{"$f":"IF($B1284=\"\",\"\",VLOOKUP($B1284,_tbl!$A:$E,P$2,0))","v":"Urban"},{"$f":"IF($B1284=\"\",\"\",VLOOKUP($B1284,_tbl!$A:$E,Q$2,0))","v":"Infectious"},null,{"$f":"MAX(D1284:M1284)","v":6.3962893491665903E-5},{"$f":"MIN(D1284:M1284)","v":6.2306861934585699E-5}]
[null,"all_m_West Urban infectious.csv","5-9",2.2903387184116299E-5,2.28556962471268E-5,2.2881026979247798E-5,2.28694012943266E-5,2.2858292905079799E-5,2.2832130590275001E-5,2.2795818780255501E-5,2.2754231347341599E-5,2.2708450513700401E-5,2.26603972570179E-5,{"$f":"IF($B1285=\"\",\"\",VLOOKUP($B1285,_tbl!$A:$E,N$2,0))","v":"Male"},{"$f":"IF($B1285=\"\",\"\",VLOOKUP($B1285,_tbl!$A:$E,O$2,0))","v":"West"},{"$f":"IF($B1285=\"\",\"\",VLOOKUP($B1285,_tbl!$A:$E,P$2,0))","v":"Urban"},{"$f":"IF($B1285=\"\",\"\",VLOOKUP($B1285,_tbl!$A:$E,Q$2,0))","v":"Infectious"},null,2.2903387184116299E-5,2.26603972570179E-5]
[null,"all_m_West Urban infectious.csv","10-14",1.44350075550909E-5,1.4403702925890499E-5,1.4430077063544899E-5,1.4457915823015E-5,1.4457958231480401E-5,1.44422868781358E-5,1.44172669433949E-5,1.43841662595956E-5,1.43491070695016E-5,1.43192523021344E-5,{"$f":"IF($B1286=\"\",\"\",VLOOKUP($B1286,_tbl!$A:$E,N$2,0))","v":"Male"},{"$f":"IF($B1286=\"\",\"\",VLOOKUP($B1286,_tbl!$A:$E,O$2,0))","v":"West"},{"$f":"IF($B1286=\"\",\"\",VLOOKUP($B1286,_tbl!$A:$E,P$2,0))","v":"Urban"},{"$f":"IF($B1286=\"\",\"\",VLOOKUP($B1286,_tbl!$A:$E,Q$2,0))","v":"Infectious"},null,1.4457958231480401E-5,1.43192523021344E-5]
[null,"all_m_West Urban infectious.csv","15-19",1.44285546512698E-5,1.4421841916257999E-5,1.44908222443371E-5,1.45124135841972E-5,1.4558320512192299E-5,1.45946820786418E-5,1.46369756238222E-5,1.46754304129043E-5,1.47117850885118E-5,1.47454446320233E-5,{"$f":"IF($B1287=\"\",\"\",VLOOKUP($B1287,_tbl!$A:$E,N$2,0))","v":"Male"},{"$f":"IF($B1287=\"\",\"\",VLOOKUP($B1287,_tbl!$A:$E,O$2,0))","v":"West"},{"$f":"IF($B1287=\"\",\"\",VLOOKUP($B1287,_tbl!$A:$E,P$2,0))","v":"Urban"},{"$f":"IF($B1287=\"\",\"\",VLOOKUP($B1287,_tbl!$A:$E,Q$2,0))","v":"Infectious"},null,1.47454446320233E-5,1.4421841916257999E-5]
[null,"all_m_West Urban infectious.csv","20-24",1.88558652889071E-5,1.8911798195676902E-5,1.9045332760998099E-5,1.9137492922965201E-5,1.92116202555627E-5,1.9241556497999599E-5,1.92519502599499E-5,1.92509005960748E-5,1.9256636596891199E-5,1.9272535591281901E-5,{"$f":"IF($B1288=\"\",\"\",VLOOKUP($B1288,_tbl!$A:$E,N$2,0))","v":"Male"},{"$f":"IF($B1288=\"\",\"\",VLOOKUP($B1288,_tbl!$A:$E,O$2,0))","v":"West"},{"$f":"IF($B1288=\"\",\"\",VLOOKUP($B1288,_tbl!$A:$E,P$2,0))","v":"Urban"},{"$f":"IF($B1288=\"\",\"\",VLOOKUP($B1288,_tbl!$A:$E,Q$2,0))","v":"Infectious"},null,1.9272535591281901E-5,1.88558652889071E-5]
[null,"all_m_West Urban infectious.csv","25-29",3.1380025921822097E-5,3.1338598558587898E-5,3.1227527794607103E-5,3.1112960751356302E-5,3.1075977309724498E-5,3.1108122865169598E-5,3.1190866046448502E-5,3.1286047958926E-5,3.1372767692271498E-5,3.1437208107317299E-5,{"$f":"IF($B1289=\"\",\"\",VLOOKUP($B1289,_tbl!$A:$E,N$2,0))","v":"Male"},{"$f":"IF($B1289=\"\",\"\",VLOOKUP($B1289,_tbl!$A:$E,O$2,0))","v":"West"},{"$f":"IF($B1289=\"\",\"\",VLOOKUP($B1289,_tbl!$A:$E,P$2,0))","v":"Urban"},{"$f":"IF($B1289=\"\",\"\",VLOOKUP($B1289,_tbl!$A:$E,Q$2,0))","v":"Infectious"},null,3.1437208107317299E-5,3.1075977309724498E-5]
[null,"all_m_West Urban infectious.csv","30-34",5.1321548996029998E-5,5.1083620053121198E-5,5.0880221521786402E-5,5.0616715906227899E-5,5.0550531993027202E-5,5.0603481661258102E-5,5.0767639035904302E-5,5.0949042583368197E-5,5.1111862225914499E-5,5.12263945533714E-5,{"$f":"IF($B1290=\"\",\"\",VLOOKUP($B1290,_tbl!$A:$E,N$2,0))","v":"Male"},{"$f":"IF($B1290=\"\",\"\",VLOOKUP($B1290,_tbl!$A:$E,O$2,0))","v":"West"},{"$f":"IF($B1290=\"\",\"\",VLOOKUP($B1290,_tbl!$A:$E,P$2,0))","v":"Urban"},{"$f":"IF($B1290=\"\",\"\",VLOOKUP($B1290,_tbl!$A:$E,Q$2,0))","v":"Infectious"},null,5.1321548996029998E-5,5.0550531993027202E-5]
[null,"all_m_West Urban infectious.csv","35-39",7.6930919541278703E-5,7.7214959257854799E-5,7.7627438600585396E-5,7.7903837328766696E-5,7.8302131072540906E-5,7.8705060938194296E-5,7.9152516004392701E-5,7.9593306773287703E-5,8.0030083322750004E-5,8.0453367698697198E-5,{"$f":"IF($B1291=\"\",\"\",VLOOKUP($B1291,_tbl!$A:$E,N$2,0))","v":"Male"},{"$f":"IF($B1291=\"\",\"\",VLOOKUP($B1291,_tbl!$A:$E,O$2,0))","v":"West"},{"$f":"IF($B1291=\"\",\"\",VLOOKUP($B1291,_tbl!$A:$E,P$2,0))","v":"Urban"},{"$f":"IF($B1291=\"\",\"\",VLOOKUP($B1291,_tbl!$A:$E,Q$2,0))","v":"Infectious"},null,8.0453367698697198E-5,7.6930919541278703E-5]
[null,"all_m_West Urban infectious.csv","40-44",1.10666534215601E-4,1.11805105610187E-4,1.12524161265142E-4,1.1348020318405901E-4,1.14213522011764E-4,1.15085580506056E-4,1.15783307728618E-4,1.16555279626209E-4,1.17212542648264E-4,1.17925898315502E-4,{"$f":"IF($B1292=\"\",\"\",VLOOKUP($B1292,_tbl!$A:$E,N$2,0))","v":"Male"},{"$f":"IF($B1292=\"\",\"\",VLOOKUP($B1292,_tbl!$A:$E,O$2,0))","v":"West"},{"$f":"IF($B1292=\"\",\"\",VLOOKUP($B1292,_tbl!$A:$E,P$2,0))","v":"Urban"},{"$f":"IF($B1292=\"\",\"\",VLOOKUP($B1292,_tbl!$A:$E,Q$2,0))","v":"Infectious"},null,1.17925898315502E-4,1.10666534215601E-4]
[null,"all_m_West Urban infectious.csv","45-49",1.49617411888649E-4,1.49963956710097E-4,1.49725417650526E-4,1.4970762115266401E-4,1.4957418008135201E-4,1.4961950400787301E-4,1.4960990042015601E-4,1.49644277716681E-4,1.49577038690625E-4,1.4947528921745699E-4,{"$f":"IF($B1293=\"\",\"\",VLOOKUP($B1293,_tbl!$A:$E,N$2,0))","v":"Male"},{"$f":"IF($B1293=\"\",\"\",VLOOKUP($B1293,_tbl!$A:$E,O$2,0))","v":"West"},{"$f":"IF($B1293=\"\",\"\",VLOOKUP($B1293,_tbl!$A:$E,P$2,0))","v":"Urban"},{"$f":"IF($B1293=\"\",\"\",VLOOKUP($B1293,_tbl!$A:$E,Q$2,0))","v":"Infectious"},null,1.49963956710097E-4,1.4947528921745699E-4]
[null,"all_m_West Urban infectious.csv","50-54",2.0180697378739299E-4,2.00901538974245E-4,1.99445260038214E-4,1.9802813082616701E-4,1.9662295856029801E-4,1.95208799941502E-4,1.9388934679726201E-4,1.9249785370569801E-4,1.9114796042895099E-4,1.8969718820956101E-4,{"$f":"IF($B1294=\"\",\"\",VLOOKUP($B1294,_tbl!$A:$E,N$2,0))","v":"Male"},{"$f":"IF($B1294=\"\",\"\",VLOOKUP($B1294,_tbl!$A:$E,O$2,0))","v":"West"},{"$f":"IF($B1294=\"\",\"\",VLOOKUP($B1294,_tbl!$A:$E,P$2,0))","v":"Urban"},{"$f":"IF($B1294=\"\",\"\",VLOOKUP($B1294,_tbl!$A:$E,Q$2,0))","v":"Infectious"},null,2.0180697378739299E-4,1.8969718820956101E-4]
[null,"all_m_West Urban infectious.csv","55-59",2.64378405482711E-4,2.6305513770508599E-4,2.6106177993674798E-4,2.5924338969731699E-4,2.5726672447160898E-4,2.5525837409356902E-4,2.5324207421376999E-4,2.5117527727609398E-4,2.4916089052024501E-4,2.47122309744783E-4,{"$f":"IF($B1295=\"\",\"\",VLOOKUP($B1295,_tbl!$A:$E,N$2,0))","v":"Male"},{"$f":"IF($B1295=\"\",\"\",VLOOKUP($B1295,_tbl!$A:$E,O$2,0))","v":"West"},{"$f":"IF($B1295=\"\",\"\",VLOOKUP($B1295,_tbl!$A:$E,P$2,0))","v":"Urban"},{"$f":"IF($B1295=\"\",\"\",VLOOKUP($B1295,_tbl!$A:$E,Q$2,0))","v":"Infectious"},null,2.64378405482711E-4,2.47122309744783E-4]
[null,"all_m_West Urban infectious.csv","60-64",3.4314349986544799E-4,3.4129567199419898E-4,3.3823518715577101E-4,3.3571158268234301E-4,3.3297491649126698E-4,3.3044949864343602E-4,3.2790554651584199E-4,3.25376329131757E-4,3.2282618012503399E-4,3.2023092972841499E-4,{"$f":"IF($B1296=\"\",\"\",VLOOKUP($B1296,_tbl!$A:$E,N$2,0))","v":"Male"},{"$f":"IF($B1296=\"\",\"\",VLOOKUP($B1296,_tbl!$A:$E,O$2,0))","v":"West"},{"$f":"IF($B1296=\"\",\"\",VLOOKUP($B1296,_tbl!$A:$E,P$2,0))","v":"Urban"},{"$f":"IF($B1296=\"\",\"\",VLOOKUP($B1296,_tbl!$A:$E,Q$2,0))","v":"Infectious"},null,3.4314349986544799E-4,3.2023092972841499E-4]
[null,"all_m_West Urban infectious.csv","65-69",4.69149373261436E-4,4.6467902301507201E-4,4.57905930944803E-4,4.5218115457463799E-4,4.4625740509338801E-4,4.4103186134339303E-4,4.3596071002063999E-4,4.31028515116627E-4,4.25976572294233E-4,4.2072501094932402E-4,{"$f":"IF($B1297=\"\",\"\",VLOOKUP($B1297,_tbl!$A:$E,N$2,0))","v":"Male"},{"$f":"IF($B1297=\"\",\"\",VLOOKUP($B1297,_tbl!$A:$E,O$2,0))","v":"West"},{"$f":"IF($B1297=\"\",\"\",VLOOKUP($B1297,_tbl!$A:$E,P$2,0))","v":"Urban"},{"$f":"IF($B1297=\"\",\"\",VLOOKUP($B1297,_tbl!$A:$E,Q$2,0))","v":"Infectious"},null,4.69149373261436E-4,4.2072501094932402E-4]
[null,"all_m_West Urban infectious.csv","70-74",7.7545529603409804E-4,7.70162481027982E-4,7.6067155463777297E-4,7.5296976266833195E-4,7.43994316202032E-4,7.3561648112362697E-4,7.2693750862870196E-4,7.1843804999879998E-4,7.09851029929868E-4,7.0128601212925297E-4,{"$f":"IF($B1298=\"\",\"\",VLOOKUP($B1298,_tbl!$A:$E,N$2,0))","v":"Male"},{"$f":"IF($B1298=\"\",\"\",VLOOKUP($B1298,_tbl!$A:$E,O$2,0))","v":"West"},{"$f":"IF($B1298=\"\",\"\",VLOOKUP($B1298,_tbl!$A:$E,P$2,0))","v":"Urban"},{"$f":"IF($B1298=\"\",\"\",VLOOKUP($B1298,_tbl!$A:$E,Q$2,0))","v":"Infectious"},null,7.7545529603409804E-4,7.0128601212925297E-4]
[null,"all_m_West Urban infectious.csv","75-79",1.5786963891497401E-3,1.5807631336608799E-3,1.5768023994406201E-3,1.5754503347813801E-3,1.5678440965206401E-3,1.5586285382124399E-3,1.54631217543134E-3,1.5342763222434301E-3,1.52265770397053E-3,1.5130102599210701E-3,{"$f":"IF($B1299=\"\",\"\",VLOOKUP($B1299,_tbl!$A:$E,N$2,0))","v":"Male"},{"$f":"IF($B1299=\"\",\"\",VLOOKUP($B1299,_tbl!$A:$E,O$2,0))","v":"West"},{"$f":"IF($B1299=\"\",\"\",VLOOKUP($B1299,_tbl!$A:$E,P$2,0))","v":"Urban"},{"$f":"IF($B1299=\"\",\"\",VLOOKUP($B1299,_tbl!$A:$E,Q$2,0))","v":"Infectious"},null,1.5807631336608799E-3,1.5130102599210701E-3]
[null,"all_m_West Urban infectious.csv","80-84",3.6224192382497502E-3,3.7380175781791601E-3,3.7981665336055599E-3,3.86753424418385E-3,3.8873482080066398E-3,3.9013923627399601E-3,3.9068560967108904E-3,3.9204616734963204E-3,3.9367742417595001E-3,3.9544965820132302E-3,{"$f":"IF($B1300=\"\",\"\",VLOOKUP($B1300,_tbl!$A:$E,N$2,0))","v":"Male"},{"$f":"IF($B1300=\"\",\"\",VLOOKUP($B1300,_tbl!$A:$E,O$2,0))","v":"West"},{"$f":"IF($B1300=\"\",\"\",VLOOKUP($B1300,_tbl!$A:$E,P$2,0))","v":"Urban"},{"$f":"IF($B1300=\"\",\"\",VLOOKUP($B1300,_tbl!$A:$E,Q$2,0))","v":"Infectious"},null,3.9544965820132302E-3,3.6224192382497502E-3]
[null,"all_m_West Urban infectious.csv","85+",7.4806002931006596E-3,7.7500256710345203E-3,7.9256772612140806E-3,8.0669633193145192E-3,8.0762445841284398E-3,8.0896749842042197E-3,8.1291328012114902E-3,8.2267759162642593E-3,8.32961344879685E-3,8.3925645951430095E-3,{"$f":"IF($B1301=\"\",\"\",VLOOKUP($B1301,_tbl!$A:$E,N$2,0))","v":"Male"},{"$f":"IF($B1301=\"\",\"\",VLOOKUP($B1301,_tbl!$A:$E,O$2,0))","v":"West"},{"$f":"IF($B1301=\"\",\"\",VLOOKUP($B1301,_tbl!$A:$E,P$2,0))","v":"Urban"},{"$f":"IF($B1301=\"\",\"\",VLOOKUP($B1301,_tbl!$A:$E,Q$2,0))","v":"Infectious"},null,8.3925645951430095E-3,7.4806002931006596E-3]
[null,null,null,null,null,null,null,null,null,null,null,null,null,{"$f":"IF($B1302=\"\",\"\",VLOOKUP($B1302,_tbl!$A:$E,N$2,0))","v":""},{"$f":"IF($B1302=\"\",\"\",VLOOKUP($B1302,_tbl!$A:$E,O$2,0))","v":""},{"$f":"IF($B1302=\"\",\"\",VLOOKUP($B1302,_tbl!$A:$E,P$2,0))","v":""},{"$f":"IF($B1302=\"\",\"\",VLOOKUP($B1302,_tbl!$A:$E,Q$2,0))","v":""}]
[null,null,null,2020,2021,2022,2023,2024,2025,2026,2027,2028,2029,{"$f":"IF($B1303=\"\",\"\",VLOOKUP($B1303,_tbl!$A:$E,N$2,0))","v":""},{"$f":"IF($B1303=\"\",\"\",VLOOKUP($B1303,_tbl!$A:$E,O$2,0))","v":""},{"$f":"IF($B1303=\"\",\"\",VLOOKUP($B1303,_tbl!$A:$E,P$2,0))","v":""},{"$f":"IF($B1303=\"\",\"\",VLOOKUP($B1303,_tbl!$A:$E,Q$2,0))","v":""}]
[null,"all_m_West Urban mental.csv","1-4",3.1628057493067201E-5,3.1564272337320099E-5,3.13979123439476E-5,3.1403685505434702E-5,3.1320278693980401E-5,3.1242256504046102E-5,3.1212128996173503E-5,3.1155154269900703E-5,3.1087257388757703E-5,3.1053299909796198E-5,{"$f":"IF($B1304=\"\",\"\",VLOOKUP($B1304,_tbl!$A:$E,N$2,0))","v":"Male"},{"$f":"IF($B1304=\"\",\"\",VLOOKUP($B1304,_tbl!$A:$E,O$2,0))","v":"West"},{"$f":"IF($B1304=\"\",\"\",VLOOKUP($B1304,_tbl!$A:$E,P$2,0))","v":"Urban"},{"$f":"IF($B1304=\"\",\"\",VLOOKUP($B1304,_tbl!$A:$E,Q$2,0))","v":"Mental"},null,{"$f":"MAX(D1304:M1304)","v":3.1628057493067201E-5},{"$f":"MIN(D1304:M1304)","v":3.1053299909796198E-5}]
[null,"all_m_West Urban mental.csv","5-9",1.9028228735648201E-5,1.9043142918373801E-5,1.9079034942983601E-5,1.9101808451044501E-5,1.9126340955913699E-5,1.9144406203952902E-5,1.9161972817252899E-5,1.9176128119161101E-5,1.9189432215947601E-5,1.92018753076996E-5,{"$f":"IF($B1305=\"\",\"\",VLOOKUP($B1305,_tbl!$A:$E,N$2,0))","v":"Male"},{"$f":"IF($B1305=\"\",\"\",VLOOKUP($B1305,_tbl!$A:$E,O$2,0))","v":"West"},{"$f":"IF($B1305=\"\",\"\",VLOOKUP($B1305,_tbl!$A:$E,P$2,0))","v":"Urban"},{"$f":"IF($B1305=\"\",\"\",VLOOKUP($B1305,_tbl!$A:$E,Q$2,0))","v":"Mental"},null,1.92018753076996E-5,1.9028228735648201E-5]
[null,"all_m_West Urban mental.csv","10-14",1.96544205915488E-5,1.963012564982E-5,1.9684270073464999E-5,1.9690177993098101E-5,1.9725619758505101E-5,1.9758001780019901E-5,1.9791819043822501E-5,1.9825962308886399E-5,1.9857263164162499E-5,1.98795508986977E-5,{"$f":"IF($B1306=\"\",\"\",VLOOKUP($B1306,_tbl!$A:$E,N$2,0))","v":"Male"},{"$f":"IF($B1306=\"\",\"\",VLOOKUP($B1306,_tbl!$A:$E,O$2,0))","v":"West"},{"$f":"IF($B1306=\"\",\"\",VLOOKUP($B1306,_tbl!$A:$E,P$2,0))","v":"Urban"},{"$f":"IF($B1306=\"\",\"\",VLOOKUP($B1306,_tbl!$A:$E,Q$2,0))","v":"Mental"},null,1.98795508986977E-5,1.963012564982E-5]
[null,"all_m_West Urban mental.csv","15-19",2.2164903892434201E-5,2.21829981180623E-5,2.2311287803033599E-5,2.2358383408553599E-5,2.2449687777837702E-5,2.25252861767269E-5,2.2605664148233701E-5,2.2681650580709E-5,2.2757179874376501E-5,2.2822374901977199E-5,{"$f":"IF($B1307=\"\",\"\",VLOOKUP($B1307,_tbl!$A:$E,N$2,0))","v":"Male"},{"$f":"IF($B1307=\"\",\"\",VLOOKUP($B1307,_tbl!$A:$E,O$2,0))","v":"West"},{"$f":"IF($B1307=\"\",\"\",VLOOKUP($B1307,_tbl!$A:$E,P$2,0))","v":"Urban"},{"$f":"IF($B1307=\"\",\"\",VLOOKUP($B1307,_tbl!$A:$E,Q$2,0))","v":"Mental"},null,2.2822374901977199E-5,2.2164903892434201E-5]
[null,"all_m_West Urban mental.csv","20-24",2.49141314975801E-5,2.4931437324667201E-5,2.5022262413081901E-5,2.50698244236741E-5,2.5136793360510901E-5,2.5188435224821799E-5,2.5243441227465299E-5,2.5293183201096701E-5,2.53439001318571E-5,2.5394032393024401E-5,{"$f":"IF($B1308=\"\",\"\",VLOOKUP($B1308,_tbl!$A:$E,N$2,0))","v":"Male"},{"$f":"IF($B1308=\"\",\"\",VLOOKUP($B1308,_tbl!$A:$E,O$2,0))","v":"West"},{"$f":"IF($B1308=\"\",\"\",VLOOKUP($B1308,_tbl!$A:$E,P$2,0))","v":"Urban"},{"$f":"IF($B1308=\"\",\"\",VLOOKUP($B1308,_tbl!$A:$E,Q$2,0))","v":"Mental"},null,2.5394032393024401E-5,2.49141314975801E-5]
[null,"all_m_West Urban mental.csv","25-29",2.8114285021105302E-5,2.8329677621290099E-5,2.8693218346940701E-5,2.90104999823264E-5,2.9225260307269099E-5,2.9316123923103901E-5,2.9328832344710599E-5,2.9314415877323699E-5,2.9315027601665599E-5,2.93481859703013E-5,{"$f":"IF($B1309=\"\",\"\",VLOOKUP($B1309,_tbl!$A:$E,N$2,0))","v":"Male"},{"$f":"IF($B1309=\"\",\"\",VLOOKUP($B1309,_tbl!$A:$E,O$2,0))","v":"West"},{"$f":"IF($B1309=\"\",\"\",VLOOKUP($B1309,_tbl!$A:$E,P$2,0))","v":"Urban"},{"$f":"IF($B1309=\"\",\"\",VLOOKUP($B1309,_tbl!$A:$E,Q$2,0))","v":"Mental"},null,2.93481859703013E-5,2.8114285021105302E-5]
[null,"all_m_West Urban mental.csv","30-34",3.38904562396608E-5,3.40734634665187E-5,3.4258314003400399E-5,3.4456122329846099E-5,3.4544750661952398E-5,3.4562903414144402E-5,3.4517638299430098E-5,3.4461294671268303E-5,3.4414156894901801E-5,3.4393711025495901E-5,{"$f":"IF($B1310=\"\",\"\",VLOOKUP($B1310,_tbl!$A:$E,N$2,0))","v":"Male"},{"$f":"IF($B1310=\"\",\"\",VLOOKUP($B1310,_tbl!$A:$E,O$2,0))","v":"West"},{"$f":"IF($B1310=\"\",\"\",VLOOKUP($B1310,_tbl!$A:$E,P$2,0))","v":"Urban"},{"$f":"IF($B1310=\"\",\"\",VLOOKUP($B1310,_tbl!$A:$E,Q$2,0))","v":"Mental"},null,3.4562903414144402E-5,3.38904562396608E-5]
[null,"all_m_West Urban mental.csv","35-39",4.1347363273601199E-5,4.13539027527213E-5,4.1162219761572001E-5,4.1087942179139003E-5,4.0921110574213302E-5,4.08402202443363E-5,4.0706139592562803E-5,4.0612936834928301E-5,4.0473202735490298E-5,4.03469908688154E-5,{"$f":"IF($B1311=\"\",\"\",VLOOKUP($B1311,_tbl!$A:$E,N$2,0))","v":"Male"},{"$f":"IF($B1311=\"\",\"\",VLOOKUP($B1311,_tbl!$A:$E,O$2,0))","v":"West"},{"$f":"IF($B1311=\"\",\"\",VLOOKUP($B1311,_tbl!$A:$E,P$2,0))","v":"Urban"},{"$f":"IF($B1311=\"\",\"\",VLOOKUP($B1311,_tbl!$A:$E,Q$2,0))","v":"Mental"},null,4.13539027527213E-5,4.03469908688154E-5]
[null,"all_m_West Urban mental.csv","40-44",4.7852086326364597E-5,4.7954612801208603E-5,4.79403280264845E-5,4.7966485616904898E-5,4.80025515741063E-5,4.8126390838693E-5,4.8249693478824399E-5,4.8397519855208303E-5,4.8494411299747401E-5,4.8566513949657798E-5,{"$f":"IF($B1312=\"\",\"\",VLOOKUP($B1312,_tbl!$A:$E,N$2,0))","v":"Male"},{"$f":"IF($B1312=\"\",\"\",VLOOKUP($B1312,_tbl!$A:$E,O$2,0))","v":"West"},{"$f":"IF($B1312=\"\",\"\",VLOOKUP($B1312,_tbl!$A:$E,P$2,0))","v":"Urban"},{"$f":"IF($B1312=\"\",\"\",VLOOKUP($B1312,_tbl!$A:$E,Q$2,0))","v":"Mental"},null,4.8566513949657798E-5,4.7852086326364597E-5]
[null,"all_m_West Urban mental.csv","45-49",5.2913048909382898E-5,5.2887458005788403E-5,5.2701880147844901E-5,5.2579186878797999E-5,5.2391815138744698E-5,5.2257423345236401E-5,5.2084425513448402E-5,5.1937446790575302E-5,5.1757573198922903E-5,5.1589635784199902E-5,{"$f":"IF($B1313=\"\",\"\",VLOOKUP($B1313,_tbl!$A:$E,N$2,0))","v":"Male"},{"$f":"IF($B1313=\"\",\"\",VLOOKUP($B1313,_tbl!$A:$E,O$2,0))","v":"West"},{"$f":"IF($B1313=\"\",\"\",VLOOKUP($B1313,_tbl!$A:$E,P$2,0))","v":"Urban"},{"$f":"IF($B1313=\"\",\"\",VLOOKUP($B1313,_tbl!$A:$E,Q$2,0))","v":"Mental"},null,5.2913048909382898E-5,5.1589635784199902E-5]
[null,"all_m_West Urban mental.csv","50-54",6.0184137443981603E-5,6.0169801850228102E-5,5.9925630586672099E-5,5.9732896049473298E-5,5.9435460991757303E-5,5.9180906134320897E-5,5.8870924556648502E-5,5.85896646819586E-5,5.8272903544240302E-5,5.7975970304832101E-5,{"$f":"IF($B1314=\"\",\"\",VLOOKUP($B1314,_tbl!$A:$E,N$2,0))","v":"Male"},{"$f":"IF($B1314=\"\",\"\",VLOOKUP($B1314,_tbl!$A:$E,O$2,0))","v":"West"},{"$f":"IF($B1314=\"\",\"\",VLOOKUP($B1314,_tbl!$A:$E,P$2,0))","v":"Urban"},{"$f":"IF($B1314=\"\",\"\",VLOOKUP($B1314,_tbl!$A:$E,Q$2,0))","v":"Mental"},null,6.0184137443981603E-5,5.7975970304832101E-5]
[null,"all_m_West Urban mental.csv","55-59",7.5413054630403396E-5,7.5574031104215603E-5,7.5521745468307605E-5,7.5558052136482398E-5,7.5512225045125701E-5,7.5501939444571297E-5,7.5450188380091695E-5,7.54154982329354E-5,7.5360137968849599E-5,7.5319004854607901E-5,{"$f":"IF($B1315=\"\",\"\",VLOOKUP($B1315,_tbl!$A:$E,N$2,0))","v":"Male"},{"$f":"IF($B1315=\"\",\"\",VLOOKUP($B1315,_tbl!$A:$E,O$2,0))","v":"West"},{"$f":"IF($B1315=\"\",\"\",VLOOKUP($B1315,_tbl!$A:$E,P$2,0))","v":"Urban"},{"$f":"IF($B1315=\"\",\"\",VLOOKUP($B1315,_tbl!$A:$E,Q$2,0))","v":"Mental"},null,7.5574031104215603E-5,7.5319004854607901E-5]
[null,"all_m_West Urban mental.csv","60-64",1.01439723805296E-4,1.01353569397121E-4,1.0086936359413899E-4,1.00651415858355E-4,1.0035529247668301E-4,1.00190904089087E-4,9.9997549317419498E-5,9.9845092905279095E-5,9.9659827273319404E-5,9.9481512270869799E-5,{"$f":"IF($B1316=\"\",\"\",VLOOKUP($B1316,_tbl!$A:$E,N$2,0))","v":"Male"},{"$f":"IF($B1316=\"\",\"\",VLOOKUP($B1316,_tbl!$A:$E,O$2,0))","v":"West"},{"$f":"IF($B1316=\"\",\"\",VLOOKUP($B1316,_tbl!$A:$E,P$2,0))","v":"Urban"},{"$f":"IF($B1316=\"\",\"\",VLOOKUP($B1316,_tbl!$A:$E,Q$2,0))","v":"Mental"},null,1.01439723805296E-4,9.9481512270869799E-5]
[null,"all_m_West Urban mental.csv","65-69",1.5757963810090599E-4,1.56566698075384E-4,1.5476852227264799E-4,1.53544150569101E-4,1.52283605259921E-4,1.5136900581962399E-4,1.5048406955010799E-4,1.49684974139353E-4,1.4881403599683601E-4,1.4789867152686299E-4,{"$f":"IF($B1317=\"\",\"\",VLOOKUP($B1317,_tbl!$A:$E,N$2,0))","v":"Male"},{"$f":"IF($B1317=\"\",\"\",VLOOKUP($B1317,_tbl!$A:$E,O$2,0))","v":"West"},{"$f":"IF($B1317=\"\",\"\",VLOOKUP($B1317,_tbl!$A:$E,P$2,0))","v":"Urban"},{"$f":"IF($B1317=\"\",\"\",VLOOKUP($B1317,_tbl!$A:$E,Q$2,0))","v":"Mental"},null,1.5757963810090599E-4,1.4789867152686299E-4]
[null,"all_m_West Urban mental.csv","70-74",2.8808445991683999E-4,2.86546619763113E-4,2.8374658959085501E-4,2.8171494176575898E-4,2.7944155282505799E-4,2.7748676542337498E-4,2.75489604404833E-4,2.7357697946343699E-4,2.7163266336423898E-4,2.6969578433791902E-4,{"$f":"IF($B1318=\"\",\"\",VLOOKUP($B1318,_tbl!$A:$E,N$2,0))","v":"Male"},{"$f":"IF($B1318=\"\",\"\",VLOOKUP($B1318,_tbl!$A:$E,O$2,0))","v":"West"},{"$f":"IF($B1318=\"\",\"\",VLOOKUP($B1318,_tbl!$A:$E,P$2,0))","v":"Urban"},{"$f":"IF($B1318=\"\",\"\",VLOOKUP($B1318,_tbl!$A:$E,Q$2,0))","v":"Mental"},null,2.8808445991683999E-4,2.6969578433791902E-4]
[null,"all_m_West Urban mental.csv","75-79",5.86732363010043E-4,5.8582098570408099E-4,5.8306876729345605E-4,5.8112515516335899E-4,5.7737352933145297E-4,5.7305949894962001E-4,5.6784768859016504E-4,5.6267706853409499E-4,5.5773914809595197E-4,5.5346088228058396E-4,{"$f":"IF($B1319=\"\",\"\",VLOOKUP($B1319,_tbl!$A:$E,N$2,0))","v":"Male"},{"$f":"IF($B1319=\"\",\"\",VLOOKUP($B1319,_tbl!$A:$E,O$2,0))","v":"West"},{"$f":"IF($B1319=\"\",\"\",VLOOKUP($B1319,_tbl!$A:$E,P$2,0))","v":"Urban"},{"$f":"IF($B1319=\"\",\"\",VLOOKUP($B1319,_tbl!$A:$E,Q$2,0))","v":"Mental"},null,5.86732363010043E-4,5.5346088228058396E-4]
[null,"all_m_West Urban mental.csv","80-84",1.29911262554902E-3,1.32551565169055E-3,1.3448436563895699E-3,1.3628781942674399E-3,1.36779372611503E-3,1.3663181425766599E-3,1.3595385469380901E-3,1.35277303433106E-3,1.3480800069775401E-3,1.3472622446209E-3,{"$f":"IF($B1320=\"\",\"\",VLOOKUP($B1320,_tbl!$A:$E,N$2,0))","v":"Male"},{"$f":"IF($B1320=\"\",\"\",VLOOKUP($B1320,_tbl!$A:$E,O$2,0))","v":"West"},{"$f":"IF($B1320=\"\",\"\",VLOOKUP($B1320,_tbl!$A:$E,P$2,0))","v":"Urban"},{"$f":"IF($B1320=\"\",\"\",VLOOKUP($B1320,_tbl!$A:$E,Q$2,0))","v":"Mental"},null,1.36779372611503E-3,1.29911262554902E-3]
[null,"all_m_West Urban mental.csv","85+",2.7503676018856599E-3,2.80731566760972E-3,2.8480554739452198E-3,2.88050424628795E-3,2.8894902519850298E-3,2.8936435800201101E-3,2.8959253698955401E-3,2.9038259375876101E-3,2.91321936635569E-3,2.9217060901923801E-3,{"$f":"IF($B1321=\"\",\"\",VLOOKUP($B1321,_tbl!$A:$E,N$2,0))","v":"Male"},{"$f":"IF($B1321=\"\",\"\",VLOOKUP($B1321,_tbl!$A:$E,O$2,0))","v":"West"},{"$f":"IF($B1321=\"\",\"\",VLOOKUP($B1321,_tbl!$A:$E,P$2,0))","v":"Urban"},{"$f":"IF($B1321=\"\",\"\",VLOOKUP($B1321,_tbl!$A:$E,Q$2,0))","v":"Mental"},null,2.9217060901923801E-3,2.7503676018856599E-3]
[null,null,null,null,null,null,null,null,null,null,null,null,null,{"$f":"IF($B1322=\"\",\"\",VLOOKUP($B1322,_tbl!$A:$E,N$2,0))","v":""},{"$f":"IF($B1322=\"\",\"\",VLOOKUP($B1322,_tbl!$A:$E,O$2,0))","v":""},{"$f":"IF($B1322=\"\",\"\",VLOOKUP($B1322,_tbl!$A:$E,P$2,0))","v":""},{"$f":"IF($B1322=\"\",\"\",VLOOKUP($B1322,_tbl!$A:$E,Q$2,0))","v":""}]
[null,null,null,2020,2021,2022,2023,2024,2025,2026,2027,2028,2029,{"$f":"IF($B1323=\"\",\"\",VLOOKUP($B1323,_tbl!$A:$E,N$2,0))","v":""},{"$f":"IF($B1323=\"\",\"\",VLOOKUP($B1323,_tbl!$A:$E,O$2,0))","v":""},{"$f":"IF($B1323=\"\",\"\",VLOOKUP($B1323,_tbl!$A:$E,P$2,0))","v":""},{"$f":"IF($B1323=\"\",\"\",VLOOKUP($B1323,_tbl!$A:$E,Q$2,0))","v":""}]
[null,"all_m_West Urban other.csv","1-4",4.8565205685502098E-5,4.8450284852806102E-5,4.8316726035173703E-5,4.8245355853722103E-5,4.8165346663525397E-5,4.8092902746433399E-5,4.80404448030992E-5,4.7985747934510098E-5,4.7919974094776703E-5,4.7863717701315898E-5,{"$f":"IF($B1324=\"\",\"\",VLOOKUP($B1324,_tbl!$A:$E,N$2,0))","v":"Male"},{"$f":"IF($B1324=\"\",\"\",VLOOKUP($B1324,_tbl!$A:$E,O$2,0))","v":"West"},{"$f":"IF($B1324=\"\",\"\",VLOOKUP($B1324,_tbl!$A:$E,P$2,0))","v":"Urban"},{"$f":"IF($B1324=\"\",\"\",VLOOKUP($B1324,_tbl!$A:$E,Q$2,0))","v":"Other"},null,{"$f":"MAX(D1324:M1324)","v":4.8565205685502098E-5},{"$f":"MIN(D1324:M1324)","v":4.7863717701315898E-5}]
[null,"all_m_West Urban other.csv","5-9",2.62900251646094E-5,2.6243077305102799E-5,2.6256823207834799E-5,2.62269424486951E-5,2.6213668139430499E-5,2.6190527370016998E-5,2.6155889907812899E-5,2.6122921102363801E-5,2.6087844278408899E-5,2.6047849777229899E-5,{"$f":"IF($B1325=\"\",\"\",VLOOKUP($B1325,_tbl!$A:$E,N$2,0))","v":"Male"},{"$f":"IF($B1325=\"\",\"\",VLOOKUP($B1325,_tbl!$A:$E,O$2,0))","v":"West"},{"$f":"IF($B1325=\"\",\"\",VLOOKUP($B1325,_tbl!$A:$E,P$2,0))","v":"Urban"},{"$f":"IF($B1325=\"\",\"\",VLOOKUP($B1325,_tbl!$A:$E,Q$2,0))","v":"Other"},null,2.62900251646094E-5,2.6047849777229899E-5]
[null,"all_m_West Urban other.csv","10-14",2.2835058934291801E-5,2.2684573193391499E-5,2.27405819084366E-5,2.2697414476263701E-5,2.2714059928283002E-5,2.2738479055273499E-5,2.2758123787309601E-5,2.27840235235693E-5,2.2800162763868401E-5,2.27934502292471E-5,{"$f":"IF($B1326=\"\",\"\",VLOOKUP($B1326,_tbl!$A:$E,N$2,0))","v":"Male"},{"$f":"IF($B1326=\"\",\"\",VLOOKUP($B1326,_tbl!$A:$E,O$2,0))","v":"West"},{"$f":"IF($B1326=\"\",\"\",VLOOKUP($B1326,_tbl!$A:$E,P$2,0))","v":"Urban"},{"$f":"IF($B1326=\"\",\"\",VLOOKUP($B1326,_tbl!$A:$E,Q$2,0))","v":"Other"},null,2.2835058934291801E-5,2.2684573193391499E-5]
[null,"all_m_West Urban other.csv","15-19",2.2831302390893201E-5,2.2748284133543299E-5,2.2678091451542101E-5,2.2612473863650999E-5,2.2540314534594599E-5,2.2480158632705999E-5,2.2411146064298399E-5,2.23459744473156E-5,2.2278298973693502E-5,2.2206990155786E-5,{"$f":"IF($B1327=\"\",\"\",VLOOKUP($B1327,_tbl!$A:$E,N$2,0))","v":"Male"},{"$f":"IF($B1327=\"\",\"\",VLOOKUP($B1327,_tbl!$A:$E,O$2,0))","v":"West"},{"$f":"IF($B1327=\"\",\"\",VLOOKUP($B1327,_tbl!$A:$E,P$2,0))","v":"Urban"},{"$f":"IF($B1327=\"\",\"\",VLOOKUP($B1327,_tbl!$A:$E,Q$2,0))","v":"Other"},null,2.2831302390893201E-5,2.2206990155786E-5]
[null,"all_m_West Urban other.csv","20-24",2.9253422584070299E-5,2.92826379777566E-5,2.9364868948230501E-5,2.94185106904871E-5,2.9483388126978401E-5,2.9536866164398001E-5,2.95920061427414E-5,2.9643407915838701E-5,2.9697758314088301E-5,2.9753531351508401E-5,{"$f":"IF($B1328=\"\",\"\",VLOOKUP($B1328,_tbl!$A:$E,N$2,0))","v":"Male"},{"$f":"IF($B1328=\"\",\"\",VLOOKUP($B1328,_tbl!$A:$E,O$2,0))","v":"West"},{"$f":"IF($B1328=\"\",\"\",VLOOKUP($B1328,_tbl!$A:$E,P$2,0))","v":"Urban"},{"$f":"IF($B1328=\"\",\"\",VLOOKUP($B1328,_tbl!$A:$E,Q$2,0))","v":"Other"},null,2.9753531351508401E-5,2.9253422584070299E-5]
[null,"all_m_West Urban other.csv","25-29",3.9348764667674303E-5,3.9527423317127103E-5,3.9917919530565702E-5,4.0202114451204901E-5,4.0487985427373098E-5,4.0691014692614801E-5,4.0870999186869603E-5,4.1026372331814499E-5,4.1193503000099699E-5,4.1368568152568301E-5,{"$f":"IF($B1329=\"\",\"\",VLOOKUP($B1329,_tbl!$A:$E,N$2,0))","v":"Male"},{"$f":"IF($B1329=\"\",\"\",VLOOKUP($B1329,_tbl!$A:$E,O$2,0))","v":"West"},{"$f":"IF($B1329=\"\",\"\",VLOOKUP($B1329,_tbl!$A:$E,P$2,0))","v":"Urban"},{"$f":"IF($B1329=\"\",\"\",VLOOKUP($B1329,_tbl!$A:$E,Q$2,0))","v":"Other"},null,4.1368568152568301E-5,3.9348764667674303E-5]
[null,"all_m_West Urban other.csv","30-34",5.1983062694604201E-5,5.2245758274988798E-5,5.2743622747228201E-5,5.31112952693434E-5,5.3509992165969098E-5,5.3842197159038902E-5,5.4169589339679498E-5,5.4476762443349699E-5,5.4789911543804001E-5,5.5105841080029898E-5,{"$f":"IF($B1330=\"\",\"\",VLOOKUP($B1330,_tbl!$A:$E,N$2,0))","v":"Male"},{"$f":"IF($B1330=\"\",\"\",VLOOKUP($B1330,_tbl!$A:$E,O$2,0))","v":"West"},{"$f":"IF($B1330=\"\",\"\",VLOOKUP($B1330,_tbl!$A:$E,P$2,0))","v":"Urban"},{"$f":"IF($B1330=\"\",\"\",VLOOKUP($B1330,_tbl!$A:$E,Q$2,0))","v":"Other"},null,5.5105841080029898E-5,5.1983062694604201E-5]
[null,"all_m_West Urban other.csv","35-39",7.1341671777156899E-5,7.1339106394788707E-5,7.1470619087197595E-5,7.1444945131719906E-5,7.1523644719146396E-5,7.1568713053902602E-5,7.1657228416524202E-5,7.1718487227476904E-5,7.1790641384354795E-5,7.1844743513243498E-5,{"$f":"IF($B1331=\"\",\"\",VLOOKUP($B1331,_tbl!$A:$E,N$2,0))","v":"Male"},{"$f":"IF($B1331=\"\",\"\",VLOOKUP($B1331,_tbl!$A:$E,O$2,0))","v":"West"},{"$f":"IF($B1331=\"\",\"\",VLOOKUP($B1331,_tbl!$A:$E,P$2,0))","v":"Urban"},{"$f":"IF($B1331=\"\",\"\",VLOOKUP($B1331,_tbl!$A:$E,Q$2,0))","v":"Other"},null,7.1844743513243498E-5,7.1339106394788707E-5]
[null,"all_m_West Urban other.csv","40-44",9.2779361134742703E-5,9.3169975831784696E-5,9.3619798355475505E-5,9.3875255788039802E-5,9.4155784110221694E-5,9.4294369076617306E-5,9.4429678462413705E-5,9.4493203044111802E-5,9.4590008960702203E-5,9.4679104508264706E-5,{"$f":"IF($B1332=\"\",\"\",VLOOKUP($B1332,_tbl!$A:$E,N$2,0))","v":"Male"},{"$f":"IF($B1332=\"\",\"\",VLOOKUP($B1332,_tbl!$A:$E,O$2,0))","v":"West"},{"$f":"IF($B1332=\"\",\"\",VLOOKUP($B1332,_tbl!$A:$E,P$2,0))","v":"Urban"},{"$f":"IF($B1332=\"\",\"\",VLOOKUP($B1332,_tbl!$A:$E,Q$2,0))","v":"Other"},null,9.4679104508264706E-5,9.2779361134742703E-5]
[null,"all_m_West Urban other.csv","45-49",1.27204093741002E-4,1.2775263681123099E-4,1.28110424158113E-4,1.28618270230951E-4,1.28946290082709E-4,1.2939199700640801E-4,1.29708034046924E-4,1.30107864305409E-4,1.30419485157172E-4,1.3079254770639401E-4,{"$f":"IF($B1333=\"\",\"\",VLOOKUP($B1333,_tbl!$A:$E,N$2,0))","v":"Male"},{"$f":"IF($B1333=\"\",\"\",VLOOKUP($B1333,_tbl!$A:$E,O$2,0))","v":"West"},{"$f":"IF($B1333=\"\",\"\",VLOOKUP($B1333,_tbl!$A:$E,P$2,0))","v":"Urban"},{"$f":"IF($B1333=\"\",\"\",VLOOKUP($B1333,_tbl!$A:$E,Q$2,0))","v":"Other"},null,1.3079254770639401E-4,1.27204093741002E-4]
[null,"all_m_West Urban other.csv","50-54",1.7351804145378699E-4,1.7439307329346999E-4,1.75075358871755E-4,1.7580884628757299E-4,1.76334847247992E-4,1.7695315532348599E-4,1.77423912874064E-4,1.7798048333348101E-4,1.78438802685446E-4,1.78970363619652E-4,{"$f":"IF($B1334=\"\",\"\",VLOOKUP($B1334,_tbl!$A:$E,N$2,0))","v":"Male"},{"$f":"IF($B1334=\"\",\"\",VLOOKUP($B1334,_tbl!$A:$E,O$2,0))","v":"West"},{"$f":"IF($B1334=\"\",\"\",VLOOKUP($B1334,_tbl!$A:$E,P$2,0))","v":"Urban"},{"$f":"IF($B1334=\"\",\"\",VLOOKUP($B1334,_tbl!$A:$E,Q$2,0))","v":"Other"},null,1.78970363619652E-4,1.7351804145378699E-4]
[null,"all_m_West Urban other.csv","55-59",2.3985377424107999E-4,2.4088922395971499E-4,2.41660081694171E-4,2.42326990498232E-4,2.4286323234404099E-4,2.43381133693794E-4,2.4382361459488001E-4,2.4426997428821302E-4,2.4466942973788399E-4,2.4508067846684998E-4,{"$f":"IF($B1335=\"\",\"\",VLOOKUP($B1335,_tbl!$A:$E,N$2,0))","v":"Male"},{"$f":"IF($B1335=\"\",\"\",VLOOKUP($B1335,_tbl!$A:$E,O$2,0))","v":"West"},{"$f":"IF($B1335=\"\",\"\",VLOOKUP($B1335,_tbl!$A:$E,P$2,0))","v":"Urban"},{"$f":"IF($B1335=\"\",\"\",VLOOKUP($B1335,_tbl!$A:$E,Q$2,0))","v":"Other"},null,2.4508067846684998E-4,2.3985377424107999E-4]
[null,"all_m_West Urban other.csv","60-64",3.0788283229102401E-4,3.0753128062529697E-4,3.0638682608252299E-4,3.05327076020851E-4,3.0405121538984101E-4,3.0282246339415297E-4,3.0152094326344901E-4,3.0021736469988902E-4,2.9887036958802697E-4,2.9751003974315301E-4,{"$f":"IF($B1336=\"\",\"\",VLOOKUP($B1336,_tbl!$A:$E,N$2,0))","v":"Male"},{"$f":"IF($B1336=\"\",\"\",VLOOKUP($B1336,_tbl!$A:$E,O$2,0))","v":"West"},{"$f":"IF($B1336=\"\",\"\",VLOOKUP($B1336,_tbl!$A:$E,P$2,0))","v":"Urban"},{"$f":"IF($B1336=\"\",\"\",VLOOKUP($B1336,_tbl!$A:$E,Q$2,0))","v":"Other"},null,3.0788283229102401E-4,2.9751003974315301E-4]
[null,"all_m_West Urban other.csv","65-69",4.0600549320482803E-4,4.0198532003406402E-4,3.9574767592458101E-4,3.8995500772174999E-4,3.8370234271350702E-4,3.77721742411593E-4,3.7166558354300198E-4,3.6564449044021799E-4,3.5954948290496203E-4,3.53402093373364E-4,{"$f":"IF($B1337=\"\",\"\",VLOOKUP($B1337,_tbl!$A:$E,N$2,0))","v":"Male"},{"$f":"IF($B1337=\"\",\"\",VLOOKUP($B1337,_tbl!$A:$E,O$2,0))","v":"West"},{"$f":"IF($B1337=\"\",\"\",VLOOKUP($B1337,_tbl!$A:$E,P$2,0))","v":"Urban"},{"$f":"IF($B1337=\"\",\"\",VLOOKUP($B1337,_tbl!$A:$E,Q$2,0))","v":"Other"},null,4.0600549320482803E-4,3.53402093373364E-4]
[null,"all_m_West Urban other.csv","70-74",6.8257691414664505E-4,6.7594512144367603E-4,6.65684331186439E-4,6.5651007403758597E-4,6.4640491966454195E-4,6.3657863908150696E-4,6.2654678407908396E-4,6.1654501707073895E-4,6.0656995837218505E-4,5.9663479658379997E-4,{"$f":"IF($B1338=\"\",\"\",VLOOKUP($B1338,_tbl!$A:$E,N$2,0))","v":"Male"},{"$f":"IF($B1338=\"\",\"\",VLOOKUP($B1338,_tbl!$A:$E,O$2,0))","v":"West"},{"$f":"IF($B1338=\"\",\"\",VLOOKUP($B1338,_tbl!$A:$E,P$2,0))","v":"Urban"},{"$f":"IF($B1338=\"\",\"\",VLOOKUP($B1338,_tbl!$A:$E,Q$2,0))","v":"Other"},null,6.8257691414664505E-4,5.9663479658379997E-4]
[null,"all_m_West Urban other.csv","75-79",1.41201238758462E-3,1.4093022009049501E-3,1.40541366642102E-3,1.4011074170634801E-3,1.39254328313279E-3,1.3812860269914299E-3,1.3683973664655499E-3,1.35538917643982E-3,1.3435647779322199E-3,1.3332145441554599E-3,{"$f":"IF($B1339=\"\",\"\",VLOOKUP($B1339,_tbl!$A:$E,N$2,0))","v":"Male"},{"$f":"IF($B1339=\"\",\"\",VLOOKUP($B1339,_tbl!$A:$E,O$2,0))","v":"West"},{"$f":"IF($B1339=\"\",\"\",VLOOKUP($B1339,_tbl!$A:$E,P$2,0))","v":"Urban"},{"$f":"IF($B1339=\"\",\"\",VLOOKUP($B1339,_tbl!$A:$E,Q$2,0))","v":"Other"},null,1.41201238758462E-3,1.3332145441554599E-3]
[null,"all_m_West Urban other.csv","80-84",3.04650290903467E-3,3.0784277541165499E-3,3.10665799494592E-3,3.1275377852197101E-3,3.1204836109462301E-3,3.0959238607104699E-3,3.0587035845805002E-3,3.0205815923589801E-3,2.9881818978257E-3,2.9662544396320402E-3,{"$f":"IF($B1340=\"\",\"\",VLOOKUP($B1340,_tbl!$A:$E,N$2,0))","v":"Male"},{"$f":"IF($B1340=\"\",\"\",VLOOKUP($B1340,_tbl!$A:$E,O$2,0))","v":"West"},{"$f":"IF($B1340=\"\",\"\",VLOOKUP($B1340,_tbl!$A:$E,P$2,0))","v":"Urban"},{"$f":"IF($B1340=\"\",\"\",VLOOKUP($B1340,_tbl!$A:$E,Q$2,0))","v":"Other"},null,3.1275377852197101E-3,2.9662544396320402E-3]
[null,"all_m_West Urban other.csv","85+",6.6552150759706602E-3,6.7865062770951102E-3,6.9325842786312798E-3,7.0353233396242302E-3,7.0531625820718603E-3,7.0131483411199303E-3,6.9379386729290001E-3,6.8599642756350101E-3,6.7995792670700796E-3,6.7695969375019E-3,{"$f":"IF($B1341=\"\",\"\",VLOOKUP($B1341,_tbl!$A:$E,N$2,0))","v":"Male"},{"$f":"IF($B1341=\"\",\"\",VLOOKUP($B1341,_tbl!$A:$E,O$2,0))","v":"West"},{"$f":"IF($B1341=\"\",\"\",VLOOKUP($B1341,_tbl!$A:$E,P$2,0))","v":"Urban"},{"$f":"IF($B1341=\"\",\"\",VLOOKUP($B1341,_tbl!$A:$E,Q$2,0))","v":"Other"},null,7.0531625820718603E-3,6.6552150759706602E-3]
[null,null,null,null,null,null,null,null,null,null,null,null,null,{"$f":"IF($B1342=\"\",\"\",VLOOKUP($B1342,_tbl!$A:$E,N$2,0))","v":""},{"$f":"IF($B1342=\"\",\"\",VLOOKUP($B1342,_tbl!$A:$E,O$2,0))","v":""},{"$f":"IF($B1342=\"\",\"\",VLOOKUP($B1342,_tbl!$A:$E,P$2,0))","v":""},{"$f":"IF($B1342=\"\",\"\",VLOOKUP($B1342,_tbl!$A:$E,Q$2,0))","v":""}]
[null,null,null,2020,2021,2022,2023,2024,2025,2026,2027,2028,2029,{"$f":"IF($B1343=\"\",\"\",VLOOKUP($B1343,_tbl!$A:$E,N$2,0))","v":""},{"$f":"IF($B1343=\"\",\"\",VLOOKUP($B1343,_tbl!$A:$E,O$2,0))","v":""},{"$f":"IF($B1343=\"\",\"\",VLOOKUP($B1343,_tbl!$A:$E,P$2,0))","v":""},{"$f":"IF($B1343=\"\",\"\",VLOOKUP($B1343,_tbl!$A:$E,Q$2,0))","v":""}]
[null,"all_m_West Urban respiratory.csv","1-4",6.7410313541008701E-6,6.6475096300008698E-6,6.3676867933902398E-6,6.2884664400148597E-6,6.1113106655336497E-6,5.9506054013788497E-6,5.8324368920836503E-6,5.69414240703104E-6,5.5528504039120804E-6,5.4430497516735597E-6,{"$f":"IF($B1344=\"\",\"\",VLOOKUP($B1344,_tbl!$A:$E,N$2,0))","v":"Male"},{"$f":"IF($B1344=\"\",\"\",VLOOKUP($B1344,_tbl!$A:$E,O$2,0))","v":"West"},{"$f":"IF($B1344=\"\",\"\",VLOOKUP($B1344,_tbl!$A:$E,P$2,0))","v":"Urban"},{"$f":"IF($B1344=\"\",\"\",VLOOKUP($B1344,_tbl!$A:$E,Q$2,0))","v":"Respiratory"},null,{"$f":"MAX(D1344:M1344)","v":6.7410313541008701E-6},{"$f":"MIN(D1344:M1344)","v":5.4430497516735597E-6}]
[null,"all_m_West Urban respiratory.csv","5-9",5.6591123672424702E-6,5.5771102782826504E-6,5.4933856934964904E-6,5.4382600409301802E-6,5.3685723911314697E-6,5.3035925579900997E-6,5.24218789260334E-6,5.1770406246215796E-6,5.1042037488016403E-6,5.0320533489349501E-6,{"$f":"IF($B1345=\"\",\"\",VLOOKUP($B1345,_tbl!$A:$E,N$2,0))","v":"Male"},{"$f":"IF($B1345=\"\",\"\",VLOOKUP($B1345,_tbl!$A:$E,O$2,0))","v":"West"},{"$f":"IF($B1345=\"\",\"\",VLOOKUP($B1345,_tbl!$A:$E,P$2,0))","v":"Urban"},{"$f":"IF($B1345=\"\",\"\",VLOOKUP($B1345,_tbl!$A:$E,Q$2,0))","v":"Respiratory"},null,5.6591123672424702E-6,5.0320533489349501E-6]
[null,"all_m_West Urban respiratory.csv","10-14",4.4411639205571803E-6,4.3694231721373598E-6,4.3787078181516904E-6,4.3631362785958897E-6,4.3639126950505296E-6,4.3667709542940201E-6,4.3697210685524303E-6,4.37289894221327E-6,4.37046514227973E-6,4.3594831171752596E-6,{"$f":"IF($B1346=\"\",\"\",VLOOKUP($B1346,_tbl!$A:$E,N$2,0))","v":"Male"},{"$f":"IF($B1346=\"\",\"\",VLOOKUP($B1346,_tbl!$A:$E,O$2,0))","v":"West"},{"$f":"IF($B1346=\"\",\"\",VLOOKUP($B1346,_tbl!$A:$E,P$2,0))","v":"Urban"},{"$f":"IF($B1346=\"\",\"\",VLOOKUP($B1346,_tbl!$A:$E,Q$2,0))","v":"Respiratory"},null,4.4411639205571803E-6,4.3594831171752596E-6]
[null,"all_m_West Urban respiratory.csv","15-19",4.5810827537068402E-6,4.6050920674500602E-6,4.6510034694162902E-6,4.6726640479301801E-6,4.7208470298783198E-6,4.7734387878803197E-6,4.83282250052928E-6,4.8927862598194301E-6,4.9512141790877297E-6,4.99955546103882E-6,{"$f":"IF($B1347=\"\",\"\",VLOOKUP($B1347,_tbl!$A:$E,N$2,0))","v":"Male"},{"$f":"IF($B1347=\"\",\"\",VLOOKUP($B1347,_tbl!$A:$E,O$2,0))","v":"West"},{"$f":"IF($B1347=\"\",\"\",VLOOKUP($B1347,_tbl!$A:$E,P$2,0))","v":"Urban"},{"$f":"IF($B1347=\"\",\"\",VLOOKUP($B1347,_tbl!$A:$E,Q$2,0))","v":"Respiratory"},null,4.99955546103882E-6,4.5810827537068402E-6]
[null,"all_m_West Urban respiratory.csv","20-24",6.5053581025370996E-6,6.4359005190285801E-6,6.3394384972700104E-6,6.2445537412081E-6,6.2030181531089503E-6,6.2079817406422102E-6,6.2491847628159399E-6,6.2983116054386597E-6,6.3397625227412098E-6,6.3618289253988301E-6,{"$f":"IF($B1348=\"\",\"\",VLOOKUP($B1348,_tbl!$A:$E,N$2,0))","v":"Male"},{"$f":"IF($B1348=\"\",\"\",VLOOKUP($B1348,_tbl!$A:$E,O$2,0))","v":"West"},{"$f":"IF($B1348=\"\",\"\",VLOOKUP($B1348,_tbl!$A:$E,P$2,0))","v":"Urban"},{"$f":"IF($B1348=\"\",\"\",VLOOKUP($B1348,_tbl!$A:$E,Q$2,0))","v":"Respiratory"},null,6.5053581025370996E-6,6.2030181531089503E-6]
[null,"all_m_West Urban respiratory.csv","25-29",9.5547776922412599E-6,9.4937318757710693E-6,9.4344438180480202E-6,9.3756951019276101E-6,9.3521677453620407E-6,9.3607037536730994E-6,9.39389567192259E-6,9.4333977177150096E-6,9.4657685766439208E-6,9.4847584441711903E-6,{"$f":"IF($B1349=\"\",\"\",VLOOKUP($B1349,_tbl!$A:$E,N$2,0))","v":"Male"},{"$f":"IF($B1349=\"\",\"\",VLOOKUP($B1349,_tbl!$A:$E,O$2,0))","v":"West"},{"$f":"IF($B1349=\"\",\"\",VLOOKUP($B1349,_tbl!$A:$E,P$2,0))","v":"Urban"},{"$f":"IF($B1349=\"\",\"\",VLOOKUP($B1349,_tbl!$A:$E,Q$2,0))","v":"Respiratory"},null,9.5547776922412599E-6,9.3521677453620407E-6]
[null,"all_m_West Urban respiratory.csv","30-34",1.58698022629256E-5,1.5951616380270399E-5,1.6084246932328999E-5,1.6196795527839301E-5,1.6288249870063399E-5,1.6348338486444199E-5,1.6393760178395499E-5,1.6432744064434501E-5,1.6474998444689501E-5,1.65219426046269E-5,{"$f":"IF($B1350=\"\",\"\",VLOOKUP($B1350,_tbl!$A:$E,N$2,0))","v":"Male"},{"$f":"IF($B1350=\"\",\"\",VLOOKUP($B1350,_tbl!$A:$E,O$2,0))","v":"West"},{"$f":"IF($B1350=\"\",\"\",VLOOKUP($B1350,_tbl!$A:$E,P$2,0))","v":"Urban"},{"$f":"IF($B1350=\"\",\"\",VLOOKUP($B1350,_tbl!$A:$E,Q$2,0))","v":"Respiratory"},null,1.65219426046269E-5,1.58698022629256E-5]
[null,"all_m_West Urban respiratory.csv","35-39",2.9521803491199499E-5,2.90809571625759E-5,2.8711163453162301E-5,2.82604406739695E-5,2.78782801977641E-5,2.74550553186489E-5,2.70842987913115E-5,2.66757856121361E-5,2.62911276759818E-5,2.58696974394354E-5,{"$f":"IF($B1351=\"\",\"\",VLOOKUP($B1351,_tbl!$A:$E,N$2,0))","v":"Male"},{"$f":"IF($B1351=\"\",\"\",VLOOKUP($B1351,_tbl!$A:$E,O$2,0))","v":"West"},{"$f":"IF($B1351=\"\",\"\",VLOOKUP($B1351,_tbl!$A:$E,P$2,0))","v":"Urban"},{"$f":"IF($B1351=\"\",\"\",VLOOKUP($B1351,_tbl!$A:$E,Q$2,0))","v":"Respiratory"},null,2.9521803491199499E-5,2.58696974394354E-5]
[null,"all_m_West Urban respiratory.csv","40-44",5.0768293227299998E-5,4.9367231134368599E-5,4.8275081952819498E-5,4.6728446431688103E-5,4.5436338296401E-5,4.3865860860985898E-5,4.24957432311712E-5,4.0953281417606902E-5,3.9561273838277699E-5,3.8066315108686497E-5,{"$f":"IF($B1352=\"\",\"\",VLOOKUP($B1352,_tbl!$A:$E,N$2,0))","v":"Male"},{"$f":"IF($B1352=\"\",\"\",VLOOKUP($B1352,_tbl!$A:$E,O$2,0))","v":"West"},{"$f":"IF($B1352=\"\",\"\",VLOOKUP($B1352,_tbl!$A:$E,P$2,0))","v":"Urban"},{"$f":"IF($B1352=\"\",\"\",VLOOKUP($B1352,_tbl!$A:$E,Q$2,0))","v":"Respiratory"},null,5.0768293227299998E-5,3.8066315108686497E-5]
[null,"all_m_West Urban respiratory.csv","45-49",1.08053466353878E-4,1.0681248492406499E-4,1.0578771960989E-4,1.04391509409806E-4,1.0306818224087E-4,1.01507144024521E-4,1.0001314515368199E-4,9.8422022492158405E-5,9.6941728414262006E-5,9.54543856080295E-5,{"$f":"IF($B1353=\"\",\"\",VLOOKUP($B1353,_tbl!$A:$E,N$2,0))","v":"Male"},{"$f":"IF($B1353=\"\",\"\",VLOOKUP($B1353,_tbl!$A:$E,O$2,0))","v":"West"},{"$f":"IF($B1353=\"\",\"\",VLOOKUP($B1353,_tbl!$A:$E,P$2,0))","v":"Urban"},{"$f":"IF($B1353=\"\",\"\",VLOOKUP($B1353,_tbl!$A:$E,Q$2,0))","v":"Respiratory"},null,1.08053466353878E-4,9.54543856080295E-5]
[null,"all_m_West Urban respiratory.csv","50-54",2.42618679477008E-4,2.4238630680572599E-4,2.4178456096212201E-4,2.40909738765667E-4,2.3982336535712E-4,2.3856394946865901E-4,2.3719058042055501E-4,2.3577400382096599E-4,2.34367845479596E-4,2.3301014834253901E-4,{"$f":"IF($B1354=\"\",\"\",VLOOKUP($B1354,_tbl!$A:$E,N$2,0))","v":"Male"},{"$f":"IF($B1354=\"\",\"\",VLOOKUP($B1354,_tbl!$A:$E,O$2,0))","v":"West"},{"$f":"IF($B1354=\"\",\"\",VLOOKUP($B1354,_tbl!$A:$E,P$2,0))","v":"Urban"},{"$f":"IF($B1354=\"\",\"\",VLOOKUP($B1354,_tbl!$A:$E,Q$2,0))","v":"Respiratory"},null,2.42618679477008E-4,2.3301014834253901E-4]
[null,"all_m_West Urban respiratory.csv","55-59",5.0036636864158495E-4,4.9777069043158801E-4,4.9321773170148402E-4,4.8794818385505898E-4,4.8188331002075099E-4,4.7564217492899801E-4,4.6912046958144801E-4,4.62613690428051E-4,4.5598208764559099E-4,4.4938102348317699E-4,{"$f":"IF($B1355=\"\",\"\",VLOOKUP($B1355,_tbl!$A:$E,N$2,0))","v":"Male"},{"$f":"IF($B1355=\"\",\"\",VLOOKUP($B1355,_tbl!$A:$E,O$2,0))","v":"West"},{"$f":"IF($B1355=\"\",\"\",VLOOKUP($B1355,_tbl!$A:$E,P$2,0))","v":"Urban"},{"$f":"IF($B1355=\"\",\"\",VLOOKUP($B1355,_tbl!$A:$E,Q$2,0))","v":"Respiratory"},null,5.0036636864158495E-4,4.4938102348317699E-4]
[null,"all_m_West Urban respiratory.csv","60-64",9.52054038275007E-4,9.4244759303469797E-4,9.2974604858323895E-4,9.1501268001800999E-4,8.9811510621941705E-4,8.8009251042957596E-4,8.6129544510027097E-4,8.42293937850119E-4,8.2327855209624902E-4,8.0442735538651202E-4,{"$f":"IF($B1356=\"\",\"\",VLOOKUP($B1356,_tbl!$A:$E,N$2,0))","v":"Male"},{"$f":"IF($B1356=\"\",\"\",VLOOKUP($B1356,_tbl!$A:$E,O$2,0))","v":"West"},{"$f":"IF($B1356=\"\",\"\",VLOOKUP($B1356,_tbl!$A:$E,P$2,0))","v":"Urban"},{"$f":"IF($B1356=\"\",\"\",VLOOKUP($B1356,_tbl!$A:$E,Q$2,0))","v":"Respiratory"},null,9.52054038275007E-4,8.0442735538651202E-4]
[null,"all_m_West Urban respiratory.csv","65-69",1.8905378328322501E-3,1.8668480092602999E-3,1.8368611498402799E-3,1.80405601810044E-3,1.76724761102136E-3,1.7285531317592299E-3,1.68866927236107E-3,1.6485204603928899E-3,1.6087247811113199E-3,1.5694202798045801E-3,{"$f":"IF($B1357=\"\",\"\",VLOOKUP($B1357,_tbl!$A:$E,N$2,0))","v":"Male"},{"$f":"IF($B1357=\"\",\"\",VLOOKUP($B1357,_tbl!$A:$E,O$2,0))","v":"West"},{"$f":"IF($B1357=\"\",\"\",VLOOKUP($B1357,_tbl!$A:$E,P$2,0))","v":"Urban"},{"$f":"IF($B1357=\"\",\"\",VLOOKUP($B1357,_tbl!$A:$E,Q$2,0))","v":"Respiratory"},null,1.8905378328322501E-3,1.5694202798045801E-3]
[null,"all_m_West Urban respiratory.csv","70-74",4.0525674886827097E-3,3.9894919667180602E-3,3.91202271130395E-3,3.8342487427646598E-3,3.7509942004754801E-3,3.6663662681357899E-3,3.5812038717944498E-3,3.4959733405774802E-3,3.4120725174772498E-3,3.3287793841734001E-3,{"$f":"IF($B1358=\"\",\"\",VLOOKUP($B1358,_tbl!$A:$E,N$2,0))","v":"Male"},{"$f":"IF($B1358=\"\",\"\",VLOOKUP($B1358,_tbl!$A:$E,O$2,0))","v":"West"},{"$f":"IF($B1358=\"\",\"\",VLOOKUP($B1358,_tbl!$A:$E,P$2,0))","v":"Urban"},{"$f":"IF($B1358=\"\",\"\",VLOOKUP($B1358,_tbl!$A:$E,Q$2,0))","v":"Respiratory"},null,4.0525674886827097E-3,3.3287793841734001E-3]
[null,"all_m_West Urban respiratory.csv","75-79",9.1366450827814107E-3,9.0253021247981707E-3,8.8995847022292594E-3,8.7757644128189493E-3,8.6351540126399402E-3,8.4823762165670002E-3,8.3236033339842107E-3,8.1632394931444793E-3,8.0100981193989597E-3,7.8641131193992794E-3,{"$f":"IF($B1359=\"\",\"\",VLOOKUP($B1359,_tbl!$A:$E,N$2,0))","v":"Male"},{"$f":"IF($B1359=\"\",\"\",VLOOKUP($B1359,_tbl!$A:$E,O$2,0))","v":"West"},{"$f":"IF($B1359=\"\",\"\",VLOOKUP($B1359,_tbl!$A:$E,P$2,0))","v":"Urban"},{"$f":"IF($B1359=\"\",\"\",VLOOKUP($B1359,_tbl!$A:$E,Q$2,0))","v":"Respiratory"},null,9.1366450827814107E-3,7.8641131193992794E-3]
[null,"all_m_West Urban respiratory.csv","80-84",1.9290403834872301E-2,1.94527634954893E-2,1.9562893923341099E-2,1.9622683976010701E-2,1.9436373973440401E-2,1.9129905018051199E-2,1.8744546127967499E-2,1.8375107492039501E-2,1.8050995948948802E-2,1.7790756517653401E-2,{"$f":"IF($B1360=\"\",\"\",VLOOKUP($B1360,_tbl!$A:$E,N$2,0))","v":"Male"},{"$f":"IF($B1360=\"\",\"\",VLOOKUP($B1360,_tbl!$A:$E,O$2,0))","v":"West"},{"$f":"IF($B1360=\"\",\"\",VLOOKUP($B1360,_tbl!$A:$E,P$2,0))","v":"Urban"},{"$f":"IF($B1360=\"\",\"\",VLOOKUP($B1360,_tbl!$A:$E,Q$2,0))","v":"Respiratory"},null,1.9622683976010701E-2,1.7790756517653401E-2]
[null,"all_m_West Urban respiratory.csv","85+",3.9865620827351997E-2,4.10455413627916E-2,4.2313419145035697E-2,4.3195309011472997E-2,4.3335048968808902E-2,4.3016365916815402E-2,4.2455009918247397E-2,4.1911015020408497E-2,4.1515589226700199E-2,4.1320990771596899E-2,{"$f":"IF($B1361=\"\",\"\",VLOOKUP($B1361,_tbl!$A:$E,N$2,0))","v":"Male"},{"$f":"IF($B1361=\"\",\"\",VLOOKUP($B1361,_tbl!$A:$E,O$2,0))","v":"West"},{"$f":"IF($B1361=\"\",\"\",VLOOKUP($B1361,_tbl!$A:$E,P$2,0))","v":"Urban"},{"$f":"IF($B1361=\"\",\"\",VLOOKUP($B1361,_tbl!$A:$E,Q$2,0))","v":"Respiratory"},null,4.3335048968808902E-2,3.9865620827351997E-2]
[null,null,null,null,null,null,null,null,null,null,null,null,null,{"$f":"IF($B1362=\"\",\"\",VLOOKUP($B1362,_tbl!$A:$E,N$2,0))","v":""},{"$f":"IF($B1362=\"\",\"\",VLOOKUP($B1362,_tbl!$A:$E,O$2,0))","v":""},{"$f":"IF($B1362=\"\",\"\",VLOOKUP($B1362,_tbl!$A:$E,P$2,0))","v":""},{"$f":"IF($B1362=\"\",\"\",VLOOKUP($B1362,_tbl!$A:$E,Q$2,0))","v":""}]
[null,null,null,2020,2021,2022,2023,2024,2025,2026,2027,2028,2029,{"$f":"IF($B1363=\"\",\"\",VLOOKUP($B1363,_tbl!$A:$E,N$2,0))","v":""},{"$f":"IF($B1363=\"\",\"\",VLOOKUP($B1363,_tbl!$A:$E,O$2,0))","v":""},{"$f":"IF($B1363=\"\",\"\",VLOOKUP($B1363,_tbl!$A:$E,P$2,0))","v":""},{"$f":"IF($B1363=\"\",\"\",VLOOKUP($B1363,_tbl!$A:$E,Q$2,0))","v":""}]
[null,"all_m_West Urban.csv","1-4",5.2423082250655601E-4,5.1801660238838304E-4,5.0211054195386205E-4,4.9188020571631398E-4,4.8000493678404202E-4,4.6956560948532101E-4,4.5910689535776003E-4,4.4934706683910598E-4,4.3969213107216602E-4,4.3056131157091201E-4,{"$f":"IF($B1364=\"\",\"\",VLOOKUP($B1364,_tbl!$A:$E,N$2,0))","v":"Male"},{"$f":"IF($B1364=\"\",\"\",VLOOKUP($B1364,_tbl!$A:$E,O$2,0))","v":"West"},{"$f":"IF($B1364=\"\",\"\",VLOOKUP($B1364,_tbl!$A:$E,P$2,0))","v":"Urban"},{"$f":"IF($B1364=\"\",\"\",VLOOKUP($B1364,_tbl!$A:$E,Q$2,0))","v":"Total"},null,{"$f":"MAX(D1364:M1364)","v":5.2423082250655601E-4},{"$f":"MIN(D1364:M1364)","v":4.3056131157091201E-4}]
[null,"all_m_West Urban.csv","5-9",2.8642294301541802E-4,2.8364519195003899E-4,2.7614182491308802E-4,2.71420588115901E-4,2.6572249642948099E-4,2.6094211558073E-4,2.5599125510892201E-4,2.5146809728498597E-4,2.47054568417041E-4,2.4284915180013001E-4,{"$f":"IF($B1365=\"\",\"\",VLOOKUP($B1365,_tbl!$A:$E,N$2,0))","v":"Male"},{"$f":"IF($B1365=\"\",\"\",VLOOKUP($B1365,_tbl!$A:$E,O$2,0))","v":"West"},{"$f":"IF($B1365=\"\",\"\",VLOOKUP($B1365,_tbl!$A:$E,P$2,0))","v":"Urban"},{"$f":"IF($B1365=\"\",\"\",VLOOKUP($B1365,_tbl!$A:$E,Q$2,0))","v":"Total"},null,2.8642294301541802E-4,2.4284915180013001E-4]
[null,"all_m_West Urban.csv","10-14",2.8463136386492802E-4,2.8113452394379102E-4,2.7347381144898699E-4,2.68751250543859E-4,2.6291064476131399E-4,2.5804087771460202E-4,2.52982733692605E-4,2.48345825685931E-4,2.4379477705835701E-4,2.3945237027537801E-4,{"$f":"IF($B1366=\"\",\"\",VLOOKUP($B1366,_tbl!$A:$E,N$2,0))","v":"Male"},{"$f":"IF($B1366=\"\",\"\",VLOOKUP($B1366,_tbl!$A:$E,O$2,0))","v":"West"},{"$f":"IF($B1366=\"\",\"\",VLOOKUP($B1366,_tbl!$A:$E,P$2,0))","v":"Urban"},{"$f":"IF($B1366=\"\",\"\",VLOOKUP($B1366,_tbl!$A:$E,Q$2,0))","v":"Total"},null,2.8463136386492802E-4,2.3945237027537801E-4]
[null,"all_m_West Urban.csv","15-19",3.4319453260123098E-4,3.3883560688567599E-4,3.2874163707351798E-4,3.2220898029080902E-4,3.1450082451247002E-4,3.0810854031671902E-4,3.0159900253923098E-4,2.95619055732491E-4,2.8970424033090899E-4,2.83966235831906E-4,{"$f":"IF($B1367=\"\",\"\",VLOOKUP($B1367,_tbl!$A:$E,N$2,0))","v":"Male"},{"$f":"IF($B1367=\"\",\"\",VLOOKUP($B1367,_tbl!$A:$E,O$2,0))","v":"West"},{"$f":"IF($B1367=\"\",\"\",VLOOKUP($B1367,_tbl!$A:$E,P$2,0))","v":"Urban"},{"$f":"IF($B1367=\"\",\"\",VLOOKUP($B1367,_tbl!$A:$E,Q$2,0))","v":"Total"},null,3.4319453260123098E-4,2.83966235831906E-4]
[null,"all_m_West Urban.csv","20-24",4.7954577879970301E-4,4.74344050526829E-4,4.6154667802023302E-4,4.5219797337222797E-4,4.4282886302256599E-4,4.3591816536651999E-4,4.2976187968264001E-4,4.2427909420492902E-4,4.1869180671680702E-4,4.1288484653718998E-4,{"$f":"IF($B1368=\"\",\"\",VLOOKUP($B1368,_tbl!$A:$E,N$2,0))","v":"Male"},{"$f":"IF($B1368=\"\",\"\",VLOOKUP($B1368,_tbl!$A:$E,O$2,0))","v":"West"},{"$f":"IF($B1368=\"\",\"\",VLOOKUP($B1368,_tbl!$A:$E,P$2,0))","v":"Urban"},{"$f":"IF($B1368=\"\",\"\",VLOOKUP($B1368,_tbl!$A:$E,Q$2,0))","v":"Total"},null,4.7954577879970301E-4,4.1288484653718998E-4]
[null,"all_m_West Urban.csv","25-29",6.6006972204782095E-4,6.5535011411649996E-4,6.4014975725920902E-4,6.2971607467550796E-4,6.1830374344792102E-4,6.0947027418012303E-4,6.0107058014853803E-4,5.9348704939670696E-4,5.8588286786672101E-4,5.7823086092081803E-4,{"$f":"IF($B1369=\"\",\"\",VLOOKUP($B1369,_tbl!$A:$E,N$2,0))","v":"Male"},{"$f":"IF($B1369=\"\",\"\",VLOOKUP($B1369,_tbl!$A:$E,O$2,0))","v":"West"},{"$f":"IF($B1369=\"\",\"\",VLOOKUP($B1369,_tbl!$A:$E,P$2,0))","v":"Urban"},{"$f":"IF($B1369=\"\",\"\",VLOOKUP($B1369,_tbl!$A:$E,Q$2,0))","v":"Total"},null,6.6006972204782095E-4,5.7823086092081803E-4]
[null,"all_m_West Urban.csv","30-34",9.4336906086983402E-4,9.3463956124314595E-4,9.1215570312009405E-4,8.9736699022665396E-4,8.8039998764366197E-4,8.6679849770726603E-4,8.5334477179650802E-4,8.4107412860588205E-4,8.2882124738140397E-4,8.1681720277786195E-4,{"$f":"IF($B1370=\"\",\"\",VLOOKUP($B1370,_tbl!$A:$E,N$2,0))","v":"Male"},{"$f":"IF($B1370=\"\",\"\",VLOOKUP($B1370,_tbl!$A:$E,O$2,0))","v":"West"},{"$f":"IF($B1370=\"\",\"\",VLOOKUP($B1370,_tbl!$A:$E,P$2,0))","v":"Urban"},{"$f":"IF($B1370=\"\",\"\",VLOOKUP($B1370,_tbl!$A:$E,Q$2,0))","v":"Total"},null,9.4336906086983402E-4,8.1681720277786195E-4]
[null,"all_m_West Urban.csv","35-39",1.33495333893111E-3,1.3198980779286901E-3,1.28944537399444E-3,1.26746417021042E-3,1.2425898036055899E-3,1.2210320552081501E-3,1.1994301683229201E-3,1.1788994748499499E-3,1.1584528959711301E-3,1.1382454761049801E-3,{"$f":"IF($B1371=\"\",\"\",VLOOKUP($B1371,_tbl!$A:$E,N$2,0))","v":"Male"},{"$f":"IF($B1371=\"\",\"\",VLOOKUP($B1371,_tbl!$A:$E,O$2,0))","v":"West"},{"$f":"IF($B1371=\"\",\"\",VLOOKUP($B1371,_tbl!$A:$E,P$2,0))","v":"Urban"},{"$f":"IF($B1371=\"\",\"\",VLOOKUP($B1371,_tbl!$A:$E,Q$2,0))","v":"Total"},null,1.33495333893111E-3,1.1382454761049801E-3]
[null,"all_m_West Urban.csv","40-44",1.9761488592874399E-3,1.9604197504614201E-3,1.92451086524388E-3,1.8971360244046599E-3,1.86611298838484E-3,1.83737894846615E-3,1.80866777086559E-3,1.78015538509108E-3,1.75217899322394E-3,1.7239805616892699E-3,{"$f":"IF($B1372=\"\",\"\",VLOOKUP($B1372,_tbl!$A:$E,N$2,0))","v":"Male"},{"$f":"IF($B1372=\"\",\"\",VLOOKUP($B1372,_tbl!$A:$E,O$2,0))","v":"West"},{"$f":"IF($B1372=\"\",\"\",VLOOKUP($B1372,_tbl!$A:$E,P$2,0))","v":"Urban"},{"$f":"IF($B1372=\"\",\"\",VLOOKUP($B1372,_tbl!$A:$E,Q$2,0))","v":"Total"},null,1.9761488592874399E-3,1.7239805616892699E-3]
[null,"all_m_West Urban.csv","45-49",3.15802267197342E-3,3.1506667818922999E-3,3.1251839010412001E-3,3.1066782901988201E-3,3.0849523483478902E-3,3.0659924618243501E-3,3.0468090967042901E-3,3.02811484896536E-3,3.0090135917535E-3,2.9893240866614799E-3,{"$f":"IF($B1373=\"\",\"\",VLOOKUP($B1373,_tbl!$A:$E,N$2,0))","v":"Male"},{"$f":"IF($B1373=\"\",\"\",VLOOKUP($B1373,_tbl!$A:$E,O$2,0))","v":"West"},{"$f":"IF($B1373=\"\",\"\",VLOOKUP($B1373,_tbl!$A:$E,P$2,0))","v":"Urban"},{"$f":"IF($B1373=\"\",\"\",VLOOKUP($B1373,_tbl!$A:$E,Q$2,0))","v":"Total"},null,3.15802267197342E-3,2.9893240866614799E-3]
[null,"all_m_West Urban.csv","50-54",4.9989925840176301E-3,4.98622269722457E-3,4.9568847510746503E-3,4.9343332135689897E-3,4.90771835817901E-3,4.8829951842967899E-3,4.8573521010039098E-3,4.8321018903103204E-3,4.8066816152516302E-3,4.78117920753724E-3,{"$f":"IF($B1374=\"\",\"\",VLOOKUP($B1374,_tbl!$A:$E,N$2,0))","v":"Male"},{"$f":"IF($B1374=\"\",\"\",VLOOKUP($B1374,_tbl!$A:$E,O$2,0))","v":"West"},{"$f":"IF($B1374=\"\",\"\",VLOOKUP($B1374,_tbl!$A:$E,P$2,0))","v":"Urban"},{"$f":"IF($B1374=\"\",\"\",VLOOKUP($B1374,_tbl!$A:$E,Q$2,0))","v":"Total"},null,4.9989925840176301E-3,4.78117920753724E-3]
[null,"all_m_West Urban.csv","55-59",7.6194503777049401E-3,7.5869509559627502E-3,7.5370377522562702E-3,7.48242894186901E-3,7.4216198869089898E-3,7.35771382424758E-3,7.2927867144131102E-3,7.2266519224802204E-3,7.1611329795278301E-3,7.0950674574733396E-3,{"$f":"IF($B1375=\"\",\"\",VLOOKUP($B1375,_tbl!$A:$E,N$2,0))","v":"Male"},{"$f":"IF($B1375=\"\",\"\",VLOOKUP($B1375,_tbl!$A:$E,O$2,0))","v":"West"},{"$f":"IF($B1375=\"\",\"\",VLOOKUP($B1375,_tbl!$A:$E,P$2,0))","v":"Urban"},{"$f":"IF($B1375=\"\",\"\",VLOOKUP($B1375,_tbl!$A:$E,Q$2,0))","v":"Total"},null,7.6194503777049401E-3,7.0950674574733396E-3]
[null,"all_m_West Urban.csv","60-64",1.1300840391974E-2,1.12595876979843E-2,1.11874420619374E-2,1.1108581796834801E-2,1.1016940327297799E-2,1.0921033550469E-2,1.0821571905972001E-2,1.0720521777283699E-2,1.06191842839423E-2,1.05173675900741E-2,{"$f":"IF($B1376=\"\",\"\",VLOOKUP($B1376,_tbl!$A:$E,N$2,0))","v":"Male"},{"$f":"IF($B1376=\"\",\"\",VLOOKUP($B1376,_tbl!$A:$E,O$2,0))","v":"West"},{"$f":"IF($B1376=\"\",\"\",VLOOKUP($B1376,_tbl!$A:$E,P$2,0))","v":"Urban"},{"$f":"IF($B1376=\"\",\"\",VLOOKUP($B1376,_tbl!$A:$E,Q$2,0))","v":"Total"},null,1.1300840391974E-2,1.05173675900741E-2]
[null,"all_m_West Urban.csv","65-69",1.73393934371814E-2,1.7247598978554698E-2,1.70969113246753E-2,1.6954538603126901E-2,1.6798803376271199E-2,1.6648372144574201E-2,1.6496410230385401E-2,1.6345092417667999E-2,1.6192489691764799E-2,1.6038247501801699E-2,{"$f":"IF($B1377=\"\",\"\",VLOOKUP($B1377,_tbl!$A:$E,N$2,0))","v":"Male"},{"$f":"IF($B1377=\"\",\"\",VLOOKUP($B1377,_tbl!$A:$E,O$2,0))","v":"West"},{"$f":"IF($B1377=\"\",\"\",VLOOKUP($B1377,_tbl!$A:$E,P$2,0))","v":"Urban"},{"$f":"IF($B1377=\"\",\"\",VLOOKUP($B1377,_tbl!$A:$E,Q$2,0))","v":"Total"},null,1.73393934371814E-2,1.6038247501801699E-2]
[null,"all_m_West Urban.csv","70-74",2.92779046029886E-2,2.9121476329980401E-2,2.8871560935135099E-2,2.8658106820077099E-2,2.8422331597626999E-2,2.8197160254085699E-2,2.7969945515164799E-2,2.7744537586101899E-2,2.7520956584960898E-2,2.72969740496345E-2,{"$f":"IF($B1378=\"\",\"\",VLOOKUP($B1378,_tbl!$A:$E,N$2,0))","v":"Male"},{"$f":"IF($B1378=\"\",\"\",VLOOKUP($B1378,_tbl!$A:$E,O$2,0))","v":"West"},{"$f":"IF($B1378=\"\",\"\",VLOOKUP($B1378,_tbl!$A:$E,P$2,0))","v":"Urban"},{"$f":"IF($B1378=\"\",\"\",VLOOKUP($B1378,_tbl!$A:$E,Q$2,0))","v":"Total"},null,2.92779046029886E-2,2.72969740496345E-2]
[null,"all_m_West Urban.csv","75-79",5.2754911492826101E-2,5.2670131619256898E-2,5.2505086286537397E-2,5.2352905041977003E-2,5.2053081071499599E-2,5.1670593319007897E-2,5.1225733667261603E-2,5.0775851839417602E-2,5.0362009332842503E-2,4.9999751173143502E-2,{"$f":"IF($B1379=\"\",\"\",VLOOKUP($B1379,_tbl!$A:$E,N$2,0))","v":"Male"},{"$f":"IF($B1379=\"\",\"\",VLOOKUP($B1379,_tbl!$A:$E,O$2,0))","v":"West"},{"$f":"IF($B1379=\"\",\"\",VLOOKUP($B1379,_tbl!$A:$E,P$2,0))","v":"Urban"},{"$f":"IF($B1379=\"\",\"\",VLOOKUP($B1379,_tbl!$A:$E,Q$2,0))","v":"Total"},null,5.2754911492826101E-2,4.9999751173143502E-2]
[null,"all_m_West Urban.csv","80-84",9.6971621617953294E-2,9.84281627607443E-2,9.94289514381555E-2,0.10030999472791,0.100185597615878,9.9621225662496302E-2,9.8723994404006504E-2,9.7882180691359205E-2,9.7198473849307396E-2,9.6758030283338306E-2,{"$f":"IF($B1380=\"\",\"\",VLOOKUP($B1380,_tbl!$A:$E,N$2,0))","v":"Male"},{"$f":"IF($B1380=\"\",\"\",VLOOKUP($B1380,_tbl!$A:$E,O$2,0))","v":"West"},{"$f":"IF($B1380=\"\",\"\",VLOOKUP($B1380,_tbl!$A:$E,P$2,0))","v":"Urban"},{"$f":"IF($B1380=\"\",\"\",VLOOKUP($B1380,_tbl!$A:$E,Q$2,0))","v":"Total"},null,0.10030999472791,9.6758030283338306E-2]
[null,"all_m_West Urban.csv","85+",0.17649117961983801,0.17976590756667299,0.18269671204374999,0.184894301125718,0.185333681734766,0.18506763380750699,0.18449758037389599,0.18420499031854401,0.18416971880292499,0.18431417993815599,{"$f":"IF($B1381=\"\",\"\",VLOOKUP($B1381,_tbl!$A:$E,N$2,0))","v":"Male"},{"$f":"IF($B1381=\"\",\"\",VLOOKUP($B1381,_tbl!$A:$E,O$2,0))","v":"West"},{"$f":"IF($B1381=\"\",\"\",VLOOKUP($B1381,_tbl!$A:$E,P$2,0))","v":"Urban"},{"$f":"IF($B1381=\"\",\"\",VLOOKUP($B1381,_tbl!$A:$E,Q$2,0))","v":"Total"},null,0.185333681734766,0.17649117961983801]
[null,null,null,null,null,null,null,null,null,null,null,null,null,{"$f":"IF($B1382=\"\",\"\",VLOOKUP($B1382,_tbl!$A:$E,N$2,0))","v":""},{"$f":"IF($B1382=\"\",\"\",VLOOKUP($B1382,_tbl!$A:$E,O$2,0))","v":""},{"$f":"IF($B1382=\"\",\"\",VLOOKUP($B1382,_tbl!$A:$E,P$2,0))","v":""},{"$f":"IF($B1382=\"\",\"\",VLOOKUP($B1382,_tbl!$A:$E,Q$2,0))","v":""}]
[null,null,null,2020,2021,2022,2023,2024,2025,2026,2027,2028,2029,{"$f":"IF($B1383=\"\",\"\",VLOOKUP($B1383,_tbl!$A:$E,N$2,0))","v":""},{"$f":"IF($B1383=\"\",\"\",VLOOKUP($B1383,_tbl!$A:$E,O$2,0))","v":""},{"$f":"IF($B1383=\"\",\"\",VLOOKUP($B1383,_tbl!$A:$E,P$2,0))","v":""},{"$f":"IF($B1383=\"\",\"\",VLOOKUP($B1383,_tbl!$A:$E,Q$2,0))","v":""}]
[null,"all_m_West.csv","1-4",7.2062405637691996E-4,6.8808988303096304E-4,6.4937442652580695E-4,6.1707910689283202E-4,5.8408779484260803E-4,5.5401074107552296E-4,5.2470885639783495E-4,4.9718645253669805E-4,4.7077178845710498E-4,4.4571674634343998E-4,{"$f":"IF($B1384=\"\",\"\",VLOOKUP($B1384,_tbl!$A:$E,N$2,0))","v":"Male"},{"$f":"IF($B1384=\"\",\"\",VLOOKUP($B1384,_tbl!$A:$E,O$2,0))","v":"West"},{"$f":"IF($B1384=\"\",\"\",VLOOKUP($B1384,_tbl!$A:$E,P$2,0))","v":"Total"},{"$f":"IF($B1384=\"\",\"\",VLOOKUP($B1384,_tbl!$A:$E,Q$2,0))","v":"Total"},null,{"$f":"MAX(D1384:M1384)","v":7.2062405637691996E-4},{"$f":"MIN(D1384:M1384)","v":4.4571674634343998E-4}]
[null,"all_m_West.csv","5-9",3.9139854221262798E-4,3.8077320824092602E-4,3.6770330823868299E-4,3.56635138532273E-4,3.4508134820766502E-4,3.3435884735055001E-4,3.2370712457829902E-4,3.1351167166370901E-4,3.0353543269988402E-4,2.9388725408494899E-4,{"$f":"IF($B1385=\"\",\"\",VLOOKUP($B1385,_tbl!$A:$E,N$2,0))","v":"Male"},{"$f":"IF($B1385=\"\",\"\",VLOOKUP($B1385,_tbl!$A:$E,O$2,0))","v":"West"},{"$f":"IF($B1385=\"\",\"\",VLOOKUP($B1385,_tbl!$A:$E,P$2,0))","v":"Total"},{"$f":"IF($B1385=\"\",\"\",VLOOKUP($B1385,_tbl!$A:$E,Q$2,0))","v":"Total"},null,3.9139854221262798E-4,2.9388725408494899E-4]
[null,"all_m_West.csv","10-14",3.7101301105836598E-4,3.6270231010593199E-4,3.5171084696495599E-4,3.42520406338329E-4,3.32710196933395E-4,3.23608630566848E-4,3.1448536262230098E-4,3.0573148552400599E-4,2.9712380623048601E-4,2.8877498924422999E-4,{"$f":"IF($B1386=\"\",\"\",VLOOKUP($B1386,_tbl!$A:$E,N$2,0))","v":"Male"},{"$f":"IF($B1386=\"\",\"\",VLOOKUP($B1386,_tbl!$A:$E,O$2,0))","v":"West"},{"$f":"IF($B1386=\"\",\"\",VLOOKUP($B1386,_tbl!$A:$E,P$2,0))","v":"Total"},{"$f":"IF($B1386=\"\",\"\",VLOOKUP($B1386,_tbl!$A:$E,Q$2,0))","v":"Total"},null,3.7101301105836598E-4,2.8877498924422999E-4]
[null,"all_m_West.csv","15-19",4.4043369982583802E-4,4.2983290813631002E-4,4.1538443391175199E-4,4.0337869138794101E-4,3.9045962758507799E-4,3.7847949894486397E-4,3.6644680802005802E-4,3.5490485236369201E-4,3.4355843038807798E-4,3.3256458088888499E-4,{"$f":"IF($B1387=\"\",\"\",VLOOKUP($B1387,_tbl!$A:$E,N$2,0))","v":"Male"},{"$f":"IF($B1387=\"\",\"\",VLOOKUP($B1387,_tbl!$A:$E,O$2,0))","v":"West"},{"$f":"IF($B1387=\"\",\"\",VLOOKUP($B1387,_tbl!$A:$E,P$2,0))","v":"Total"},{"$f":"IF($B1387=\"\",\"\",VLOOKUP($B1387,_tbl!$A:$E,Q$2,0))","v":"Total"},null,4.4043369982583802E-4,3.3256458088888499E-4]
[null,"all_m_West.csv","20-24",6.4455265432776803E-4,6.3023861583112804E-4,6.0949623237004005E-4,5.9277714190611398E-4,5.7442580379436E-4,5.5752328818680697E-4,5.4040428630473803E-4,5.2397676788608501E-4,5.0774997221450795E-4,4.9199064850881597E-4,{"$f":"IF($B1388=\"\",\"\",VLOOKUP($B1388,_tbl!$A:$E,N$2,0))","v":"Male"},{"$f":"IF($B1388=\"\",\"\",VLOOKUP($B1388,_tbl!$A:$E,O$2,0))","v":"West"},{"$f":"IF($B1388=\"\",\"\",VLOOKUP($B1388,_tbl!$A:$E,P$2,0))","v":"Total"},{"$f":"IF($B1388=\"\",\"\",VLOOKUP($B1388,_tbl!$A:$E,Q$2,0))","v":"Total"},null,6.4455265432776803E-4,4.9199064850881597E-4]
[null,"all_m_West.csv","25-29",8.9375757451366702E-4,8.7518474849338499E-4,8.4945369482253904E-4,8.2872625172405296E-4,8.0624253739877303E-4,7.8560451099877701E-4,7.6478260824921996E-4,7.4483888224406703E-4,7.2515934549914E-4,7.0605302229336897E-4,{"$f":"IF($B1389=\"\",\"\",VLOOKUP($B1389,_tbl!$A:$E,N$2,0))","v":"Male"},{"$f":"IF($B1389=\"\",\"\",VLOOKUP($B1389,_tbl!$A:$E,O$2,0))","v":"West"},{"$f":"IF($B1389=\"\",\"\",VLOOKUP($B1389,_tbl!$A:$E,P$2,0))","v":"Total"},{"$f":"IF($B1389=\"\",\"\",VLOOKUP($B1389,_tbl!$A:$E,Q$2,0))","v":"Total"},null,8.9375757451366702E-4,7.0605302229336897E-4]
[null,"all_m_West.csv","30-34",1.2646031385548299E-3,1.23992153199179E-3,1.2061532673269999E-3,1.1789320668792601E-3,1.1495102349235501E-3,1.12255125300911E-3,1.0953948066378301E-3,1.06942292935384E-3,1.04381775253804E-3,1.0189811968658101E-3,{"$f":"IF($B1390=\"\",\"\",VLOOKUP($B1390,_tbl!$A:$E,N$2,0))","v":"Male"},{"$f":"IF($B1390=\"\",\"\",VLOOKUP($B1390,_tbl!$A:$E,O$2,0))","v":"West"},{"$f":"IF($B1390=\"\",\"\",VLOOKUP($B1390,_tbl!$A:$E,P$2,0))","v":"Total"},{"$f":"IF($B1390=\"\",\"\",VLOOKUP($B1390,_tbl!$A:$E,Q$2,0))","v":"Total"},null,1.2646031385548299E-3,1.0189811968658101E-3]
[null,"all_m_West.csv","35-39",1.67572951917055E-3,1.64763571911709E-3,1.6084626420188599E-3,1.5764688480342001E-3,1.5416050797414701E-3,1.50937165974422E-3,1.47673063808469E-3,1.4453330775992201E-3,1.4142550223508301E-3,1.3839863946379699E-3,{"$f":"IF($B1391=\"\",\"\",VLOOKUP($B1391,_tbl!$A:$E,N$2,0))","v":"Male"},{"$f":"IF($B1391=\"\",\"\",VLOOKUP($B1391,_tbl!$A:$E,O$2,0))","v":"West"},{"$f":"IF($B1391=\"\",\"\",VLOOKUP($B1391,_tbl!$A:$E,P$2,0))","v":"Total"},{"$f":"IF($B1391=\"\",\"\",VLOOKUP($B1391,_tbl!$A:$E,Q$2,0))","v":"Total"},null,1.67572951917055E-3,1.3839863946379699E-3]
[null,"all_m_West.csv","40-44",2.5052075552392098E-3,2.4769836232252001E-3,2.4294814582600599E-3,2.39230976486803E-3,2.34941741645129E-3,2.3098326935722798E-3,2.2687657427871901E-3,2.2289779501324602E-3,2.1890496370729901E-3,2.1498304143319799E-3,{"$f":"IF($B1392=\"\",\"\",VLOOKUP($B1392,_tbl!$A:$E,N$2,0))","v":"Male"},{"$f":"IF($B1392=\"\",\"\",VLOOKUP($B1392,_tbl!$A:$E,O$2,0))","v":"West"},{"$f":"IF($B1392=\"\",\"\",VLOOKUP($B1392,_tbl!$A:$E,P$2,0))","v":"Total"},{"$f":"IF($B1392=\"\",\"\",VLOOKUP($B1392,_tbl!$A:$E,Q$2,0))","v":"Total"},null,2.5052075552392098E-3,2.1498304143319799E-3]
[null,"all_m_West.csv","45-49",3.8148715392774799E-3,3.7823290817642899E-3,3.7401562002492999E-3,3.70239531103642E-3,3.66393218421175E-3,3.62697024728072E-3,3.5914628964512302E-3,3.5554798194479599E-3,3.5197459194929999E-3,3.4822917532442502E-3,{"$f":"IF($B1393=\"\",\"\",VLOOKUP($B1393,_tbl!$A:$E,N$2,0))","v":"Male"},{"$f":"IF($B1393=\"\",\"\",VLOOKUP($B1393,_tbl!$A:$E,O$2,0))","v":"West"},{"$f":"IF($B1393=\"\",\"\",VLOOKUP($B1393,_tbl!$A:$E,P$2,0))","v":"Total"},{"$f":"IF($B1393=\"\",\"\",VLOOKUP($B1393,_tbl!$A:$E,Q$2,0))","v":"Total"},null,3.8148715392774799E-3,3.4822917532442502E-3]
[null,"all_m_West.csv","50-54",5.8928061471225602E-3,5.8477170838283198E-3,5.7951825698069701E-3,5.7503044941373599E-3,5.7045108394183103E-3,5.6606533226069098E-3,5.6179837604782099E-3,5.5747510630738397E-3,5.5319674406950304E-3,5.4875949600985199E-3,{"$f":"IF($B1394=\"\",\"\",VLOOKUP($B1394,_tbl!$A:$E,N$2,0))","v":"Male"},{"$f":"IF($B1394=\"\",\"\",VLOOKUP($B1394,_tbl!$A:$E,O$2,0))","v":"West"},{"$f":"IF($B1394=\"\",\"\",VLOOKUP($B1394,_tbl!$A:$E,P$2,0))","v":"Total"},{"$f":"IF($B1394=\"\",\"\",VLOOKUP($B1394,_tbl!$A:$E,Q$2,0))","v":"Total"},null,5.8928061471225602E-3,5.4875949600985199E-3]
[null,"all_m_West.csv","55-59",8.5206490217813197E-3,8.4426056398136592E-3,8.3533771266947401E-3,8.2719731171608107E-3,8.1868501437540094E-3,8.1027164403252808E-3,8.0181960149055403E-3,7.9336648737384809E-3,7.8502010569559792E-3,7.7670177340820497E-3,{"$f":"IF($B1395=\"\",\"\",VLOOKUP($B1395,_tbl!$A:$E,N$2,0))","v":"Male"},{"$f":"IF($B1395=\"\",\"\",VLOOKUP($B1395,_tbl!$A:$E,O$2,0))","v":"West"},{"$f":"IF($B1395=\"\",\"\",VLOOKUP($B1395,_tbl!$A:$E,P$2,0))","v":"Total"},{"$f":"IF($B1395=\"\",\"\",VLOOKUP($B1395,_tbl!$A:$E,Q$2,0))","v":"Total"},null,8.5206490217813197E-3,7.7670177340820497E-3]
[null,"all_m_West.csv","60-64",1.24162428793994E-2,1.2291963924462799E-2,1.21363064714779E-2,1.19924696448208E-2,1.1838316239408401E-2,1.16863685545781E-2,1.15325777985769E-2,1.1380237569937101E-2,1.12290510605722E-2,1.1079083084510701E-2,{"$f":"IF($B1396=\"\",\"\",VLOOKUP($B1396,_tbl!$A:$E,N$2,0))","v":"Male"},{"$f":"IF($B1396=\"\",\"\",VLOOKUP($B1396,_tbl!$A:$E,O$2,0))","v":"West"},{"$f":"IF($B1396=\"\",\"\",VLOOKUP($B1396,_tbl!$A:$E,P$2,0))","v":"Total"},{"$f":"IF($B1396=\"\",\"\",VLOOKUP($B1396,_tbl!$A:$E,Q$2,0))","v":"Total"},null,1.24162428793994E-2,1.1079083084510701E-2]
[null,"all_m_West.csv","65-69",1.8826288792755299E-2,1.8631642525996101E-2,1.8371430248295E-2,1.8132791407057699E-2,1.7877759306820201E-2,1.7631458433578402E-2,1.73854367511069E-2,1.7143880816274201E-2,1.69036260627075E-2,1.6663454282843101E-2,{"$f":"IF($B1397=\"\",\"\",VLOOKUP($B1397,_tbl!$A:$E,N$2,0))","v":"Male"},{"$f":"IF($B1397=\"\",\"\",VLOOKUP($B1397,_tbl!$A:$E,O$2,0))","v":"West"},{"$f":"IF($B1397=\"\",\"\",VLOOKUP($B1397,_tbl!$A:$E,P$2,0))","v":"Total"},{"$f":"IF($B1397=\"\",\"\",VLOOKUP($B1397,_tbl!$A:$E,Q$2,0))","v":"Total"},null,1.8826288792755299E-2,1.6663454282843101E-2]
[null,"all_m_West.csv","70-74",3.0926360904485899E-2,3.06390880488846E-2,3.02549593190048E-2,2.9911680754522399E-2,2.9539805033563699E-2,2.91771693525824E-2,2.8811037021619301E-2,2.8449753847606601E-2,2.80928181253162E-2,2.7739442205273902E-2,{"$f":"IF($B1398=\"\",\"\",VLOOKUP($B1398,_tbl!$A:$E,N$2,0))","v":"Male"},{"$f":"IF($B1398=\"\",\"\",VLOOKUP($B1398,_tbl!$A:$E,O$2,0))","v":"West"},{"$f":"IF($B1398=\"\",\"\",VLOOKUP($B1398,_tbl!$A:$E,P$2,0))","v":"Total"},{"$f":"IF($B1398=\"\",\"\",VLOOKUP($B1398,_tbl!$A:$E,Q$2,0))","v":"Total"},null,3.0926360904485899E-2,2.7739442205273902E-2]
[null,"all_m_West.csv","75-79",5.4335768945563301E-2,5.3826135787772303E-2,5.3201933679816099E-2,5.2676942139969797E-2,5.2097422884536698E-2,5.1510303756020899E-2,5.08841436124872E-2,5.0251458764680797E-2,4.9631887918914597E-2,4.9045388929550002E-2,{"$f":"IF($B1399=\"\",\"\",VLOOKUP($B1399,_tbl!$A:$E,N$2,0))","v":"Male"},{"$f":"IF($B1399=\"\",\"\",VLOOKUP($B1399,_tbl!$A:$E,O$2,0))","v":"West"},{"$f":"IF($B1399=\"\",\"\",VLOOKUP($B1399,_tbl!$A:$E,P$2,0))","v":"Total"},{"$f":"IF($B1399=\"\",\"\",VLOOKUP($B1399,_tbl!$A:$E,Q$2,0))","v":"Total"},null,5.4335768945563301E-2,4.9045388929550002E-2]
[null,"all_m_West.csv","80-84",0.100543393599529,0.10024441935961,9.9184260196995999E-2,9.8629866078463704E-2,9.7870536886327297E-2,9.7278918461246103E-2,9.66308397783118E-2,9.6034910490356298E-2,9.5419600595929105E-2,9.4816175399679098E-2,{"$f":"IF($B1400=\"\",\"\",VLOOKUP($B1400,_tbl!$A:$E,N$2,0))","v":"Male"},{"$f":"IF($B1400=\"\",\"\",VLOOKUP($B1400,_tbl!$A:$E,O$2,0))","v":"West"},{"$f":"IF($B1400=\"\",\"\",VLOOKUP($B1400,_tbl!$A:$E,P$2,0))","v":"Total"},{"$f":"IF($B1400=\"\",\"\",VLOOKUP($B1400,_tbl!$A:$E,Q$2,0))","v":"Total"},null,0.100543393599529,9.4816175399679098E-2]
[null,"all_m_West.csv","85+",0.18036064109882999,0.180484571782629,0.17970452177581001,0.17961830380079499,0.17936974119983001,0.17939751422991801,0.17940647281258501,0.17951087785418099,0.179606012063207,0.17971848046354399,{"$f":"IF($B1401=\"\",\"\",VLOOKUP($B1401,_tbl!$A:$E,N$2,0))","v":"Male"},{"$f":"IF($B1401=\"\",\"\",VLOOKUP($B1401,_tbl!$A:$E,O$2,0))","v":"West"},{"$f":"IF($B1401=\"\",\"\",VLOOKUP($B1401,_tbl!$A:$E,P$2,0))","v":"Total"},{"$f":"IF($B1401=\"\",\"\",VLOOKUP($B1401,_tbl!$A:$E,Q$2,0))","v":"Total"},null,0.180484571782629,0.17936974119983001]
[null,null,null,null,null,null,null,null,null,null,null,null,null,{"$f":"IF($B1402=\"\",\"\",VLOOKUP($B1402,_tbl!$A:$E,N$2,0))","v":""},{"$f":"IF($B1402=\"\",\"\",VLOOKUP($B1402,_tbl!$A:$E,O$2,0))","v":""},{"$f":"IF($B1402=\"\",\"\",VLOOKUP($B1402,_tbl!$A:$E,P$2,0))","v":""},{"$f":"IF($B1402=\"\",\"\",VLOOKUP($B1402,_tbl!$A:$E,Q$2,0))","v":""}]
[null,null,null,2020,2021,2022,2023,2024,2025,2026,2027,2028,2029,{"$f":"IF($B1403=\"\",\"\",VLOOKUP($B1403,_tbl!$A:$E,N$2,0))","v":""},{"$f":"IF($B1403=\"\",\"\",VLOOKUP($B1403,_tbl!$A:$E,O$2,0))","v":""},{"$f":"IF($B1403=\"\",\"\",VLOOKUP($B1403,_tbl!$A:$E,P$2,0))","v":""},{"$f":"IF($B1403=\"\",\"\",VLOOKUP($B1403,_tbl!$A:$E,Q$2,0))","v":""}]
[null,"all_f_Central Rural cancer.csv","1-4",2.0287909985519799E-5,2.0447830545200701E-5,1.9587769752420401E-5,1.9318839069175601E-5,1.8733435660164399E-5,1.8350440191197599E-5,1.7873527387090501E-5,1.7472712374544101E-5,1.70503922534674E-5,1.66597713752367E-5,{"$f":"IF($B1404=\"\",\"\",VLOOKUP($B1404,_tbl!$A:$E,N$2,0))","v":"Female"},{"$f":"IF($B1404=\"\",\"\",VLOOKUP($B1404,_tbl!$A:$E,O$2,0))","v":"Central"},{"$f":"IF($B1404=\"\",\"\",VLOOKUP($B1404,_tbl!$A:$E,P$2,0))","v":"Rural"},{"$f":"IF($B1404=\"\",\"\",VLOOKUP($B1404,_tbl!$A:$E,Q$2,0))","v":"Cancer"},null,{"$f":"MAX(D1404:M1404)","v":2.0447830545200701E-5},{"$f":"MIN(D1404:M1404)","v":1.66597713752367E-5}]
[null,"all_f_Central Rural cancer.csv","5-9",2.4733759678746001E-5,2.4820677654053199E-5,2.4410543071440901E-5,2.4283895796623698E-5,2.3988765280552099E-5,2.3791170704727399E-5,2.35438981417529E-5,2.3330377932421502E-5,2.3098381810346599E-5,2.2879903904622201E-5,{"$f":"IF($B1405=\"\",\"\",VLOOKUP($B1405,_tbl!$A:$E,N$2,0))","v":"Female"},{"$f":"IF($B1405=\"\",\"\",VLOOKUP($B1405,_tbl!$A:$E,O$2,0))","v":"Central"},{"$f":"IF($B1405=\"\",\"\",VLOOKUP($B1405,_tbl!$A:$E,P$2,0))","v":"Rural"},{"$f":"IF($B1405=\"\",\"\",VLOOKUP($B1405,_tbl!$A:$E,Q$2,0))","v":"Cancer"},null,2.4820677654053199E-5,2.2879903904622201E-5]
[null,"all_f_Central Rural cancer.csv","10-14",2.8577145894276499E-5,2.8679893386235302E-5,2.8437883946120801E-5,2.8372221451690301E-5,2.8178002914273901E-5,2.80412206689284E-5,2.78742004677107E-5,2.77190204653103E-5,2.7541194990713201E-5,2.7370387405882301E-5,{"$f":"IF($B1406=\"\",\"\",VLOOKUP($B1406,_tbl!$A:$E,N$2,0))","v":"Female"},{"$f":"IF($B1406=\"\",\"\",VLOOKUP($B1406,_tbl!$A:$E,O$2,0))","v":"Central"},{"$f":"IF($B1406=\"\",\"\",VLOOKUP($B1406,_tbl!$A:$E,P$2,0))","v":"Rural"},{"$f":"IF($B1406=\"\",\"\",VLOOKUP($B1406,_tbl!$A:$E,Q$2,0))","v":"Cancer"},null,2.8679893386235302E-5,2.7370387405882301E-5]
[null,"all_f_Central Rural cancer.csv","15-19",3.7625704352456798E-5,3.7782778198476598E-5,3.7594764643972603E-5,3.7554272440800497E-5,3.7388071578100802E-5,3.7289072047783099E-5,3.7175529834152899E-5,3.7092862192547199E-5,3.7002151133684698E-5,3.6925718112642501E-5,{"$f":"IF($B1407=\"\",\"\",VLOOKUP($B1407,_tbl!$A:$E,N$2,0))","v":"Female"},{"$f":"IF($B1407=\"\",\"\",VLOOKUP($B1407,_tbl!$A:$E,O$2,0))","v":"Central"},{"$f":"IF($B1407=\"\",\"\",VLOOKUP($B1407,_tbl!$A:$E,P$2,0))","v":"Rural"},{"$f":"IF($B1407=\"\",\"\",VLOOKUP($B1407,_tbl!$A:$E,Q$2,0))","v":"Cancer"},null,3.7782778198476598E-5,3.6925718112642501E-5]
[null,"all_f_Central Rural cancer.csv","20-24",5.3365603828212699E-5,5.3534887879722103E-5,5.3337409797666701E-5,5.3293024851790899E-5,5.31227668626118E-5,5.3026644678196301E-5,5.2917068677807902E-5,5.2841255741403299E-5,5.2758328510221398E-5,5.2688519181076997E-5,{"$f":"IF($B1408=\"\",\"\",VLOOKUP($B1408,_tbl!$A:$E,N$2,0))","v":"Female"},{"$f":"IF($B1408=\"\",\"\",VLOOKUP($B1408,_tbl!$A:$E,O$2,0))","v":"Central"},{"$f":"IF($B1408=\"\",\"\",VLOOKUP($B1408,_tbl!$A:$E,P$2,0))","v":"Rural"},{"$f":"IF($B1408=\"\",\"\",VLOOKUP($B1408,_tbl!$A:$E,Q$2,0))","v":"Cancer"},null,5.3534887879722103E-5,5.2688519181076997E-5]
[null,"all_f_Central Rural cancer.csv","25-29",7.9724365755080802E-5,7.9818807617950896E-5,7.9131426712721105E-5,7.8867974894567095E-5,7.8337081001174903E-5,7.7963480185773304E-5,7.7524950856712498E-5,7.7144038850253098E-5,7.6738495591882294E-5,7.6357312535211999E-5,{"$f":"IF($B1409=\"\",\"\",VLOOKUP($B1409,_tbl!$A:$E,N$2,0))","v":"Female"},{"$f":"IF($B1409=\"\",\"\",VLOOKUP($B1409,_tbl!$A:$E,O$2,0))","v":"Central"},{"$f":"IF($B1409=\"\",\"\",VLOOKUP($B1409,_tbl!$A:$E,P$2,0))","v":"Rural"},{"$f":"IF($B1409=\"\",\"\",VLOOKUP($B1409,_tbl!$A:$E,Q$2,0))","v":"Cancer"},null,7.9818807617950896E-5,7.6357312535211999E-5]
[null,"all_f_Central Rural cancer.csv","30-34",1.26848332266087E-4,1.2714553428737701E-4,1.2511226787462399E-4,1.2439205546533799E-4,1.22918439512413E-4,1.21906202225628E-4,1.20683481050787E-4,1.1962611865697699E-4,1.18502099851945E-4,1.17450293350946E-4,{"$f":"IF($B1410=\"\",\"\",VLOOKUP($B1410,_tbl!$A:$E,N$2,0))","v":"Female"},{"$f":"IF($B1410=\"\",\"\",VLOOKUP($B1410,_tbl!$A:$E,O$2,0))","v":"Central"},{"$f":"IF($B1410=\"\",\"\",VLOOKUP($B1410,_tbl!$A:$E,P$2,0))","v":"Rural"},{"$f":"IF($B1410=\"\",\"\",VLOOKUP($B1410,_tbl!$A:$E,Q$2,0))","v":"Cancer"},null,1.2714553428737701E-4,1.17450293350946E-4]
[null,"all_f_Central Rural cancer.csv","35-39",2.09797891046098E-4,2.1030530212622799E-4,2.0525787364597599E-4,2.0355094181543601E-4,2.00036658697715E-4,1.9767413855442301E-4,1.94757676351039E-4,1.92259797618043E-4,1.8961329441841E-4,1.8714428925448401E-4,{"$f":"IF($B1411=\"\",\"\",VLOOKUP($B1411,_tbl!$A:$E,N$2,0))","v":"Female"},{"$f":"IF($B1411=\"\",\"\",VLOOKUP($B1411,_tbl!$A:$E,O$2,0))","v":"Central"},{"$f":"IF($B1411=\"\",\"\",VLOOKUP($B1411,_tbl!$A:$E,P$2,0))","v":"Rural"},{"$f":"IF($B1411=\"\",\"\",VLOOKUP($B1411,_tbl!$A:$E,Q$2,0))","v":"Cancer"},null,2.1030530212622799E-4,1.8714428925448401E-4]
[null,"all_f_Central Rural cancer.csv","40-44",3.45914614585234E-4,3.44334947172516E-4,3.31283141145961E-4,3.25441405471384E-4,3.1591999082184201E-4,3.0891958161691202E-4,3.0080218168558799E-4,2.9363187459503499E-4,2.8621914095041702E-4,2.7923941521341001E-4,{"$f":"IF($B1412=\"\",\"\",VLOOKUP($B1412,_tbl!$A:$E,N$2,0))","v":"Female"},{"$f":"IF($B1412=\"\",\"\",VLOOKUP($B1412,_tbl!$A:$E,O$2,0))","v":"Central"},{"$f":"IF($B1412=\"\",\"\",VLOOKUP($B1412,_tbl!$A:$E,P$2,0))","v":"Rural"},{"$f":"IF($B1412=\"\",\"\",VLOOKUP($B1412,_tbl!$A:$E,Q$2,0))","v":"Cancer"},null,3.45914614585234E-4,2.7923941521341001E-4]
[null,"all_f_Central Rural cancer.csv","45-49",5.7154901167470902E-4,5.6630085478458702E-4,5.3988390913443398E-4,5.2694239704140602E-4,5.0717215563174996E-4,4.9220125977631802E-4,4.7531145428263599E-4,4.6025492000790103E-4,4.4481465389939402E-4,4.3026394945902302E-4,{"$f":"IF($B1413=\"\",\"\",VLOOKUP($B1413,_tbl!$A:$E,N$2,0))","v":"Female"},{"$f":"IF($B1413=\"\",\"\",VLOOKUP($B1413,_tbl!$A:$E,O$2,0))","v":"Central"},{"$f":"IF($B1413=\"\",\"\",VLOOKUP($B1413,_tbl!$A:$E,P$2,0))","v":"Rural"},{"$f":"IF($B1413=\"\",\"\",VLOOKUP($B1413,_tbl!$A:$E,Q$2,0))","v":"Cancer"},null,5.7154901167470902E-4,4.3026394945902302E-4]
[null,"all_f_Central Rural cancer.csv","50-54",8.9870664630903796E-4,8.8300660818429902E-4,8.4021668901570101E-4,8.1234376074565298E-4,7.7378937245744205E-4,7.4073792571706799E-4,7.0676528062544404E-4,6.7451941693025296E-4,6.4157555216424295E-4,6.1020525018753904E-4,{"$f":"IF($B1414=\"\",\"\",VLOOKUP($B1414,_tbl!$A:$E,N$2,0))","v":"Female"},{"$f":"IF($B1414=\"\",\"\",VLOOKUP($B1414,_tbl!$A:$E,O$2,0))","v":"Central"},{"$f":"IF($B1414=\"\",\"\",VLOOKUP($B1414,_tbl!$A:$E,P$2,0))","v":"Rural"},{"$f":"IF($B1414=\"\",\"\",VLOOKUP($B1414,_tbl!$A:$E,Q$2,0))","v":"Cancer"},null,8.9870664630903796E-4,6.1020525018753904E-4]
[null,"all_f_Central Rural cancer.csv","55-59",1.4220757740469299E-3,1.3909205194088301E-3,1.3196643577068701E-3,1.27172616935373E-3,1.2071757173426601E-3,1.1508232787462299E-3,1.0937950878021801E-3,1.03859535918078E-3,9.8191615473426598E-4,9.2761498946682596E-4,{"$f":"IF($B1415=\"\",\"\",VLOOKUP($B1415,_tbl!$A:$E,N$2,0))","v":"Female"},{"$f":"IF($B1415=\"\",\"\",VLOOKUP($B1415,_tbl!$A:$E,O$2,0))","v":"Central"},{"$f":"IF($B1415=\"\",\"\",VLOOKUP($B1415,_tbl!$A:$E,P$2,0))","v":"Rural"},{"$f":"IF($B1415=\"\",\"\",VLOOKUP($B1415,_tbl!$A:$E,Q$2,0))","v":"Cancer"},null,1.4220757740469299E-3,9.2761498946682596E-4]
[null,"all_f_Central Rural cancer.csv","60-64",2.1560169878159299E-3,2.12026340876055E-3,2.0259710798237198E-3,1.9653828836875102E-3,1.87994477957772E-3,1.80613233922762E-3,1.7316254881412801E-3,1.6592389958495399E-3,1.5842605360946299E-3,1.5125982636878101E-3,{"$f":"IF($B1416=\"\",\"\",VLOOKUP($B1416,_tbl!$A:$E,N$2,0))","v":"Female"},{"$f":"IF($B1416=\"\",\"\",VLOOKUP($B1416,_tbl!$A:$E,O$2,0))","v":"Central"},{"$f":"IF($B1416=\"\",\"\",VLOOKUP($B1416,_tbl!$A:$E,P$2,0))","v":"Rural"},{"$f":"IF($B1416=\"\",\"\",VLOOKUP($B1416,_tbl!$A:$E,Q$2,0))","v":"Cancer"},null,2.1560169878159299E-3,1.5125982636878101E-3]
[null,"all_f_Central Rural cancer.csv","65-69",3.2167334813411998E-3,3.1864194825626298E-3,3.0772689006302498E-3,3.0114893090491999E-3,2.9123166453476502E-3,2.82790512270352E-3,2.7425422364215301E-3,2.6594078185143101E-3,2.5723666763984498E-3,2.4894194994297702E-3,{"$f":"IF($B1417=\"\",\"\",VLOOKUP($B1417,_tbl!$A:$E,N$2,0))","v":"Female"},{"$f":"IF($B1417=\"\",\"\",VLOOKUP($B1417,_tbl!$A:$E,O$2,0))","v":"Central"},{"$f":"IF($B1417=\"\",\"\",VLOOKUP($B1417,_tbl!$A:$E,P$2,0))","v":"Rural"},{"$f":"IF($B1417=\"\",\"\",VLOOKUP($B1417,_tbl!$A:$E,Q$2,0))","v":"Cancer"},null,3.2167334813411998E-3,2.4894194994297702E-3]
[null,"all_f_Central Rural cancer.csv","70-74",4.6703163444087002E-3,4.6487656101802796E-3,4.5253528588887698E-3,4.4586092080514403E-3,4.3476661235590597E-3,4.2554269512815801E-3,4.1617902099790301E-3,4.0701189320808701E-3,3.9724673695642103E-3,3.8796095353944202E-3,{"$f":"IF($B1418=\"\",\"\",VLOOKUP($B1418,_tbl!$A:$E,N$2,0))","v":"Female"},{"$f":"IF($B1418=\"\",\"\",VLOOKUP($B1418,_tbl!$A:$E,O$2,0))","v":"Central"},{"$f":"IF($B1418=\"\",\"\",VLOOKUP($B1418,_tbl!$A:$E,P$2,0))","v":"Rural"},{"$f":"IF($B1418=\"\",\"\",VLOOKUP($B1418,_tbl!$A:$E,Q$2,0))","v":"Cancer"},null,4.6703163444087002E-3,3.8796095353944202E-3]
[null,"all_f_Central Rural cancer.csv","75-79",6.3914117772340398E-3,6.3253857224801601E-3,6.1415464373370003E-3,6.0397502715997297E-3,5.8709912480017596E-3,5.7267125163371901E-3,5.5910472117191804E-3,5.4525903948897704E-3,5.3027882017210402E-3,5.1609435882831803E-3,{"$f":"IF($B1419=\"\",\"\",VLOOKUP($B1419,_tbl!$A:$E,N$2,0))","v":"Female"},{"$f":"IF($B1419=\"\",\"\",VLOOKUP($B1419,_tbl!$A:$E,O$2,0))","v":"Central"},{"$f":"IF($B1419=\"\",\"\",VLOOKUP($B1419,_tbl!$A:$E,P$2,0))","v":"Rural"},{"$f":"IF($B1419=\"\",\"\",VLOOKUP($B1419,_tbl!$A:$E,Q$2,0))","v":"Cancer"},null,6.3914117772340398E-3,5.1609435882831803E-3]
[null,"all_f_Central Rural cancer.csv","80-84",8.5045053372919399E-3,8.3863180634955892E-3,8.0890977788960396E-3,7.9562638264335604E-3,7.7253318918520299E-3,7.5397277274917599E-3,7.3650637415777799E-3,7.1917458991588397E-3,7.0029577081809702E-3,6.8266452140590596E-3,{"$f":"IF($B1420=\"\",\"\",VLOOKUP($B1420,_tbl!$A:$E,N$2,0))","v":"Female"},{"$f":"IF($B1420=\"\",\"\",VLOOKUP($B1420,_tbl!$A:$E,O$2,0))","v":"Central"},{"$f":"IF($B1420=\"\",\"\",VLOOKUP($B1420,_tbl!$A:$E,P$2,0))","v":"Rural"},{"$f":"IF($B1420=\"\",\"\",VLOOKUP($B1420,_tbl!$A:$E,Q$2,0))","v":"Cancer"},null,8.5045053372919399E-3,6.8266452140590596E-3]
[null,"all_f_Central Rural cancer.csv","85+",1.0143585649547499E-2,1.0015279903659901E-2,9.5090243791761103E-3,9.32331662323309E-3,9.0147972837464306E-3,8.8005480611598793E-3,8.5803968796825808E-3,8.3828838968421793E-3,8.1698293962900199E-3,7.9741208129484008E-3,{"$f":"IF($B1421=\"\",\"\",VLOOKUP($B1421,_tbl!$A:$E,N$2,0))","v":"Female"},{"$f":"IF($B1421=\"\",\"\",VLOOKUP($B1421,_tbl!$A:$E,O$2,0))","v":"Central"},{"$f":"IF($B1421=\"\",\"\",VLOOKUP($B1421,_tbl!$A:$E,P$2,0))","v":"Rural"},{"$f":"IF($B1421=\"\",\"\",VLOOKUP($B1421,_tbl!$A:$E,Q$2,0))","v":"Cancer"},null,1.0143585649547499E-2,7.9741208129484008E-3]
[null,null,null,null,null,null,null,null,null,null,null,null,null,{"$f":"IF($B1422=\"\",\"\",VLOOKUP($B1422,_tbl!$A:$E,N$2,0))","v":""},{"$f":"IF($B1422=\"\",\"\",VLOOKUP($B1422,_tbl!$A:$E,O$2,0))","v":""},{"$f":"IF($B1422=\"\",\"\",VLOOKUP($B1422,_tbl!$A:$E,P$2,0))","v":""},{"$f":"IF($B1422=\"\",\"\",VLOOKUP($B1422,_tbl!$A:$E,Q$2,0))","v":""}]
[null,null,null,2020,2021,2022,2023,2024,2025,2026,2027,2028,2029,{"$f":"IF($B1423=\"\",\"\",VLOOKUP($B1423,_tbl!$A:$E,N$2,0))","v":""},{"$f":"IF($B1423=\"\",\"\",VLOOKUP($B1423,_tbl!$A:$E,O$2,0))","v":""},{"$f":"IF($B1423=\"\",\"\",VLOOKUP($B1423,_tbl!$A:$E,P$2,0))","v":""},{"$f":"IF($B1423=\"\",\"\",VLOOKUP($B1423,_tbl!$A:$E,Q$2,0))","v":""}]
[null,"all_f_Central Rural circulatory.csv","1-4",3.1644925969986198E-6,3.1644925969986198E-6,3.1644925969986198E-6,3.1644925969986198E-6,3.1644925969986198E-6,3.1644925969986198E-6,3.1644925969986198E-6,3.1644925969986198E-6,3.1644925969986198E-6,3.1644925969986198E-6,{"$f":"IF($B1424=\"\",\"\",VLOOKUP($B1424,_tbl!$A:$E,N$2,0))","v":"Female"},{"$f":"IF($B1424=\"\",\"\",VLOOKUP($B1424,_tbl!$A:$E,O$2,0))","v":"Central"},{"$f":"IF($B1424=\"\",\"\",VLOOKUP($B1424,_tbl!$A:$E,P$2,0))","v":"Rural"},{"$f":"IF($B1424=\"\",\"\",VLOOKUP($B1424,_tbl!$A:$E,Q$2,0))","v":"Circulatory"},null,{"$f":"MAX(D1424:M1424)","v":3.1644925969986198E-6},{"$f":"MIN(D1424:M1424)","v":3.1644925969986198E-6}]
[null,"all_f_Central Rural circulatory.csv","5-9",5.50844800154448E-6,5.5440456719013303E-6,5.5777225820604501E-6,5.6063520873822403E-6,5.6354831931246002E-6,5.6603916840021904E-6,5.6870876713026296E-6,5.70793537331469E-6,5.7246884560355102E-6,5.7396219915785996E-6,{"$f":"IF($B1425=\"\",\"\",VLOOKUP($B1425,_tbl!$A:$E,N$2,0))","v":"Female"},{"$f":"IF($B1425=\"\",\"\",VLOOKUP($B1425,_tbl!$A:$E,O$2,0))","v":"Central"},{"$f":"IF($B1425=\"\",\"\",VLOOKUP($B1425,_tbl!$A:$E,P$2,0))","v":"Rural"},{"$f":"IF($B1425=\"\",\"\",VLOOKUP($B1425,_tbl!$A:$E,Q$2,0))","v":"Circulatory"},null,5.7396219915785996E-6,5.50844800154448E-6]
[null,"all_f_Central Rural circulatory.csv","10-14",8.5670152886364299E-6,8.6103863892036092E-6,8.6366457956638102E-6,8.6526252187011702E-6,8.6593821623078092E-6,8.6625605827995807E-6,8.6705936807775394E-6,8.6745298281619704E-6,8.6737005100464894E-6,8.6730712270026401E-6,{"$f":"IF($B1426=\"\",\"\",VLOOKUP($B1426,_tbl!$A:$E,N$2,0))","v":"Female"},{"$f":"IF($B1426=\"\",\"\",VLOOKUP($B1426,_tbl!$A:$E,O$2,0))","v":"Central"},{"$f":"IF($B1426=\"\",\"\",VLOOKUP($B1426,_tbl!$A:$E,P$2,0))","v":"Rural"},{"$f":"IF($B1426=\"\",\"\",VLOOKUP($B1426,_tbl!$A:$E,Q$2,0))","v":"Circulatory"},null,8.6745298281619704E-6,8.5670152886364299E-6]
[null,"all_f_Central Rural circulatory.csv","15-19",1.4099595433927101E-5,1.41443093527202E-5,1.42209098212047E-5,1.4277225525053701E-5,1.43332383615433E-5,1.43779119764967E-5,1.44280341791649E-5,1.4468901678285199E-5,1.4505035101844301E-5,1.4538817639468799E-5,{"$f":"IF($B1427=\"\",\"\",VLOOKUP($B1427,_tbl!$A:$E,N$2,0))","v":"Female"},{"$f":"IF($B1427=\"\",\"\",VLOOKUP($B1427,_tbl!$A:$E,O$2,0))","v":"Central"},{"$f":"IF($B1427=\"\",\"\",VLOOKUP($B1427,_tbl!$A:$E,P$2,0))","v":"Rural"},{"$f":"IF($B1427=\"\",\"\",VLOOKUP($B1427,_tbl!$A:$E,Q$2,0))","v":"Circulatory"},null,1.4538817639468799E-5,1.4099595433927101E-5]
[null,"all_f_Central Rural circulatory.csv","20-24",2.40046402410328E-5,2.4050753691661001E-5,2.41590297478661E-5,2.4233725262721698E-5,2.4314167221503701E-5,2.4376024136334199E-5,2.4445143632633199E-5,2.4499534894283601E-5,2.4547888995403998E-5,2.4592074083352901E-5,{"$f":"IF($B1428=\"\",\"\",VLOOKUP($B1428,_tbl!$A:$E,N$2,0))","v":"Female"},{"$f":"IF($B1428=\"\",\"\",VLOOKUP($B1428,_tbl!$A:$E,O$2,0))","v":"Central"},{"$f":"IF($B1428=\"\",\"\",VLOOKUP($B1428,_tbl!$A:$E,P$2,0))","v":"Rural"},{"$f":"IF($B1428=\"\",\"\",VLOOKUP($B1428,_tbl!$A:$E,Q$2,0))","v":"Circulatory"},null,2.4592074083352901E-5,2.40046402410328E-5]
[null,"all_f_Central Rural circulatory.csv","25-29",4.1801194906108101E-5,4.18269511895488E-5,4.1909119066709002E-5,4.1943247111625997E-5,4.1983014735502302E-5,4.2005866351246698E-5,4.2042567739303197E-5,4.20676406177608E-5,4.2089538069330997E-5,4.2109530277678999E-5,{"$f":"IF($B1429=\"\",\"\",VLOOKUP($B1429,_tbl!$A:$E,N$2,0))","v":"Female"},{"$f":"IF($B1429=\"\",\"\",VLOOKUP($B1429,_tbl!$A:$E,O$2,0))","v":"Central"},{"$f":"IF($B1429=\"\",\"\",VLOOKUP($B1429,_tbl!$A:$E,P$2,0))","v":"Rural"},{"$f":"IF($B1429=\"\",\"\",VLOOKUP($B1429,_tbl!$A:$E,Q$2,0))","v":"Circulatory"},null,4.2109530277678999E-5,4.1801194906108101E-5]
[null,"all_f_Central Rural circulatory.csv","30-34",7.4477419060019106E-5,7.4485686661562099E-5,7.4525203789103196E-5,7.4517517718832097E-5,7.4522276038198703E-5,7.4514528706077005E-5,7.4523666414338594E-5,7.4527103976892905E-5,7.4532995411662003E-5,7.4541072940385194E-5,{"$f":"IF($B1430=\"\",\"\",VLOOKUP($B1430,_tbl!$A:$E,N$2,0))","v":"Female"},{"$f":"IF($B1430=\"\",\"\",VLOOKUP($B1430,_tbl!$A:$E,O$2,0))","v":"Central"},{"$f":"IF($B1430=\"\",\"\",VLOOKUP($B1430,_tbl!$A:$E,P$2,0))","v":"Rural"},{"$f":"IF($B1430=\"\",\"\",VLOOKUP($B1430,_tbl!$A:$E,Q$2,0))","v":"Circulatory"},null,7.4541072940385194E-5,7.4477419060019106E-5]
[null,"all_f_Central Rural circulatory.csv","35-39",1.35135035980676E-4,1.35284279751177E-4,1.3540867790320899E-4,1.3557310583037099E-4,1.3573988685618499E-4,1.3592626369021701E-4,1.3610990747790701E-4,1.36304819985863E-4,1.36505175475163E-4,1.3671155198275001E-4,{"$f":"IF($B1431=\"\",\"\",VLOOKUP($B1431,_tbl!$A:$E,N$2,0))","v":"Female"},{"$f":"IF($B1431=\"\",\"\",VLOOKUP($B1431,_tbl!$A:$E,O$2,0))","v":"Central"},{"$f":"IF($B1431=\"\",\"\",VLOOKUP($B1431,_tbl!$A:$E,P$2,0))","v":"Rural"},{"$f":"IF($B1431=\"\",\"\",VLOOKUP($B1431,_tbl!$A:$E,Q$2,0))","v":"Circulatory"},null,1.3671155198275001E-4,1.35135035980676E-4]
[null,"all_f_Central Rural circulatory.csv","40-44",2.5071974956140198E-4,2.50664005501624E-4,2.50910142958797E-4,2.5129222488734802E-4,2.5172733817760201E-4,2.5222168256721001E-4,2.5271364707168698E-4,2.5321548903448001E-4,2.5371825526876099E-4,2.5422937077122798E-4,{"$f":"IF($B1432=\"\",\"\",VLOOKUP($B1432,_tbl!$A:$E,N$2,0))","v":"Female"},{"$f":"IF($B1432=\"\",\"\",VLOOKUP($B1432,_tbl!$A:$E,O$2,0))","v":"Central"},{"$f":"IF($B1432=\"\",\"\",VLOOKUP($B1432,_tbl!$A:$E,P$2,0))","v":"Rural"},{"$f":"IF($B1432=\"\",\"\",VLOOKUP($B1432,_tbl!$A:$E,Q$2,0))","v":"Circulatory"},null,2.5422937077122798E-4,2.50664005501624E-4]
[null,"all_f_Central Rural circulatory.csv","45-49",4.7093694841232099E-4,4.6800214347052802E-4,4.65937986089662E-4,4.6427042809637597E-4,4.6279384202051801E-4,4.6155897907480402E-4,4.6041572882553903E-4,4.5937924793994E-4,4.5841419633065001E-4,4.57542959138018E-4,{"$f":"IF($B1433=\"\",\"\",VLOOKUP($B1433,_tbl!$A:$E,N$2,0))","v":"Female"},{"$f":"IF($B1433=\"\",\"\",VLOOKUP($B1433,_tbl!$A:$E,O$2,0))","v":"Central"},{"$f":"IF($B1433=\"\",\"\",VLOOKUP($B1433,_tbl!$A:$E,P$2,0))","v":"Rural"},{"$f":"IF($B1433=\"\",\"\",VLOOKUP($B1433,_tbl!$A:$E,Q$2,0))","v":"Circulatory"},null,4.7093694841232099E-4,4.57542959138018E-4]
[null,"all_f_Central Rural circulatory.csv","50-54",8.7042392396174896E-4,8.5771520371305705E-4,8.5614532540788098E-4,8.4693744540447402E-4,8.3953543568863695E-4,8.2961601909326303E-4,8.2215931634837505E-4,8.1318819350884399E-4,8.0421949105241998E-4,7.9532868415242502E-4,{"$f":"IF($B1434=\"\",\"\",VLOOKUP($B1434,_tbl!$A:$E,N$2,0))","v":"Female"},{"$f":"IF($B1434=\"\",\"\",VLOOKUP($B1434,_tbl!$A:$E,O$2,0))","v":"Central"},{"$f":"IF($B1434=\"\",\"\",VLOOKUP($B1434,_tbl!$A:$E,P$2,0))","v":"Rural"},{"$f":"IF($B1434=\"\",\"\",VLOOKUP($B1434,_tbl!$A:$E,Q$2,0))","v":"Circulatory"},null,8.7042392396174896E-4,7.9532868415242502E-4]
[null,"all_f_Central Rural circulatory.csv","55-59",1.60775871972123E-3,1.5655749315351701E-3,1.55313145846989E-3,1.5212652888873699E-3,1.49291627820878E-3,1.45820738734092E-3,1.43173377498402E-3,1.4010046806845801E-3,1.3701385262384601E-3,1.3400161694110701E-3,{"$f":"IF($B1435=\"\",\"\",VLOOKUP($B1435,_tbl!$A:$E,N$2,0))","v":"Female"},{"$f":"IF($B1435=\"\",\"\",VLOOKUP($B1435,_tbl!$A:$E,O$2,0))","v":"Central"},{"$f":"IF($B1435=\"\",\"\",VLOOKUP($B1435,_tbl!$A:$E,P$2,0))","v":"Rural"},{"$f":"IF($B1435=\"\",\"\",VLOOKUP($B1435,_tbl!$A:$E,Q$2,0))","v":"Circulatory"},null,1.60775871972123E-3,1.3400161694110701E-3]
[null,"all_f_Central Rural circulatory.csv","60-64",2.9136010947727999E-3,2.81906850443275E-3,2.7831534920624099E-3,2.7121836140425199E-3,2.64398112196954E-3,2.5638888511097702E-3,2.5038835694273002E-3,2.43389460666063E-3,2.36258613064768E-3,2.2936979899702298E-3,{"$f":"IF($B1436=\"\",\"\",VLOOKUP($B1436,_tbl!$A:$E,N$2,0))","v":"Female"},{"$f":"IF($B1436=\"\",\"\",VLOOKUP($B1436,_tbl!$A:$E,O$2,0))","v":"Central"},{"$f":"IF($B1436=\"\",\"\",VLOOKUP($B1436,_tbl!$A:$E,P$2,0))","v":"Rural"},{"$f":"IF($B1436=\"\",\"\",VLOOKUP($B1436,_tbl!$A:$E,Q$2,0))","v":"Circulatory"},null,2.9136010947727999E-3,2.2936979899702298E-3]
[null,"all_f_Central Rural circulatory.csv","65-69",5.6149443538897996E-3,5.4744327561508403E-3,5.4203987591971703E-3,5.31790661391631E-3,5.2106864971098801E-3,5.0859943881486902E-3,4.9973288450125899E-3,4.8900665059153602E-3,4.7781465375571902E-3,4.6709469056366503E-3,{"$f":"IF($B1437=\"\",\"\",VLOOKUP($B1437,_tbl!$A:$E,N$2,0))","v":"Female"},{"$f":"IF($B1437=\"\",\"\",VLOOKUP($B1437,_tbl!$A:$E,O$2,0))","v":"Central"},{"$f":"IF($B1437=\"\",\"\",VLOOKUP($B1437,_tbl!$A:$E,P$2,0))","v":"Rural"},{"$f":"IF($B1437=\"\",\"\",VLOOKUP($B1437,_tbl!$A:$E,Q$2,0))","v":"Circulatory"},null,5.6149443538897996E-3,4.6709469056366503E-3]
[null,"all_f_Central Rural circulatory.csv","70-74",1.1109102809132E-2,1.08193313750003E-2,1.07154156679206E-2,1.05151210015881E-2,1.0288144159086E-2,1.0022877153175999E-2,9.8461240769843594E-3,9.6210675263040495E-3,9.3796624955413098E-3,9.1495315365787006E-3,{"$f":"IF($B1438=\"\",\"\",VLOOKUP($B1438,_tbl!$A:$E,N$2,0))","v":"Female"},{"$f":"IF($B1438=\"\",\"\",VLOOKUP($B1438,_tbl!$A:$E,O$2,0))","v":"Central"},{"$f":"IF($B1438=\"\",\"\",VLOOKUP($B1438,_tbl!$A:$E,P$2,0))","v":"Rural"},{"$f":"IF($B1438=\"\",\"\",VLOOKUP($B1438,_tbl!$A:$E,Q$2,0))","v":"Circulatory"},null,1.1109102809132E-2,9.1495315365787006E-3]
[null,"all_f_Central Rural circulatory.csv","75-79",2.4033316118699501E-2,2.3386707119595299E-2,2.32266947966378E-2,2.28981549691257E-2,2.25037339129644E-2,2.2028488213018602E-2,2.17746305183706E-2,2.1399080920197901E-2,2.0975501692378801E-2,2.0577616164540301E-2,{"$f":"IF($B1439=\"\",\"\",VLOOKUP($B1439,_tbl!$A:$E,N$2,0))","v":"Female"},{"$f":"IF($B1439=\"\",\"\",VLOOKUP($B1439,_tbl!$A:$E,O$2,0))","v":"Central"},{"$f":"IF($B1439=\"\",\"\",VLOOKUP($B1439,_tbl!$A:$E,P$2,0))","v":"Rural"},{"$f":"IF($B1439=\"\",\"\",VLOOKUP($B1439,_tbl!$A:$E,Q$2,0))","v":"Circulatory"},null,2.4033316118699501E-2,2.0577616164540301E-2]
[null,"all_f_Central Rural circulatory.csv","80-84",5.1378715742610603E-2,4.9838926516948198E-2,4.9748091496776198E-2,4.9328969638985698E-2,4.8717619084980603E-2,4.7891260984003599E-2,4.7716670998313199E-2,4.7201553660762299E-2,4.6544791400168498E-2,4.5965634611247697E-2,{"$f":"IF($B1440=\"\",\"\",VLOOKUP($B1440,_tbl!$A:$E,N$2,0))","v":"Female"},{"$f":"IF($B1440=\"\",\"\",VLOOKUP($B1440,_tbl!$A:$E,O$2,0))","v":"Central"},{"$f":"IF($B1440=\"\",\"\",VLOOKUP($B1440,_tbl!$A:$E,P$2,0))","v":"Rural"},{"$f":"IF($B1440=\"\",\"\",VLOOKUP($B1440,_tbl!$A:$E,Q$2,0))","v":"Circulatory"},null,5.1378715742610603E-2,4.5965634611247697E-2]
[null,"all_f_Central Rural circulatory.csv","85+",0.10428105628296901,0.101070352588935,0.10064831366399001,9.9926684788930395E-2,9.8843737426438996E-2,9.7358265203182304E-2,9.7453079500528395E-2,9.6770752383017397E-2,9.5735833145998206E-2,9.4892997880482693E-2,{"$f":"IF($B1441=\"\",\"\",VLOOKUP($B1441,_tbl!$A:$E,N$2,0))","v":"Female"},{"$f":"IF($B1441=\"\",\"\",VLOOKUP($B1441,_tbl!$A:$E,O$2,0))","v":"Central"},{"$f":"IF($B1441=\"\",\"\",VLOOKUP($B1441,_tbl!$A:$E,P$2,0))","v":"Rural"},{"$f":"IF($B1441=\"\",\"\",VLOOKUP($B1441,_tbl!$A:$E,Q$2,0))","v":"Circulatory"},null,0.10428105628296901,9.4892997880482693E-2]
[null,null,null,null,null,null,null,null,null,null,null,null,null,{"$f":"IF($B1442=\"\",\"\",VLOOKUP($B1442,_tbl!$A:$E,N$2,0))","v":""},{"$f":"IF($B1442=\"\",\"\",VLOOKUP($B1442,_tbl!$A:$E,O$2,0))","v":""},{"$f":"IF($B1442=\"\",\"\",VLOOKUP($B1442,_tbl!$A:$E,P$2,0))","v":""},{"$f":"IF($B1442=\"\",\"\",VLOOKUP($B1442,_tbl!$A:$E,Q$2,0))","v":""}]
[null,null,null,2020,2021,2022,2023,2024,2025,2026,2027,2028,2029,{"$f":"IF($B1443=\"\",\"\",VLOOKUP($B1443,_tbl!$A:$E,N$2,0))","v":""},{"$f":"IF($B1443=\"\",\"\",VLOOKUP($B1443,_tbl!$A:$E,O$2,0))","v":""},{"$f":"IF($B1443=\"\",\"\",VLOOKUP($B1443,_tbl!$A:$E,P$2,0))","v":""},{"$f":"IF($B1443=\"\",\"\",VLOOKUP($B1443,_tbl!$A:$E,Q$2,0))","v":""}]
[null,"all_f_Central Rural congenital.csv","1-4",4.2679398790978399E-5,4.28998979003548E-5,4.2969715734522602E-5,4.3057700273897298E-5,4.3103833121115299E-5,4.31908356530073E-5,4.3296926984060401E-5,4.3451807106235498E-5,4.3623211986074398E-5,4.3811045225151001E-5,{"$f":"IF($B1444=\"\",\"\",VLOOKUP($B1444,_tbl!$A:$E,N$2,0))","v":"Female"},{"$f":"IF($B1444=\"\",\"\",VLOOKUP($B1444,_tbl!$A:$E,O$2,0))","v":"Central"},{"$f":"IF($B1444=\"\",\"\",VLOOKUP($B1444,_tbl!$A:$E,P$2,0))","v":"Rural"},{"$f":"IF($B1444=\"\",\"\",VLOOKUP($B1444,_tbl!$A:$E,Q$2,0))","v":"Congenital"},null,{"$f":"MAX(D1444:M1444)","v":4.3811045225151001E-5},{"$f":"MIN(D1444:M1444)","v":4.2679398790978399E-5}]
[null,"all_f_Central Rural congenital.csv","5-9",1.5878117554771299E-5,1.5951052487789499E-5,1.5997651946828499E-5,1.6035156513138599E-5,1.6060729864717399E-5,1.6084010942618099E-5,1.6114027635360199E-5,1.6139069491312101E-5,1.6156168129550202E-5,1.6173214353119401E-5,{"$f":"IF($B1445=\"\",\"\",VLOOKUP($B1445,_tbl!$A:$E,N$2,0))","v":"Female"},{"$f":"IF($B1445=\"\",\"\",VLOOKUP($B1445,_tbl!$A:$E,O$2,0))","v":"Central"},{"$f":"IF($B1445=\"\",\"\",VLOOKUP($B1445,_tbl!$A:$E,P$2,0))","v":"Rural"},{"$f":"IF($B1445=\"\",\"\",VLOOKUP($B1445,_tbl!$A:$E,Q$2,0))","v":"Congenital"},null,1.6173214353119401E-5,1.5878117554771299E-5]
[null,"all_f_Central Rural congenital.csv","10-14",1.0732585724726701E-5,1.0715287662246699E-5,1.07132250944376E-5,1.07082049796938E-5,1.0700469638491E-5,1.06904811969465E-5,1.06831146948835E-5,1.0671225946406901E-5,1.06549865707489E-5,1.0637852892862801E-5,{"$f":"IF($B1446=\"\",\"\",VLOOKUP($B1446,_tbl!$A:$E,N$2,0))","v":"Female"},{"$f":"IF($B1446=\"\",\"\",VLOOKUP($B1446,_tbl!$A:$E,O$2,0))","v":"Central"},{"$f":"IF($B1446=\"\",\"\",VLOOKUP($B1446,_tbl!$A:$E,P$2,0))","v":"Rural"},{"$f":"IF($B1446=\"\",\"\",VLOOKUP($B1446,_tbl!$A:$E,Q$2,0))","v":"Congenital"},null,1.0732585724726701E-5,1.0637852892862801E-5]
[null,"all_f_Central Rural congenital.csv","15-19",8.2724374792163304E-6,8.3499764512274994E-6,8.3796370541203195E-6,8.4117494943056108E-6,8.4330164758228003E-6,8.4614846190238393E-6,8.4921525428639903E-6,8.53017912246921E-6,8.5708199637732893E-6,8.6143343547939508E-6,{"$f":"IF($B1447=\"\",\"\",VLOOKUP($B1447,_tbl!$A:$E,N$2,0))","v":"Female"},{"$f":"IF($B1447=\"\",\"\",VLOOKUP($B1447,_tbl!$A:$E,O$2,0))","v":"Central"},{"$f":"IF($B1447=\"\",\"\",VLOOKUP($B1447,_tbl!$A:$E,P$2,0))","v":"Rural"},{"$f":"IF($B1447=\"\",\"\",VLOOKUP($B1447,_tbl!$A:$E,Q$2,0))","v":"Congenital"},null,8.6143343547939508E-6,8.2724374792163304E-6]
[null,"all_f_Central Rural congenital.csv","20-24",6.0565276345568297E-6,6.0499869030203196E-6,6.0462166932951699E-6,6.0380897863845596E-6,6.0305793733592901E-6,6.0210010093180001E-6,6.01295559304642E-6,6.0034052872645201E-6,5.9935125820017699E-6,5.9835843698880303E-6,{"$f":"IF($B1448=\"\",\"\",VLOOKUP($B1448,_tbl!$A:$E,N$2,0))","v":"Female"},{"$f":"IF($B1448=\"\",\"\",VLOOKUP($B1448,_tbl!$A:$E,O$2,0))","v":"Central"},{"$f":"IF($B1448=\"\",\"\",VLOOKUP($B1448,_tbl!$A:$E,P$2,0))","v":"Rural"},{"$f":"IF($B1448=\"\",\"\",VLOOKUP($B1448,_tbl!$A:$E,Q$2,0))","v":"Congenital"},null,6.0565276345568297E-6,5.9835843698880303E-6]
[null,"all_f_Central Rural congenital.csv","25-29",5.0456870784463497E-6,4.88917374668347E-6,4.8048556339237799E-6,4.7002374068856202E-6,4.6083577106802902E-6,4.5037829264645299E-6,4.4078399737330998E-6,4.3010960240442704E-6,4.1920781696876103E-6,4.0823436899564097E-6,{"$f":"IF($B1449=\"\",\"\",VLOOKUP($B1449,_tbl!$A:$E,N$2,0))","v":"Female"},{"$f":"IF($B1449=\"\",\"\",VLOOKUP($B1449,_tbl!$A:$E,O$2,0))","v":"Central"},{"$f":"IF($B1449=\"\",\"\",VLOOKUP($B1449,_tbl!$A:$E,P$2,0))","v":"Rural"},{"$f":"IF($B1449=\"\",\"\",VLOOKUP($B1449,_tbl!$A:$E,Q$2,0))","v":"Congenital"},null,5.0456870784463497E-6,4.0823436899564097E-6]
[null,"all_f_Central Rural congenital.csv",null,null,null,null,null,null,null,null,null,null,null,{"$f":"IF($B1450=\"\",\"\",VLOOKUP($B1450,_tbl!$A:$E,N$2,0))","v":"Female"},{"$f":"IF($B1450=\"\",\"\",VLOOKUP($B1450,_tbl!$A:$E,O$2,0))","v":"Central"},{"$f":"IF($B1450=\"\",\"\",VLOOKUP($B1450,_tbl!$A:$E,P$2,0))","v":"Rural"},{"$f":"IF($B1450=\"\",\"\",VLOOKUP($B1450,_tbl!$A:$E,Q$2,0))","v":"Congenital"},null,0,0]
[null,"all_f_Central Rural congenital.csv",null,null,null,null,null,null,null,null,null,null,null,{"$f":"IF($B1451=\"\",\"\",VLOOKUP($B1451,_tbl!$A:$E,N$2,0))","v":"Female"},{"$f":"IF($B1451=\"\",\"\",VLOOKUP($B1451,_tbl!$A:$E,O$2,0))","v":"Central"},{"$f":"IF($B1451=\"\",\"\",VLOOKUP($B1451,_tbl!$A:$E,P$2,0))","v":"Rural"},{"$f":"IF($B1451=\"\",\"\",VLOOKUP($B1451,_tbl!$A:$E,Q$2,0))","v":"Congenital"},null,0,0]
[null,"all_f_Central Rural congenital.csv",null,null,null,null,null,null,null,null,null,null,null,{"$f":"IF($B1452=\"\",\"\",VLOOKUP($B1452,_tbl!$A:$E,N$2,0))","v":"Female"},{"$f":"IF($B1452=\"\",\"\",VLOOKUP($B1452,_tbl!$A:$E,O$2,0))","v":"Central"},{"$f":"IF($B1452=\"\",\"\",VLOOKUP($B1452,_tbl!$A:$E,P$2,0))","v":"Rural"},{"$f":"IF($B1452=\"\",\"\",VLOOKUP($B1452,_tbl!$A:$E,Q$2,0))","v":"Congenital"},null,0,0]
[null,"all_f_Central Rural congenital.csv",null,null,null,null,null,null,null,null,null,null,null,{"$f":"IF($B1453=\"\",\"\",VLOOKUP($B1453,_tbl!$A:$E,N$2,0))","v":"Female"},{"$f":"IF($B1453=\"\",\"\",VLOOKUP($B1453,_tbl!$A:$E,O$2,0))","v":"Central"},{"$f":"IF($B1453=\"\",\"\",VLOOKUP($B1453,_tbl!$A:$E,P$2,0))","v":"Rural"},{"$f":"IF($B1453=\"\",\"\",VLOOKUP($B1453,_tbl!$A:$E,Q$2,0))","v":"Congenital"},null,0,0]
[null,"all_f_Central Rural congenital.csv",null,null,null,null,null,null,null,null,null,null,null,{"$f":"IF($B1454=\"\",\"\",VLOOKUP($B1454,_tbl!$A:$E,N$2,0))","v":"Female"},{"$f":"IF($B1454=\"\",\"\",VLOOKUP($B1454,_tbl!$A:$E,O$2,0))","v":"Central"},{"$f":"IF($B1454=\"\",\"\",VLOOKUP($B1454,_tbl!$A:$E,P$2,0))","v":"Rural"},{"$f":"IF($B1454=\"\",\"\",VLOOKUP($B1454,_tbl!$A:$E,Q$2,0))","v":"Congenital"},null,0,0]
[null,"all_f_Central Rural congenital.csv",null,null,null,null,null,null,null,null,null,null,null,{"$f":"IF($B1455=\"\",\"\",VLOOKUP($B1455,_tbl!$A:$E,N$2,0))","v":"Female"},{"$f":"IF($B1455=\"\",\"\",VLOOKUP($B1455,_tbl!$A:$E,O$2,0))","v":"Central"},{"$f":"IF($B1455=\"\",\"\",VLOOKUP($B1455,_tbl!$A:$E,P$2,0))","v":"Rural"},{"$f":"IF($B1455=\"\",\"\",VLOOKUP($B1455,_tbl!$A:$E,Q$2,0))","v":"Congenital"},null,0,0]
[null,"all_f_Central Rural congenital.csv",null,null,null,null,null,null,null,null,null,null,null,{"$f":"IF($B1456=\"\",\"\",VLOOKUP($B1456,_tbl!$A:$E,N$2,0))","v":"Female"},{"$f":"IF($B1456=\"\",\"\",VLOOKUP($B1456,_tbl!$A:$E,O$2,0))","v":"Central"},{"$f":"IF($B1456=\"\",\"\",VLOOKUP($B1456,_tbl!$A:$E,P$2,0))","v":"Rural"},{"$f":"IF($B1456=\"\",\"\",VLOOKUP($B1456,_tbl!$A:$E,Q$2,0))","v":"Congenital"},null,0,0]
[null,"all_f_Central Rural congenital.csv",null,null,null,null,null,null,null,null,null,null,null,{"$f":"IF($B1457=\"\",\"\",VLOOKUP($B1457,_tbl!$A:$E,N$2,0))","v":"Female"},{"$f":"IF($B1457=\"\",\"\",VLOOKUP($B1457,_tbl!$A:$E,O$2,0))","v":"Central"},{"$f":"IF($B1457=\"\",\"\",VLOOKUP($B1457,_tbl!$A:$E,P$2,0))","v":"Rural"},{"$f":"IF($B1457=\"\",\"\",VLOOKUP($B1457,_tbl!$A:$E,Q$2,0))","v":"Congenital"},null,0,0]
[null,"all_f_Central Rural congenital.csv",null,null,null,null,null,null,null,null,null,null,null,{"$f":"IF($B1458=\"\",\"\",VLOOKUP($B1458,_tbl!$A:$E,N$2,0))","v":"Female"},{"$f":"IF($B1458=\"\",\"\",VLOOKUP($B1458,_tbl!$A:$E,O$2,0))","v":"Central"},{"$f":"IF($B1458=\"\",\"\",VLOOKUP($B1458,_tbl!$A:$E,P$2,0))","v":"Rural"},{"$f":"IF($B1458=\"\",\"\",VLOOKUP($B1458,_tbl!$A:$E,Q$2,0))","v":"Congenital"},null,0,0]
[null,"all_f_Central Rural congenital.csv",null,null,null,null,null,null,null,null,null,null,null,{"$f":"IF($B1459=\"\",\"\",VLOOKUP($B1459,_tbl!$A:$E,N$2,0))","v":"Female"},{"$f":"IF($B1459=\"\",\"\",VLOOKUP($B1459,_tbl!$A:$E,O$2,0))","v":"Central"},{"$f":"IF($B1459=\"\",\"\",VLOOKUP($B1459,_tbl!$A:$E,P$2,0))","v":"Rural"},{"$f":"IF($B1459=\"\",\"\",VLOOKUP($B1459,_tbl!$A:$E,Q$2,0))","v":"Congenital"},null,0,0]
[null,"all_f_Central Rural congenital.csv",null,null,null,null,null,null,null,null,null,null,null,{"$f":"IF($B1460=\"\",\"\",VLOOKUP($B1460,_tbl!$A:$E,N$2,0))","v":"Female"},{"$f":"IF($B1460=\"\",\"\",VLOOKUP($B1460,_tbl!$A:$E,O$2,0))","v":"Central"},{"$f":"IF($B1460=\"\",\"\",VLOOKUP($B1460,_tbl!$A:$E,P$2,0))","v":"Rural"},{"$f":"IF($B1460=\"\",\"\",VLOOKUP($B1460,_tbl!$A:$E,Q$2,0))","v":"Congenital"},null,0,0]
[null,"all_f_Central Rural congenital.csv",null,null,null,null,null,null,null,null,null,null,null,{"$f":"IF($B1461=\"\",\"\",VLOOKUP($B1461,_tbl!$A:$E,N$2,0))","v":"Female"},{"$f":"IF($B1461=\"\",\"\",VLOOKUP($B1461,_tbl!$A:$E,O$2,0))","v":"Central"},{"$f":"IF($B1461=\"\",\"\",VLOOKUP($B1461,_tbl!$A:$E,P$2,0))","v":"Rural"},{"$f":"IF($B1461=\"\",\"\",VLOOKUP($B1461,_tbl!$A:$E,Q$2,0))","v":"Congenital"},null,0,0]
[null,null,null,null,null,null,null,null,null,null,null,null,null,{"$f":"IF($B1462=\"\",\"\",VLOOKUP($B1462,_tbl!$A:$E,N$2,0))","v":""},{"$f":"IF($B1462=\"\",\"\",VLOOKUP($B1462,_tbl!$A:$E,O$2,0))","v":""},{"$f":"IF($B1462=\"\",\"\",VLOOKUP($B1462,_tbl!$A:$E,P$2,0))","v":""},{"$f":"IF($B1462=\"\",\"\",VLOOKUP($B1462,_tbl!$A:$E,Q$2,0))","v":""}]
[null,null,null,2020,2021,2022,2023,2024,2025,2026,2027,2028,2029,{"$f":"IF($B1463=\"\",\"\",VLOOKUP($B1463,_tbl!$A:$E,N$2,0))","v":""},{"$f":"IF($B1463=\"\",\"\",VLOOKUP($B1463,_tbl!$A:$E,O$2,0))","v":""},{"$f":"IF($B1463=\"\",\"\",VLOOKUP($B1463,_tbl!$A:$E,P$2,0))","v":""},{"$f":"IF($B1463=\"\",\"\",VLOOKUP($B1463,_tbl!$A:$E,Q$2,0))","v":""}]
[null,"all_f_Central Rural diabetes.csv","30-34",4.7777991773624904E-6,4.80457215975287E-6,4.8407052108015601E-6,4.8707877251249902E-6,4.9020422642111202E-6,4.92940376704032E-6,4.9560892559258099E-6,4.9794921270482396E-6,5.0010688382795396E-6,5.0209037582652898E-6,{"$f":"IF($B1464=\"\",\"\",VLOOKUP($B1464,_tbl!$A:$E,N$2,0))","v":"Female"},{"$f":"IF($B1464=\"\",\"\",VLOOKUP($B1464,_tbl!$A:$E,O$2,0))","v":"Central"},{"$f":"IF($B1464=\"\",\"\",VLOOKUP($B1464,_tbl!$A:$E,P$2,0))","v":"Rural"},{"$f":"IF($B1464=\"\",\"\",VLOOKUP($B1464,_tbl!$A:$E,Q$2,0))","v":"Diabetes"},null,{"$f":"MAX(D1464:M1464)","v":5.0209037582652898E-6},{"$f":"MIN(D1464:M1464)","v":4.7777991773624904E-6}]
[null,"all_f_Central Rural diabetes.csv","35-39",6.2741313691152003E-6,6.2670987123162204E-6,6.26395697457091E-6,6.2598017614365401E-6,6.25639589470307E-6,6.2525948684626499E-6,6.2490413491001402E-6,6.2450840140126898E-6,6.2410459729465004E-6,6.2370265682594898E-6,{"$f":"IF($B1465=\"\",\"\",VLOOKUP($B1465,_tbl!$A:$E,N$2,0))","v":"Female"},{"$f":"IF($B1465=\"\",\"\",VLOOKUP($B1465,_tbl!$A:$E,O$2,0))","v":"Central"},{"$f":"IF($B1465=\"\",\"\",VLOOKUP($B1465,_tbl!$A:$E,P$2,0))","v":"Rural"},{"$f":"IF($B1465=\"\",\"\",VLOOKUP($B1465,_tbl!$A:$E,Q$2,0))","v":"Diabetes"},null,6.2741313691152003E-6,6.2370265682594898E-6]
[null,"all_f_Central Rural diabetes.csv","40-44",1.2678677352685E-5,1.2689808017141399E-5,1.2652385953832501E-5,1.2635067867449701E-5,1.26123836517046E-5,1.2596959224329799E-5,1.25759781378404E-5,1.25591349721291E-5,1.2542791010406299E-5,1.2527214474334099E-5,{"$f":"IF($B1466=\"\",\"\",VLOOKUP($B1466,_tbl!$A:$E,N$2,0))","v":"Female"},{"$f":"IF($B1466=\"\",\"\",VLOOKUP($B1466,_tbl!$A:$E,O$2,0))","v":"Central"},{"$f":"IF($B1466=\"\",\"\",VLOOKUP($B1466,_tbl!$A:$E,P$2,0))","v":"Rural"},{"$f":"IF($B1466=\"\",\"\",VLOOKUP($B1466,_tbl!$A:$E,Q$2,0))","v":"Diabetes"},null,1.2689808017141399E-5,1.2527214474334099E-5]
[null,"all_f_Central Rural diabetes.csv","45-49",2.8248519109203598E-5,2.8205179277692401E-5,2.79905370041786E-5,2.78817057911186E-5,2.774973068075E-5,2.76592779633032E-5,2.7543958206919999E-5,2.7452990303408502E-5,2.7366644481516699E-5,2.72861597911603E-5,{"$f":"IF($B1467=\"\",\"\",VLOOKUP($B1467,_tbl!$A:$E,N$2,0))","v":"Female"},{"$f":"IF($B1467=\"\",\"\",VLOOKUP($B1467,_tbl!$A:$E,O$2,0))","v":"Central"},{"$f":"IF($B1467=\"\",\"\",VLOOKUP($B1467,_tbl!$A:$E,P$2,0))","v":"Rural"},{"$f":"IF($B1467=\"\",\"\",VLOOKUP($B1467,_tbl!$A:$E,Q$2,0))","v":"Diabetes"},null,2.8248519109203598E-5,2.72861597911603E-5]
[null,"all_f_Central Rural diabetes.csv","50-54",6.2296847561649202E-5,6.2042770961053597E-5,6.1843074983428806E-5,6.1569862017873701E-5,6.1282255479541101E-5,6.0995044289926498E-5,6.0737808197462999E-5,6.0494497101111001E-5,6.0262890545184802E-5,6.0048679311023203E-5,{"$f":"IF($B1468=\"\",\"\",VLOOKUP($B1468,_tbl!$A:$E,N$2,0))","v":"Female"},{"$f":"IF($B1468=\"\",\"\",VLOOKUP($B1468,_tbl!$A:$E,O$2,0))","v":"Central"},{"$f":"IF($B1468=\"\",\"\",VLOOKUP($B1468,_tbl!$A:$E,P$2,0))","v":"Rural"},{"$f":"IF($B1468=\"\",\"\",VLOOKUP($B1468,_tbl!$A:$E,Q$2,0))","v":"Diabetes"},null,6.2296847561649202E-5,6.0048679311023203E-5]
[null,"all_f_Central Rural diabetes.csv","55-59",1.15354635013149E-4,1.1303625116805699E-4,1.12560325035783E-4,1.11372838697875E-4,1.10392108922405E-4,1.09182618470492E-4,1.0833536974403699E-4,1.0731812338300101E-4,1.06298535586007E-4,1.05314040089608E-4,{"$f":"IF($B1469=\"\",\"\",VLOOKUP($B1469,_tbl!$A:$E,N$2,0))","v":"Female"},{"$f":"IF($B1469=\"\",\"\",VLOOKUP($B1469,_tbl!$A:$E,O$2,0))","v":"Central"},{"$f":"IF($B1469=\"\",\"\",VLOOKUP($B1469,_tbl!$A:$E,P$2,0))","v":"Rural"},{"$f":"IF($B1469=\"\",\"\",VLOOKUP($B1469,_tbl!$A:$E,Q$2,0))","v":"Diabetes"},null,1.15354635013149E-4,1.05314040089608E-4]
[null,"all_f_Central Rural diabetes.csv","60-64",2.4342654505634E-4,2.3959357913483099E-4,2.37791082770404E-4,2.3530888130104599E-4,2.32958135069187E-4,2.3038944760693099E-4,2.28329588763239E-4,2.2607926358612801E-4,2.23830555037223E-4,2.21666404188358E-4,{"$f":"IF($B1470=\"\",\"\",VLOOKUP($B1470,_tbl!$A:$E,N$2,0))","v":"Female"},{"$f":"IF($B1470=\"\",\"\",VLOOKUP($B1470,_tbl!$A:$E,O$2,0))","v":"Central"},{"$f":"IF($B1470=\"\",\"\",VLOOKUP($B1470,_tbl!$A:$E,P$2,0))","v":"Rural"},{"$f":"IF($B1470=\"\",\"\",VLOOKUP($B1470,_tbl!$A:$E,Q$2,0))","v":"Diabetes"},null,2.4342654505634E-4,2.21666404188358E-4]
[null,"all_f_Central Rural diabetes.csv","65-69",5.0448309702501705E-4,5.0204761621973197E-4,5.0070353607750402E-4,4.9797382476343005E-4,4.9490697403013696E-4,4.91324075802734E-4,4.8841475541317998E-4,4.8507305395013801E-4,4.8160084054459801E-4,4.7819658217140501E-4,{"$f":"IF($B1471=\"\",\"\",VLOOKUP($B1471,_tbl!$A:$E,N$2,0))","v":"Female"},{"$f":"IF($B1471=\"\",\"\",VLOOKUP($B1471,_tbl!$A:$E,O$2,0))","v":"Central"},{"$f":"IF($B1471=\"\",\"\",VLOOKUP($B1471,_tbl!$A:$E,P$2,0))","v":"Rural"},{"$f":"IF($B1471=\"\",\"\",VLOOKUP($B1471,_tbl!$A:$E,Q$2,0))","v":"Diabetes"},null,5.0448309702501705E-4,4.7819658217140501E-4]
[null,"all_f_Central Rural diabetes.csv","70-74",8.3124181677075599E-4,8.30977551650138E-4,8.3170519226890801E-4,8.3143726481215297E-4,8.3084347230199596E-4,8.2985067762709E-4,8.2933795916480995E-4,8.2842897106041695E-4,8.2734801493026698E-4,8.2627445327380499E-4,{"$f":"IF($B1472=\"\",\"\",VLOOKUP($B1472,_tbl!$A:$E,N$2,0))","v":"Female"},{"$f":"IF($B1472=\"\",\"\",VLOOKUP($B1472,_tbl!$A:$E,O$2,0))","v":"Central"},{"$f":"IF($B1472=\"\",\"\",VLOOKUP($B1472,_tbl!$A:$E,P$2,0))","v":"Rural"},{"$f":"IF($B1472=\"\",\"\",VLOOKUP($B1472,_tbl!$A:$E,Q$2,0))","v":"Diabetes"},null,8.3170519226890801E-4,8.2627445327380499E-4]
[null,"all_f_Central Rural diabetes.csv","75-79",1.0719784403641101E-3,1.0709609253652099E-3,1.0702873462557401E-3,1.0694910387677101E-3,1.0686035732637999E-3,1.0676313414166899E-3,1.0668381216970401E-3,1.0659231404763E-3,1.06494841987029E-3,1.0639816286660401E-3,{"$f":"IF($B1473=\"\",\"\",VLOOKUP($B1473,_tbl!$A:$E,N$2,0))","v":"Female"},{"$f":"IF($B1473=\"\",\"\",VLOOKUP($B1473,_tbl!$A:$E,O$2,0))","v":"Central"},{"$f":"IF($B1473=\"\",\"\",VLOOKUP($B1473,_tbl!$A:$E,P$2,0))","v":"Rural"},{"$f":"IF($B1473=\"\",\"\",VLOOKUP($B1473,_tbl!$A:$E,Q$2,0))","v":"Diabetes"},null,1.0719784403641101E-3,1.0639816286660401E-3]
[null,"all_f_Central Rural diabetes.csv","80-84",1.28466942653064E-3,1.2823573595230099E-3,1.28184742802508E-3,1.28143762095488E-3,1.2809416989398299E-3,1.2802548542848399E-3,1.2805252878767201E-3,1.28035623196656E-3,1.28000762699821E-3,1.27978041482224E-3,{"$f":"IF($B1474=\"\",\"\",VLOOKUP($B1474,_tbl!$A:$E,N$2,0))","v":"Female"},{"$f":"IF($B1474=\"\",\"\",VLOOKUP($B1474,_tbl!$A:$E,O$2,0))","v":"Central"},{"$f":"IF($B1474=\"\",\"\",VLOOKUP($B1474,_tbl!$A:$E,P$2,0))","v":"Rural"},{"$f":"IF($B1474=\"\",\"\",VLOOKUP($B1474,_tbl!$A:$E,Q$2,0))","v":"Diabetes"},null,1.28466942653064E-3,1.27978041482224E-3]
[null,"all_f_Central Rural diabetes.csv","85+",1.52220685333637E-3,1.5110743576438801E-3,1.5060014438383301E-3,1.50334006659331E-3,1.50180489196309E-3,1.50057237837751E-3,1.5015388896931999E-3,1.50161356171467E-3,1.50125523884402E-3,1.5011488296845E-3,{"$f":"IF($B1475=\"\",\"\",VLOOKUP($B1475,_tbl!$A:$E,N$2,0))","v":"Female"},{"$f":"IF($B1475=\"\",\"\",VLOOKUP($B1475,_tbl!$A:$E,O$2,0))","v":"Central"},{"$f":"IF($B1475=\"\",\"\",VLOOKUP($B1475,_tbl!$A:$E,P$2,0))","v":"Rural"},{"$f":"IF($B1475=\"\",\"\",VLOOKUP($B1475,_tbl!$A:$E,Q$2,0))","v":"Diabetes"},null,1.52220685333637E-3,1.50057237837751E-3]
[null,"all_f_Central Rural diabetes.csv",null,null,null,null,null,null,null,null,null,null,null,{"$f":"IF($B1476=\"\",\"\",VLOOKUP($B1476,_tbl!$A:$E,N$2,0))","v":"Female"},{"$f":"IF($B1476=\"\",\"\",VLOOKUP($B1476,_tbl!$A:$E,O$2,0))","v":"Central"},{"$f":"IF($B1476=\"\",\"\",VLOOKUP($B1476,_tbl!$A:$E,P$2,0))","v":"Rural"},{"$f":"IF($B1476=\"\",\"\",VLOOKUP($B1476,_tbl!$A:$E,Q$2,0))","v":"Diabetes"},null,0,0]
[null,"all_f_Central Rural diabetes.csv",null,null,null,null,null,null,null,null,null,null,null,{"$f":"IF($B1477=\"\",\"\",VLOOKUP($B1477,_tbl!$A:$E,N$2,0))","v":"Female"},{"$f":"IF($B1477=\"\",\"\",VLOOKUP($B1477,_tbl!$A:$E,O$2,0))","v":"Central"},{"$f":"IF($B1477=\"\",\"\",VLOOKUP($B1477,_tbl!$A:$E,P$2,0))","v":"Rural"},{"$f":"IF($B1477=\"\",\"\",VLOOKUP($B1477,_tbl!$A:$E,Q$2,0))","v":"Diabetes"},null,0,0]
[null,"all_f_Central Rural diabetes.csv",null,null,null,null,null,null,null,null,null,null,null,{"$f":"IF($B1478=\"\",\"\",VLOOKUP($B1478,_tbl!$A:$E,N$2,0))","v":"Female"},{"$f":"IF($B1478=\"\",\"\",VLOOKUP($B1478,_tbl!$A:$E,O$2,0))","v":"Central"},{"$f":"IF($B1478=\"\",\"\",VLOOKUP($B1478,_tbl!$A:$E,P$2,0))","v":"Rural"},{"$f":"IF($B1478=\"\",\"\",VLOOKUP($B1478,_tbl!$A:$E,Q$2,0))","v":"Diabetes"},null,0,0]
[null,"all_f_Central Rural diabetes.csv",null,null,null,null,null,null,null,null,null,null,null,{"$f":"IF($B1479=\"\",\"\",VLOOKUP($B1479,_tbl!$A:$E,N$2,0))","v":"Female"},{"$f":"IF($B1479=\"\",\"\",VLOOKUP($B1479,_tbl!$A:$E,O$2,0))","v":"Central"},{"$f":"IF($B1479=\"\",\"\",VLOOKUP($B1479,_tbl!$A:$E,P$2,0))","v":"Rural"},{"$f":"IF($B1479=\"\",\"\",VLOOKUP($B1479,_tbl!$A:$E,Q$2,0))","v":"Diabetes"},null,0,0]
[null,"all_f_Central Rural diabetes.csv",null,null,null,null,null,null,null,null,null,null,null,{"$f":"IF($B1480=\"\",\"\",VLOOKUP($B1480,_tbl!$A:$E,N$2,0))","v":"Female"},{"$f":"IF($B1480=\"\",\"\",VLOOKUP($B1480,_tbl!$A:$E,O$2,0))","v":"Central"},{"$f":"IF($B1480=\"\",\"\",VLOOKUP($B1480,_tbl!$A:$E,P$2,0))","v":"Rural"},{"$f":"IF($B1480=\"\",\"\",VLOOKUP($B1480,_tbl!$A:$E,Q$2,0))","v":"Diabetes"},null,0,0]
[null,"all_f_Central Rural diabetes.csv",null,null,null,null,null,null,null,null,null,null,null,{"$f":"IF($B1481=\"\",\"\",VLOOKUP($B1481,_tbl!$A:$E,N$2,0))","v":"Female"},{"$f":"IF($B1481=\"\",\"\",VLOOKUP($B1481,_tbl!$A:$E,O$2,0))","v":"Central"},{"$f":"IF($B1481=\"\",\"\",VLOOKUP($B1481,_tbl!$A:$E,P$2,0))","v":"Rural"},{"$f":"IF($B1481=\"\",\"\",VLOOKUP($B1481,_tbl!$A:$E,Q$2,0))","v":"Diabetes"},null,0,0]
[null,null,null,null,null,null,null,null,null,null,null,null,null,{"$f":"IF($B1482=\"\",\"\",VLOOKUP($B1482,_tbl!$A:$E,N$2,0))","v":""},{"$f":"IF($B1482=\"\",\"\",VLOOKUP($B1482,_tbl!$A:$E,O$2,0))","v":""},{"$f":"IF($B1482=\"\",\"\",VLOOKUP($B1482,_tbl!$A:$E,P$2,0))","v":""},{"$f":"IF($B1482=\"\",\"\",VLOOKUP($B1482,_tbl!$A:$E,Q$2,0))","v":""}]
[null,null,null,2020,2021,2022,2023,2024,2025,2026,2027,2028,2029,{"$f":"IF($B1483=\"\",\"\",VLOOKUP($B1483,_tbl!$A:$E,N$2,0))","v":""},{"$f":"IF($B1483=\"\",\"\",VLOOKUP($B1483,_tbl!$A:$E,O$2,0))","v":""},{"$f":"IF($B1483=\"\",\"\",VLOOKUP($B1483,_tbl!$A:$E,P$2,0))","v":""},{"$f":"IF($B1483=\"\",\"\",VLOOKUP($B1483,_tbl!$A:$E,Q$2,0))","v":""}]
[null,"all_f_Central Rural digestive.csv","1-4",4.0522276218349298E-6,3.8510472497687703E-6,3.4545363580494499E-6,3.2064478456009001E-6,2.9167226166377102E-6,2.6850163123726898E-6,2.4543464891362299E-6,2.25286692991186E-6,2.0628361357119501E-6,1.89158897040025E-6,{"$f":"IF($B1484=\"\",\"\",VLOOKUP($B1484,_tbl!$A:$E,N$2,0))","v":"Female"},{"$f":"IF($B1484=\"\",\"\",VLOOKUP($B1484,_tbl!$A:$E,O$2,0))","v":"Central"},{"$f":"IF($B1484=\"\",\"\",VLOOKUP($B1484,_tbl!$A:$E,P$2,0))","v":"Rural"},{"$f":"IF($B1484=\"\",\"\",VLOOKUP($B1484,_tbl!$A:$E,Q$2,0))","v":"Digestive"},null,{"$f":"MAX(D1484:M1484)","v":4.0522276218349298E-6},{"$f":"MIN(D1484:M1484)","v":1.89158897040025E-6}]
[null,"all_f_Central Rural digestive.csv","5-9",1.88946403930103E-6,1.7995560878510599E-6,1.62175707681954E-6,1.5100748214227899E-6,1.37917967919743E-6,1.27409984435511E-6,1.16910535484942E-6,1.0770539317459699E-6,9.8991147905508008E-7,9.1108977566968703E-7,{"$f":"IF($B1485=\"\",\"\",VLOOKUP($B1485,_tbl!$A:$E,N$2,0))","v":"Female"},{"$f":"IF($B1485=\"\",\"\",VLOOKUP($B1485,_tbl!$A:$E,O$2,0))","v":"Central"},{"$f":"IF($B1485=\"\",\"\",VLOOKUP($B1485,_tbl!$A:$E,P$2,0))","v":"Rural"},{"$f":"IF($B1485=\"\",\"\",VLOOKUP($B1485,_tbl!$A:$E,Q$2,0))","v":"Digestive"},null,1.88946403930103E-6,9.1108977566968703E-7]
[null,"all_f_Central Rural digestive.csv","10-14",1.6482131629196301E-6,1.5822626304080101E-6,1.45022684772348E-6,1.36609469558021E-6,1.26618723434491E-6,1.1848674466125299E-6,1.1025172449268001E-6,1.02932636646122E-6,9.5909659800893196E-7,8.9470344676531395E-7,{"$f":"IF($B1486=\"\",\"\",VLOOKUP($B1486,_tbl!$A:$E,N$2,0))","v":"Female"},{"$f":"IF($B1486=\"\",\"\",VLOOKUP($B1486,_tbl!$A:$E,O$2,0))","v":"Central"},{"$f":"IF($B1486=\"\",\"\",VLOOKUP($B1486,_tbl!$A:$E,P$2,0))","v":"Rural"},{"$f":"IF($B1486=\"\",\"\",VLOOKUP($B1486,_tbl!$A:$E,Q$2,0))","v":"Digestive"},null,1.6482131629196301E-6,8.9470344676531395E-7]
[null,"all_f_Central Rural digestive.csv","15-19",2.0018308883945199E-6,1.9381612276502299E-6,1.80899196578822E-6,1.7254110878817801E-6,1.6247476726575699E-6,1.5415861744990801E-6,1.4561480856606101E-6,1.3790900831918E-6,1.3040680150567599E-6,1.2342682382578999E-6,{"$f":"IF($B1487=\"\",\"\",VLOOKUP($B1487,_tbl!$A:$E,N$2,0))","v":"Female"},{"$f":"IF($B1487=\"\",\"\",VLOOKUP($B1487,_tbl!$A:$E,O$2,0))","v":"Central"},{"$f":"IF($B1487=\"\",\"\",VLOOKUP($B1487,_tbl!$A:$E,P$2,0))","v":"Rural"},{"$f":"IF($B1487=\"\",\"\",VLOOKUP($B1487,_tbl!$A:$E,Q$2,0))","v":"Digestive"},null,2.0018308883945199E-6,1.2342682382578999E-6]
[null,"all_f_Central Rural digestive.csv","20-24",2.3015113234050198E-6,2.22668005755519E-6,2.0750396895742802E-6,1.97704808748652E-6,1.8591717484534899E-6,1.7619143289070401E-6,1.6621181864020599E-6,1.5722238936485099E-6,1.48481386649159E-6,1.4035905470693501E-6,{"$f":"IF($B1488=\"\",\"\",VLOOKUP($B1488,_tbl!$A:$E,N$2,0))","v":"Female"},{"$f":"IF($B1488=\"\",\"\",VLOOKUP($B1488,_tbl!$A:$E,O$2,0))","v":"Central"},{"$f":"IF($B1488=\"\",\"\",VLOOKUP($B1488,_tbl!$A:$E,P$2,0))","v":"Rural"},{"$f":"IF($B1488=\"\",\"\",VLOOKUP($B1488,_tbl!$A:$E,Q$2,0))","v":"Digestive"},null,2.3015113234050198E-6,1.4035905470693501E-6]
[null,"all_f_Central Rural digestive.csv","25-29",2.8293448813369101E-6,2.7276913834305798E-6,2.5228280980950598E-6,2.3912856776330198E-6,2.2339749832733E-6,2.10497931648839E-6,1.9734065050192601E-6,1.8556085563252001E-6,1.74175469618799E-6,1.6365992499856701E-6,{"$f":"IF($B1489=\"\",\"\",VLOOKUP($B1489,_tbl!$A:$E,N$2,0))","v":"Female"},{"$f":"IF($B1489=\"\",\"\",VLOOKUP($B1489,_tbl!$A:$E,O$2,0))","v":"Central"},{"$f":"IF($B1489=\"\",\"\",VLOOKUP($B1489,_tbl!$A:$E,P$2,0))","v":"Rural"},{"$f":"IF($B1489=\"\",\"\",VLOOKUP($B1489,_tbl!$A:$E,Q$2,0))","v":"Digestive"},null,2.8293448813369101E-6,1.6365992499856701E-6]
[null,"all_f_Central Rural digestive.csv","30-34",4.3249479238906799E-6,4.17083727080904E-6,3.8601085040591204E-6,3.6604796154497802E-6,3.4216235308677501E-6,3.2256554589819999E-6,3.02566853493758E-6,2.8465244426684099E-6,2.6732879298937998E-6,2.51320251108755E-6,{"$f":"IF($B1490=\"\",\"\",VLOOKUP($B1490,_tbl!$A:$E,N$2,0))","v":"Female"},{"$f":"IF($B1490=\"\",\"\",VLOOKUP($B1490,_tbl!$A:$E,O$2,0))","v":"Central"},{"$f":"IF($B1490=\"\",\"\",VLOOKUP($B1490,_tbl!$A:$E,P$2,0))","v":"Rural"},{"$f":"IF($B1490=\"\",\"\",VLOOKUP($B1490,_tbl!$A:$E,Q$2,0))","v":"Digestive"},null,4.3249479238906799E-6,2.51320251108755E-6]
[null,"all_f_Central Rural digestive.csv","35-39",7.2915125415557104E-6,7.0419346710666898E-6,6.5375771433098502E-6,6.2126980944817702E-6,5.8230412376262296E-6,5.50253667364731E-6,5.1746523056706103E-6,4.8802026072527497E-6,4.5947551670883397E-6,4.3303174863398601E-6,{"$f":"IF($B1491=\"\",\"\",VLOOKUP($B1491,_tbl!$A:$E,N$2,0))","v":"Female"},{"$f":"IF($B1491=\"\",\"\",VLOOKUP($B1491,_tbl!$A:$E,O$2,0))","v":"Central"},{"$f":"IF($B1491=\"\",\"\",VLOOKUP($B1491,_tbl!$A:$E,P$2,0))","v":"Rural"},{"$f":"IF($B1491=\"\",\"\",VLOOKUP($B1491,_tbl!$A:$E,Q$2,0))","v":"Digestive"},null,7.2915125415557104E-6,4.3303174863398601E-6]
[null,"all_f_Central Rural digestive.csv","40-44",1.17949770278722E-5,1.1378929172756799E-5,1.05395772522774E-5,9.9999691646666602E-6,9.3539285790747896E-6,8.8235433749871799E-6,8.2819393439013002E-6,7.7964698605588801E-6,7.3267108636996803E-6,6.8923352757927299E-6,{"$f":"IF($B1492=\"\",\"\",VLOOKUP($B1492,_tbl!$A:$E,N$2,0))","v":"Female"},{"$f":"IF($B1492=\"\",\"\",VLOOKUP($B1492,_tbl!$A:$E,O$2,0))","v":"Central"},{"$f":"IF($B1492=\"\",\"\",VLOOKUP($B1492,_tbl!$A:$E,P$2,0))","v":"Rural"},{"$f":"IF($B1492=\"\",\"\",VLOOKUP($B1492,_tbl!$A:$E,Q$2,0))","v":"Digestive"},null,1.17949770278722E-5,6.8923352757927299E-6]
[null,"all_f_Central Rural digestive.csv","45-49",1.8581951500304098E-5,1.78835095946141E-5,1.6479699116940699E-5,1.5581113823276198E-5,1.45095648344986E-5,1.3633525412821899E-5,1.27425858512209E-5,1.19472868250818E-5,1.1180870622263699E-5,1.04750979005609E-5,{"$f":"IF($B1493=\"\",\"\",VLOOKUP($B1493,_tbl!$A:$E,N$2,0))","v":"Female"},{"$f":"IF($B1493=\"\",\"\",VLOOKUP($B1493,_tbl!$A:$E,O$2,0))","v":"Central"},{"$f":"IF($B1493=\"\",\"\",VLOOKUP($B1493,_tbl!$A:$E,P$2,0))","v":"Rural"},{"$f":"IF($B1493=\"\",\"\",VLOOKUP($B1493,_tbl!$A:$E,Q$2,0))","v":"Digestive"},null,1.8581951500304098E-5,1.04750979005609E-5]
[null,"all_f_Central Rural digestive.csv","50-54",3.0674898451977602E-5,2.9503044383271701E-5,2.7150056329643399E-5,2.56456371887767E-5,2.3853541228563299E-5,2.2390056608115901E-5,2.0903291059797801E-5,1.9577589115220401E-5,1.83014254772834E-5,1.7127528945668499E-5,{"$f":"IF($B1494=\"\",\"\",VLOOKUP($B1494,_tbl!$A:$E,N$2,0))","v":"Female"},{"$f":"IF($B1494=\"\",\"\",VLOOKUP($B1494,_tbl!$A:$E,O$2,0))","v":"Central"},{"$f":"IF($B1494=\"\",\"\",VLOOKUP($B1494,_tbl!$A:$E,P$2,0))","v":"Rural"},{"$f":"IF($B1494=\"\",\"\",VLOOKUP($B1494,_tbl!$A:$E,Q$2,0))","v":"Digestive"},null,3.0674898451977602E-5,1.7127528945668499E-5]
[null,"all_f_Central Rural digestive.csv","55-59",5.3362274996673702E-5,5.1414913552281199E-5,4.7493954862646398E-5,4.49789768542847E-5,4.19742525077808E-5,3.95128805656449E-5,3.7004824670619099E-5,3.4761614726572801E-5,3.2595678319518002E-5,3.0597230857313103E-5,{"$f":"IF($B1495=\"\",\"\",VLOOKUP($B1495,_tbl!$A:$E,N$2,0))","v":"Female"},{"$f":"IF($B1495=\"\",\"\",VLOOKUP($B1495,_tbl!$A:$E,O$2,0))","v":"Central"},{"$f":"IF($B1495=\"\",\"\",VLOOKUP($B1495,_tbl!$A:$E,P$2,0))","v":"Rural"},{"$f":"IF($B1495=\"\",\"\",VLOOKUP($B1495,_tbl!$A:$E,Q$2,0))","v":"Digestive"},null,5.3362274996673702E-5,3.0597230857313103E-5]
[null,"all_f_Central Rural digestive.csv","60-64",9.2677580528266105E-5,8.9515742335945006E-5,8.3125012287386496E-5,7.9007597567695993E-5,7.4068259769003694E-5,7.0004682596017798E-5,6.5846722713769099E-5,6.2112007239581402E-5,5.8490757506323399E-5,5.5135374380828503E-5,{"$f":"IF($B1496=\"\",\"\",VLOOKUP($B1496,_tbl!$A:$E,N$2,0))","v":"Female"},{"$f":"IF($B1496=\"\",\"\",VLOOKUP($B1496,_tbl!$A:$E,O$2,0))","v":"Central"},{"$f":"IF($B1496=\"\",\"\",VLOOKUP($B1496,_tbl!$A:$E,P$2,0))","v":"Rural"},{"$f":"IF($B1496=\"\",\"\",VLOOKUP($B1496,_tbl!$A:$E,Q$2,0))","v":"Digestive"},null,9.2677580528266105E-5,5.5135374380828503E-5]
[null,"all_f_Central Rural digestive.csv","65-69",1.5568648016444899E-4,1.50640029919662E-4,1.4041210628086399E-4,1.3380148368467501E-4,1.2584805470593099E-4,1.19284657861604E-4,1.12548759494299E-4,1.0648012331629399E-4,1.00578158137539E-4,9.5092951367801694E-5,{"$f":"IF($B1497=\"\",\"\",VLOOKUP($B1497,_tbl!$A:$E,N$2,0))","v":"Female"},{"$f":"IF($B1497=\"\",\"\",VLOOKUP($B1497,_tbl!$A:$E,O$2,0))","v":"Central"},{"$f":"IF($B1497=\"\",\"\",VLOOKUP($B1497,_tbl!$A:$E,P$2,0))","v":"Rural"},{"$f":"IF($B1497=\"\",\"\",VLOOKUP($B1497,_tbl!$A:$E,Q$2,0))","v":"Digestive"},null,1.5568648016444899E-4,9.5092951367801694E-5]
[null,"all_f_Central Rural digestive.csv","70-74",2.6010746326897601E-4,2.52054246374399E-4,2.3569415093975901E-4,2.2509143458504299E-4,2.12303223412702E-4,2.0172235807676899E-4,1.90835771671147E-4,1.81002212425406E-4,1.71414212342878E-4,1.6248027200718699E-4,{"$f":"IF($B1498=\"\",\"\",VLOOKUP($B1498,_tbl!$A:$E,N$2,0))","v":"Female"},{"$f":"IF($B1498=\"\",\"\",VLOOKUP($B1498,_tbl!$A:$E,O$2,0))","v":"Central"},{"$f":"IF($B1498=\"\",\"\",VLOOKUP($B1498,_tbl!$A:$E,P$2,0))","v":"Rural"},{"$f":"IF($B1498=\"\",\"\",VLOOKUP($B1498,_tbl!$A:$E,Q$2,0))","v":"Digestive"},null,2.6010746326897601E-4,1.6248027200718699E-4]
[null,"all_f_Central Rural digestive.csv","75-79",4.5427343953625499E-4,4.41362118817108E-4,4.1502563706810001E-4,3.9787658423979502E-4,3.7710270955390899E-4,3.59835913668842E-4,3.4199130377040801E-4,3.2579987554920799E-4,3.0994213758285598E-4,2.95099638159221E-4,{"$f":"IF($B1499=\"\",\"\",VLOOKUP($B1499,_tbl!$A:$E,N$2,0))","v":"Female"},{"$f":"IF($B1499=\"\",\"\",VLOOKUP($B1499,_tbl!$A:$E,O$2,0))","v":"Central"},{"$f":"IF($B1499=\"\",\"\",VLOOKUP($B1499,_tbl!$A:$E,P$2,0))","v":"Rural"},{"$f":"IF($B1499=\"\",\"\",VLOOKUP($B1499,_tbl!$A:$E,Q$2,0))","v":"Digestive"},null,4.5427343953625499E-4,2.95099638159221E-4]
[null,"all_f_Central Rural digestive.csv","80-84",8.4265239530077003E-4,8.2228132292215496E-4,7.8044493831067898E-4,7.5298789348656196E-4,7.1948570268240398E-4,6.9142672068714297E-4,6.6221376160864197E-4,6.3550715093354897E-4,6.0915558710819399E-4,5.8430574767275804E-4,{"$f":"IF($B1500=\"\",\"\",VLOOKUP($B1500,_tbl!$A:$E,N$2,0))","v":"Female"},{"$f":"IF($B1500=\"\",\"\",VLOOKUP($B1500,_tbl!$A:$E,O$2,0))","v":"Central"},{"$f":"IF($B1500=\"\",\"\",VLOOKUP($B1500,_tbl!$A:$E,P$2,0))","v":"Rural"},{"$f":"IF($B1500=\"\",\"\",VLOOKUP($B1500,_tbl!$A:$E,Q$2,0))","v":"Digestive"},null,8.4265239530077003E-4,5.8430574767275804E-4]
[null,"all_f_Central Rural digestive.csv","85+",1.6084120648930801E-3,1.57806547093165E-3,1.5152124393347499E-3,1.4735568455176099E-3,1.4222705286042101E-3,1.3789085683322E-3,1.3333465514366401E-3,1.2913023159756799E-3,1.2494313447847199E-3,1.20957718862375E-3,{"$f":"IF($B1501=\"\",\"\",VLOOKUP($B1501,_tbl!$A:$E,N$2,0))","v":"Female"},{"$f":"IF($B1501=\"\",\"\",VLOOKUP($B1501,_tbl!$A:$E,O$2,0))","v":"Central"},{"$f":"IF($B1501=\"\",\"\",VLOOKUP($B1501,_tbl!$A:$E,P$2,0))","v":"Rural"},{"$f":"IF($B1501=\"\",\"\",VLOOKUP($B1501,_tbl!$A:$E,Q$2,0))","v":"Digestive"},null,1.6084120648930801E-3,1.20957718862375E-3]
[null,null,null,null,null,null,null,null,null,null,null,null,null,{"$f":"IF($B1502=\"\",\"\",VLOOKUP($B1502,_tbl!$A:$E,N$2,0))","v":""},{"$f":"IF($B1502=\"\",\"\",VLOOKUP($B1502,_tbl!$A:$E,O$2,0))","v":""},{"$f":"IF($B1502=\"\",\"\",VLOOKUP($B1502,_tbl!$A:$E,P$2,0))","v":""},{"$f":"IF($B1502=\"\",\"\",VLOOKUP($B1502,_tbl!$A:$E,Q$2,0))","v":""}]
[null,null,null,2020,2021,2022,2023,2024,2025,2026,2027,2028,2029,{"$f":"IF($B1503=\"\",\"\",VLOOKUP($B1503,_tbl!$A:$E,N$2,0))","v":""},{"$f":"IF($B1503=\"\",\"\",VLOOKUP($B1503,_tbl!$A:$E,O$2,0))","v":""},{"$f":"IF($B1503=\"\",\"\",VLOOKUP($B1503,_tbl!$A:$E,P$2,0))","v":""},{"$f":"IF($B1503=\"\",\"\",VLOOKUP($B1503,_tbl!$A:$E,Q$2,0))","v":""}]
[null,"all_f_Central Rural external.csv","1-4",1.4242778774887599E-4,1.3622069122536001E-4,1.3092760636422901E-4,1.25650550919105E-4,1.2064231282460999E-4,1.1574043597520499E-4,1.1109185663546499E-4,1.065338212179E-4,1.02094958470612E-4,9.7804086493510299E-5,{"$f":"IF($B1504=\"\",\"\",VLOOKUP($B1504,_tbl!$A:$E,N$2,0))","v":"Female"},{"$f":"IF($B1504=\"\",\"\",VLOOKUP($B1504,_tbl!$A:$E,O$2,0))","v":"Central"},{"$f":"IF($B1504=\"\",\"\",VLOOKUP($B1504,_tbl!$A:$E,P$2,0))","v":"Rural"},{"$f":"IF($B1504=\"\",\"\",VLOOKUP($B1504,_tbl!$A:$E,Q$2,0))","v":"External"},null,{"$f":"MAX(D1504:M1504)","v":1.4242778774887599E-4},{"$f":"MIN(D1504:M1504)","v":9.7804086493510299E-5}]
[null,"all_f_Central Rural external.csv","5-9",1.0184799292834E-4,1.00345242221095E-4,9.9194021835583403E-5,9.7988154131658795E-5,9.6762226103011103E-5,9.5510077318773602E-5,9.4314239232379206E-5,9.3067321977939802E-5,9.1773322989751105E-5,9.0482293972547401E-5,{"$f":"IF($B1505=\"\",\"\",VLOOKUP($B1505,_tbl!$A:$E,N$2,0))","v":"Female"},{"$f":"IF($B1505=\"\",\"\",VLOOKUP($B1505,_tbl!$A:$E,O$2,0))","v":"Central"},{"$f":"IF($B1505=\"\",\"\",VLOOKUP($B1505,_tbl!$A:$E,P$2,0))","v":"Rural"},{"$f":"IF($B1505=\"\",\"\",VLOOKUP($B1505,_tbl!$A:$E,Q$2,0))","v":"External"},null,1.0184799292834E-4,9.0482293972547401E-5]
[null,"all_f_Central Rural external.csv","10-14",7.7752578771904301E-5,7.6417180461972497E-5,7.5197073060066696E-5,7.3934545441661998E-5,7.26612409474763E-5,7.1378159208183197E-5,7.0145284493848699E-5,6.8893828341085698E-5,6.7628128591057802E-5,6.6377724156124895E-5,{"$f":"IF($B1506=\"\",\"\",VLOOKUP($B1506,_tbl!$A:$E,N$2,0))","v":"Female"},{"$f":"IF($B1506=\"\",\"\",VLOOKUP($B1506,_tbl!$A:$E,O$2,0))","v":"Central"},{"$f":"IF($B1506=\"\",\"\",VLOOKUP($B1506,_tbl!$A:$E,P$2,0))","v":"Rural"},{"$f":"IF($B1506=\"\",\"\",VLOOKUP($B1506,_tbl!$A:$E,Q$2,0))","v":"External"},null,7.7752578771904301E-5,6.6377724156124895E-5]
[null,"all_f_Central Rural external.csv","15-19",7.50523887656091E-5,7.2615553218126401E-5,7.0375272648278496E-5,6.8098873420470698E-5,6.5885503943997802E-5,6.3695347912267795E-5,6.1620591903114205E-5,5.9573060698013097E-5,5.7571234980891497E-5,5.5630282114883999E-5,{"$f":"IF($B1507=\"\",\"\",VLOOKUP($B1507,_tbl!$A:$E,N$2,0))","v":"Female"},{"$f":"IF($B1507=\"\",\"\",VLOOKUP($B1507,_tbl!$A:$E,O$2,0))","v":"Central"},{"$f":"IF($B1507=\"\",\"\",VLOOKUP($B1507,_tbl!$A:$E,P$2,0))","v":"Rural"},{"$f":"IF($B1507=\"\",\"\",VLOOKUP($B1507,_tbl!$A:$E,Q$2,0))","v":"External"},null,7.50523887656091E-5,5.5630282114883999E-5]
[null,"all_f_Central Rural external.csv","20-24",8.2091817293646603E-5,7.85387600207458E-5,7.5139494542060799E-5,7.1821078379088907E-5,6.8620577714551304E-5,6.5551760876409495E-5,6.2659993240370604E-5,5.9889081041494799E-5,5.72362425283973E-5,5.4704838782130297E-5,{"$f":"IF($B1508=\"\",\"\",VLOOKUP($B1508,_tbl!$A:$E,N$2,0))","v":"Female"},{"$f":"IF($B1508=\"\",\"\",VLOOKUP($B1508,_tbl!$A:$E,O$2,0))","v":"Central"},{"$f":"IF($B1508=\"\",\"\",VLOOKUP($B1508,_tbl!$A:$E,P$2,0))","v":"Rural"},{"$f":"IF($B1508=\"\",\"\",VLOOKUP($B1508,_tbl!$A:$E,Q$2,0))","v":"External"},null,8.2091817293646603E-5,5.4704838782130297E-5]
[null,"all_f_Central Rural external.csv","25-29",9.5030282963848401E-5,9.0214607833115397E-5,8.5903695278638395E-5,8.1647420704597095E-5,7.7632112547368999E-5,7.3748326720294902E-5,7.0110832675105493E-5,6.6601680520973606E-5,6.3248415773870304E-5,6.0049952155532601E-5,{"$f":"IF($B1509=\"\",\"\",VLOOKUP($B1509,_tbl!$A:$E,N$2,0))","v":"Female"},{"$f":"IF($B1509=\"\",\"\",VLOOKUP($B1509,_tbl!$A:$E,O$2,0))","v":"Central"},{"$f":"IF($B1509=\"\",\"\",VLOOKUP($B1509,_tbl!$A:$E,P$2,0))","v":"Rural"},{"$f":"IF($B1509=\"\",\"\",VLOOKUP($B1509,_tbl!$A:$E,Q$2,0))","v":"External"},null,9.5030282963848401E-5,6.0049952155532601E-5]
[null,"all_f_Central Rural external.csv","30-34",1.11298571389356E-4,1.05411412875264E-4,1.00207774311337E-4,9.5052542449455197E-5,9.0235104253715394E-5,8.5596770010663099E-5,8.1291812908630497E-5,7.7169342328965894E-5,7.3262179368896002E-5,6.9560584439379994E-5,{"$f":"IF($B1510=\"\",\"\",VLOOKUP($B1510,_tbl!$A:$E,N$2,0))","v":"Female"},{"$f":"IF($B1510=\"\",\"\",VLOOKUP($B1510,_tbl!$A:$E,O$2,0))","v":"Central"},{"$f":"IF($B1510=\"\",\"\",VLOOKUP($B1510,_tbl!$A:$E,P$2,0))","v":"Rural"},{"$f":"IF($B1510=\"\",\"\",VLOOKUP($B1510,_tbl!$A:$E,Q$2,0))","v":"External"},null,1.11298571389356E-4,6.9560584439379994E-5]
[null,"all_f_Central Rural external.csv","35-39",1.2870460465223599E-4,1.22043738699251E-4,1.15829014314555E-4,1.09942660668378E-4,1.0441159758048201E-4,9.9195020595568004E-5,9.4300428851936901E-5,8.9689359453488596E-5,8.5351895901967999E-5,8.1272057133055506E-5,{"$f":"IF($B1511=\"\",\"\",VLOOKUP($B1511,_tbl!$A:$E,N$2,0))","v":"Female"},{"$f":"IF($B1511=\"\",\"\",VLOOKUP($B1511,_tbl!$A:$E,O$2,0))","v":"Central"},{"$f":"IF($B1511=\"\",\"\",VLOOKUP($B1511,_tbl!$A:$E,P$2,0))","v":"Rural"},{"$f":"IF($B1511=\"\",\"\",VLOOKUP($B1511,_tbl!$A:$E,Q$2,0))","v":"External"},null,1.2870460465223599E-4,8.1272057133055506E-5]
[null,"all_f_Central Rural external.csv","40-44",1.52039898677232E-4,1.4360955671764299E-4,1.3543165766373501E-4,1.2784896374527999E-4,1.20609529503143E-4,1.13806273268672E-4,1.07305678814296E-4,1.01172965966098E-4,9.5359193143177497E-5,8.9851109710695895E-5,{"$f":"IF($B1512=\"\",\"\",VLOOKUP($B1512,_tbl!$A:$E,N$2,0))","v":"Female"},{"$f":"IF($B1512=\"\",\"\",VLOOKUP($B1512,_tbl!$A:$E,O$2,0))","v":"Central"},{"$f":"IF($B1512=\"\",\"\",VLOOKUP($B1512,_tbl!$A:$E,P$2,0))","v":"Rural"},{"$f":"IF($B1512=\"\",\"\",VLOOKUP($B1512,_tbl!$A:$E,Q$2,0))","v":"External"},null,1.52039898677232E-4,8.9851109710695895E-5]
[null,"all_f_Central Rural external.csv","45-49",1.92316309531987E-4,1.83059175061903E-4,1.7399308231671399E-4,1.65564335863442E-4,1.5743229104408501E-4,1.4975628638127299E-4,1.4235317293762701E-4,1.3532621553972299E-4,1.28612057092431E-4,1.2220529017747001E-4,{"$f":"IF($B1513=\"\",\"\",VLOOKUP($B1513,_tbl!$A:$E,N$2,0))","v":"Female"},{"$f":"IF($B1513=\"\",\"\",VLOOKUP($B1513,_tbl!$A:$E,O$2,0))","v":"Central"},{"$f":"IF($B1513=\"\",\"\",VLOOKUP($B1513,_tbl!$A:$E,P$2,0))","v":"Rural"},{"$f":"IF($B1513=\"\",\"\",VLOOKUP($B1513,_tbl!$A:$E,Q$2,0))","v":"External"},null,1.92316309531987E-4,1.2220529017747001E-4]
[null,"all_f_Central Rural external.csv","50-54",2.4720455810127201E-4,2.3726387388766599E-4,2.29035974346281E-4,2.19857114541663E-4,2.1106094133679701E-4,2.02161529286647E-4,1.9386700483581601E-4,1.8564076517235001E-4,1.7766698011524999E-4,1.69960495778504E-4,{"$f":"IF($B1514=\"\",\"\",VLOOKUP($B1514,_tbl!$A:$E,N$2,0))","v":"Female"},{"$f":"IF($B1514=\"\",\"\",VLOOKUP($B1514,_tbl!$A:$E,O$2,0))","v":"Central"},{"$f":"IF($B1514=\"\",\"\",VLOOKUP($B1514,_tbl!$A:$E,P$2,0))","v":"Rural"},{"$f":"IF($B1514=\"\",\"\",VLOOKUP($B1514,_tbl!$A:$E,Q$2,0))","v":"External"},null,2.4720455810127201E-4,1.69960495778504E-4]
[null,"all_f_Central Rural external.csv","55-59",3.3380095779452E-4,3.2475431029540999E-4,3.1674813917534399E-4,3.0807709379705299E-4,2.9961153853246897E-4,2.9107472745434801E-4,2.8298072556865502E-4,2.7490231301513599E-4,2.6699113739431999E-4,2.5928539030392898E-4,{"$f":"IF($B1515=\"\",\"\",VLOOKUP($B1515,_tbl!$A:$E,N$2,0))","v":"Female"},{"$f":"IF($B1515=\"\",\"\",VLOOKUP($B1515,_tbl!$A:$E,O$2,0))","v":"Central"},{"$f":"IF($B1515=\"\",\"\",VLOOKUP($B1515,_tbl!$A:$E,P$2,0))","v":"Rural"},{"$f":"IF($B1515=\"\",\"\",VLOOKUP($B1515,_tbl!$A:$E,Q$2,0))","v":"External"},null,3.3380095779452E-4,2.5928539030392898E-4]
[null,"all_f_Central Rural external.csv","60-64",4.5042947918355099E-4,4.42312471048999E-4,4.3454328878935101E-4,4.2631369283954701E-4,4.1809950044906398E-4,4.0989145193113602E-4,4.0192623679430301E-4,3.9399719189410899E-4,3.8618828217918701E-4,3.7854746815178499E-4,{"$f":"IF($B1516=\"\",\"\",VLOOKUP($B1516,_tbl!$A:$E,N$2,0))","v":"Female"},{"$f":"IF($B1516=\"\",\"\",VLOOKUP($B1516,_tbl!$A:$E,O$2,0))","v":"Central"},{"$f":"IF($B1516=\"\",\"\",VLOOKUP($B1516,_tbl!$A:$E,P$2,0))","v":"Rural"},{"$f":"IF($B1516=\"\",\"\",VLOOKUP($B1516,_tbl!$A:$E,Q$2,0))","v":"External"},null,4.5042947918355099E-4,3.7854746815178499E-4]
[null,"all_f_Central Rural external.csv","65-69",6.1668706315614003E-4,6.0509445252339899E-4,5.9303852911154098E-4,5.8088025024534602E-4,5.6870797867085497E-4,5.5679033110629097E-4,5.4481607619166804E-4,5.3310582351080802E-4,5.2160986819444399E-4,5.1032300870310597E-4,{"$f":"IF($B1517=\"\",\"\",VLOOKUP($B1517,_tbl!$A:$E,N$2,0))","v":"Female"},{"$f":"IF($B1517=\"\",\"\",VLOOKUP($B1517,_tbl!$A:$E,O$2,0))","v":"Central"},{"$f":"IF($B1517=\"\",\"\",VLOOKUP($B1517,_tbl!$A:$E,P$2,0))","v":"Rural"},{"$f":"IF($B1517=\"\",\"\",VLOOKUP($B1517,_tbl!$A:$E,Q$2,0))","v":"External"},null,6.1668706315614003E-4,5.1032300870310597E-4]
[null,"all_f_Central Rural external.csv","70-74",8.8843885739219898E-4,8.67485465344903E-4,8.4569267973208897E-4,8.2439356556513496E-4,8.0351859232409204E-4,7.8334021894468898E-4,7.6294184412280697E-4,7.4331109155414E-4,7.2424965307605704E-4,7.05598797513039E-4,{"$f":"IF($B1518=\"\",\"\",VLOOKUP($B1518,_tbl!$A:$E,N$2,0))","v":"Female"},{"$f":"IF($B1518=\"\",\"\",VLOOKUP($B1518,_tbl!$A:$E,O$2,0))","v":"Central"},{"$f":"IF($B1518=\"\",\"\",VLOOKUP($B1518,_tbl!$A:$E,P$2,0))","v":"Rural"},{"$f":"IF($B1518=\"\",\"\",VLOOKUP($B1518,_tbl!$A:$E,Q$2,0))","v":"External"},null,8.8843885739219898E-4,7.05598797513039E-4]
[null,"all_f_Central Rural external.csv","75-79",1.35886029625341E-3,1.31953594649085E-3,1.27987215507123E-3,1.2416965734621901E-3,1.2046182796281099E-3,1.16871469747157E-3,1.13317887254682E-3,1.09914419201732E-3,1.0663794533077001E-3,1.0345724797653001E-3,{"$f":"IF($B1519=\"\",\"\",VLOOKUP($B1519,_tbl!$A:$E,N$2,0))","v":"Female"},{"$f":"IF($B1519=\"\",\"\",VLOOKUP($B1519,_tbl!$A:$E,O$2,0))","v":"Central"},{"$f":"IF($B1519=\"\",\"\",VLOOKUP($B1519,_tbl!$A:$E,P$2,0))","v":"Rural"},{"$f":"IF($B1519=\"\",\"\",VLOOKUP($B1519,_tbl!$A:$E,Q$2,0))","v":"External"},null,1.35886029625341E-3,1.0345724797653001E-3]
[null,"all_f_Central Rural external.csv","80-84",2.2006546314713902E-3,2.1185222983170901E-3,2.03741937164289E-3,1.9627285112903902E-3,1.89011539567547E-3,1.8197665175886499E-3,1.75143365377748E-3,1.6865275894671101E-3,1.6246327767360401E-3,1.5650895299803001E-3,{"$f":"IF($B1520=\"\",\"\",VLOOKUP($B1520,_tbl!$A:$E,N$2,0))","v":"Female"},{"$f":"IF($B1520=\"\",\"\",VLOOKUP($B1520,_tbl!$A:$E,O$2,0))","v":"Central"},{"$f":"IF($B1520=\"\",\"\",VLOOKUP($B1520,_tbl!$A:$E,P$2,0))","v":"Rural"},{"$f":"IF($B1520=\"\",\"\",VLOOKUP($B1520,_tbl!$A:$E,Q$2,0))","v":"External"},null,2.2006546314713902E-3,1.5650895299803001E-3]
[null,"all_f_Central Rural external.csv","85+",3.4436775155101398E-3,3.2746194428035702E-3,3.1026168645189702E-3,2.9543733973381101E-3,2.8138243688573001E-3,2.6795673757786698E-3,2.5561085341413601E-3,2.4375928969686202E-3,2.3236762331833999E-3,2.2149799293347599E-3,{"$f":"IF($B1521=\"\",\"\",VLOOKUP($B1521,_tbl!$A:$E,N$2,0))","v":"Female"},{"$f":"IF($B1521=\"\",\"\",VLOOKUP($B1521,_tbl!$A:$E,O$2,0))","v":"Central"},{"$f":"IF($B1521=\"\",\"\",VLOOKUP($B1521,_tbl!$A:$E,P$2,0))","v":"Rural"},{"$f":"IF($B1521=\"\",\"\",VLOOKUP($B1521,_tbl!$A:$E,Q$2,0))","v":"External"},null,3.4436775155101398E-3,2.2149799293347599E-3]
[null,null,null,null,null,null,null,null,null,null,null,null,null,{"$f":"IF($B1522=\"\",\"\",VLOOKUP($B1522,_tbl!$A:$E,N$2,0))","v":""},{"$f":"IF($B1522=\"\",\"\",VLOOKUP($B1522,_tbl!$A:$E,O$2,0))","v":""},{"$f":"IF($B1522=\"\",\"\",VLOOKUP($B1522,_tbl!$A:$E,P$2,0))","v":""},{"$f":"IF($B1522=\"\",\"\",VLOOKUP($B1522,_tbl!$A:$E,Q$2,0))","v":""}]
[null,null,null,2020,2021,2022,2023,2024,2025,2026,2027,2028,2029,{"$f":"IF($B1523=\"\",\"\",VLOOKUP($B1523,_tbl!$A:$E,N$2,0))","v":""},{"$f":"IF($B1523=\"\",\"\",VLOOKUP($B1523,_tbl!$A:$E,O$2,0))","v":""},{"$f":"IF($B1523=\"\",\"\",VLOOKUP($B1523,_tbl!$A:$E,P$2,0))","v":""},{"$f":"IF($B1523=\"\",\"\",VLOOKUP($B1523,_tbl!$A:$E,Q$2,0))","v":""}]
[null,"all_f_Central Rural infectious.csv","1-4",3.3701365583814999E-5,3.18201039463373E-5,2.9658743542992401E-5,2.7366652504300702E-5,2.51184768641937E-5,2.30270155639806E-5,2.11332423656478E-5,1.9430567710726399E-5,1.78923095948233E-5,1.6489970692803902E-5,{"$f":"IF($B1524=\"\",\"\",VLOOKUP($B1524,_tbl!$A:$E,N$2,0))","v":"Female"},{"$f":"IF($B1524=\"\",\"\",VLOOKUP($B1524,_tbl!$A:$E,O$2,0))","v":"Central"},{"$f":"IF($B1524=\"\",\"\",VLOOKUP($B1524,_tbl!$A:$E,P$2,0))","v":"Rural"},{"$f":"IF($B1524=\"\",\"\",VLOOKUP($B1524,_tbl!$A:$E,Q$2,0))","v":"Infectious"},null,{"$f":"MAX(D1524:M1524)","v":3.3701365583814999E-5},{"$f":"MIN(D1524:M1524)","v":1.6489970692803902E-5}]
[null,"all_f_Central Rural infectious.csv","5-9",1.23552404794617E-5,1.2073075294263801E-5,1.17213906604205E-5,1.13225990183482E-5,1.0908444323229999E-5,1.0503051607868801E-5,1.01183707503435E-5,9.7566714615322304E-6,9.4150802456796407E-6,9.0893519357100707E-6,{"$f":"IF($B1525=\"\",\"\",VLOOKUP($B1525,_tbl!$A:$E,N$2,0))","v":"Female"},{"$f":"IF($B1525=\"\",\"\",VLOOKUP($B1525,_tbl!$A:$E,O$2,0))","v":"Central"},{"$f":"IF($B1525=\"\",\"\",VLOOKUP($B1525,_tbl!$A:$E,P$2,0))","v":"Rural"},{"$f":"IF($B1525=\"\",\"\",VLOOKUP($B1525,_tbl!$A:$E,Q$2,0))","v":"Infectious"},null,1.23552404794617E-5,9.0893519357100707E-6]
[null,"all_f_Central Rural infectious.csv","10-14",7.2554213909797104E-6,6.9267604160996702E-6,6.6140274613105596E-6,6.3161908193262902E-6,6.0321550405139203E-6,5.7609774639355501E-6,5.5019160006566701E-6,5.2543874498333201E-6,5.0179019082941199E-6,4.7920098176672701E-6,{"$f":"IF($B1526=\"\",\"\",VLOOKUP($B1526,_tbl!$A:$E,N$2,0))","v":"Female"},{"$f":"IF($B1526=\"\",\"\",VLOOKUP($B1526,_tbl!$A:$E,O$2,0))","v":"Central"},{"$f":"IF($B1526=\"\",\"\",VLOOKUP($B1526,_tbl!$A:$E,P$2,0))","v":"Rural"},{"$f":"IF($B1526=\"\",\"\",VLOOKUP($B1526,_tbl!$A:$E,Q$2,0))","v":"Infectious"},null,7.2554213909797104E-6,4.7920098176672701E-6]
[null,"all_f_Central Rural infectious.csv","15-19",5.9266466804595697E-6,5.5842679982551901E-6,5.2632137788994902E-6,4.9617573629717804E-6,4.6781304717971701E-6,4.4108383274304003E-6,4.1587127985155599E-6,3.9208363431882302E-6,3.6964381333920001E-6,3.4848146817529402E-6,{"$f":"IF($B1527=\"\",\"\",VLOOKUP($B1527,_tbl!$A:$E,N$2,0))","v":"Female"},{"$f":"IF($B1527=\"\",\"\",VLOOKUP($B1527,_tbl!$A:$E,O$2,0))","v":"Central"},{"$f":"IF($B1527=\"\",\"\",VLOOKUP($B1527,_tbl!$A:$E,P$2,0))","v":"Rural"},{"$f":"IF($B1527=\"\",\"\",VLOOKUP($B1527,_tbl!$A:$E,Q$2,0))","v":"Infectious"},null,5.9266466804595697E-6,3.4848146817529402E-6]
[null,"all_f_Central Rural infectious.csv","20-24",6.20438491441928E-6,5.8974938472322201E-6,5.5818883617022203E-6,5.2655514055163096E-6,4.95844999769703E-6,4.6673830202321796E-6,4.3950238699266696E-6,4.14105397095924E-6,3.9037282996098703E-6,3.68104926873311E-6,{"$f":"IF($B1528=\"\",\"\",VLOOKUP($B1528,_tbl!$A:$E,N$2,0))","v":"Female"},{"$f":"IF($B1528=\"\",\"\",VLOOKUP($B1528,_tbl!$A:$E,O$2,0))","v":"Central"},{"$f":"IF($B1528=\"\",\"\",VLOOKUP($B1528,_tbl!$A:$E,P$2,0))","v":"Rural"},{"$f":"IF($B1528=\"\",\"\",VLOOKUP($B1528,_tbl!$A:$E,Q$2,0))","v":"Infectious"},null,6.20438491441928E-6,3.68104926873311E-6]
[null,"all_f_Central Rural infectious.csv","25-29",7.4617131775724697E-6,7.1077193303474201E-6,6.7160809486939503E-6,6.3060785354177196E-6,5.9015389555158296E-6,5.5187565903259398E-6,5.1644032404058202E-6,4.8383128328074798E-6,4.5371351819959801E-6,4.2569899727178E-6,{"$f":"IF($B1529=\"\",\"\",VLOOKUP($B1529,_tbl!$A:$E,N$2,0))","v":"Female"},{"$f":"IF($B1529=\"\",\"\",VLOOKUP($B1529,_tbl!$A:$E,O$2,0))","v":"Central"},{"$f":"IF($B1529=\"\",\"\",VLOOKUP($B1529,_tbl!$A:$E,P$2,0))","v":"Rural"},{"$f":"IF($B1529=\"\",\"\",VLOOKUP($B1529,_tbl!$A:$E,Q$2,0))","v":"Infectious"},null,7.4617131775724697E-6,4.2569899727178E-6]
[null,"all_f_Central Rural infectious.csv","30-34",9.2914431033183597E-6,8.7338076517267501E-6,8.1487222129658692E-6,7.5586729919348797E-6,6.9899709876297401E-6,6.4595281901578104E-6,5.9731814406677299E-6,5.5292622272683502E-6,5.1228375332356598E-6,4.7486379531957397E-6,{"$f":"IF($B1530=\"\",\"\",VLOOKUP($B1530,_tbl!$A:$E,N$2,0))","v":"Female"},{"$f":"IF($B1530=\"\",\"\",VLOOKUP($B1530,_tbl!$A:$E,O$2,0))","v":"Central"},{"$f":"IF($B1530=\"\",\"\",VLOOKUP($B1530,_tbl!$A:$E,P$2,0))","v":"Rural"},{"$f":"IF($B1530=\"\",\"\",VLOOKUP($B1530,_tbl!$A:$E,Q$2,0))","v":"Infectious"},null,9.2914431033183597E-6,4.7486379531957397E-6]
[null,"all_f_Central Rural infectious.csv","35-39",1.17635715761075E-5,1.08827880191209E-5,1.0035413690862601E-5,9.2306190005151194E-6,8.4791036312001107E-6,7.7864009091703395E-6,7.1522889785812202E-6,6.5728207402735902E-6,6.0426093382305896E-6,5.5563645148784296E-6,{"$f":"IF($B1531=\"\",\"\",VLOOKUP($B1531,_tbl!$A:$E,N$2,0))","v":"Female"},{"$f":"IF($B1531=\"\",\"\",VLOOKUP($B1531,_tbl!$A:$E,O$2,0))","v":"Central"},{"$f":"IF($B1531=\"\",\"\",VLOOKUP($B1531,_tbl!$A:$E,P$2,0))","v":"Rural"},{"$f":"IF($B1531=\"\",\"\",VLOOKUP($B1531,_tbl!$A:$E,Q$2,0))","v":"Infectious"},null,1.17635715761075E-5,5.5563645148784296E-6]
[null,"all_f_Central Rural infectious.csv","40-44",1.5842584621848601E-5,1.4534222960425499E-5,1.33505145373818E-5,1.2275151341450301E-5,1.1292166719828499E-5,1.0389115223018701E-5,9.5572544882093603E-6,8.7904570828175697E-6,8.0839935465892005E-6,7.4336913404534998E-6,{"$f":"IF($B1532=\"\",\"\",VLOOKUP($B1532,_tbl!$A:$E,N$2,0))","v":"Female"},{"$f":"IF($B1532=\"\",\"\",VLOOKUP($B1532,_tbl!$A:$E,O$2,0))","v":"Central"},{"$f":"IF($B1532=\"\",\"\",VLOOKUP($B1532,_tbl!$A:$E,P$2,0))","v":"Rural"},{"$f":"IF($B1532=\"\",\"\",VLOOKUP($B1532,_tbl!$A:$E,Q$2,0))","v":"Infectious"},null,1.5842584621848601E-5,7.4336913404534998E-6]
[null,"all_f_Central Rural infectious.csv","45-49",2.3201208980266801E-5,2.1241424822852801E-5,1.9522581622552099E-5,1.7997213807778601E-5,1.6617373069474399E-5,1.53489127052277E-5,1.41725386815129E-5,1.3079178484928E-5,1.20646534258262E-5,1.1125959789285E-5,{"$f":"IF($B1533=\"\",\"\",VLOOKUP($B1533,_tbl!$A:$E,N$2,0))","v":"Female"},{"$f":"IF($B1533=\"\",\"\",VLOOKUP($B1533,_tbl!$A:$E,O$2,0))","v":"Central"},{"$f":"IF($B1533=\"\",\"\",VLOOKUP($B1533,_tbl!$A:$E,P$2,0))","v":"Rural"},{"$f":"IF($B1533=\"\",\"\",VLOOKUP($B1533,_tbl!$A:$E,Q$2,0))","v":"Infectious"},null,2.3201208980266801E-5,1.1125959789285E-5]
[null,"all_f_Central Rural infectious.csv","50-54",3.5645750076314897E-5,3.2596157576113803E-5,2.99598700460101E-5,2.76468562287933E-5,2.55658194430544E-5,2.3652775668551799E-5,2.18732406558978E-5,2.02130342897884E-5,1.8667595312178601E-5,1.7234471316783702E-5,{"$f":"IF($B1534=\"\",\"\",VLOOKUP($B1534,_tbl!$A:$E,N$2,0))","v":"Female"},{"$f":"IF($B1534=\"\",\"\",VLOOKUP($B1534,_tbl!$A:$E,O$2,0))","v":"Central"},{"$f":"IF($B1534=\"\",\"\",VLOOKUP($B1534,_tbl!$A:$E,P$2,0))","v":"Rural"},{"$f":"IF($B1534=\"\",\"\",VLOOKUP($B1534,_tbl!$A:$E,Q$2,0))","v":"Infectious"},null,3.5645750076314897E-5,1.7234471316783702E-5]
[null,"all_f_Central Rural infectious.csv","55-59",5.4730759660285299E-5,4.9939398280826001E-5,4.5866378082175801E-5,4.2341505760694501E-5,3.91924415169771E-5,3.6299908944112399E-5,3.3601867860856197E-5,3.1075671627965201E-5,2.8717219009565E-5,2.6526224332388399E-5,{"$f":"IF($B1535=\"\",\"\",VLOOKUP($B1535,_tbl!$A:$E,N$2,0))","v":"Female"},{"$f":"IF($B1535=\"\",\"\",VLOOKUP($B1535,_tbl!$A:$E,O$2,0))","v":"Central"},{"$f":"IF($B1535=\"\",\"\",VLOOKUP($B1535,_tbl!$A:$E,P$2,0))","v":"Rural"},{"$f":"IF($B1535=\"\",\"\",VLOOKUP($B1535,_tbl!$A:$E,Q$2,0))","v":"Infectious"},null,5.4730759660285299E-5,2.6526224332388399E-5]
[null,"all_f_Central Rural infectious.csv","60-64",8.4024566816637294E-5,7.6607025381529906E-5,7.0459717208732302E-5,6.5251889243862806E-5,6.0646737723135898E-5,5.6413148676599098E-5,5.2435333239544197E-5,4.8677686688252499E-5,4.5142537995853402E-5,4.1839710472353899E-5,{"$f":"IF($B1536=\"\",\"\",VLOOKUP($B1536,_tbl!$A:$E,N$2,0))","v":"Female"},{"$f":"IF($B1536=\"\",\"\",VLOOKUP($B1536,_tbl!$A:$E,O$2,0))","v":"Central"},{"$f":"IF($B1536=\"\",\"\",VLOOKUP($B1536,_tbl!$A:$E,P$2,0))","v":"Rural"},{"$f":"IF($B1536=\"\",\"\",VLOOKUP($B1536,_tbl!$A:$E,Q$2,0))","v":"Infectious"},null,8.4024566816637294E-5,4.1839710472353899E-5]
[null,"all_f_Central Rural infectious.csv","65-69",1.37158156036825E-4,1.2549359323210901E-4,1.16047492160363E-4,1.08207891916305E-4,1.01338402428482E-4,9.4999955672581194E-5,8.8976240400086498E-5,8.3209588628692401E-5,7.7719119873716401E-5,7.2539665340778096E-5,{"$f":"IF($B1537=\"\",\"\",VLOOKUP($B1537,_tbl!$A:$E,N$2,0))","v":"Female"},{"$f":"IF($B1537=\"\",\"\",VLOOKUP($B1537,_tbl!$A:$E,O$2,0))","v":"Central"},{"$f":"IF($B1537=\"\",\"\",VLOOKUP($B1537,_tbl!$A:$E,P$2,0))","v":"Rural"},{"$f":"IF($B1537=\"\",\"\",VLOOKUP($B1537,_tbl!$A:$E,Q$2,0))","v":"Infectious"},null,1.37158156036825E-4,7.2539665340778096E-5]
[null,"all_f_Central Rural infectious.csv","70-74",2.5716134298586898E-4,2.3734347009565901E-4,2.2128065974005501E-4,2.0794417000819901E-4,1.96223894529804E-4,1.8534061006869601E-4,1.74907958107165E-4,1.64826957142052E-4,1.5514151598166901E-4,1.4592698371386199E-4,{"$f":"IF($B1538=\"\",\"\",VLOOKUP($B1538,_tbl!$A:$E,N$2,0))","v":"Female"},{"$f":"IF($B1538=\"\",\"\",VLOOKUP($B1538,_tbl!$A:$E,O$2,0))","v":"Central"},{"$f":"IF($B1538=\"\",\"\",VLOOKUP($B1538,_tbl!$A:$E,P$2,0))","v":"Rural"},{"$f":"IF($B1538=\"\",\"\",VLOOKUP($B1538,_tbl!$A:$E,Q$2,0))","v":"Infectious"},null,2.5716134298586898E-4,1.4592698371386199E-4]
[null,"all_f_Central Rural infectious.csv","75-79",5.7249511923434604E-4,5.3499494137521401E-4,5.02991212040402E-4,4.7514956636534401E-4,4.4996609026401501E-4,4.26360537209816E-4,4.0378178476749602E-4,3.8207164754744101E-4,3.6127010974776298E-4,3.4146341682992699E-4,{"$f":"IF($B1539=\"\",\"\",VLOOKUP($B1539,_tbl!$A:$E,N$2,0))","v":"Female"},{"$f":"IF($B1539=\"\",\"\",VLOOKUP($B1539,_tbl!$A:$E,O$2,0))","v":"Central"},{"$f":"IF($B1539=\"\",\"\",VLOOKUP($B1539,_tbl!$A:$E,P$2,0))","v":"Rural"},{"$f":"IF($B1539=\"\",\"\",VLOOKUP($B1539,_tbl!$A:$E,Q$2,0))","v":"Infectious"},null,5.7249511923434604E-4,3.4146341682992699E-4]
[null,"all_f_Central Rural infectious.csv","80-84",1.45781997882729E-3,1.3817743114057999E-3,1.30824596108001E-3,1.2375579442284301E-3,1.17015796429278E-3,1.1063134315046001E-3,1.04605238088397E-3,9.8922837329827595E-4,9.3561350385183803E-4,8.8496965145182097E-4,{"$f":"IF($B1540=\"\",\"\",VLOOKUP($B1540,_tbl!$A:$E,N$2,0))","v":"Female"},{"$f":"IF($B1540=\"\",\"\",VLOOKUP($B1540,_tbl!$A:$E,O$2,0))","v":"Central"},{"$f":"IF($B1540=\"\",\"\",VLOOKUP($B1540,_tbl!$A:$E,P$2,0))","v":"Rural"},{"$f":"IF($B1540=\"\",\"\",VLOOKUP($B1540,_tbl!$A:$E,Q$2,0))","v":"Infectious"},null,1.45781997882729E-3,8.8496965145182097E-4]
[null,"all_f_Central Rural infectious.csv","85+",3.9069981376454897E-3,3.7570187343446502E-3,3.5777272742846199E-3,3.3810981531115199E-3,3.18252169343354E-3,2.9928593474658899E-3,2.8168730891638301E-3,2.65488811002577E-3,2.50510167333763E-3,2.3652997260855402E-3,{"$f":"IF($B1541=\"\",\"\",VLOOKUP($B1541,_tbl!$A:$E,N$2,0))","v":"Female"},{"$f":"IF($B1541=\"\",\"\",VLOOKUP($B1541,_tbl!$A:$E,O$2,0))","v":"Central"},{"$f":"IF($B1541=\"\",\"\",VLOOKUP($B1541,_tbl!$A:$E,P$2,0))","v":"Rural"},{"$f":"IF($B1541=\"\",\"\",VLOOKUP($B1541,_tbl!$A:$E,Q$2,0))","v":"Infectious"},null,3.9069981376454897E-3,2.3652997260855402E-3]
[null,null,null,null,null,null,null,null,null,null,null,null,null,{"$f":"IF($B1542=\"\",\"\",VLOOKUP($B1542,_tbl!$A:$E,N$2,0))","v":""},{"$f":"IF($B1542=\"\",\"\",VLOOKUP($B1542,_tbl!$A:$E,O$2,0))","v":""},{"$f":"IF($B1542=\"\",\"\",VLOOKUP($B1542,_tbl!$A:$E,P$2,0))","v":""},{"$f":"IF($B1542=\"\",\"\",VLOOKUP($B1542,_tbl!$A:$E,Q$2,0))","v":""}]
[null,null,null,2020,2021,2022,2023,2024,2025,2026,2027,2028,2029,{"$f":"IF($B1543=\"\",\"\",VLOOKUP($B1543,_tbl!$A:$E,N$2,0))","v":""},{"$f":"IF($B1543=\"\",\"\",VLOOKUP($B1543,_tbl!$A:$E,O$2,0))","v":""},{"$f":"IF($B1543=\"\",\"\",VLOOKUP($B1543,_tbl!$A:$E,P$2,0))","v":""},{"$f":"IF($B1543=\"\",\"\",VLOOKUP($B1543,_tbl!$A:$E,Q$2,0))","v":""}]
[null,"all_f_Central Rural mental.csv","1-4",1.5836755896566601E-5,1.6349471235355E-5,1.7307747954307799E-5,1.8004694859009699E-5,1.8944649735189601E-5,1.9756039295510498E-5,2.0697520600696899E-5,2.1577700034797101E-5,2.25348299748757E-5,2.34775207285514E-5,{"$f":"IF($B1544=\"\",\"\",VLOOKUP($B1544,_tbl!$A:$E,N$2,0))","v":"Female"},{"$f":"IF($B1544=\"\",\"\",VLOOKUP($B1544,_tbl!$A:$E,O$2,0))","v":"Central"},{"$f":"IF($B1544=\"\",\"\",VLOOKUP($B1544,_tbl!$A:$E,P$2,0))","v":"Rural"},{"$f":"IF($B1544=\"\",\"\",VLOOKUP($B1544,_tbl!$A:$E,Q$2,0))","v":"Mental"},null,{"$f":"MAX(D1544:M1544)","v":2.34775207285514E-5},{"$f":"MIN(D1544:M1544)","v":1.5836755896566601E-5}]
[null,"all_f_Central Rural mental.csv","5-9",1.27432870956868E-5,1.3093192004981099E-5,1.3815227789392199E-5,1.43208091584618E-5,1.50282711705395E-5,1.5638009229093901E-5,1.6371836193446401E-5,1.7071037836572799E-5,1.7851843850451201E-5,1.8633247650778E-5,{"$f":"IF($B1545=\"\",\"\",VLOOKUP($B1545,_tbl!$A:$E,N$2,0))","v":"Female"},{"$f":"IF($B1545=\"\",\"\",VLOOKUP($B1545,_tbl!$A:$E,O$2,0))","v":"Central"},{"$f":"IF($B1545=\"\",\"\",VLOOKUP($B1545,_tbl!$A:$E,P$2,0))","v":"Rural"},{"$f":"IF($B1545=\"\",\"\",VLOOKUP($B1545,_tbl!$A:$E,Q$2,0))","v":"Mental"},null,1.8633247650778E-5,1.27432870956868E-5]
[null,"all_f_Central Rural mental.csv","10-14",1.13706612958902E-5,1.1651477107382399E-5,1.22429605841352E-5,1.26532512392567E-5,1.32231010452785E-5,1.3709723056381799E-5,1.4292725807199999E-5,1.48425845100429E-5,1.5451699376800601E-5,1.6057167966854501E-5,{"$f":"IF($B1546=\"\",\"\",VLOOKUP($B1546,_tbl!$A:$E,N$2,0))","v":"Female"},{"$f":"IF($B1546=\"\",\"\",VLOOKUP($B1546,_tbl!$A:$E,O$2,0))","v":"Central"},{"$f":"IF($B1546=\"\",\"\",VLOOKUP($B1546,_tbl!$A:$E,P$2,0))","v":"Rural"},{"$f":"IF($B1546=\"\",\"\",VLOOKUP($B1546,_tbl!$A:$E,Q$2,0))","v":"Mental"},null,1.6057167966854501E-5,1.13706612958902E-5]
[null,"all_f_Central Rural mental.csv","15-19",9.9832117019407906E-6,1.0051214066705801E-5,1.02538936452746E-5,1.03835724288054E-5,1.05678426776811E-5,1.07147131999719E-5,1.08889551269802E-5,1.10433070516858E-5,1.12095218970928E-5,1.13686992482038E-5,{"$f":"IF($B1547=\"\",\"\",VLOOKUP($B1547,_tbl!$A:$E,N$2,0))","v":"Female"},{"$f":"IF($B1547=\"\",\"\",VLOOKUP($B1547,_tbl!$A:$E,O$2,0))","v":"Central"},{"$f":"IF($B1547=\"\",\"\",VLOOKUP($B1547,_tbl!$A:$E,P$2,0))","v":"Rural"},{"$f":"IF($B1547=\"\",\"\",VLOOKUP($B1547,_tbl!$A:$E,Q$2,0))","v":"Mental"},null,1.13686992482038E-5,9.9832117019407906E-6]
[null,"all_f_Central Rural mental.csv","20-24",9.2461224727337597E-6,9.1641879575938308E-6,9.0645350401539798E-6,8.9903737603337505E-6,8.9009567428492598E-6,8.8211300823991192E-6,8.7325282054251796E-6,8.6467296855368992E-6,8.5554058579306002E-6,8.4667843458331605E-6,{"$f":"IF($B1548=\"\",\"\",VLOOKUP($B1548,_tbl!$A:$E,N$2,0))","v":"Female"},{"$f":"IF($B1548=\"\",\"\",VLOOKUP($B1548,_tbl!$A:$E,O$2,0))","v":"Central"},{"$f":"IF($B1548=\"\",\"\",VLOOKUP($B1548,_tbl!$A:$E,P$2,0))","v":"Rural"},{"$f":"IF($B1548=\"\",\"\",VLOOKUP($B1548,_tbl!$A:$E,Q$2,0))","v":"Mental"},null,9.2461224727337597E-6,8.4667843458331605E-6]
[null,"all_f_Central Rural mental.csv","25-29",1.0104556902791199E-5,9.9307623397325003E-6,9.6607079417519692E-6,9.4695945481164806E-6,9.2318295503539193E-6,9.0311581134294694E-6,8.8107639406098803E-6,8.6079028476356805E-6,8.3963426107342104E-6,8.1959032862529401E-6,{"$f":"IF($B1549=\"\",\"\",VLOOKUP($B1549,_tbl!$A:$E,N$2,0))","v":"Female"},{"$f":"IF($B1549=\"\",\"\",VLOOKUP($B1549,_tbl!$A:$E,O$2,0))","v":"Central"},{"$f":"IF($B1549=\"\",\"\",VLOOKUP($B1549,_tbl!$A:$E,P$2,0))","v":"Rural"},{"$f":"IF($B1549=\"\",\"\",VLOOKUP($B1549,_tbl!$A:$E,Q$2,0))","v":"Mental"},null,1.0104556902791199E-5,8.1959032862529401E-6]
[null,"all_f_Central Rural mental.csv","30-34",1.1945268181201199E-5,1.17067760651989E-5,1.1312911793019701E-5,1.1037766296015499E-5,1.0694763983502E-5,1.04106108819719E-5,1.01009162375514E-5,9.8217918796797893E-6,9.5339077911158194E-6,9.2641105944743995E-6,{"$f":"IF($B1550=\"\",\"\",VLOOKUP($B1550,_tbl!$A:$E,N$2,0))","v":"Female"},{"$f":"IF($B1550=\"\",\"\",VLOOKUP($B1550,_tbl!$A:$E,O$2,0))","v":"Central"},{"$f":"IF($B1550=\"\",\"\",VLOOKUP($B1550,_tbl!$A:$E,P$2,0))","v":"Rural"},{"$f":"IF($B1550=\"\",\"\",VLOOKUP($B1550,_tbl!$A:$E,Q$2,0))","v":"Mental"},null,1.1945268181201199E-5,9.2641105944743995E-6]
[null,"all_f_Central Rural mental.csv","35-39",1.30298925776846E-5,1.27255935482794E-5,1.2220372668489101E-5,1.1871838029549399E-5,1.14397263348652E-5,1.1084844294103E-5,1.06985392582928E-5,1.03534237368026E-5,9.9999143991357099E-6,9.6705582739309095E-6,{"$f":"IF($B1551=\"\",\"\",VLOOKUP($B1551,_tbl!$A:$E,N$2,0))","v":"Female"},{"$f":"IF($B1551=\"\",\"\",VLOOKUP($B1551,_tbl!$A:$E,O$2,0))","v":"Central"},{"$f":"IF($B1551=\"\",\"\",VLOOKUP($B1551,_tbl!$A:$E,P$2,0))","v":"Rural"},{"$f":"IF($B1551=\"\",\"\",VLOOKUP($B1551,_tbl!$A:$E,Q$2,0))","v":"Mental"},null,1.30298925776846E-5,9.6705582739309095E-6]
[null,"all_f_Central Rural mental.csv","40-44",1.3548745693805799E-5,1.31250398550124E-5,1.24720837879623E-5,1.2013791374927E-5,1.14573158853937E-5,1.0995761227206101E-5,1.0496618710973501E-5,1.00497793829625E-5,9.5963619640486602E-6,9.1730674940578502E-6,{"$f":"IF($B1552=\"\",\"\",VLOOKUP($B1552,_tbl!$A:$E,N$2,0))","v":"Female"},{"$f":"IF($B1552=\"\",\"\",VLOOKUP($B1552,_tbl!$A:$E,O$2,0))","v":"Central"},{"$f":"IF($B1552=\"\",\"\",VLOOKUP($B1552,_tbl!$A:$E,P$2,0))","v":"Rural"},{"$f":"IF($B1552=\"\",\"\",VLOOKUP($B1552,_tbl!$A:$E,Q$2,0))","v":"Mental"},null,1.3548745693805799E-5,9.1730674940578502E-6]
[null,"all_f_Central Rural mental.csv","45-49",1.54630266798893E-5,1.49437687483711E-5,1.4137505155426001E-5,1.3555808817387101E-5,1.2864849113855101E-5,1.2281372045602799E-5,1.16522150025107E-5,1.1083437297051299E-5,1.0508747771168199E-5,9.9671366480426394E-6,{"$f":"IF($B1553=\"\",\"\",VLOOKUP($B1553,_tbl!$A:$E,N$2,0))","v":"Female"},{"$f":"IF($B1553=\"\",\"\",VLOOKUP($B1553,_tbl!$A:$E,O$2,0))","v":"Central"},{"$f":"IF($B1553=\"\",\"\",VLOOKUP($B1553,_tbl!$A:$E,P$2,0))","v":"Rural"},{"$f":"IF($B1553=\"\",\"\",VLOOKUP($B1553,_tbl!$A:$E,Q$2,0))","v":"Mental"},null,1.54630266798893E-5,9.9671366480426394E-6]
[null,"all_f_Central Rural mental.csv","50-54",2.1525539777693101E-5,2.1247945871539399E-5,2.0729265554760399E-5,2.0388261573367399E-5,1.99403217461408E-5,1.95783910554187E-5,1.9171204289838799E-5,1.8807617966300701E-5,1.8427050284920001E-5,1.8070381973547401E-5,{"$f":"IF($B1554=\"\",\"\",VLOOKUP($B1554,_tbl!$A:$E,N$2,0))","v":"Female"},{"$f":"IF($B1554=\"\",\"\",VLOOKUP($B1554,_tbl!$A:$E,O$2,0))","v":"Central"},{"$f":"IF($B1554=\"\",\"\",VLOOKUP($B1554,_tbl!$A:$E,P$2,0))","v":"Rural"},{"$f":"IF($B1554=\"\",\"\",VLOOKUP($B1554,_tbl!$A:$E,Q$2,0))","v":"Mental"},null,2.1525539777693101E-5,1.8070381973547401E-5]
[null,"all_f_Central Rural mental.csv","55-59",3.0810832226470299E-5,3.0525165912230701E-5,2.99885591488262E-5,2.96337040089711E-5,2.9165010908459499E-5,2.87841372664794E-5,2.83532536389195E-5,2.7966319377745699E-5,2.7559043668274802E-5,2.7175183313405999E-5,{"$f":"IF($B1555=\"\",\"\",VLOOKUP($B1555,_tbl!$A:$E,N$2,0))","v":"Female"},{"$f":"IF($B1555=\"\",\"\",VLOOKUP($B1555,_tbl!$A:$E,O$2,0))","v":"Central"},{"$f":"IF($B1555=\"\",\"\",VLOOKUP($B1555,_tbl!$A:$E,P$2,0))","v":"Rural"},{"$f":"IF($B1555=\"\",\"\",VLOOKUP($B1555,_tbl!$A:$E,Q$2,0))","v":"Mental"},null,3.0810832226470299E-5,2.7175183313405999E-5]
[null,"all_f_Central Rural mental.csv","60-64",4.6332703360790397E-5,4.5933811559090501E-5,4.5183791153556897E-5,4.4687278605520301E-5,4.4030829238008402E-5,4.3496822215862098E-5,4.2892086416807401E-5,4.2348470677714497E-5,4.1775693235923099E-5,4.1235290199528098E-5,{"$f":"IF($B1556=\"\",\"\",VLOOKUP($B1556,_tbl!$A:$E,N$2,0))","v":"Female"},{"$f":"IF($B1556=\"\",\"\",VLOOKUP($B1556,_tbl!$A:$E,O$2,0))","v":"Central"},{"$f":"IF($B1556=\"\",\"\",VLOOKUP($B1556,_tbl!$A:$E,P$2,0))","v":"Rural"},{"$f":"IF($B1556=\"\",\"\",VLOOKUP($B1556,_tbl!$A:$E,Q$2,0))","v":"Mental"},null,4.6332703360790397E-5,4.1235290199528098E-5]
[null,"all_f_Central Rural mental.csv","65-69",7.1313669526217602E-5,7.0502976103582196E-5,6.9328084449891197E-5,6.8220813565622295E-5,6.6692564573379303E-5,6.5239525844836197E-5,6.3828793229271302E-5,6.2394013488589897E-5,6.0851918610599199E-5,5.9379718599766601E-5,{"$f":"IF($B1557=\"\",\"\",VLOOKUP($B1557,_tbl!$A:$E,N$2,0))","v":"Female"},{"$f":"IF($B1557=\"\",\"\",VLOOKUP($B1557,_tbl!$A:$E,O$2,0))","v":"Central"},{"$f":"IF($B1557=\"\",\"\",VLOOKUP($B1557,_tbl!$A:$E,P$2,0))","v":"Rural"},{"$f":"IF($B1557=\"\",\"\",VLOOKUP($B1557,_tbl!$A:$E,Q$2,0))","v":"Mental"},null,7.1313669526217602E-5,5.9379718599766601E-5]
[null,"all_f_Central Rural mental.csv","70-74",1.4456367925613501E-4,1.4296373235493201E-4,1.3996622412615399E-4,1.3798970755313E-4,1.35386186622785E-4,1.33276477557644E-4,1.30896306315234E-4,1.28764900990388E-4,1.2652764351708199E-4,1.2442489716783499E-4,{"$f":"IF($B1558=\"\",\"\",VLOOKUP($B1558,_tbl!$A:$E,N$2,0))","v":"Female"},{"$f":"IF($B1558=\"\",\"\",VLOOKUP($B1558,_tbl!$A:$E,O$2,0))","v":"Central"},{"$f":"IF($B1558=\"\",\"\",VLOOKUP($B1558,_tbl!$A:$E,P$2,0))","v":"Rural"},{"$f":"IF($B1558=\"\",\"\",VLOOKUP($B1558,_tbl!$A:$E,Q$2,0))","v":"Mental"},null,1.4456367925613501E-4,1.2442489716783499E-4]
[null,"all_f_Central Rural mental.csv","75-79",3.3468171882361497E-4,3.2768005798345702E-4,3.1943476943758499E-4,3.1272496012218798E-4,3.0475672943300997E-4,2.9752745620392702E-4,2.9039340759283498E-4,2.8343328961029E-4,2.7617928566104298E-4,2.6925910079925403E-4,{"$f":"IF($B1559=\"\",\"\",VLOOKUP($B1559,_tbl!$A:$E,N$2,0))","v":"Female"},{"$f":"IF($B1559=\"\",\"\",VLOOKUP($B1559,_tbl!$A:$E,O$2,0))","v":"Central"},{"$f":"IF($B1559=\"\",\"\",VLOOKUP($B1559,_tbl!$A:$E,P$2,0))","v":"Rural"},{"$f":"IF($B1559=\"\",\"\",VLOOKUP($B1559,_tbl!$A:$E,Q$2,0))","v":"Mental"},null,3.3468171882361497E-4,2.6925910079925403E-4]
[null,"all_f_Central Rural mental.csv","80-84",9.7296612741752696E-4,9.5832108298117297E-4,9.4907194637835199E-4,9.4171383403752204E-4,9.33879988509318E-4,9.2673577628014003E-4,9.2079371392146897E-4,9.1418828408631298E-4,9.0684134092127095E-4,8.99699425348528E-4,{"$f":"IF($B1560=\"\",\"\",VLOOKUP($B1560,_tbl!$A:$E,N$2,0))","v":"Female"},{"$f":"IF($B1560=\"\",\"\",VLOOKUP($B1560,_tbl!$A:$E,O$2,0))","v":"Central"},{"$f":"IF($B1560=\"\",\"\",VLOOKUP($B1560,_tbl!$A:$E,P$2,0))","v":"Rural"},{"$f":"IF($B1560=\"\",\"\",VLOOKUP($B1560,_tbl!$A:$E,Q$2,0))","v":"Mental"},null,9.7296612741752696E-4,8.99699425348528E-4]
[null,"all_f_Central Rural mental.csv","85+",2.9596891365713499E-3,2.9074913049672098E-3,2.9236185990900998E-3,2.9448420971076002E-3,2.9816334721278E-3,3.0158658571666202E-3,3.0698498837716101E-3,3.11559824057579E-3,3.1605047745028401E-3,3.2060361716606499E-3,{"$f":"IF($B1561=\"\",\"\",VLOOKUP($B1561,_tbl!$A:$E,N$2,0))","v":"Female"},{"$f":"IF($B1561=\"\",\"\",VLOOKUP($B1561,_tbl!$A:$E,O$2,0))","v":"Central"},{"$f":"IF($B1561=\"\",\"\",VLOOKUP($B1561,_tbl!$A:$E,P$2,0))","v":"Rural"},{"$f":"IF($B1561=\"\",\"\",VLOOKUP($B1561,_tbl!$A:$E,Q$2,0))","v":"Mental"},null,3.2060361716606499E-3,2.9074913049672098E-3]
[null,null,null,null,null,null,null,null,null,null,null,null,null,{"$f":"IF($B1562=\"\",\"\",VLOOKUP($B1562,_tbl!$A:$E,N$2,0))","v":""},{"$f":"IF($B1562=\"\",\"\",VLOOKUP($B1562,_tbl!$A:$E,O$2,0))","v":""},{"$f":"IF($B1562=\"\",\"\",VLOOKUP($B1562,_tbl!$A:$E,P$2,0))","v":""},{"$f":"IF($B1562=\"\",\"\",VLOOKUP($B1562,_tbl!$A:$E,Q$2,0))","v":""}]
[null,null,null,2020,2021,2022,2023,2024,2025,2026,2027,2028,2029,{"$f":"IF($B1563=\"\",\"\",VLOOKUP($B1563,_tbl!$A:$E,N$2,0))","v":""},{"$f":"IF($B1563=\"\",\"\",VLOOKUP($B1563,_tbl!$A:$E,O$2,0))","v":""},{"$f":"IF($B1563=\"\",\"\",VLOOKUP($B1563,_tbl!$A:$E,P$2,0))","v":""},{"$f":"IF($B1563=\"\",\"\",VLOOKUP($B1563,_tbl!$A:$E,Q$2,0))","v":""}]
[null,"all_f_Central Rural other.csv","1-4",2.2280317910822501E-5,2.2366803552139002E-5,2.24376345828085E-5,2.2513204071498699E-5,2.2595227718006299E-5,2.2677340286883801E-5,2.2759274796754701E-5,2.2839107385614099E-5,2.29192664300106E-5,2.2998194092732601E-5,{"$f":"IF($B1564=\"\",\"\",VLOOKUP($B1564,_tbl!$A:$E,N$2,0))","v":"Female"},{"$f":"IF($B1564=\"\",\"\",VLOOKUP($B1564,_tbl!$A:$E,O$2,0))","v":"Central"},{"$f":"IF($B1564=\"\",\"\",VLOOKUP($B1564,_tbl!$A:$E,P$2,0))","v":"Rural"},{"$f":"IF($B1564=\"\",\"\",VLOOKUP($B1564,_tbl!$A:$E,Q$2,0))","v":"Other"},null,{"$f":"MAX(D1564:M1564)","v":2.2998194092732601E-5},{"$f":"MIN(D1564:M1564)","v":2.2280317910822501E-5}]
[null,"all_f_Central Rural other.csv","5-9",1.78815431952951E-5,1.8274208687423199E-5,1.8692135328524401E-5,1.91160495941177E-5,1.95490720415205E-5,1.99888485097368E-5,2.0439427598585099E-5,2.0896030466407102E-5,2.1359788425282899E-5,2.1832626246019299E-5,{"$f":"IF($B1565=\"\",\"\",VLOOKUP($B1565,_tbl!$A:$E,N$2,0))","v":"Female"},{"$f":"IF($B1565=\"\",\"\",VLOOKUP($B1565,_tbl!$A:$E,O$2,0))","v":"Central"},{"$f":"IF($B1565=\"\",\"\",VLOOKUP($B1565,_tbl!$A:$E,P$2,0))","v":"Rural"},{"$f":"IF($B1565=\"\",\"\",VLOOKUP($B1565,_tbl!$A:$E,Q$2,0))","v":"Other"},null,2.1832626246019299E-5,1.78815431952951E-5]
[null,"all_f_Central Rural other.csv","10-14",1.69562451371588E-5,1.6986014432568601E-5,1.7019831035948001E-5,1.7040879639129399E-5,1.70520450820154E-5,1.7058441547975E-5,1.7068683618420101E-5,1.70744669242552E-5,1.70755207782267E-5,1.70763461806807E-5,{"$f":"IF($B1566=\"\",\"\",VLOOKUP($B1566,_tbl!$A:$E,N$2,0))","v":"Female"},{"$f":"IF($B1566=\"\",\"\",VLOOKUP($B1566,_tbl!$A:$E,O$2,0))","v":"Central"},{"$f":"IF($B1566=\"\",\"\",VLOOKUP($B1566,_tbl!$A:$E,P$2,0))","v":"Rural"},{"$f":"IF($B1566=\"\",\"\",VLOOKUP($B1566,_tbl!$A:$E,Q$2,0))","v":"Other"},null,1.70763461806807E-5,1.69562451371588E-5]
[null,"all_f_Central Rural other.csv","15-19",1.7633535043817E-5,1.7171445254827602E-5,1.6691025073525199E-5,1.6215767442230899E-5,1.57387313318752E-5,1.5278034178335199E-5,1.48363553297128E-5,1.4410982426839E-5,1.39981106265771E-5,1.3599823422136301E-5,{"$f":"IF($B1567=\"\",\"\",VLOOKUP($B1567,_tbl!$A:$E,N$2,0))","v":"Female"},{"$f":"IF($B1567=\"\",\"\",VLOOKUP($B1567,_tbl!$A:$E,O$2,0))","v":"Central"},{"$f":"IF($B1567=\"\",\"\",VLOOKUP($B1567,_tbl!$A:$E,P$2,0))","v":"Rural"},{"$f":"IF($B1567=\"\",\"\",VLOOKUP($B1567,_tbl!$A:$E,Q$2,0))","v":"Other"},null,1.7633535043817E-5,1.3599823422136301E-5]
[null,"all_f_Central Rural other.csv","20-24",2.0494182007119598E-5,1.96688507351921E-5,1.8795805406302099E-5,1.7957443211484201E-5,1.7129309499951998E-5,1.6355222336559701E-5,1.56313459254691E-5,1.49544840451203E-5,1.43130177111245E-5,1.37082310926481E-5,{"$f":"IF($B1568=\"\",\"\",VLOOKUP($B1568,_tbl!$A:$E,N$2,0))","v":"Female"},{"$f":"IF($B1568=\"\",\"\",VLOOKUP($B1568,_tbl!$A:$E,O$2,0))","v":"Central"},{"$f":"IF($B1568=\"\",\"\",VLOOKUP($B1568,_tbl!$A:$E,P$2,0))","v":"Rural"},{"$f":"IF($B1568=\"\",\"\",VLOOKUP($B1568,_tbl!$A:$E,Q$2,0))","v":"Other"},null,2.0494182007119598E-5,1.37082310926481E-5]
[null,"all_f_Central Rural other.csv","25-29",2.64691540628245E-5,2.5243926394968999E-5,2.4007981940755001E-5,2.2815255493236001E-5,2.1664689196856701E-5,2.05920807768945E-5,1.96048353752092E-5,1.86888853639441E-5,1.7832444354365699E-5,1.7034516381569899E-5,{"$f":"IF($B1569=\"\",\"\",VLOOKUP($B1569,_tbl!$A:$E,N$2,0))","v":"Female"},{"$f":"IF($B1569=\"\",\"\",VLOOKUP($B1569,_tbl!$A:$E,O$2,0))","v":"Central"},{"$f":"IF($B1569=\"\",\"\",VLOOKUP($B1569,_tbl!$A:$E,P$2,0))","v":"Rural"},{"$f":"IF($B1569=\"\",\"\",VLOOKUP($B1569,_tbl!$A:$E,Q$2,0))","v":"Other"},null,2.64691540628245E-5,1.7034516381569899E-5]
[null,"all_f_Central Rural other.csv","30-34",3.4776750241103502E-5,3.3449113807678198E-5,3.2062854457309702E-5,3.0769932313787698E-5,2.9549783938940799E-5,2.8428949851679701E-5,2.73954282718443E-5,2.64530163957262E-5,2.5588426870826399E-5,2.47960427398467E-5,{"$f":"IF($B1570=\"\",\"\",VLOOKUP($B1570,_tbl!$A:$E,N$2,0))","v":"Female"},{"$f":"IF($B1570=\"\",\"\",VLOOKUP($B1570,_tbl!$A:$E,O$2,0))","v":"Central"},{"$f":"IF($B1570=\"\",\"\",VLOOKUP($B1570,_tbl!$A:$E,P$2,0))","v":"Rural"},{"$f":"IF($B1570=\"\",\"\",VLOOKUP($B1570,_tbl!$A:$E,Q$2,0))","v":"Other"},null,3.4776750241103502E-5,2.47960427398467E-5]
[null,"all_f_Central Rural other.csv","35-39",4.40763204375167E-5,4.2427190665287099E-5,4.0722796995505698E-5,3.92249520379704E-5,3.7795345388622298E-5,3.64961956434476E-5,3.5253745559803899E-5,3.41155010875903E-5,3.3057112181554599E-5,3.2075100258938E-5,{"$f":"IF($B1571=\"\",\"\",VLOOKUP($B1571,_tbl!$A:$E,N$2,0))","v":"Female"},{"$f":"IF($B1571=\"\",\"\",VLOOKUP($B1571,_tbl!$A:$E,O$2,0))","v":"Central"},{"$f":"IF($B1571=\"\",\"\",VLOOKUP($B1571,_tbl!$A:$E,P$2,0))","v":"Rural"},{"$f":"IF($B1571=\"\",\"\",VLOOKUP($B1571,_tbl!$A:$E,Q$2,0))","v":"Other"},null,4.40763204375167E-5,3.2075100258938E-5]
[null,"all_f_Central Rural other.csv","40-44",5.8772928187214099E-5,5.6452264597016397E-5,5.3871529667961502E-5,5.1726623132186603E-5,4.9609535342948701E-5,4.7708300416691901E-5,4.5810904857659297E-5,4.4060395710484401E-5,4.2396156405225202E-5,4.08213832093338E-5,{"$f":"IF($B1572=\"\",\"\",VLOOKUP($B1572,_tbl!$A:$E,N$2,0))","v":"Female"},{"$f":"IF($B1572=\"\",\"\",VLOOKUP($B1572,_tbl!$A:$E,O$2,0))","v":"Central"},{"$f":"IF($B1572=\"\",\"\",VLOOKUP($B1572,_tbl!$A:$E,P$2,0))","v":"Rural"},{"$f":"IF($B1572=\"\",\"\",VLOOKUP($B1572,_tbl!$A:$E,Q$2,0))","v":"Other"},null,5.8772928187214099E-5,4.08213832093338E-5]
[null,"all_f_Central Rural other.csv","45-49",9.3271601353990403E-5,9.0709395486664795E-5,8.7292497096349398E-5,8.4648753983798797E-5,8.1947612778758E-5,7.9596846299770106E-5,7.7160773842146503E-5,7.4949852396375601E-5,7.2836108957024194E-5,7.0826987194944595E-5,{"$f":"IF($B1573=\"\",\"\",VLOOKUP($B1573,_tbl!$A:$E,N$2,0))","v":"Female"},{"$f":"IF($B1573=\"\",\"\",VLOOKUP($B1573,_tbl!$A:$E,O$2,0))","v":"Central"},{"$f":"IF($B1573=\"\",\"\",VLOOKUP($B1573,_tbl!$A:$E,P$2,0))","v":"Rural"},{"$f":"IF($B1573=\"\",\"\",VLOOKUP($B1573,_tbl!$A:$E,Q$2,0))","v":"Other"},null,9.3271601353990403E-5,7.0826987194944595E-5]
[null,"all_f_Central Rural other.csv","50-54",1.4780928162602E-4,1.42301764710825E-4,1.3746454717098599E-4,1.3197343320068701E-4,1.26688809645529E-4,1.2131450518468E-4,1.16284134867474E-4,1.11271676804305E-4,1.06398316096744E-4,1.0167401090387E-4,{"$f":"IF($B1574=\"\",\"\",VLOOKUP($B1574,_tbl!$A:$E,N$2,0))","v":"Female"},{"$f":"IF($B1574=\"\",\"\",VLOOKUP($B1574,_tbl!$A:$E,O$2,0))","v":"Central"},{"$f":"IF($B1574=\"\",\"\",VLOOKUP($B1574,_tbl!$A:$E,P$2,0))","v":"Rural"},{"$f":"IF($B1574=\"\",\"\",VLOOKUP($B1574,_tbl!$A:$E,Q$2,0))","v":"Other"},null,1.4780928162602E-4,1.0167401090387E-4]
[null,"all_f_Central Rural other.csv","55-59",2.5796840891742398E-4,2.4860197018947101E-4,2.40387470449764E-4,2.31297442102461E-4,2.2246632703875501E-4,2.1349526770460999E-4,2.0507361318059699E-4,1.96616727437326E-4,1.8832233138712601E-4,1.80240539908767E-4,{"$f":"IF($B1575=\"\",\"\",VLOOKUP($B1575,_tbl!$A:$E,N$2,0))","v":"Female"},{"$f":"IF($B1575=\"\",\"\",VLOOKUP($B1575,_tbl!$A:$E,O$2,0))","v":"Central"},{"$f":"IF($B1575=\"\",\"\",VLOOKUP($B1575,_tbl!$A:$E,P$2,0))","v":"Rural"},{"$f":"IF($B1575=\"\",\"\",VLOOKUP($B1575,_tbl!$A:$E,Q$2,0))","v":"Other"},null,2.5796840891742398E-4,1.80240539908767E-4]
[null,"all_f_Central Rural other.csv","60-64",4.3337455025540698E-4,4.2391803422883002E-4,4.1526489724118699E-4,4.0595331792358499E-4,3.9664592429947701E-4,3.8724084928511902E-4,3.7821545269597299E-4,3.6911772859638301E-4,3.6009020963188599E-4,3.5121887475586397E-4,{"$f":"IF($B1576=\"\",\"\",VLOOKUP($B1576,_tbl!$A:$E,N$2,0))","v":"Female"},{"$f":"IF($B1576=\"\",\"\",VLOOKUP($B1576,_tbl!$A:$E,O$2,0))","v":"Central"},{"$f":"IF($B1576=\"\",\"\",VLOOKUP($B1576,_tbl!$A:$E,P$2,0))","v":"Rural"},{"$f":"IF($B1576=\"\",\"\",VLOOKUP($B1576,_tbl!$A:$E,Q$2,0))","v":"Other"},null,4.3337455025540698E-4,3.5121887475586397E-4]
[null,"all_f_Central Rural other.csv","65-69",6.8702322308246205E-4,6.8088257558165499E-4,6.7616905716587003E-4,6.6948183217578096E-4,6.62168001126501E-4,6.5419406023765002E-4,6.4683805617189998E-4,6.3888162226052902E-4,6.3068102149574498E-4,6.2251149336642396E-4,{"$f":"IF($B1577=\"\",\"\",VLOOKUP($B1577,_tbl!$A:$E,N$2,0))","v":"Female"},{"$f":"IF($B1577=\"\",\"\",VLOOKUP($B1577,_tbl!$A:$E,O$2,0))","v":"Central"},{"$f":"IF($B1577=\"\",\"\",VLOOKUP($B1577,_tbl!$A:$E,P$2,0))","v":"Rural"},{"$f":"IF($B1577=\"\",\"\",VLOOKUP($B1577,_tbl!$A:$E,Q$2,0))","v":"Other"},null,6.8702322308246205E-4,6.2251149336642396E-4]
[null,"all_f_Central Rural other.csv","70-74",1.1825873459406801E-3,1.18403104414683E-3,1.18809054269122E-3,1.18948138322746E-3,1.1899120514521E-3,1.1893315026405399E-3,1.1897400237652E-3,1.1891329305507401E-3,1.1880400206767999E-3,1.18690941510962E-3,{"$f":"IF($B1578=\"\",\"\",VLOOKUP($B1578,_tbl!$A:$E,N$2,0))","v":"Female"},{"$f":"IF($B1578=\"\",\"\",VLOOKUP($B1578,_tbl!$A:$E,O$2,0))","v":"Central"},{"$f":"IF($B1578=\"\",\"\",VLOOKUP($B1578,_tbl!$A:$E,P$2,0))","v":"Rural"},{"$f":"IF($B1578=\"\",\"\",VLOOKUP($B1578,_tbl!$A:$E,Q$2,0))","v":"Other"},null,1.1899120514521E-3,1.1825873459406801E-3]
[null,"all_f_Central Rural other.csv","75-79",2.2668206383875799E-3,2.2735701563838702E-3,2.2851551728054302E-3,2.2949347572601701E-3,2.3038437456350601E-3,2.3117960889304399E-3,2.3219196759183699E-3,2.3308091481052001E-3,2.3392103995546602E-3,2.3478572581931401E-3,{"$f":"IF($B1579=\"\",\"\",VLOOKUP($B1579,_tbl!$A:$E,N$2,0))","v":"Female"},{"$f":"IF($B1579=\"\",\"\",VLOOKUP($B1579,_tbl!$A:$E,O$2,0))","v":"Central"},{"$f":"IF($B1579=\"\",\"\",VLOOKUP($B1579,_tbl!$A:$E,P$2,0))","v":"Rural"},{"$f":"IF($B1579=\"\",\"\",VLOOKUP($B1579,_tbl!$A:$E,Q$2,0))","v":"Other"},null,2.3478572581931401E-3,2.2668206383875799E-3]
[null,"all_f_Central Rural other.csv","80-84",5.0093832967561796E-3,4.9720433195235697E-3,4.9663705292470302E-3,4.9656694356034602E-3,4.9655728449475396E-3,4.9641381122815399E-3,4.9776578240798902E-3,4.9839353244965703E-3,4.9867518830495096E-3,4.9910165359123501E-3,{"$f":"IF($B1580=\"\",\"\",VLOOKUP($B1580,_tbl!$A:$E,N$2,0))","v":"Female"},{"$f":"IF($B1580=\"\",\"\",VLOOKUP($B1580,_tbl!$A:$E,O$2,0))","v":"Central"},{"$f":"IF($B1580=\"\",\"\",VLOOKUP($B1580,_tbl!$A:$E,P$2,0))","v":"Rural"},{"$f":"IF($B1580=\"\",\"\",VLOOKUP($B1580,_tbl!$A:$E,Q$2,0))","v":"Other"},null,5.0093832967561796E-3,4.9641381122815399E-3]
[null,"all_f_Central Rural other.csv","85+",1.0711119920233301E-2,1.0562301310051E-2,1.0446521750060301E-2,1.04087379413957E-2,1.0401143268528101E-2,1.0408549861681399E-2,1.0456565157326399E-2,1.0494629341926799E-2,1.05262438228976E-2,1.0561659018767201E-2,{"$f":"IF($B1581=\"\",\"\",VLOOKUP($B1581,_tbl!$A:$E,N$2,0))","v":"Female"},{"$f":"IF($B1581=\"\",\"\",VLOOKUP($B1581,_tbl!$A:$E,O$2,0))","v":"Central"},{"$f":"IF($B1581=\"\",\"\",VLOOKUP($B1581,_tbl!$A:$E,P$2,0))","v":"Rural"},{"$f":"IF($B1581=\"\",\"\",VLOOKUP($B1581,_tbl!$A:$E,Q$2,0))","v":"Other"},null,1.0711119920233301E-2,1.0401143268528101E-2]
[null,null,null,null,null,null,null,null,null,null,null,null,null,{"$f":"IF($B1582=\"\",\"\",VLOOKUP($B1582,_tbl!$A:$E,N$2,0))","v":""},{"$f":"IF($B1582=\"\",\"\",VLOOKUP($B1582,_tbl!$A:$E,O$2,0))","v":""},{"$f":"IF($B1582=\"\",\"\",VLOOKUP($B1582,_tbl!$A:$E,P$2,0))","v":""},{"$f":"IF($B1582=\"\",\"\",VLOOKUP($B1582,_tbl!$A:$E,Q$2,0))","v":""}]
[null,null,null,2020,2021,2022,2023,2024,2025,2026,2027,2028,2029,{"$f":"IF($B1583=\"\",\"\",VLOOKUP($B1583,_tbl!$A:$E,N$2,0))","v":""},{"$f":"IF($B1583=\"\",\"\",VLOOKUP($B1583,_tbl!$A:$E,O$2,0))","v":""},{"$f":"IF($B1583=\"\",\"\",VLOOKUP($B1583,_tbl!$A:$E,P$2,0))","v":""},{"$f":"IF($B1583=\"\",\"\",VLOOKUP($B1583,_tbl!$A:$E,Q$2,0))","v":""}]
[null,"all_f_Central Rural respiratory.csv","1-4",1.56176338761236E-6,1.7992031403943599E-6,1.38050091370869E-6,1.1629665790903999E-6,1.0995969838160999E-6,1.13234656360214E-6,8.6114145583069996E-7,7.6825883133386203E-7,7.5117659992871099E-7,7.0250006493929905E-7,{"$f":"IF($B1584=\"\",\"\",VLOOKUP($B1584,_tbl!$A:$E,N$2,0))","v":"Female"},{"$f":"IF($B1584=\"\",\"\",VLOOKUP($B1584,_tbl!$A:$E,O$2,0))","v":"Central"},{"$f":"IF($B1584=\"\",\"\",VLOOKUP($B1584,_tbl!$A:$E,P$2,0))","v":"Rural"},{"$f":"IF($B1584=\"\",\"\",VLOOKUP($B1584,_tbl!$A:$E,Q$2,0))","v":"Respiratory"},null,{"$f":"MAX(D1584:M1584)","v":1.7992031403943599E-6},{"$f":"MIN(D1584:M1584)","v":7.0250006493929905E-7}]
[null,"all_f_Central Rural respiratory.csv","5-9",1.19192252475523E-6,1.33779110361556E-6,1.07780732506032E-6,9.37113907797666E-7,8.9524536237621501E-7,9.1693708149535398E-7,7.3340258835490004E-7,6.68202387129608E-7,6.5605729733077701E-7,6.2116482925979896E-7,{"$f":"IF($B1585=\"\",\"\",VLOOKUP($B1585,_tbl!$A:$E,N$2,0))","v":"Female"},{"$f":"IF($B1585=\"\",\"\",VLOOKUP($B1585,_tbl!$A:$E,O$2,0))","v":"Central"},{"$f":"IF($B1585=\"\",\"\",VLOOKUP($B1585,_tbl!$A:$E,P$2,0))","v":"Rural"},{"$f":"IF($B1585=\"\",\"\",VLOOKUP($B1585,_tbl!$A:$E,Q$2,0))","v":"Respiratory"},null,1.33779110361556E-6,6.2116482925979896E-7]
[null,"all_f_Central Rural respiratory.csv","10-14",1.1557671749577401E-6,1.27532445057378E-6,1.06073089749517E-6,9.4147751464900095E-7,9.05493410752388E-7,9.2416670269682499E-7,7.6392228302386605E-7,7.0562540162756797E-7,6.94675630148786E-7,6.6304855246044699E-7,{"$f":"IF($B1586=\"\",\"\",VLOOKUP($B1586,_tbl!$A:$E,N$2,0))","v":"Female"},{"$f":"IF($B1586=\"\",\"\",VLOOKUP($B1586,_tbl!$A:$E,O$2,0))","v":"Central"},{"$f":"IF($B1586=\"\",\"\",VLOOKUP($B1586,_tbl!$A:$E,P$2,0))","v":"Rural"},{"$f":"IF($B1586=\"\",\"\",VLOOKUP($B1586,_tbl!$A:$E,Q$2,0))","v":"Respiratory"},null,1.27532445057378E-6,6.6304855246044699E-7]
[null,"all_f_Central Rural respiratory.csv","15-19",1.2947913797959201E-6,1.41461025500299E-6,1.19865598314079E-6,1.0767756196696001E-6,1.03970033092932E-6,1.0589580634207801E-6,8.9232244660214695E-7,8.3085497550576401E-7,8.1925364188154097E-7,7.8563975026568801E-7,{"$f":"IF($B1587=\"\",\"\",VLOOKUP($B1587,_tbl!$A:$E,N$2,0))","v":"Female"},{"$f":"IF($B1587=\"\",\"\",VLOOKUP($B1587,_tbl!$A:$E,O$2,0))","v":"Central"},{"$f":"IF($B1587=\"\",\"\",VLOOKUP($B1587,_tbl!$A:$E,P$2,0))","v":"Rural"},{"$f":"IF($B1587=\"\",\"\",VLOOKUP($B1587,_tbl!$A:$E,Q$2,0))","v":"Respiratory"},null,1.41461025500299E-6,7.8563975026568801E-7]
[null,"all_f_Central Rural respiratory.csv","20-24",1.6039162070087399E-6,1.7582181427046E-6,1.48050174881127E-6,1.32457896637859E-6,1.27727720006221E-6,1.30183896981435E-6,1.0899018448862199E-6,1.0120877962263001E-6,9.9742516411614408E-7,9.5498614673860796E-7,{"$f":"IF($B1588=\"\",\"\",VLOOKUP($B1588,_tbl!$A:$E,N$2,0))","v":"Female"},{"$f":"IF($B1588=\"\",\"\",VLOOKUP($B1588,_tbl!$A:$E,O$2,0))","v":"Central"},{"$f":"IF($B1588=\"\",\"\",VLOOKUP($B1588,_tbl!$A:$E,P$2,0))","v":"Rural"},{"$f":"IF($B1588=\"\",\"\",VLOOKUP($B1588,_tbl!$A:$E,Q$2,0))","v":"Respiratory"},null,1.7582181427046E-6,9.5498614673860796E-7]
[null,"all_f_Central Rural respiratory.csv","25-29",2.1950435716607301E-6,2.4287503318185001E-6,2.0097462193928802E-6,1.7778900857541701E-6,1.70808458517323E-6,1.7442994274865401E-6,1.43423062912653E-6,1.3218581724558601E-6,1.30077968907154E-6,1.2399494758777E-6,{"$f":"IF($B1589=\"\",\"\",VLOOKUP($B1589,_tbl!$A:$E,N$2,0))","v":"Female"},{"$f":"IF($B1589=\"\",\"\",VLOOKUP($B1589,_tbl!$A:$E,O$2,0))","v":"Central"},{"$f":"IF($B1589=\"\",\"\",VLOOKUP($B1589,_tbl!$A:$E,P$2,0))","v":"Rural"},{"$f":"IF($B1589=\"\",\"\",VLOOKUP($B1589,_tbl!$A:$E,Q$2,0))","v":"Respiratory"},null,2.4287503318185001E-6,1.2399494758777E-6]
[null,"all_f_Central Rural respiratory.csv","30-34",3.3413787534423301E-6,3.7263476200293198E-6,3.0383961444490498E-6,2.6623613503454301E-6,2.5498716573782899E-6,2.6081871691528998E-6,2.1121495692167199E-6,1.9343463018115499E-6,1.9011223845481701E-6,1.80547870516897E-6,{"$f":"IF($B1590=\"\",\"\",VLOOKUP($B1590,_tbl!$A:$E,N$2,0))","v":"Female"},{"$f":"IF($B1590=\"\",\"\",VLOOKUP($B1590,_tbl!$A:$E,O$2,0))","v":"Central"},{"$f":"IF($B1590=\"\",\"\",VLOOKUP($B1590,_tbl!$A:$E,P$2,0))","v":"Rural"},{"$f":"IF($B1590=\"\",\"\",VLOOKUP($B1590,_tbl!$A:$E,Q$2,0))","v":"Respiratory"},null,3.7263476200293198E-6,1.80547870516897E-6]
[null,"all_f_Central Rural respiratory.csv","35-39",5.5465375102178603E-6,6.2188347995177101E-6,5.0200739934952199E-6,4.3702921500301002E-6,4.1767606700833203E-6,4.2770375775662798E-6,3.4278571159097801E-6,3.1257466625006402E-6,3.0694426944538499E-6,2.9076300816179199E-6,{"$f":"IF($B1591=\"\",\"\",VLOOKUP($B1591,_tbl!$A:$E,N$2,0))","v":"Female"},{"$f":"IF($B1591=\"\",\"\",VLOOKUP($B1591,_tbl!$A:$E,O$2,0))","v":"Central"},{"$f":"IF($B1591=\"\",\"\",VLOOKUP($B1591,_tbl!$A:$E,P$2,0))","v":"Rural"},{"$f":"IF($B1591=\"\",\"\",VLOOKUP($B1591,_tbl!$A:$E,Q$2,0))","v":"Respiratory"},null,6.2188347995177101E-6,2.9076300816179199E-6]
[null,"all_f_Central Rural respiratory.csv","40-44",9.8738397458554396E-6,1.11117211290528E-5,8.9078396045625795E-6,7.7201242827951799E-6,7.3674421805814797E-6,7.5501172867177598E-6,6.0078941095183302E-6,5.4620597435259998E-6,5.3605171645243199E-6,5.06903212785678E-6,{"$f":"IF($B1592=\"\",\"\",VLOOKUP($B1592,_tbl!$A:$E,N$2,0))","v":"Female"},{"$f":"IF($B1592=\"\",\"\",VLOOKUP($B1592,_tbl!$A:$E,O$2,0))","v":"Central"},{"$f":"IF($B1592=\"\",\"\",VLOOKUP($B1592,_tbl!$A:$E,P$2,0))","v":"Rural"},{"$f":"IF($B1592=\"\",\"\",VLOOKUP($B1592,_tbl!$A:$E,Q$2,0))","v":"Respiratory"},null,1.11117211290528E-5,5.06903212785678E-6]
[null,"all_f_Central Rural respiratory.csv","45-49",1.90513522730245E-5,2.1482073127316501E-5,1.7158002100332899E-5,1.48348299521835E-5,1.41460919649492E-5,1.4502763468077899E-5,1.14964852207895E-5,1.0435413626979101E-5,1.0238210421444399E-5,9.6724749530896307E-6,{"$f":"IF($B1593=\"\",\"\",VLOOKUP($B1593,_tbl!$A:$E,N$2,0))","v":"Female"},{"$f":"IF($B1593=\"\",\"\",VLOOKUP($B1593,_tbl!$A:$E,O$2,0))","v":"Central"},{"$f":"IF($B1593=\"\",\"\",VLOOKUP($B1593,_tbl!$A:$E,P$2,0))","v":"Rural"},{"$f":"IF($B1593=\"\",\"\",VLOOKUP($B1593,_tbl!$A:$E,Q$2,0))","v":"Respiratory"},null,2.1482073127316501E-5,9.6724749530896307E-6]
[null,"all_f_Central Rural respiratory.csv","50-54",4.02485413674451E-5,4.5385313784791702E-5,3.6247506990793403E-5,3.1338344509642701E-5,2.9882992832483299E-5,3.0636662284086001E-5,2.4284385248686301E-5,2.2042444220844499E-5,2.1625779985274401E-5,2.04304687320723E-5,{"$f":"IF($B1594=\"\",\"\",VLOOKUP($B1594,_tbl!$A:$E,N$2,0))","v":"Female"},{"$f":"IF($B1594=\"\",\"\",VLOOKUP($B1594,_tbl!$A:$E,O$2,0))","v":"Central"},{"$f":"IF($B1594=\"\",\"\",VLOOKUP($B1594,_tbl!$A:$E,P$2,0))","v":"Rural"},{"$f":"IF($B1594=\"\",\"\",VLOOKUP($B1594,_tbl!$A:$E,Q$2,0))","v":"Respiratory"},null,4.5385313784791702E-5,2.04304687320723E-5]
[null,"all_f_Central Rural respiratory.csv","55-59",9.1135088459020207E-5,1.02622755389916E-4,8.2175595391241699E-5,7.1166624882494005E-5,6.7899218481575803E-5,6.9591505551722899E-5,5.5311626224879399E-5,5.02618744795259E-5,4.9322737625451997E-5,4.6627392391810003E-5,{"$f":"IF($B1595=\"\",\"\",VLOOKUP($B1595,_tbl!$A:$E,N$2,0))","v":"Female"},{"$f":"IF($B1595=\"\",\"\",VLOOKUP($B1595,_tbl!$A:$E,O$2,0))","v":"Central"},{"$f":"IF($B1595=\"\",\"\",VLOOKUP($B1595,_tbl!$A:$E,P$2,0))","v":"Rural"},{"$f":"IF($B1595=\"\",\"\",VLOOKUP($B1595,_tbl!$A:$E,Q$2,0))","v":"Respiratory"},null,1.02622755389916E-4,4.6627392391810003E-5]
[null,"all_f_Central Rural respiratory.csv","60-64",2.12227844666511E-4,2.3844846765521901E-4,1.9173506855028099E-4,1.6649657321357001E-4,1.5899230020493299E-4,1.62879811200565E-4,1.3001574838498501E-4,1.1835786542301401E-4,1.16187411118376E-4,1.09953801237435E-4,{"$f":"IF($B1596=\"\",\"\",VLOOKUP($B1596,_tbl!$A:$E,N$2,0))","v":"Female"},{"$f":"IF($B1596=\"\",\"\",VLOOKUP($B1596,_tbl!$A:$E,O$2,0))","v":"Central"},{"$f":"IF($B1596=\"\",\"\",VLOOKUP($B1596,_tbl!$A:$E,P$2,0))","v":"Rural"},{"$f":"IF($B1596=\"\",\"\",VLOOKUP($B1596,_tbl!$A:$E,Q$2,0))","v":"Respiratory"},null,2.3844846765521901E-4,1.09953801237435E-4]
[null,"all_f_Central Rural respiratory.csv","65-69",4.9537190894189602E-4,5.54762612931237E-4,4.4881276197863902E-4,3.9127758994038402E-4,3.7412480144037802E-4,3.8301338974739899E-4,3.0766821655830301E-4,2.8081867738451101E-4,2.7581188161782198E-4,2.6141747056189003E-4,{"$f":"IF($B1597=\"\",\"\",VLOOKUP($B1597,_tbl!$A:$E,N$2,0))","v":"Female"},{"$f":"IF($B1597=\"\",\"\",VLOOKUP($B1597,_tbl!$A:$E,O$2,0))","v":"Central"},{"$f":"IF($B1597=\"\",\"\",VLOOKUP($B1597,_tbl!$A:$E,P$2,0))","v":"Rural"},{"$f":"IF($B1597=\"\",\"\",VLOOKUP($B1597,_tbl!$A:$E,Q$2,0))","v":"Respiratory"},null,5.54762612931237E-4,2.6141747056189003E-4]
[null,"all_f_Central Rural respiratory.csv","70-74",1.16416567205489E-3,1.29687028494792E-3,1.0596155551022501E-3,9.2971005727762496E-4,8.9081446610241196E-4,9.1098034185881603E-4,7.3929126323632802E-4,6.7765542271378898E-4,6.6613212426643302E-4,6.3294788702778295E-4,{"$f":"IF($B1598=\"\",\"\",VLOOKUP($B1598,_tbl!$A:$E,N$2,0))","v":"Female"},{"$f":"IF($B1598=\"\",\"\",VLOOKUP($B1598,_tbl!$A:$E,O$2,0))","v":"Central"},{"$f":"IF($B1598=\"\",\"\",VLOOKUP($B1598,_tbl!$A:$E,P$2,0))","v":"Rural"},{"$f":"IF($B1598=\"\",\"\",VLOOKUP($B1598,_tbl!$A:$E,Q$2,0))","v":"Respiratory"},null,1.29687028494792E-3,6.3294788702778295E-4]
[null,"all_f_Central Rural respiratory.csv","75-79",2.7983475351731398E-3,3.09226330974368E-3,2.5650282489695499E-3,2.2726903679313099E-3,2.1845821550452102E-3,2.23029804030831E-3,1.8384578778718301E-3,1.6961923856751301E-3,1.6694897169442799E-3,1.59239718882715E-3,{"$f":"IF($B1599=\"\",\"\",VLOOKUP($B1599,_tbl!$A:$E,N$2,0))","v":"Female"},{"$f":"IF($B1599=\"\",\"\",VLOOKUP($B1599,_tbl!$A:$E,O$2,0))","v":"Central"},{"$f":"IF($B1599=\"\",\"\",VLOOKUP($B1599,_tbl!$A:$E,P$2,0))","v":"Rural"},{"$f":"IF($B1599=\"\",\"\",VLOOKUP($B1599,_tbl!$A:$E,Q$2,0))","v":"Respiratory"},null,3.09226330974368E-3,1.59239718882715E-3]
[null,"all_f_Central Rural respiratory.csv","80-84",6.8791955985811198E-3,7.5220407115796596E-3,6.3638175337254396E-3,5.7109843934121003E-3,5.51253063715503E-3,5.6156037983521303E-3,4.7243397166468202E-3,4.3959565515228199E-3,4.33400281046201E-3,4.1545439852418301E-3,{"$f":"IF($B1600=\"\",\"\",VLOOKUP($B1600,_tbl!$A:$E,N$2,0))","v":"Female"},{"$f":"IF($B1600=\"\",\"\",VLOOKUP($B1600,_tbl!$A:$E,O$2,0))","v":"Central"},{"$f":"IF($B1600=\"\",\"\",VLOOKUP($B1600,_tbl!$A:$E,P$2,0))","v":"Rural"},{"$f":"IF($B1600=\"\",\"\",VLOOKUP($B1600,_tbl!$A:$E,Q$2,0))","v":"Respiratory"},null,7.5220407115796596E-3,4.1545439852418301E-3]
[null,"all_f_Central Rural respiratory.csv","85+",1.6916823594371699E-2,1.8283096274525401E-2,1.5809416104672101E-2,1.43895845653667E-2,1.39538592649119E-2,1.4180417944658699E-2,1.2202141657014101E-2,1.14613182487811E-2,1.13207558909613E-2,1.0912096821778501E-2,{"$f":"IF($B1601=\"\",\"\",VLOOKUP($B1601,_tbl!$A:$E,N$2,0))","v":"Female"},{"$f":"IF($B1601=\"\",\"\",VLOOKUP($B1601,_tbl!$A:$E,O$2,0))","v":"Central"},{"$f":"IF($B1601=\"\",\"\",VLOOKUP($B1601,_tbl!$A:$E,P$2,0))","v":"Rural"},{"$f":"IF($B1601=\"\",\"\",VLOOKUP($B1601,_tbl!$A:$E,Q$2,0))","v":"Respiratory"},null,1.8283096274525401E-2,1.0912096821778501E-2]
[null,null,null,null,null,null,null,null,null,null,null,null,null,{"$f":"IF($B1602=\"\",\"\",VLOOKUP($B1602,_tbl!$A:$E,N$2,0))","v":""},{"$f":"IF($B1602=\"\",\"\",VLOOKUP($B1602,_tbl!$A:$E,O$2,0))","v":""},{"$f":"IF($B1602=\"\",\"\",VLOOKUP($B1602,_tbl!$A:$E,P$2,0))","v":""},{"$f":"IF($B1602=\"\",\"\",VLOOKUP($B1602,_tbl!$A:$E,Q$2,0))","v":""}]
[null,null,null,2020,2021,2022,2023,2024,2025,2026,2027,2028,2029,{"$f":"IF($B1603=\"\",\"\",VLOOKUP($B1603,_tbl!$A:$E,N$2,0))","v":""},{"$f":"IF($B1603=\"\",\"\",VLOOKUP($B1603,_tbl!$A:$E,O$2,0))","v":""},{"$f":"IF($B1603=\"\",\"\",VLOOKUP($B1603,_tbl!$A:$E,P$2,0))","v":""},{"$f":"IF($B1603=\"\",\"\",VLOOKUP($B1603,_tbl!$A:$E,Q$2,0))","v":""}]
[null,"all_f_Central Rural.csv","1-4",2.8599201952302398E-4,2.7891954139190801E-4,2.7088874780003798E-4,2.63445548718677E-4,2.5631874812073101E-4,2.4972396243875801E-4,2.43332329311681E-4,2.3749133418806201E-4,2.32093474042502E-4,2.2699917024032401E-4,{"$f":"IF($B1604=\"\",\"\",VLOOKUP($B1604,_tbl!$A:$E,N$2,0))","v":"Female"},{"$f":"IF($B1604=\"\",\"\",VLOOKUP($B1604,_tbl!$A:$E,O$2,0))","v":"Central"},{"$f":"IF($B1604=\"\",\"\",VLOOKUP($B1604,_tbl!$A:$E,P$2,0))","v":"Rural"},{"$f":"IF($B1604=\"\",\"\",VLOOKUP($B1604,_tbl!$A:$E,Q$2,0))","v":"Total"},null,{"$f":"MAX(D1604:M1604)","v":2.8599201952302398E-4},{"$f":"MIN(D1604:M1604)","v":2.2699917024032401E-4}]
[null,"all_f_Central Rural.csv","5-9",1.94029775497902E-4,1.9323884121297399E-4,1.9210825761613E-4,1.9112020502895101E-4,1.90207417018269E-4,1.8936659692267099E-4,1.8849139516637401E-4,1.87713700858376E-4,1.8702524268348299E-4,1.86362514659304E-4,{"$f":"IF($B1605=\"\",\"\",VLOOKUP($B1605,_tbl!$A:$E,N$2,0))","v":"Female"},{"$f":"IF($B1605=\"\",\"\",VLOOKUP($B1605,_tbl!$A:$E,O$2,0))","v":"Central"},{"$f":"IF($B1605=\"\",\"\",VLOOKUP($B1605,_tbl!$A:$E,P$2,0))","v":"Rural"},{"$f":"IF($B1605=\"\",\"\",VLOOKUP($B1605,_tbl!$A:$E,Q$2,0))","v":"Total"},null,1.94029775497902E-4,1.86362514659304E-4]
[null,"all_f_Central Rural.csv","10-14",1.6401563384145E-4,1.6284458693668999E-4,1.61372604722901E-4,1.5998549099968901E-4,1.5867807747545399E-4,1.5741059787445901E-4,1.5610295829144799E-4,1.5486499523318501E-4,1.5369690495404601E-4,1.52542311646301E-4,{"$f":"IF($B1606=\"\",\"\",VLOOKUP($B1606,_tbl!$A:$E,N$2,0))","v":"Female"},{"$f":"IF($B1606=\"\",\"\",VLOOKUP($B1606,_tbl!$A:$E,O$2,0))","v":"Central"},{"$f":"IF($B1606=\"\",\"\",VLOOKUP($B1606,_tbl!$A:$E,P$2,0))","v":"Rural"},{"$f":"IF($B1606=\"\",\"\",VLOOKUP($B1606,_tbl!$A:$E,Q$2,0))","v":"Total"},null,1.6401563384145E-4,1.52542311646301E-4]
[null,"all_f_Central Rural.csv","15-19",1.7189014172561701E-4,1.69052316022992E-4,1.65786364614204E-4,1.6270540482219001E-4,1.5968898284440499E-4,1.5682794649922899E-4,1.5394880224676701E-4,1.5125007457172501E-4,1.4867663349419399E-4,1.46182397562406E-4,{"$f":"IF($B1607=\"\",\"\",VLOOKUP($B1607,_tbl!$A:$E,N$2,0))","v":"Female"},{"$f":"IF($B1607=\"\",\"\",VLOOKUP($B1607,_tbl!$A:$E,O$2,0))","v":"Central"},{"$f":"IF($B1607=\"\",\"\",VLOOKUP($B1607,_tbl!$A:$E,P$2,0))","v":"Rural"},{"$f":"IF($B1607=\"\",\"\",VLOOKUP($B1607,_tbl!$A:$E,Q$2,0))","v":"Total"},null,1.7189014172561701E-4,1.46182397562406E-4]
[null,"all_f_Central Rural.csv","20-24",2.05368705922135E-4,2.0088981923542699E-4,1.9567992102743301E-4,1.9090091371118501E-4,1.8621325636104E-4,1.8188291943817001E-4,1.77546079175967E-4,1.73559856355937E-4,1.6979036351529701E-4,1.6618365781746999E-4,{"$f":"IF($B1608=\"\",\"\",VLOOKUP($B1608,_tbl!$A:$E,N$2,0))","v":"Female"},{"$f":"IF($B1608=\"\",\"\",VLOOKUP($B1608,_tbl!$A:$E,O$2,0))","v":"Central"},{"$f":"IF($B1608=\"\",\"\",VLOOKUP($B1608,_tbl!$A:$E,P$2,0))","v":"Rural"},{"$f":"IF($B1608=\"\",\"\",VLOOKUP($B1608,_tbl!$A:$E,Q$2,0))","v":"Total"},null,2.05368705922135E-4,1.6618365781746999E-4]
[null,"all_f_Central Rural.csv","25-29",2.7066134329966902E-4,2.6418839016759598E-4,2.5666644184068103E-4,2.4991898445783298E-4,2.43300683265899E-4,2.37212730408404E-4,2.3107383093522499E-4,2.254270237862E-4,2.20076984137127E-4,2.1496309702478399E-4,{"$f":"IF($B1609=\"\",\"\",VLOOKUP($B1609,_tbl!$A:$E,N$2,0))","v":"Female"},{"$f":"IF($B1609=\"\",\"\",VLOOKUP($B1609,_tbl!$A:$E,O$2,0))","v":"Central"},{"$f":"IF($B1609=\"\",\"\",VLOOKUP($B1609,_tbl!$A:$E,P$2,0))","v":"Rural"},{"$f":"IF($B1609=\"\",\"\",VLOOKUP($B1609,_tbl!$A:$E,Q$2,0))","v":"Total"},null,2.7066134329966902E-4,2.1496309702478399E-4]
[null,"all_f_Central Rural.csv","30-34",3.8108191009578001E-4,3.7363408839939801E-4,3.6310894429766898E-4,3.5452211592628302E-4,3.4578387616685701E-4,3.3807983626135202E-4,3.3006239368389901E-4,3.22886998337039E-4,3.1611792598040198E-4,3.0970032699274998E-4,{"$f":"IF($B1610=\"\",\"\",VLOOKUP($B1610,_tbl!$A:$E,N$2,0))","v":"Female"},{"$f":"IF($B1610=\"\",\"\",VLOOKUP($B1610,_tbl!$A:$E,O$2,0))","v":"Central"},{"$f":"IF($B1610=\"\",\"\",VLOOKUP($B1610,_tbl!$A:$E,P$2,0))","v":"Rural"},{"$f":"IF($B1610=\"\",\"\",VLOOKUP($B1610,_tbl!$A:$E,Q$2,0))","v":"Total"},null,3.8108191009578001E-4,3.0970032699274998E-4]
[null,"all_f_Central Rural.csv","35-39",5.6161949769120896E-4,5.5319676099224496E-4,5.3729575732997404E-4,5.2623690938816798E-4,5.1415851629148203E-4,5.0419503280660501E-4,4.9312413724824104E-4,4.8354675590582698E-4,4.7447524554895099E-4,4.65904895554255E-4,{"$f":"IF($B1611=\"\",\"\",VLOOKUP($B1611,_tbl!$A:$E,N$2,0))","v":"Female"},{"$f":"IF($B1611=\"\",\"\",VLOOKUP($B1611,_tbl!$A:$E,O$2,0))","v":"Central"},{"$f":"IF($B1611=\"\",\"\",VLOOKUP($B1611,_tbl!$A:$E,P$2,0))","v":"Rural"},{"$f":"IF($B1611=\"\",\"\",VLOOKUP($B1611,_tbl!$A:$E,Q$2,0))","v":"Total"},null,5.6161949769120896E-4,4.65904895554255E-4]
[null,"all_f_Central Rural.csv","40-44",8.7118601545314997E-4,8.5790049512318896E-4,8.2941887257246996E-4,8.1095332126748701E-4,7.8994963086211805E-4,7.7301133420574597E-4,7.5355209721967404E-4,7.3673862634809103E-4,7.2060312031684904E-4,7.0523661961716295E-4,{"$f":"IF($B1612=\"\",\"\",VLOOKUP($B1612,_tbl!$A:$E,N$2,0))","v":"Female"},{"$f":"IF($B1612=\"\",\"\",VLOOKUP($B1612,_tbl!$A:$E,O$2,0))","v":"Central"},{"$f":"IF($B1612=\"\",\"\",VLOOKUP($B1612,_tbl!$A:$E,P$2,0))","v":"Rural"},{"$f":"IF($B1612=\"\",\"\",VLOOKUP($B1612,_tbl!$A:$E,Q$2,0))","v":"Total"},null,8.7118601545314997E-4,7.0523661961716295E-4]
[null,"all_f_Central Rural.csv","45-49",1.4326199295156901E-3,1.41182752437453E-3,1.36239579963659E-3,1.33127658717677E-3,1.2952335111386399E-3,1.2665392231272E-3,1.2328489128509001E-3,1.20390854242139E-3,1.1760361430017199E-3,1.1493660150515899E-3,{"$f":"IF($B1613=\"\",\"\",VLOOKUP($B1613,_tbl!$A:$E,N$2,0))","v":"Female"},{"$f":"IF($B1613=\"\",\"\",VLOOKUP($B1613,_tbl!$A:$E,O$2,0))","v":"Central"},{"$f":"IF($B1613=\"\",\"\",VLOOKUP($B1613,_tbl!$A:$E,P$2,0))","v":"Rural"},{"$f":"IF($B1613=\"\",\"\",VLOOKUP($B1613,_tbl!$A:$E,Q$2,0))","v":"Total"},null,1.4326199295156901E-3,1.1493660150515899E-3]
[null,"all_f_Central Rural.csv","50-54",2.3545359872331599E-3,2.3110626830726202E-3,2.2387923098454799E-3,2.17770071541093E-3,2.1115994898581901E-3,2.0510829091877599E-3,1.9860456661287898E-3,1.9257552351090201E-3,1.8671450810335E-3,1.8100799713014299E-3,{"$f":"IF($B1614=\"\",\"\",VLOOKUP($B1614,_tbl!$A:$E,N$2,0))","v":"Female"},{"$f":"IF($B1614=\"\",\"\",VLOOKUP($B1614,_tbl!$A:$E,O$2,0))","v":"Central"},{"$f":"IF($B1614=\"\",\"\",VLOOKUP($B1614,_tbl!$A:$E,P$2,0))","v":"Rural"},{"$f":"IF($B1614=\"\",\"\",VLOOKUP($B1614,_tbl!$A:$E,Q$2,0))","v":"Total"},null,2.3545359872331599E-3,1.8100799713014299E-3]
[null,"all_f_Central Rural.csv","55-59",3.9669974508357003E-3,3.87739021573219E-3,3.7480162383225499E-3,3.6318596443449301E-3,3.5107928934598699E-3,3.39697171204456E-3,3.27619014367476E-3,3.1625026839126398E-3,3.0518613639629899E-3,2.9433971600751202E-3,{"$f":"IF($B1615=\"\",\"\",VLOOKUP($B1615,_tbl!$A:$E,N$2,0))","v":"Female"},{"$f":"IF($B1615=\"\",\"\",VLOOKUP($B1615,_tbl!$A:$E,O$2,0))","v":"Central"},{"$f":"IF($B1615=\"\",\"\",VLOOKUP($B1615,_tbl!$A:$E,P$2,0))","v":"Rural"},{"$f":"IF($B1615=\"\",\"\",VLOOKUP($B1615,_tbl!$A:$E,Q$2,0))","v":"Total"},null,3.9669974508357003E-3,2.9433971600751202E-3]
[null,"all_f_Central Rural.csv","60-64",6.6321113524562304E-3,6.4956610445377396E-3,6.2872274298870299E-3,6.1005857284248599E-3,5.9093675883000801E-3,5.7303374038496103E-3,5.53517022657721E-3,5.3538238166153497E-3,5.1785521134470802E-3,5.00589317704419E-3,{"$f":"IF($B1616=\"\",\"\",VLOOKUP($B1616,_tbl!$A:$E,N$2,0))","v":"Female"},{"$f":"IF($B1616=\"\",\"\",VLOOKUP($B1616,_tbl!$A:$E,O$2,0))","v":"Central"},{"$f":"IF($B1616=\"\",\"\",VLOOKUP($B1616,_tbl!$A:$E,P$2,0))","v":"Rural"},{"$f":"IF($B1616=\"\",\"\",VLOOKUP($B1616,_tbl!$A:$E,Q$2,0))","v":"Total"},null,6.6321113524562304E-3,5.00589317704419E-3]
[null,"all_f_Central Rural.csv","65-69",1.1499401433164001E-2,1.13502760952248E-2,1.10421792270521E-2,1.0779239609257101E-2,1.05167899194332E-2,1.0278745507125301E-2,9.9929619788928208E-3,9.73943722696923E-3,9.4993660224301103E-3,9.2598272951775907E-3,{"$f":"IF($B1617=\"\",\"\",VLOOKUP($B1617,_tbl!$A:$E,N$2,0))","v":"Female"},{"$f":"IF($B1617=\"\",\"\",VLOOKUP($B1617,_tbl!$A:$E,O$2,0))","v":"Central"},{"$f":"IF($B1617=\"\",\"\",VLOOKUP($B1617,_tbl!$A:$E,P$2,0))","v":"Rural"},{"$f":"IF($B1617=\"\",\"\",VLOOKUP($B1617,_tbl!$A:$E,Q$2,0))","v":"Total"},null,1.1499401433164001E-2,9.2598272951775907E-3]
[null,"all_f_Central Rural.csv","70-74",2.0507685331210199E-2,2.0279822780095401E-2,1.9762813531409799E-2,1.9319777792668299E-2,1.8894812169390901E-2,1.8512146291231799E-2,1.8025865413346099E-2,1.76043089448219E-2,1.72109830498967E-2,1.68137037777863E-2,{"$f":"IF($B1618=\"\",\"\",VLOOKUP($B1618,_tbl!$A:$E,N$2,0))","v":"Female"},{"$f":"IF($B1618=\"\",\"\",VLOOKUP($B1618,_tbl!$A:$E,O$2,0))","v":"Central"},{"$f":"IF($B1618=\"\",\"\",VLOOKUP($B1618,_tbl!$A:$E,P$2,0))","v":"Rural"},{"$f":"IF($B1618=\"\",\"\",VLOOKUP($B1618,_tbl!$A:$E,Q$2,0))","v":"Total"},null,2.0507685331210199E-2,1.68137037777863E-2]
[null,"all_f_Central Rural.csv","75-79",3.9282185083705998E-2,3.87724602982348E-2,3.7806035775622901E-2,3.7002469088874099E-2,3.6268198443789298E-2,3.5617364804565302E-2,3.4762238774254599E-2,3.4035044994068599E-2,3.3365709416768398E-2,3.2683190464063497E-2,{"$f":"IF($B1619=\"\",\"\",VLOOKUP($B1619,_tbl!$A:$E,N$2,0))","v":"Female"},{"$f":"IF($B1619=\"\",\"\",VLOOKUP($B1619,_tbl!$A:$E,O$2,0))","v":"Central"},{"$f":"IF($B1619=\"\",\"\",VLOOKUP($B1619,_tbl!$A:$E,P$2,0))","v":"Rural"},{"$f":"IF($B1619=\"\",\"\",VLOOKUP($B1619,_tbl!$A:$E,Q$2,0))","v":"Total"},null,3.9282185083705998E-2,3.2683190464063497E-2]
[null,"all_f_Central Rural.csv","80-84",7.8530562534787504E-2,7.7282584986696296E-2,7.5524406984081693E-2,7.4138313098432607E-2,7.2915635209035004E-2,7.1835227922474404E-2,7.0444751078685905E-2,6.9278999065692404E-2,6.8224754637476598E-2,6.7151685115736603E-2,{"$f":"IF($B1620=\"\",\"\",VLOOKUP($B1620,_tbl!$A:$E,N$2,0))","v":"Female"},{"$f":"IF($B1620=\"\",\"\",VLOOKUP($B1620,_tbl!$A:$E,O$2,0))","v":"Central"},{"$f":"IF($B1620=\"\",\"\",VLOOKUP($B1620,_tbl!$A:$E,P$2,0))","v":"Rural"},{"$f":"IF($B1620=\"\",\"\",VLOOKUP($B1620,_tbl!$A:$E,Q$2,0))","v":"Total"},null,7.8530562534787504E-2,6.7151685115736603E-2]
[null,"all_f_Central Rural.csv","85+",0.155493569155078,0.15295929938786201,0.149038452518965,0.14630553447859401,0.144115592198611,0.14231555459780301,0.13996990014275801,0.13811057899582799,0.13649263152079999,0.13483791637936601,{"$f":"IF($B1621=\"\",\"\",VLOOKUP($B1621,_tbl!$A:$E,N$2,0))","v":"Female"},{"$f":"IF($B1621=\"\",\"\",VLOOKUP($B1621,_tbl!$A:$E,O$2,0))","v":"Central"},{"$f":"IF($B1621=\"\",\"\",VLOOKUP($B1621,_tbl!$A:$E,P$2,0))","v":"Rural"},{"$f":"IF($B1621=\"\",\"\",VLOOKUP($B1621,_tbl!$A:$E,Q$2,0))","v":"Total"},null,0.155493569155078,0.13483791637936601]
[null,null,null,null,null,null,null,null,null,null,null,null,null,{"$f":"IF($B1622=\"\",\"\",VLOOKUP($B1622,_tbl!$A:$E,N$2,0))","v":""},{"$f":"IF($B1622=\"\",\"\",VLOOKUP($B1622,_tbl!$A:$E,O$2,0))","v":""},{"$f":"IF($B1622=\"\",\"\",VLOOKUP($B1622,_tbl!$A:$E,P$2,0))","v":""},{"$f":"IF($B1622=\"\",\"\",VLOOKUP($B1622,_tbl!$A:$E,Q$2,0))","v":""}]
[null,null,null,2020,2021,2022,2023,2024,2025,2026,2027,2028,2029,{"$f":"IF($B1623=\"\",\"\",VLOOKUP($B1623,_tbl!$A:$E,N$2,0))","v":""},{"$f":"IF($B1623=\"\",\"\",VLOOKUP($B1623,_tbl!$A:$E,O$2,0))","v":""},{"$f":"IF($B1623=\"\",\"\",VLOOKUP($B1623,_tbl!$A:$E,P$2,0))","v":""},{"$f":"IF($B1623=\"\",\"\",VLOOKUP($B1623,_tbl!$A:$E,Q$2,0))","v":""}]
[null,"all_f_Central Urban cancer.csv","1-4",2.0061917634644801E-5,2.0439659375898099E-5,2.0684485685519601E-5,2.0961804051961999E-5,2.1227612344893499E-5,2.15222193430969E-5,2.1826382674991502E-5,2.21573255943917E-5,2.2500115035601899E-5,2.28485987578085E-5,{"$f":"IF($B1624=\"\",\"\",VLOOKUP($B1624,_tbl!$A:$E,N$2,0))","v":"Female"},{"$f":"IF($B1624=\"\",\"\",VLOOKUP($B1624,_tbl!$A:$E,O$2,0))","v":"Central"},{"$f":"IF($B1624=\"\",\"\",VLOOKUP($B1624,_tbl!$A:$E,P$2,0))","v":"Urban"},{"$f":"IF($B1624=\"\",\"\",VLOOKUP($B1624,_tbl!$A:$E,Q$2,0))","v":"Cancer"},null,{"$f":"MAX(D1624:M1624)","v":2.28485987578085E-5},{"$f":"MIN(D1624:M1624)","v":2.0061917634644801E-5}]
[null,"all_f_Central Urban cancer.csv","5-9",2.6804837842429299E-5,2.6813011715212099E-5,2.6826042847850001E-5,2.6837169890265099E-5,2.68501522606282E-5,2.68614726376761E-5,2.6873508045539301E-5,2.6883541592458401E-5,2.6892917942144001E-5,2.6901486687619502E-5,{"$f":"IF($B1625=\"\",\"\",VLOOKUP($B1625,_tbl!$A:$E,N$2,0))","v":"Female"},{"$f":"IF($B1625=\"\",\"\",VLOOKUP($B1625,_tbl!$A:$E,O$2,0))","v":"Central"},{"$f":"IF($B1625=\"\",\"\",VLOOKUP($B1625,_tbl!$A:$E,P$2,0))","v":"Urban"},{"$f":"IF($B1625=\"\",\"\",VLOOKUP($B1625,_tbl!$A:$E,Q$2,0))","v":"Cancer"},null,2.6901486687619502E-5,2.6804837842429299E-5]
[null,"all_f_Central Urban cancer.csv","10-14",2.7877618820121299E-5,2.78736160081729E-5,2.7859580625872701E-5,2.7833373490775999E-5,2.7795044019874101E-5,2.77543159026843E-5,2.7714118080991399E-5,2.76747459521763E-5,2.76351043383042E-5,2.7596838589102399E-5,{"$f":"IF($B1626=\"\",\"\",VLOOKUP($B1626,_tbl!$A:$E,N$2,0))","v":"Female"},{"$f":"IF($B1626=\"\",\"\",VLOOKUP($B1626,_tbl!$A:$E,O$2,0))","v":"Central"},{"$f":"IF($B1626=\"\",\"\",VLOOKUP($B1626,_tbl!$A:$E,P$2,0))","v":"Urban"},{"$f":"IF($B1626=\"\",\"\",VLOOKUP($B1626,_tbl!$A:$E,Q$2,0))","v":"Cancer"},null,2.7877618820121299E-5,2.7596838589102399E-5]
[null,"all_f_Central Urban cancer.csv","15-19",3.2921818406353902E-5,3.2877748790642803E-5,3.2755678458835703E-5,3.2636815996216401E-5,3.2486164376223001E-5,3.2352665810496198E-5,3.2224104975627002E-5,3.2113110959029199E-5,3.2008524411276898E-5,3.1912595881709002E-5,{"$f":"IF($B1627=\"\",\"\",VLOOKUP($B1627,_tbl!$A:$E,N$2,0))","v":"Female"},{"$f":"IF($B1627=\"\",\"\",VLOOKUP($B1627,_tbl!$A:$E,O$2,0))","v":"Central"},{"$f":"IF($B1627=\"\",\"\",VLOOKUP($B1627,_tbl!$A:$E,P$2,0))","v":"Urban"},{"$f":"IF($B1627=\"\",\"\",VLOOKUP($B1627,_tbl!$A:$E,Q$2,0))","v":"Cancer"},null,3.2921818406353902E-5,3.1912595881709002E-5]
[null,"all_f_Central Urban cancer.csv","20-24",4.4860858093076603E-5,4.4703992283066697E-5,4.44622457582676E-5,4.42301089042999E-5,4.3972736190769403E-5,4.3735836305308703E-5,4.35070848402743E-5,4.3296910751572798E-5,4.3095152525434597E-5,4.2903223744859797E-5,{"$f":"IF($B1628=\"\",\"\",VLOOKUP($B1628,_tbl!$A:$E,N$2,0))","v":"Female"},{"$f":"IF($B1628=\"\",\"\",VLOOKUP($B1628,_tbl!$A:$E,O$2,0))","v":"Central"},{"$f":"IF($B1628=\"\",\"\",VLOOKUP($B1628,_tbl!$A:$E,P$2,0))","v":"Urban"},{"$f":"IF($B1628=\"\",\"\",VLOOKUP($B1628,_tbl!$A:$E,Q$2,0))","v":"Cancer"},null,4.4860858093076603E-5,4.2903223744859797E-5]
[null,"all_f_Central Urban cancer.csv","25-29",6.95394823236867E-5,6.9367788316550494E-5,6.9095717921520899E-5,6.8827420954361697E-5,6.85314650678855E-5,6.8257378284905605E-5,6.7993335435839096E-5,6.7752170153376995E-5,6.7522670443773898E-5,6.7305395516370896E-5,{"$f":"IF($B1629=\"\",\"\",VLOOKUP($B1629,_tbl!$A:$E,N$2,0))","v":"Female"},{"$f":"IF($B1629=\"\",\"\",VLOOKUP($B1629,_tbl!$A:$E,O$2,0))","v":"Central"},{"$f":"IF($B1629=\"\",\"\",VLOOKUP($B1629,_tbl!$A:$E,P$2,0))","v":"Urban"},{"$f":"IF($B1629=\"\",\"\",VLOOKUP($B1629,_tbl!$A:$E,Q$2,0))","v":"Cancer"},null,6.95394823236867E-5,6.7305395516370896E-5]
[null,"all_f_Central Urban cancer.csv","30-34",1.19811357278839E-4,1.20140058417569E-4,1.2024388471694601E-4,1.20372422164274E-4,1.20458556895705E-4,1.20573576938384E-4,1.2068301682275E-4,1.20822836258342E-4,1.20975231323806E-4,1.2113850899630699E-4,{"$f":"IF($B1630=\"\",\"\",VLOOKUP($B1630,_tbl!$A:$E,N$2,0))","v":"Female"},{"$f":"IF($B1630=\"\",\"\",VLOOKUP($B1630,_tbl!$A:$E,O$2,0))","v":"Central"},{"$f":"IF($B1630=\"\",\"\",VLOOKUP($B1630,_tbl!$A:$E,P$2,0))","v":"Urban"},{"$f":"IF($B1630=\"\",\"\",VLOOKUP($B1630,_tbl!$A:$E,Q$2,0))","v":"Cancer"},null,1.2113850899630699E-4,1.19811357278839E-4]
[null,"all_f_Central Urban cancer.csv","35-39",2.05892020099661E-4,2.0596890387850601E-4,2.0533669522577601E-4,2.0515993215108999E-4,2.04888606536134E-4,2.0481424156383899E-4,2.0466182333199299E-4,2.0464272541831E-4,2.0467562760475501E-4,2.04762988697754E-4,{"$f":"IF($B1631=\"\",\"\",VLOOKUP($B1631,_tbl!$A:$E,N$2,0))","v":"Female"},{"$f":"IF($B1631=\"\",\"\",VLOOKUP($B1631,_tbl!$A:$E,O$2,0))","v":"Central"},{"$f":"IF($B1631=\"\",\"\",VLOOKUP($B1631,_tbl!$A:$E,P$2,0))","v":"Urban"},{"$f":"IF($B1631=\"\",\"\",VLOOKUP($B1631,_tbl!$A:$E,Q$2,0))","v":"Cancer"},null,2.0596890387850601E-4,2.0464272541831E-4]
[null,"all_f_Central Urban cancer.csv","40-44",3.4461143592542698E-4,3.39022891160711E-4,3.3239734617532003E-4,3.2728679330119902E-4,3.2213682142756501E-4,3.1768295254689798E-4,3.1315179104807E-4,3.09069857876514E-4,3.0521845028839002E-4,3.0161537800927799E-4,{"$f":"IF($B1632=\"\",\"\",VLOOKUP($B1632,_tbl!$A:$E,N$2,0))","v":"Female"},{"$f":"IF($B1632=\"\",\"\",VLOOKUP($B1632,_tbl!$A:$E,O$2,0))","v":"Central"},{"$f":"IF($B1632=\"\",\"\",VLOOKUP($B1632,_tbl!$A:$E,P$2,0))","v":"Urban"},{"$f":"IF($B1632=\"\",\"\",VLOOKUP($B1632,_tbl!$A:$E,Q$2,0))","v":"Cancer"},null,3.4461143592542698E-4,3.0161537800927799E-4]
[null,"all_f_Central Urban cancer.csv","45-49",5.9215897495849205E-4,5.8052789299020398E-4,5.6698901760554804E-4,5.5614350095001697E-4,5.4524693884434102E-4,5.3563446316460097E-4,5.2591264758663201E-4,5.1701287372957205E-4,5.0851960596278605E-4,5.0047184324191797E-4,{"$f":"IF($B1633=\"\",\"\",VLOOKUP($B1633,_tbl!$A:$E,N$2,0))","v":"Female"},{"$f":"IF($B1633=\"\",\"\",VLOOKUP($B1633,_tbl!$A:$E,O$2,0))","v":"Central"},{"$f":"IF($B1633=\"\",\"\",VLOOKUP($B1633,_tbl!$A:$E,P$2,0))","v":"Urban"},{"$f":"IF($B1633=\"\",\"\",VLOOKUP($B1633,_tbl!$A:$E,Q$2,0))","v":"Cancer"},null,5.9215897495849205E-4,5.0047184324191797E-4]
[null,"all_f_Central Urban cancer.csv","50-54",9.6408813415296802E-4,9.4395088873356096E-4,9.2575248448528702E-4,9.0636694120774502E-4,8.8737279571798498E-4,8.6848924435489099E-4,8.5059278324946296E-4,8.3302098191328003E-4,8.1595486281373303E-4,7.9945614214363295E-4,{"$f":"IF($B1634=\"\",\"\",VLOOKUP($B1634,_tbl!$A:$E,N$2,0))","v":"Female"},{"$f":"IF($B1634=\"\",\"\",VLOOKUP($B1634,_tbl!$A:$E,O$2,0))","v":"Central"},{"$f":"IF($B1634=\"\",\"\",VLOOKUP($B1634,_tbl!$A:$E,P$2,0))","v":"Urban"},{"$f":"IF($B1634=\"\",\"\",VLOOKUP($B1634,_tbl!$A:$E,Q$2,0))","v":"Cancer"},null,9.6408813415296802E-4,7.9945614214363295E-4]
[null,"all_f_Central Urban cancer.csv","55-59",1.55123781600343E-3,1.53277207308467E-3,1.51438150972398E-3,1.49606480561832E-3,1.4778702581758701E-3,1.4600567894065199E-3,1.4426765485200299E-3,1.4256547122054901E-3,1.40901955250908E-3,1.39281068120456E-3,{"$f":"IF($B1635=\"\",\"\",VLOOKUP($B1635,_tbl!$A:$E,N$2,0))","v":"Female"},{"$f":"IF($B1635=\"\",\"\",VLOOKUP($B1635,_tbl!$A:$E,O$2,0))","v":"Central"},{"$f":"IF($B1635=\"\",\"\",VLOOKUP($B1635,_tbl!$A:$E,P$2,0))","v":"Urban"},{"$f":"IF($B1635=\"\",\"\",VLOOKUP($B1635,_tbl!$A:$E,Q$2,0))","v":"Cancer"},null,1.55123781600343E-3,1.39281068120456E-3]
[null,"all_f_Central Urban cancer.csv","60-64",2.3460877770973298E-3,2.32187111435909E-3,2.2965957576046299E-3,2.2702371671202599E-3,2.2435457344916099E-3,2.2169655937162602E-3,2.1911509256070201E-3,2.1654972834595498E-3,2.14022390485127E-3,2.1155128792933E-3,{"$f":"IF($B1636=\"\",\"\",VLOOKUP($B1636,_tbl!$A:$E,N$2,0))","v":"Female"},{"$f":"IF($B1636=\"\",\"\",VLOOKUP($B1636,_tbl!$A:$E,O$2,0))","v":"Central"},{"$f":"IF($B1636=\"\",\"\",VLOOKUP($B1636,_tbl!$A:$E,P$2,0))","v":"Urban"},{"$f":"IF($B1636=\"\",\"\",VLOOKUP($B1636,_tbl!$A:$E,Q$2,0))","v":"Cancer"},null,2.3460877770973298E-3,2.1155128792933E-3]
[null,"all_f_Central Urban cancer.csv","65-69",3.3688271999359398E-3,3.3136366196621198E-3,3.2605323712618199E-3,3.1990406415377398E-3,3.13559702156711E-3,3.0700625320471998E-3,3.0100127746152199E-3,2.9481771812336298E-3,2.8865887857913398E-3,2.8266722074034999E-3,{"$f":"IF($B1637=\"\",\"\",VLOOKUP($B1637,_tbl!$A:$E,N$2,0))","v":"Female"},{"$f":"IF($B1637=\"\",\"\",VLOOKUP($B1637,_tbl!$A:$E,O$2,0))","v":"Central"},{"$f":"IF($B1637=\"\",\"\",VLOOKUP($B1637,_tbl!$A:$E,P$2,0))","v":"Urban"},{"$f":"IF($B1637=\"\",\"\",VLOOKUP($B1637,_tbl!$A:$E,Q$2,0))","v":"Cancer"},null,3.3688271999359398E-3,2.8266722074034999E-3]
[null,"all_f_Central Urban cancer.csv","70-74",5.2495511300702903E-3,5.1937337918935298E-3,5.1350710013229398E-3,5.0713097359568497E-3,5.0056027189464801E-3,4.9389064395212101E-3,4.8766437090845202E-3,4.8133729099092103E-3,4.7505608444122502E-3,4.6894221149539001E-3,{"$f":"IF($B1638=\"\",\"\",VLOOKUP($B1638,_tbl!$A:$E,N$2,0))","v":"Female"},{"$f":"IF($B1638=\"\",\"\",VLOOKUP($B1638,_tbl!$A:$E,O$2,0))","v":"Central"},{"$f":"IF($B1638=\"\",\"\",VLOOKUP($B1638,_tbl!$A:$E,P$2,0))","v":"Urban"},{"$f":"IF($B1638=\"\",\"\",VLOOKUP($B1638,_tbl!$A:$E,Q$2,0))","v":"Cancer"},null,5.2495511300702903E-3,4.6894221149539001E-3]
[null,"all_f_Central Urban cancer.csv","75-79",7.88114490145299E-3,7.83031658497047E-3,7.7974971979635904E-3,7.7582968860510099E-3,7.7161225019415098E-3,7.6707568813273799E-3,7.6344175514633603E-3,7.5935215487151304E-3,7.5511214419067699E-3,7.5100900581051098E-3,{"$f":"IF($B1639=\"\",\"\",VLOOKUP($B1639,_tbl!$A:$E,N$2,0))","v":"Female"},{"$f":"IF($B1639=\"\",\"\",VLOOKUP($B1639,_tbl!$A:$E,O$2,0))","v":"Central"},{"$f":"IF($B1639=\"\",\"\",VLOOKUP($B1639,_tbl!$A:$E,P$2,0))","v":"Urban"},{"$f":"IF($B1639=\"\",\"\",VLOOKUP($B1639,_tbl!$A:$E,Q$2,0))","v":"Cancer"},null,7.88114490145299E-3,7.5100900581051098E-3]
[null,"all_f_Central Urban cancer.csv","80-84",1.1470664920609301E-2,1.12753301558504E-2,1.12246371175831E-2,1.11700780187726E-2,1.1115049456586401E-2,1.10511121429648E-2,1.1036604658449601E-2,1.09966442312153E-2,1.09451348236303E-2,1.0898089522317101E-2,{"$f":"IF($B1640=\"\",\"\",VLOOKUP($B1640,_tbl!$A:$E,N$2,0))","v":"Female"},{"$f":"IF($B1640=\"\",\"\",VLOOKUP($B1640,_tbl!$A:$E,O$2,0))","v":"Central"},{"$f":"IF($B1640=\"\",\"\",VLOOKUP($B1640,_tbl!$A:$E,P$2,0))","v":"Urban"},{"$f":"IF($B1640=\"\",\"\",VLOOKUP($B1640,_tbl!$A:$E,Q$2,0))","v":"Cancer"},null,1.1470664920609301E-2,1.0898089522317101E-2]
[null,"all_f_Central Urban cancer.csv","85+",1.5490642405886299E-2,1.5211925411899E-2,1.5093399840583799E-2,1.5041259687509001E-2,1.5011758295384601E-2,1.4988173968904801E-2,1.50330635039457E-2,1.50537268527784E-2,1.5062351503193801E-2,1.50784318605375E-2,{"$f":"IF($B1641=\"\",\"\",VLOOKUP($B1641,_tbl!$A:$E,N$2,0))","v":"Female"},{"$f":"IF($B1641=\"\",\"\",VLOOKUP($B1641,_tbl!$A:$E,O$2,0))","v":"Central"},{"$f":"IF($B1641=\"\",\"\",VLOOKUP($B1641,_tbl!$A:$E,P$2,0))","v":"Urban"},{"$f":"IF($B1641=\"\",\"\",VLOOKUP($B1641,_tbl!$A:$E,Q$2,0))","v":"Cancer"},null,1.5490642405886299E-2,1.4988173968904801E-2]
[null,null,null,null,null,null,null,null,null,null,null,null,null,{"$f":"IF($B1642=\"\",\"\",VLOOKUP($B1642,_tbl!$A:$E,N$2,0))","v":""},{"$f":"IF($B1642=\"\",\"\",VLOOKUP($B1642,_tbl!$A:$E,O$2,0))","v":""},{"$f":"IF($B1642=\"\",\"\",VLOOKUP($B1642,_tbl!$A:$E,P$2,0))","v":""},{"$f":"IF($B1642=\"\",\"\",VLOOKUP($B1642,_tbl!$A:$E,Q$2,0))","v":""}]
[null,null,null,2020,2021,2022,2023,2024,2025,2026,2027,2028,2029,{"$f":"IF($B1643=\"\",\"\",VLOOKUP($B1643,_tbl!$A:$E,N$2,0))","v":""},{"$f":"IF($B1643=\"\",\"\",VLOOKUP($B1643,_tbl!$A:$E,O$2,0))","v":""},{"$f":"IF($B1643=\"\",\"\",VLOOKUP($B1643,_tbl!$A:$E,P$2,0))","v":""},{"$f":"IF($B1643=\"\",\"\",VLOOKUP($B1643,_tbl!$A:$E,Q$2,0))","v":""}]
[null,"all_f_Central Urban circulatory.csv","1-4",7.1612267828075003E-6,7.1612267828075003E-6,7.1612267828075003E-6,7.1612267828075003E-6,7.1612267828075003E-6,7.1612267828075003E-6,7.1612267828075003E-6,7.1612267828075003E-6,7.1612267828075003E-6,7.1612267828075003E-6,{"$f":"IF($B1644=\"\",\"\",VLOOKUP($B1644,_tbl!$A:$E,N$2,0))","v":"Female"},{"$f":"IF($B1644=\"\",\"\",VLOOKUP($B1644,_tbl!$A:$E,O$2,0))","v":"Central"},{"$f":"IF($B1644=\"\",\"\",VLOOKUP($B1644,_tbl!$A:$E,P$2,0))","v":"Urban"},{"$f":"IF($B1644=\"\",\"\",VLOOKUP($B1644,_tbl!$A:$E,Q$2,0))","v":"Circulatory"},null,{"$f":"MAX(D1644:M1644)","v":7.1612267828075003E-6},{"$f":"MIN(D1644:M1644)","v":7.1612267828075003E-6}]
[null,"all_f_Central Urban circulatory.csv","5-9",7.9205499238889295E-6,7.9040999996895398E-6,7.9251591391773908E-6,7.9432515277780403E-6,7.9656052395283093E-6,7.9837804709056902E-6,8.0009319796461599E-6,8.0135194662188408E-6,8.0244893787311692E-6,8.03316655561868E-6,{"$f":"IF($B1645=\"\",\"\",VLOOKUP($B1645,_tbl!$A:$E,N$2,0))","v":"Female"},{"$f":"IF($B1645=\"\",\"\",VLOOKUP($B1645,_tbl!$A:$E,O$2,0))","v":"Central"},{"$f":"IF($B1645=\"\",\"\",VLOOKUP($B1645,_tbl!$A:$E,P$2,0))","v":"Urban"},{"$f":"IF($B1645=\"\",\"\",VLOOKUP($B1645,_tbl!$A:$E,Q$2,0))","v":"Circulatory"},null,8.03316655561868E-6,7.9040999996895398E-6]
[null,"all_f_Central Urban circulatory.csv","10-14",9.7596837726838808E-6,9.7480285621368904E-6,9.7376298436258698E-6,9.7234358731657092E-6,9.7007733852279906E-6,9.6787347247549803E-6,9.6572125457512502E-6,9.6379117655226294E-6,9.6190014914689803E-6,9.6015368312118707E-6,{"$f":"IF($B1646=\"\",\"\",VLOOKUP($B1646,_tbl!$A:$E,N$2,0))","v":"Female"},{"$f":"IF($B1646=\"\",\"\",VLOOKUP($B1646,_tbl!$A:$E,O$2,0))","v":"Central"},{"$f":"IF($B1646=\"\",\"\",VLOOKUP($B1646,_tbl!$A:$E,P$2,0))","v":"Urban"},{"$f":"IF($B1646=\"\",\"\",VLOOKUP($B1646,_tbl!$A:$E,Q$2,0))","v":"Circulatory"},null,9.7596837726838808E-6,9.6015368312118707E-6]
[null,"all_f_Central Urban circulatory.csv","15-19",1.2043109438950499E-5,1.2034931935476299E-5,1.19995425465856E-5,1.19595038142377E-5,1.1912683895590201E-5,1.1865727529113301E-5,1.1819111458758901E-5,1.17741551740028E-5,1.17302918813873E-5,1.16879824335937E-5,{"$f":"IF($B1647=\"\",\"\",VLOOKUP($B1647,_tbl!$A:$E,N$2,0))","v":"Female"},{"$f":"IF($B1647=\"\",\"\",VLOOKUP($B1647,_tbl!$A:$E,O$2,0))","v":"Central"},{"$f":"IF($B1647=\"\",\"\",VLOOKUP($B1647,_tbl!$A:$E,P$2,0))","v":"Urban"},{"$f":"IF($B1647=\"\",\"\",VLOOKUP($B1647,_tbl!$A:$E,Q$2,0))","v":"Circulatory"},null,1.2043109438950499E-5,1.16879824335937E-5]
[null,"all_f_Central Urban circulatory.csv","20-24",1.7134233956532399E-5,1.7115906915702101E-5,1.7023714097723098E-5,1.69405696808892E-5,1.6841155731641399E-5,1.67562795954383E-5,1.6674517501766002E-5,1.66056897624266E-5,1.6542185821797401E-5,1.6484255258172601E-5,{"$f":"IF($B1648=\"\",\"\",VLOOKUP($B1648,_tbl!$A:$E,N$2,0))","v":"Female"},{"$f":"IF($B1648=\"\",\"\",VLOOKUP($B1648,_tbl!$A:$E,O$2,0))","v":"Central"},{"$f":"IF($B1648=\"\",\"\",VLOOKUP($B1648,_tbl!$A:$E,P$2,0))","v":"Urban"},{"$f":"IF($B1648=\"\",\"\",VLOOKUP($B1648,_tbl!$A:$E,Q$2,0))","v":"Circulatory"},null,1.7134233956532399E-5,1.6484255258172601E-5]
[null,"all_f_Central Urban circulatory.csv","25-29",2.71156228848008E-5,2.7124297731924401E-5,2.6998395850302202E-5,2.68900597265188E-5,2.67508718932196E-5,2.66389644612895E-5,2.6532699590829799E-5,2.64514909460253E-5,2.63801865494633E-5,2.6318866451207698E-5,{"$f":"IF($B1649=\"\",\"\",VLOOKUP($B1649,_tbl!$A:$E,N$2,0))","v":"Female"},{"$f":"IF($B1649=\"\",\"\",VLOOKUP($B1649,_tbl!$A:$E,O$2,0))","v":"Central"},{"$f":"IF($B1649=\"\",\"\",VLOOKUP($B1649,_tbl!$A:$E,P$2,0))","v":"Urban"},{"$f":"IF($B1649=\"\",\"\",VLOOKUP($B1649,_tbl!$A:$E,Q$2,0))","v":"Circulatory"},null,2.7124297731924401E-5,2.6318866451207698E-5]
[null,"all_f_Central Urban circulatory.csv","30-34",4.6175146963345103E-5,4.6409516323235302E-5,4.6431151797803802E-5,4.6490636924690002E-5,4.65152450412217E-5,4.6571847983201898E-5,4.6628648641718199E-5,4.6715219534640401E-5,4.6814302249873502E-5,4.6925015358075199E-5,{"$f":"IF($B1650=\"\",\"\",VLOOKUP($B1650,_tbl!$A:$E,N$2,0))","v":"Female"},{"$f":"IF($B1650=\"\",\"\",VLOOKUP($B1650,_tbl!$A:$E,O$2,0))","v":"Central"},{"$f":"IF($B1650=\"\",\"\",VLOOKUP($B1650,_tbl!$A:$E,P$2,0))","v":"Urban"},{"$f":"IF($B1650=\"\",\"\",VLOOKUP($B1650,_tbl!$A:$E,Q$2,0))","v":"Circulatory"},null,4.6925015358075199E-5,4.6175146963345103E-5]
[null,"all_f_Central Urban circulatory.csv","35-39",7.8707088513199703E-5,7.89167097587877E-5,7.8883719733842305E-5,7.9003493617163504E-5,7.9095843460740502E-5,7.9261125714109599E-5,7.9414942695316999E-5,7.9621911193878897E-5,7.9854406356669394E-5,8.0111553941061904E-5,{"$f":"IF($B1651=\"\",\"\",VLOOKUP($B1651,_tbl!$A:$E,N$2,0))","v":"Female"},{"$f":"IF($B1651=\"\",\"\",VLOOKUP($B1651,_tbl!$A:$E,O$2,0))","v":"Central"},{"$f":"IF($B1651=\"\",\"\",VLOOKUP($B1651,_tbl!$A:$E,P$2,0))","v":"Urban"},{"$f":"IF($B1651=\"\",\"\",VLOOKUP($B1651,_tbl!$A:$E,Q$2,0))","v":"Circulatory"},null,8.0111553941061904E-5,7.8707088513199703E-5]
[null,"all_f_Central Urban circulatory.csv","40-44",1.3807261479285E-4,1.3647666100869801E-4,1.34863104280577E-4,1.33578968892293E-4,1.3231864077864101E-4,1.3122229340279E-4,1.3014084582828401E-4,1.2917196053826601E-4,1.2827227141156601E-4,1.2744240279591299E-4,{"$f":"IF($B1652=\"\",\"\",VLOOKUP($B1652,_tbl!$A:$E,N$2,0))","v":"Female"},{"$f":"IF($B1652=\"\",\"\",VLOOKUP($B1652,_tbl!$A:$E,O$2,0))","v":"Central"},{"$f":"IF($B1652=\"\",\"\",VLOOKUP($B1652,_tbl!$A:$E,P$2,0))","v":"Urban"},{"$f":"IF($B1652=\"\",\"\",VLOOKUP($B1652,_tbl!$A:$E,Q$2,0))","v":"Circulatory"},null,1.3807261479285E-4,1.2744240279591299E-4]
[null,"all_f_Central Urban circulatory.csv","45-49",2.7088005822302903E-4,2.6949695089646301E-4,2.68280722786527E-4,2.6730401058277402E-4,2.6638300829647801E-4,2.6559607075956498E-4,2.64839440331265E-4,2.6414747798631899E-4,2.6349618713481302E-4,2.62898518704547E-4,{"$f":"IF($B1653=\"\",\"\",VLOOKUP($B1653,_tbl!$A:$E,N$2,0))","v":"Female"},{"$f":"IF($B1653=\"\",\"\",VLOOKUP($B1653,_tbl!$A:$E,O$2,0))","v":"Central"},{"$f":"IF($B1653=\"\",\"\",VLOOKUP($B1653,_tbl!$A:$E,P$2,0))","v":"Urban"},{"$f":"IF($B1653=\"\",\"\",VLOOKUP($B1653,_tbl!$A:$E,Q$2,0))","v":"Circulatory"},null,2.7088005822302903E-4,2.62898518704547E-4]
[null,"all_f_Central Urban circulatory.csv","50-54",5.3647513625856597E-4,5.3095785086539797E-4,5.2721607995464301E-4,5.2206890476196195E-4,5.1704949747521196E-4,5.1177325824432803E-4,5.0710174361072598E-4,5.0239314419336998E-4,4.9781919082614898E-4,4.9344389260808498E-4,{"$f":"IF($B1654=\"\",\"\",VLOOKUP($B1654,_tbl!$A:$E,N$2,0))","v":"Female"},{"$f":"IF($B1654=\"\",\"\",VLOOKUP($B1654,_tbl!$A:$E,O$2,0))","v":"Central"},{"$f":"IF($B1654=\"\",\"\",VLOOKUP($B1654,_tbl!$A:$E,P$2,0))","v":"Urban"},{"$f":"IF($B1654=\"\",\"\",VLOOKUP($B1654,_tbl!$A:$E,Q$2,0))","v":"Circulatory"},null,5.3647513625856597E-4,4.9344389260808498E-4]
[null,"all_f_Central Urban circulatory.csv","55-59",1.0865927207666501E-3,1.0826348188715501E-3,1.0797999408280201E-3,1.0761424618572499E-3,1.0724877849347799E-3,1.0686585644335599E-3,1.0651450992057701E-3,1.0615271542841599E-3,1.05795617100192E-3,1.05448762071235E-3,{"$f":"IF($B1655=\"\",\"\",VLOOKUP($B1655,_tbl!$A:$E,N$2,0))","v":"Female"},{"$f":"IF($B1655=\"\",\"\",VLOOKUP($B1655,_tbl!$A:$E,O$2,0))","v":"Central"},{"$f":"IF($B1655=\"\",\"\",VLOOKUP($B1655,_tbl!$A:$E,P$2,0))","v":"Urban"},{"$f":"IF($B1655=\"\",\"\",VLOOKUP($B1655,_tbl!$A:$E,Q$2,0))","v":"Circulatory"},null,1.0865927207666501E-3,1.05448762071235E-3]
[null,"all_f_Central Urban circulatory.csv","60-64",1.9956965261392502E-3,1.9734220958422498E-3,1.9553699397143001E-3,1.93325300709737E-3,1.9110378621026399E-3,1.8877983201876401E-3,1.86682150861362E-3,1.8451597128252199E-3,1.8237242956634799E-3,1.8029222309176899E-3,{"$f":"IF($B1656=\"\",\"\",VLOOKUP($B1656,_tbl!$A:$E,N$2,0))","v":"Female"},{"$f":"IF($B1656=\"\",\"\",VLOOKUP($B1656,_tbl!$A:$E,O$2,0))","v":"Central"},{"$f":"IF($B1656=\"\",\"\",VLOOKUP($B1656,_tbl!$A:$E,P$2,0))","v":"Urban"},{"$f":"IF($B1656=\"\",\"\",VLOOKUP($B1656,_tbl!$A:$E,Q$2,0))","v":"Circulatory"},null,1.9956965261392502E-3,1.8029222309176899E-3]
[null,"all_f_Central Urban circulatory.csv","65-69",3.66553289969515E-3,3.6005745559863698E-3,3.5370254647124999E-3,3.4673297450760702E-3,3.3967032362080601E-3,3.3249722823536498E-3,3.2590541754560299E-3,3.1921075907056801E-3,3.1259804300626799E-3,3.0619364812341501E-3,{"$f":"IF($B1657=\"\",\"\",VLOOKUP($B1657,_tbl!$A:$E,N$2,0))","v":"Female"},{"$f":"IF($B1657=\"\",\"\",VLOOKUP($B1657,_tbl!$A:$E,O$2,0))","v":"Central"},{"$f":"IF($B1657=\"\",\"\",VLOOKUP($B1657,_tbl!$A:$E,P$2,0))","v":"Urban"},{"$f":"IF($B1657=\"\",\"\",VLOOKUP($B1657,_tbl!$A:$E,Q$2,0))","v":"Circulatory"},null,3.66553289969515E-3,3.0619364812341501E-3]
[null,"all_f_Central Urban circulatory.csv","70-74",7.5182458550104997E-3,7.3967667384098896E-3,7.2799463660623903E-3,7.1537376947045797E-3,7.0237038086237999E-3,6.8914815388792299E-3,6.7718535336733603E-3,6.6488233313842298E-3,6.5262260384189603E-3,6.4075628176456997E-3,{"$f":"IF($B1658=\"\",\"\",VLOOKUP($B1658,_tbl!$A:$E,N$2,0))","v":"Female"},{"$f":"IF($B1658=\"\",\"\",VLOOKUP($B1658,_tbl!$A:$E,O$2,0))","v":"Central"},{"$f":"IF($B1658=\"\",\"\",VLOOKUP($B1658,_tbl!$A:$E,P$2,0))","v":"Urban"},{"$f":"IF($B1658=\"\",\"\",VLOOKUP($B1658,_tbl!$A:$E,Q$2,0))","v":"Circulatory"},null,7.5182458550104997E-3,6.4075628176456997E-3]
[null,"all_f_Central Urban circulatory.csv","75-79",1.7671284708043598E-2,1.75099970294012E-2,1.7385789042245602E-2,1.72511462556264E-2,1.7109212250003201E-2,1.6961904981882901E-2,1.6836170008062801E-2,1.67011697474806E-2,1.6563584799074601E-2,1.6430283287399001E-2,{"$f":"IF($B1659=\"\",\"\",VLOOKUP($B1659,_tbl!$A:$E,N$2,0))","v":"Female"},{"$f":"IF($B1659=\"\",\"\",VLOOKUP($B1659,_tbl!$A:$E,O$2,0))","v":"Central"},{"$f":"IF($B1659=\"\",\"\",VLOOKUP($B1659,_tbl!$A:$E,P$2,0))","v":"Urban"},{"$f":"IF($B1659=\"\",\"\",VLOOKUP($B1659,_tbl!$A:$E,Q$2,0))","v":"Circulatory"},null,1.7671284708043598E-2,1.6430283287399001E-2]
[null,"all_f_Central Urban circulatory.csv","80-84",4.4960859524567701E-2,4.4500435119114001E-2,4.4376746149021699E-2,4.4225779799832401E-2,4.4058741678071903E-2,4.38643168870557E-2,4.3787963495709299E-2,4.3650236351550603E-2,4.3485568111586499E-2,4.3332742957263803E-2,{"$f":"IF($B1660=\"\",\"\",VLOOKUP($B1660,_tbl!$A:$E,N$2,0))","v":"Female"},{"$f":"IF($B1660=\"\",\"\",VLOOKUP($B1660,_tbl!$A:$E,O$2,0))","v":"Central"},{"$f":"IF($B1660=\"\",\"\",VLOOKUP($B1660,_tbl!$A:$E,P$2,0))","v":"Urban"},{"$f":"IF($B1660=\"\",\"\",VLOOKUP($B1660,_tbl!$A:$E,Q$2,0))","v":"Circulatory"},null,4.4960859524567701E-2,4.3332742957263803E-2]
[null,"all_f_Central Urban circulatory.csv","85+",0.11953418960852701,0.11867130356614999,0.118926765616828,0.119305164023999,0.119716851619953,0.120111425863672,0.120889517344415,0.12148089953616199,0.121981868046894,0.122520596224043,{"$f":"IF($B1661=\"\",\"\",VLOOKUP($B1661,_tbl!$A:$E,N$2,0))","v":"Female"},{"$f":"IF($B1661=\"\",\"\",VLOOKUP($B1661,_tbl!$A:$E,O$2,0))","v":"Central"},{"$f":"IF($B1661=\"\",\"\",VLOOKUP($B1661,_tbl!$A:$E,P$2,0))","v":"Urban"},{"$f":"IF($B1661=\"\",\"\",VLOOKUP($B1661,_tbl!$A:$E,Q$2,0))","v":"Circulatory"},null,0.122520596224043,0.11867130356614999]
[null,null,null,null,null,null,null,null,null,null,null,null,null,{"$f":"IF($B1662=\"\",\"\",VLOOKUP($B1662,_tbl!$A:$E,N$2,0))","v":""},{"$f":"IF($B1662=\"\",\"\",VLOOKUP($B1662,_tbl!$A:$E,O$2,0))","v":""},{"$f":"IF($B1662=\"\",\"\",VLOOKUP($B1662,_tbl!$A:$E,P$2,0))","v":""},{"$f":"IF($B1662=\"\",\"\",VLOOKUP($B1662,_tbl!$A:$E,Q$2,0))","v":""}]
[null,null,null,2020,2021,2022,2023,2024,2025,2026,2027,2028,2029,{"$f":"IF($B1663=\"\",\"\",VLOOKUP($B1663,_tbl!$A:$E,N$2,0))","v":""},{"$f":"IF($B1663=\"\",\"\",VLOOKUP($B1663,_tbl!$A:$E,O$2,0))","v":""},{"$f":"IF($B1663=\"\",\"\",VLOOKUP($B1663,_tbl!$A:$E,P$2,0))","v":""},{"$f":"IF($B1663=\"\",\"\",VLOOKUP($B1663,_tbl!$A:$E,Q$2,0))","v":""}]
[null,"all_f_Central Urban congenital.csv","1-4",6.17197092327566E-5,6.2121316564324E-5,6.2233336477922102E-5,6.2414609152599797E-5,6.2499177748172706E-5,6.2672771605836393E-5,6.2875969629380202E-5,6.3179866307595402E-5,6.3515603413413804E-5,6.3874621190860705E-5,{"$f":"IF($B1664=\"\",\"\",VLOOKUP($B1664,_tbl!$A:$E,N$2,0))","v":"Female"},{"$f":"IF($B1664=\"\",\"\",VLOOKUP($B1664,_tbl!$A:$E,O$2,0))","v":"Central"},{"$f":"IF($B1664=\"\",\"\",VLOOKUP($B1664,_tbl!$A:$E,P$2,0))","v":"Urban"},{"$f":"IF($B1664=\"\",\"\",VLOOKUP($B1664,_tbl!$A:$E,Q$2,0))","v":"Congenital"},null,{"$f":"MAX(D1664:M1664)","v":6.3874621190860705E-5},{"$f":"MIN(D1664:M1664)","v":6.17197092327566E-5}]
[null,"all_f_Central Urban congenital.csv","5-9",1.6661950693418298E-5,1.6720533989912701E-5,1.6695239177397999E-5,1.66718273915501E-5,1.6655343948860701E-5,1.6634666330436699E-5,1.6615820670530901E-5,1.6588649765350399E-5,1.6556670810853099E-5,1.6521986603162201E-5,{"$f":"IF($B1665=\"\",\"\",VLOOKUP($B1665,_tbl!$A:$E,N$2,0))","v":"Female"},{"$f":"IF($B1665=\"\",\"\",VLOOKUP($B1665,_tbl!$A:$E,O$2,0))","v":"Central"},{"$f":"IF($B1665=\"\",\"\",VLOOKUP($B1665,_tbl!$A:$E,P$2,0))","v":"Urban"},{"$f":"IF($B1665=\"\",\"\",VLOOKUP($B1665,_tbl!$A:$E,Q$2,0))","v":"Congenital"},null,1.6720533989912701E-5,1.6521986603162201E-5]
[null,"all_f_Central Urban congenital.csv","10-14",1.03693537767114E-5,1.02851116861281E-5,1.0201189103580599E-5,1.01137394771599E-5,1.0023882952473501E-5,9.9298980317852899E-6,9.8364379802683304E-6,9.7372969750802492E-6,9.6340595089035604E-6,9.5295166703472798E-6,{"$f":"IF($B1666=\"\",\"\",VLOOKUP($B1666,_tbl!$A:$E,N$2,0))","v":"Female"},{"$f":"IF($B1666=\"\",\"\",VLOOKUP($B1666,_tbl!$A:$E,O$2,0))","v":"Central"},{"$f":"IF($B1666=\"\",\"\",VLOOKUP($B1666,_tbl!$A:$E,P$2,0))","v":"Urban"},{"$f":"IF($B1666=\"\",\"\",VLOOKUP($B1666,_tbl!$A:$E,Q$2,0))","v":"Congenital"},null,1.03693537767114E-5,9.5295166703472798E-6]
[null,"all_f_Central Urban congenital.csv","15-19",9.0261055118268194E-6,9.0591017824917697E-6,9.0529943019738896E-6,9.0510618884382797E-6,9.0385012917586701E-6,9.03432955878657E-6,9.0324308581467993E-6,9.0383581592470101E-6,9.0470573910270198E-6,9.0589991199415795E-6,{"$f":"IF($B1667=\"\",\"\",VLOOKUP($B1667,_tbl!$A:$E,N$2,0))","v":"Female"},{"$f":"IF($B1667=\"\",\"\",VLOOKUP($B1667,_tbl!$A:$E,O$2,0))","v":"Central"},{"$f":"IF($B1667=\"\",\"\",VLOOKUP($B1667,_tbl!$A:$E,P$2,0))","v":"Urban"},{"$f":"IF($B1667=\"\",\"\",VLOOKUP($B1667,_tbl!$A:$E,Q$2,0))","v":"Congenital"},null,9.0591017824917697E-6,9.0261055118268194E-6]
[null,"all_f_Central Urban congenital.csv","20-24",7.1481550323038696E-6,7.1409078890735197E-6,7.1456057096703301E-6,7.1472583278498496E-6,7.1518980242684803E-6,7.1527223132923696E-6,7.1521117465013001E-6,7.14901073496377E-6,7.1453199653025097E-6,7.1407547319222398E-6,{"$f":"IF($B1668=\"\",\"\",VLOOKUP($B1668,_tbl!$A:$E,N$2,0))","v":"Female"},{"$f":"IF($B1668=\"\",\"\",VLOOKUP($B1668,_tbl!$A:$E,O$2,0))","v":"Central"},{"$f":"IF($B1668=\"\",\"\",VLOOKUP($B1668,_tbl!$A:$E,P$2,0))","v":"Urban"},{"$f":"IF($B1668=\"\",\"\",VLOOKUP($B1668,_tbl!$A:$E,Q$2,0))","v":"Congenital"},null,7.1527223132923696E-6,7.1407547319222398E-6]
[null,"all_f_Central Urban congenital.csv","25-29",5.6566553974006096E-6,5.6182125309425302E-6,5.5610791872239098E-6,5.5047834099457204E-6,5.4483822299562003E-6,5.3938008211627398E-6,5.3395171203484199E-6,5.2876569956197098E-6,5.2379527869500001E-6,5.1901057628905501E-6,{"$f":"IF($B1669=\"\",\"\",VLOOKUP($B1669,_tbl!$A:$E,N$2,0))","v":"Female"},{"$f":"IF($B1669=\"\",\"\",VLOOKUP($B1669,_tbl!$A:$E,O$2,0))","v":"Central"},{"$f":"IF($B1669=\"\",\"\",VLOOKUP($B1669,_tbl!$A:$E,P$2,0))","v":"Urban"},{"$f":"IF($B1669=\"\",\"\",VLOOKUP($B1669,_tbl!$A:$E,Q$2,0))","v":"Congenital"},null,5.6566553974006096E-6,5.1901057628905501E-6]
[null,"all_f_Central Urban congenital.csv",null,null,null,null,null,null,null,null,null,null,null,{"$f":"IF($B1670=\"\",\"\",VLOOKUP($B1670,_tbl!$A:$E,N$2,0))","v":"Female"},{"$f":"IF($B1670=\"\",\"\",VLOOKUP($B1670,_tbl!$A:$E,O$2,0))","v":"Central"},{"$f":"IF($B1670=\"\",\"\",VLOOKUP($B1670,_tbl!$A:$E,P$2,0))","v":"Urban"},{"$f":"IF($B1670=\"\",\"\",VLOOKUP($B1670,_tbl!$A:$E,Q$2,0))","v":"Congenital"},null,0,0]
[null,"all_f_Central Urban congenital.csv",null,null,null,null,null,null,null,null,null,null,null,{"$f":"IF($B1671=\"\",\"\",VLOOKUP($B1671,_tbl!$A:$E,N$2,0))","v":"Female"},{"$f":"IF($B1671=\"\",\"\",VLOOKUP($B1671,_tbl!$A:$E,O$2,0))","v":"Central"},{"$f":"IF($B1671=\"\",\"\",VLOOKUP($B1671,_tbl!$A:$E,P$2,0))","v":"Urban"},{"$f":"IF($B1671=\"\",\"\",VLOOKUP($B1671,_tbl!$A:$E,Q$2,0))","v":"Congenital"},null,0,0]
[null,"all_f_Central Urban congenital.csv",null,null,null,null,null,null,null,null,null,null,null,{"$f":"IF($B1672=\"\",\"\",VLOOKUP($B1672,_tbl!$A:$E,N$2,0))","v":"Female"},{"$f":"IF($B1672=\"\",\"\",VLOOKUP($B1672,_tbl!$A:$E,O$2,0))","v":"Central"},{"$f":"IF($B1672=\"\",\"\",VLOOKUP($B1672,_tbl!$A:$E,P$2,0))","v":"Urban"},{"$f":"IF($B1672=\"\",\"\",VLOOKUP($B1672,_tbl!$A:$E,Q$2,0))","v":"Congenital"},null,0,0]
[null,"all_f_Central Urban congenital.csv",null,null,null,null,null,null,null,null,null,null,null,{"$f":"IF($B1673=\"\",\"\",VLOOKUP($B1673,_tbl!$A:$E,N$2,0))","v":"Female"},{"$f":"IF($B1673=\"\",\"\",VLOOKUP($B1673,_tbl!$A:$E,O$2,0))","v":"Central"},{"$f":"IF($B1673=\"\",\"\",VLOOKUP($B1673,_tbl!$A:$E,P$2,0))","v":"Urban"},{"$f":"IF($B1673=\"\",\"\",VLOOKUP($B1673,_tbl!$A:$E,Q$2,0))","v":"Congenital"},null,0,0]
[null,"all_f_Central Urban congenital.csv",null,null,null,null,null,null,null,null,null,null,null,{"$f":"IF($B1674=\"\",\"\",VLOOKUP($B1674,_tbl!$A:$E,N$2,0))","v":"Female"},{"$f":"IF($B1674=\"\",\"\",VLOOKUP($B1674,_tbl!$A:$E,O$2,0))","v":"Central"},{"$f":"IF($B1674=\"\",\"\",VLOOKUP($B1674,_tbl!$A:$E,P$2,0))","v":"Urban"},{"$f":"IF($B1674=\"\",\"\",VLOOKUP($B1674,_tbl!$A:$E,Q$2,0))","v":"Congenital"},null,0,0]
[null,"all_f_Central Urban congenital.csv",null,null,null,null,null,null,null,null,null,null,null,{"$f":"IF($B1675=\"\",\"\",VLOOKUP($B1675,_tbl!$A:$E,N$2,0))","v":"Female"},{"$f":"IF($B1675=\"\",\"\",VLOOKUP($B1675,_tbl!$A:$E,O$2,0))","v":"Central"},{"$f":"IF($B1675=\"\",\"\",VLOOKUP($B1675,_tbl!$A:$E,P$2,0))","v":"Urban"},{"$f":"IF($B1675=\"\",\"\",VLOOKUP($B1675,_tbl!$A:$E,Q$2,0))","v":"Congenital"},null,0,0]
[null,"all_f_Central Urban congenital.csv",null,null,null,null,null,null,null,null,null,null,null,{"$f":"IF($B1676=\"\",\"\",VLOOKUP($B1676,_tbl!$A:$E,N$2,0))","v":"Female"},{"$f":"IF($B1676=\"\",\"\",VLOOKUP($B1676,_tbl!$A:$E,O$2,0))","v":"Central"},{"$f":"IF($B1676=\"\",\"\",VLOOKUP($B1676,_tbl!$A:$E,P$2,0))","v":"Urban"},{"$f":"IF($B1676=\"\",\"\",VLOOKUP($B1676,_tbl!$A:$E,Q$2,0))","v":"Congenital"},null,0,0]
[null,"all_f_Central Urban congenital.csv",null,null,null,null,null,null,null,null,null,null,null,{"$f":"IF($B1677=\"\",\"\",VLOOKUP($B1677,_tbl!$A:$E,N$2,0))","v":"Female"},{"$f":"IF($B1677=\"\",\"\",VLOOKUP($B1677,_tbl!$A:$E,O$2,0))","v":"Central"},{"$f":"IF($B1677=\"\",\"\",VLOOKUP($B1677,_tbl!$A:$E,P$2,0))","v":"Urban"},{"$f":"IF($B1677=\"\",\"\",VLOOKUP($B1677,_tbl!$A:$E,Q$2,0))","v":"Congenital"},null,0,0]
[null,"all_f_Central Urban congenital.csv",null,null,null,null,null,null,null,null,null,null,null,{"$f":"IF($B1678=\"\",\"\",VLOOKUP($B1678,_tbl!$A:$E,N$2,0))","v":"Female"},{"$f":"IF($B1678=\"\",\"\",VLOOKUP($B1678,_tbl!$A:$E,O$2,0))","v":"Central"},{"$f":"IF($B1678=\"\",\"\",VLOOKUP($B1678,_tbl!$A:$E,P$2,0))","v":"Urban"},{"$f":"IF($B1678=\"\",\"\",VLOOKUP($B1678,_tbl!$A:$E,Q$2,0))","v":"Congenital"},null,0,0]
[null,"all_f_Central Urban congenital.csv",null,null,null,null,null,null,null,null,null,null,null,{"$f":"IF($B1679=\"\",\"\",VLOOKUP($B1679,_tbl!$A:$E,N$2,0))","v":"Female"},{"$f":"IF($B1679=\"\",\"\",VLOOKUP($B1679,_tbl!$A:$E,O$2,0))","v":"Central"},{"$f":"IF($B1679=\"\",\"\",VLOOKUP($B1679,_tbl!$A:$E,P$2,0))","v":"Urban"},{"$f":"IF($B1679=\"\",\"\",VLOOKUP($B1679,_tbl!$A:$E,Q$2,0))","v":"Congenital"},null,0,0]
[null,"all_f_Central Urban congenital.csv",null,null,null,null,null,null,null,null,null,null,null,{"$f":"IF($B1680=\"\",\"\",VLOOKUP($B1680,_tbl!$A:$E,N$2,0))","v":"Female"},{"$f":"IF($B1680=\"\",\"\",VLOOKUP($B1680,_tbl!$A:$E,O$2,0))","v":"Central"},{"$f":"IF($B1680=\"\",\"\",VLOOKUP($B1680,_tbl!$A:$E,P$2,0))","v":"Urban"},{"$f":"IF($B1680=\"\",\"\",VLOOKUP($B1680,_tbl!$A:$E,Q$2,0))","v":"Congenital"},null,0,0]
[null,"all_f_Central Urban congenital.csv",null,null,null,null,null,null,null,null,null,null,null,{"$f":"IF($B1681=\"\",\"\",VLOOKUP($B1681,_tbl!$A:$E,N$2,0))","v":"Female"},{"$f":"IF($B1681=\"\",\"\",VLOOKUP($B1681,_tbl!$A:$E,O$2,0))","v":"Central"},{"$f":"IF($B1681=\"\",\"\",VLOOKUP($B1681,_tbl!$A:$E,P$2,0))","v":"Urban"},{"$f":"IF($B1681=\"\",\"\",VLOOKUP($B1681,_tbl!$A:$E,Q$2,0))","v":"Congenital"},null,0,0]
[null,null,null,null,null,null,null,null,null,null,null,null,null,{"$f":"IF($B1682=\"\",\"\",VLOOKUP($B1682,_tbl!$A:$E,N$2,0))","v":""},{"$f":"IF($B1682=\"\",\"\",VLOOKUP($B1682,_tbl!$A:$E,O$2,0))","v":""},{"$f":"IF($B1682=\"\",\"\",VLOOKUP($B1682,_tbl!$A:$E,P$2,0))","v":""},{"$f":"IF($B1682=\"\",\"\",VLOOKUP($B1682,_tbl!$A:$E,Q$2,0))","v":""}]
[null,null,null,2020,2021,2022,2023,2024,2025,2026,2027,2028,2029,{"$f":"IF($B1683=\"\",\"\",VLOOKUP($B1683,_tbl!$A:$E,N$2,0))","v":""},{"$f":"IF($B1683=\"\",\"\",VLOOKUP($B1683,_tbl!$A:$E,O$2,0))","v":""},{"$f":"IF($B1683=\"\",\"\",VLOOKUP($B1683,_tbl!$A:$E,P$2,0))","v":""},{"$f":"IF($B1683=\"\",\"\",VLOOKUP($B1683,_tbl!$A:$E,Q$2,0))","v":""}]
[null,"all_f_Central Urban diabetes.csv","30-34",2.9251615999219002E-6,3.0062908648893302E-6,3.0595491042957699E-6,3.11546971375541E-6,3.1668610640630801E-6,3.2208507596446998E-6,3.2733918071223E-6,3.32840283736357E-6,3.3838675599339399E-6,3.4395236869765299E-6,{"$f":"IF($B1684=\"\",\"\",VLOOKUP($B1684,_tbl!$A:$E,N$2,0))","v":"Female"},{"$f":"IF($B1684=\"\",\"\",VLOOKUP($B1684,_tbl!$A:$E,O$2,0))","v":"Central"},{"$f":"IF($B1684=\"\",\"\",VLOOKUP($B1684,_tbl!$A:$E,P$2,0))","v":"Urban"},{"$f":"IF($B1684=\"\",\"\",VLOOKUP($B1684,_tbl!$A:$E,Q$2,0))","v":"Diabetes"},null,{"$f":"MAX(D1684:M1684)","v":3.4395236869765299E-6},{"$f":"MIN(D1684:M1684)","v":2.9251615999219002E-6}]
[null,"all_f_Central Urban diabetes.csv","35-39",7.7559613452768296E-6,7.9235405893132194E-6,8.0158301047260499E-6,8.1477037397898498E-6,8.2638127086124102E-6,8.3928979325383202E-6,8.5062629297622397E-6,8.6263794271093894E-6,8.7450452202150001E-6,8.8627240266031599E-6,{"$f":"IF($B1685=\"\",\"\",VLOOKUP($B1685,_tbl!$A:$E,N$2,0))","v":"Female"},{"$f":"IF($B1685=\"\",\"\",VLOOKUP($B1685,_tbl!$A:$E,O$2,0))","v":"Central"},{"$f":"IF($B1685=\"\",\"\",VLOOKUP($B1685,_tbl!$A:$E,P$2,0))","v":"Urban"},{"$f":"IF($B1685=\"\",\"\",VLOOKUP($B1685,_tbl!$A:$E,Q$2,0))","v":"Diabetes"},null,8.8627240266031599E-6,7.7559613452768296E-6]
[null,"all_f_Central Urban diabetes.csv","40-44",1.69956544715109E-5,1.6997863011562001E-5,1.6815681766263501E-5,1.67970952009273E-5,1.6742945686837999E-5,1.6750328342584401E-5,1.6719028111345602E-5,1.6721716485786599E-5,1.6730050382027801E-5,1.6746451967761599E-5,{"$f":"IF($B1686=\"\",\"\",VLOOKUP($B1686,_tbl!$A:$E,N$2,0))","v":"Female"},{"$f":"IF($B1686=\"\",\"\",VLOOKUP($B1686,_tbl!$A:$E,O$2,0))","v":"Central"},{"$f":"IF($B1686=\"\",\"\",VLOOKUP($B1686,_tbl!$A:$E,P$2,0))","v":"Urban"},{"$f":"IF($B1686=\"\",\"\",VLOOKUP($B1686,_tbl!$A:$E,Q$2,0))","v":"Diabetes"},null,1.6997863011562001E-5,1.6719028111345602E-5]
[null,"all_f_Central Urban diabetes.csv","45-49",3.5868707876712098E-5,3.5766304522217199E-5,3.53230165453815E-5,3.5142762797170003E-5,3.4916886830057702E-5,3.4793957650864902E-5,3.4613415563130201E-5,3.4488149837169601E-5,3.4372927632018002E-5,3.4271996324078799E-5,{"$f":"IF($B1687=\"\",\"\",VLOOKUP($B1687,_tbl!$A:$E,N$2,0))","v":"Female"},{"$f":"IF($B1687=\"\",\"\",VLOOKUP($B1687,_tbl!$A:$E,O$2,0))","v":"Central"},{"$f":"IF($B1687=\"\",\"\",VLOOKUP($B1687,_tbl!$A:$E,P$2,0))","v":"Urban"},{"$f":"IF($B1687=\"\",\"\",VLOOKUP($B1687,_tbl!$A:$E,Q$2,0))","v":"Diabetes"},null,3.5868707876712098E-5,3.4271996324078799E-5]
[null,"all_f_Central Urban diabetes.csv","50-54",6.8155212090384901E-5,6.7853248596015507E-5,6.7253242565614202E-5,6.6659977169574897E-5,6.6052578135417005E-5,6.5451684659405295E-5,6.4836249845052105E-5,6.4222304081637402E-5,6.3615174066031899E-5,6.3015116357164605E-5,{"$f":"IF($B1688=\"\",\"\",VLOOKUP($B1688,_tbl!$A:$E,N$2,0))","v":"Female"},{"$f":"IF($B1688=\"\",\"\",VLOOKUP($B1688,_tbl!$A:$E,O$2,0))","v":"Central"},{"$f":"IF($B1688=\"\",\"\",VLOOKUP($B1688,_tbl!$A:$E,P$2,0))","v":"Urban"},{"$f":"IF($B1688=\"\",\"\",VLOOKUP($B1688,_tbl!$A:$E,Q$2,0))","v":"Diabetes"},null,6.8155212090384901E-5,6.3015116357164605E-5]
[null,"all_f_Central Urban diabetes.csv","55-59",1.3731963459272199E-4,1.35003248854034E-4,1.3267926861948101E-4,1.3013898302228599E-4,1.2760248593074599E-4,1.25044863144504E-4,1.2259159364501901E-4,1.20139554228328E-4,1.17728677907801E-4,1.15373838271518E-4,{"$f":"IF($B1689=\"\",\"\",VLOOKUP($B1689,_tbl!$A:$E,N$2,0))","v":"Female"},{"$f":"IF($B1689=\"\",\"\",VLOOKUP($B1689,_tbl!$A:$E,O$2,0))","v":"Central"},{"$f":"IF($B1689=\"\",\"\",VLOOKUP($B1689,_tbl!$A:$E,P$2,0))","v":"Urban"},{"$f":"IF($B1689=\"\",\"\",VLOOKUP($B1689,_tbl!$A:$E,Q$2,0))","v":"Diabetes"},null,1.3731963459272199E-4,1.15373838271518E-4]
[null,"all_f_Central Urban diabetes.csv","60-64",2.3623347777167099E-4,2.27948777866677E-4,2.21690463097522E-4,2.13930020994628E-4,2.06180435887524E-4,1.9805603784881E-4,1.9076578655853501E-4,1.83192924074608E-4,1.7567514894481899E-4,1.6836970684833E-4,{"$f":"IF($B1690=\"\",\"\",VLOOKUP($B1690,_tbl!$A:$E,N$2,0))","v":"Female"},{"$f":"IF($B1690=\"\",\"\",VLOOKUP($B1690,_tbl!$A:$E,O$2,0))","v":"Central"},{"$f":"IF($B1690=\"\",\"\",VLOOKUP($B1690,_tbl!$A:$E,P$2,0))","v":"Urban"},{"$f":"IF($B1690=\"\",\"\",VLOOKUP($B1690,_tbl!$A:$E,Q$2,0))","v":"Diabetes"},null,2.3623347777167099E-4,1.6836970684833E-4]
[null,"all_f_Central Urban diabetes.csv","65-69",4.6626558828800701E-4,4.6058940650047799E-4,4.5490817765105502E-4,4.4672042936759899E-4,4.3782517934606201E-4,4.2822059065797201E-4,4.1957333373376801E-4,4.1038340624038303E-4,4.0111345789442402E-4,3.9206519323956799E-4,{"$f":"IF($B1691=\"\",\"\",VLOOKUP($B1691,_tbl!$A:$E,N$2,0))","v":"Female"},{"$f":"IF($B1691=\"\",\"\",VLOOKUP($B1691,_tbl!$A:$E,O$2,0))","v":"Central"},{"$f":"IF($B1691=\"\",\"\",VLOOKUP($B1691,_tbl!$A:$E,P$2,0))","v":"Urban"},{"$f":"IF($B1691=\"\",\"\",VLOOKUP($B1691,_tbl!$A:$E,Q$2,0))","v":"Diabetes"},null,4.6626558828800701E-4,3.9206519323956799E-4]
[null,"all_f_Central Urban diabetes.csv","70-74",9.6082186575318805E-4,9.5891438700521005E-4,9.5637397713015202E-4,9.5204363708083499E-4,9.4697218665805102E-4,9.4135697522703201E-4,9.36313383625003E-4,9.3076740158000903E-4,9.25051583221766E-4,9.1943476971652999E-4,{"$f":"IF($B1692=\"\",\"\",VLOOKUP($B1692,_tbl!$A:$E,N$2,0))","v":"Female"},{"$f":"IF($B1692=\"\",\"\",VLOOKUP($B1692,_tbl!$A:$E,O$2,0))","v":"Central"},{"$f":"IF($B1692=\"\",\"\",VLOOKUP($B1692,_tbl!$A:$E,P$2,0))","v":"Urban"},{"$f":"IF($B1692=\"\",\"\",VLOOKUP($B1692,_tbl!$A:$E,Q$2,0))","v":"Diabetes"},null,9.6082186575318805E-4,9.1943476971652999E-4]
[null,"all_f_Central Urban diabetes.csv","75-79",1.6081000309410801E-3,1.6077463833927201E-3,1.6045940429848099E-3,1.6025029757146599E-3,1.60069260050141E-3,1.59935823640786E-3,1.5968810827220899E-3,1.59525072795643E-3,1.5940752289503599E-3,1.59289907794249E-3,{"$f":"IF($B1693=\"\",\"\",VLOOKUP($B1693,_tbl!$A:$E,N$2,0))","v":"Female"},{"$f":"IF($B1693=\"\",\"\",VLOOKUP($B1693,_tbl!$A:$E,O$2,0))","v":"Central"},{"$f":"IF($B1693=\"\",\"\",VLOOKUP($B1693,_tbl!$A:$E,P$2,0))","v":"Urban"},{"$f":"IF($B1693=\"\",\"\",VLOOKUP($B1693,_tbl!$A:$E,Q$2,0))","v":"Diabetes"},null,1.6081000309410801E-3,1.59289907794249E-3]
[null,"all_f_Central Urban diabetes.csv","80-84",2.3315374693841299E-3,2.3078758809499298E-3,2.3087833569107701E-3,2.3063398030382098E-3,2.3032239145190899E-3,2.2979929632276101E-3,2.3019040086963202E-3,2.3009502793801401E-3,2.2978611352053101E-3,2.29569133564017E-3,{"$f":"IF($B1694=\"\",\"\",VLOOKUP($B1694,_tbl!$A:$E,N$2,0))","v":"Female"},{"$f":"IF($B1694=\"\",\"\",VLOOKUP($B1694,_tbl!$A:$E,O$2,0))","v":"Central"},{"$f":"IF($B1694=\"\",\"\",VLOOKUP($B1694,_tbl!$A:$E,P$2,0))","v":"Urban"},{"$f":"IF($B1694=\"\",\"\",VLOOKUP($B1694,_tbl!$A:$E,Q$2,0))","v":"Diabetes"},null,2.3315374693841299E-3,2.29569133564017E-3]
[null,"all_f_Central Urban diabetes.csv","85+",3.1091291935743401E-3,3.0281395014255101E-3,3.0144826067204701E-3,3.00257227974825E-3,2.9905673177977698E-3,2.9752117528664798E-3,2.98084115787469E-3,2.9767192511088798E-3,2.9684540748966901E-3,2.9627870918756899E-3,{"$f":"IF($B1695=\"\",\"\",VLOOKUP($B1695,_tbl!$A:$E,N$2,0))","v":"Female"},{"$f":"IF($B1695=\"\",\"\",VLOOKUP($B1695,_tbl!$A:$E,O$2,0))","v":"Central"},{"$f":"IF($B1695=\"\",\"\",VLOOKUP($B1695,_tbl!$A:$E,P$2,0))","v":"Urban"},{"$f":"IF($B1695=\"\",\"\",VLOOKUP($B1695,_tbl!$A:$E,Q$2,0))","v":"Diabetes"},null,3.1091291935743401E-3,2.9627870918756899E-3]
[null,"all_f_Central Urban diabetes.csv",null,null,null,null,null,null,null,null,null,null,null,{"$f":"IF($B1696=\"\",\"\",VLOOKUP($B1696,_tbl!$A:$E,N$2,0))","v":"Female"},{"$f":"IF($B1696=\"\",\"\",VLOOKUP($B1696,_tbl!$A:$E,O$2,0))","v":"Central"},{"$f":"IF($B1696=\"\",\"\",VLOOKUP($B1696,_tbl!$A:$E,P$2,0))","v":"Urban"},{"$f":"IF($B1696=\"\",\"\",VLOOKUP($B1696,_tbl!$A:$E,Q$2,0))","v":"Diabetes"},null,0,0]
[null,"all_f_Central Urban diabetes.csv",null,null,null,null,null,null,null,null,null,null,null,{"$f":"IF($B1697=\"\",\"\",VLOOKUP($B1697,_tbl!$A:$E,N$2,0))","v":"Female"},{"$f":"IF($B1697=\"\",\"\",VLOOKUP($B1697,_tbl!$A:$E,O$2,0))","v":"Central"},{"$f":"IF($B1697=\"\",\"\",VLOOKUP($B1697,_tbl!$A:$E,P$2,0))","v":"Urban"},{"$f":"IF($B1697=\"\",\"\",VLOOKUP($B1697,_tbl!$A:$E,Q$2,0))","v":"Diabetes"},null,0,0]
[null,"all_f_Central Urban diabetes.csv",null,null,null,null,null,null,null,null,null,null,null,{"$f":"IF($B1698=\"\",\"\",VLOOKUP($B1698,_tbl!$A:$E,N$2,0))","v":"Female"},{"$f":"IF($B1698=\"\",\"\",VLOOKUP($B1698,_tbl!$A:$E,O$2,0))","v":"Central"},{"$f":"IF($B1698=\"\",\"\",VLOOKUP($B1698,_tbl!$A:$E,P$2,0))","v":"Urban"},{"$f":"IF($B1698=\"\",\"\",VLOOKUP($B1698,_tbl!$A:$E,Q$2,0))","v":"Diabetes"},null,0,0]
[null,"all_f_Central Urban diabetes.csv",null,null,null,null,null,null,null,null,null,null,null,{"$f":"IF($B1699=\"\",\"\",VLOOKUP($B1699,_tbl!$A:$E,N$2,0))","v":"Female"},{"$f":"IF($B1699=\"\",\"\",VLOOKUP($B1699,_tbl!$A:$E,O$2,0))","v":"Central"},{"$f":"IF($B1699=\"\",\"\",VLOOKUP($B1699,_tbl!$A:$E,P$2,0))","v":"Urban"},{"$f":"IF($B1699=\"\",\"\",VLOOKUP($B1699,_tbl!$A:$E,Q$2,0))","v":"Diabetes"},null,0,0]
[null,"all_f_Central Urban diabetes.csv",null,null,null,null,null,null,null,null,null,null,null,{"$f":"IF($B1700=\"\",\"\",VLOOKUP($B1700,_tbl!$A:$E,N$2,0))","v":"Female"},{"$f":"IF($B1700=\"\",\"\",VLOOKUP($B1700,_tbl!$A:$E,O$2,0))","v":"Central"},{"$f":"IF($B1700=\"\",\"\",VLOOKUP($B1700,_tbl!$A:$E,P$2,0))","v":"Urban"},{"$f":"IF($B1700=\"\",\"\",VLOOKUP($B1700,_tbl!$A:$E,Q$2,0))","v":"Diabetes"},null,0,0]
[null,"all_f_Central Urban diabetes.csv",null,null,null,null,null,null,null,null,null,null,null,{"$f":"IF($B1701=\"\",\"\",VLOOKUP($B1701,_tbl!$A:$E,N$2,0))","v":"Female"},{"$f":"IF($B1701=\"\",\"\",VLOOKUP($B1701,_tbl!$A:$E,O$2,0))","v":"Central"},{"$f":"IF($B1701=\"\",\"\",VLOOKUP($B1701,_tbl!$A:$E,P$2,0))","v":"Urban"},{"$f":"IF($B1701=\"\",\"\",VLOOKUP($B1701,_tbl!$A:$E,Q$2,0))","v":"Diabetes"},null,0,0]
[null,null,null,null,null,null,null,null,null,null,null,null,null,{"$f":"IF($B1702=\"\",\"\",VLOOKUP($B1702,_tbl!$A:$E,N$2,0))","v":""},{"$f":"IF($B1702=\"\",\"\",VLOOKUP($B1702,_tbl!$A:$E,O$2,0))","v":""},{"$f":"IF($B1702=\"\",\"\",VLOOKUP($B1702,_tbl!$A:$E,P$2,0))","v":""},{"$f":"IF($B1702=\"\",\"\",VLOOKUP($B1702,_tbl!$A:$E,Q$2,0))","v":""}]
[null,null,null,2020,2021,2022,2023,2024,2025,2026,2027,2028,2029,{"$f":"IF($B1703=\"\",\"\",VLOOKUP($B1703,_tbl!$A:$E,N$2,0))","v":""},{"$f":"IF($B1703=\"\",\"\",VLOOKUP($B1703,_tbl!$A:$E,O$2,0))","v":""},{"$f":"IF($B1703=\"\",\"\",VLOOKUP($B1703,_tbl!$A:$E,P$2,0))","v":""},{"$f":"IF($B1703=\"\",\"\",VLOOKUP($B1703,_tbl!$A:$E,Q$2,0))","v":""}]
[null,"all_f_Central Urban digestive.csv","1-4",4.6801151960632496E-6,4.6616496494023004E-6,4.64960774774057E-6,4.6488142988497996E-6,4.6531460077528904E-6,4.6640059031782399E-6,4.6787963525183997E-6,4.6976862566930204E-6,4.7187031590358502E-6,4.7410445495765302E-6,{"$f":"IF($B1704=\"\",\"\",VLOOKUP($B1704,_tbl!$A:$E,N$2,0))","v":"Female"},{"$f":"IF($B1704=\"\",\"\",VLOOKUP($B1704,_tbl!$A:$E,O$2,0))","v":"Central"},{"$f":"IF($B1704=\"\",\"\",VLOOKUP($B1704,_tbl!$A:$E,P$2,0))","v":"Urban"},{"$f":"IF($B1704=\"\",\"\",VLOOKUP($B1704,_tbl!$A:$E,Q$2,0))","v":"Digestive"},null,{"$f":"MAX(D1704:M1704)","v":4.7410445495765302E-6},{"$f":"MIN(D1704:M1704)","v":4.6488142988497996E-6}]
[null,"all_f_Central Urban digestive.csv","5-9",2.7819831257858601E-6,2.7778448618406898E-6,2.7834837610625902E-6,2.78871095782895E-6,2.7949422574909699E-6,2.8004627326606502E-6,2.8059230923910802E-6,2.8105607565535599E-6,2.8149275414540501E-6,2.8188769816783201E-6,{"$f":"IF($B1705=\"\",\"\",VLOOKUP($B1705,_tbl!$A:$E,N$2,0))","v":"Female"},{"$f":"IF($B1705=\"\",\"\",VLOOKUP($B1705,_tbl!$A:$E,O$2,0))","v":"Central"},{"$f":"IF($B1705=\"\",\"\",VLOOKUP($B1705,_tbl!$A:$E,P$2,0))","v":"Urban"},{"$f":"IF($B1705=\"\",\"\",VLOOKUP($B1705,_tbl!$A:$E,Q$2,0))","v":"Digestive"},null,2.8188769816783201E-6,2.7778448618406898E-6]
[null,"all_f_Central Urban digestive.csv","10-14",2.2726545517247898E-6,2.2738261276319799E-6,2.2810824193161198E-6,2.2862787826158501E-6,2.2877066623894602E-6,2.2887878382825E-6,2.2893452879627299E-6,2.2902994141180498E-6,2.2910292998915702E-6,2.29193739633969E-6,{"$f":"IF($B1706=\"\",\"\",VLOOKUP($B1706,_tbl!$A:$E,N$2,0))","v":"Female"},{"$f":"IF($B1706=\"\",\"\",VLOOKUP($B1706,_tbl!$A:$E,O$2,0))","v":"Central"},{"$f":"IF($B1706=\"\",\"\",VLOOKUP($B1706,_tbl!$A:$E,P$2,0))","v":"Urban"},{"$f":"IF($B1706=\"\",\"\",VLOOKUP($B1706,_tbl!$A:$E,Q$2,0))","v":"Digestive"},null,2.29193739633969E-6,2.2726545517247898E-6]
[null,"all_f_Central Urban digestive.csv","15-19",1.9837334934022399E-6,1.9761823201388101E-6,1.9656202908652001E-6,1.9518656432127801E-6,1.9354058746229699E-6,1.91736455404887E-6,1.8980744441164299E-6,1.8778138582968801E-6,1.8568840048271501E-6,1.8356681685576501E-6,{"$f":"IF($B1707=\"\",\"\",VLOOKUP($B1707,_tbl!$A:$E,N$2,0))","v":"Female"},{"$f":"IF($B1707=\"\",\"\",VLOOKUP($B1707,_tbl!$A:$E,O$2,0))","v":"Central"},{"$f":"IF($B1707=\"\",\"\",VLOOKUP($B1707,_tbl!$A:$E,P$2,0))","v":"Urban"},{"$f":"IF($B1707=\"\",\"\",VLOOKUP($B1707,_tbl!$A:$E,Q$2,0))","v":"Digestive"},null,1.9837334934022399E-6,1.8356681685576501E-6]
[null,"all_f_Central Urban digestive.csv","20-24",2.4033750472627898E-6,2.3923856175232199E-6,2.3781774012629102E-6,2.3607662691013401E-6,2.3409597780089198E-6,2.31935833722023E-6,2.2967153580400901E-6,2.2730682162984298E-6,2.24889667678121E-6,2.22457961271101E-6,{"$f":"IF($B1708=\"\",\"\",VLOOKUP($B1708,_tbl!$A:$E,N$2,0))","v":"Female"},{"$f":"IF($B1708=\"\",\"\",VLOOKUP($B1708,_tbl!$A:$E,O$2,0))","v":"Central"},{"$f":"IF($B1708=\"\",\"\",VLOOKUP($B1708,_tbl!$A:$E,P$2,0))","v":"Urban"},{"$f":"IF($B1708=\"\",\"\",VLOOKUP($B1708,_tbl!$A:$E,Q$2,0))","v":"Digestive"},null,2.4033750472627898E-6,2.22457961271101E-6]
[null,"all_f_Central Urban digestive.csv","25-29",3.4304612788655499E-6,3.4432651454277701E-6,3.4394812051374402E-6,3.4339559264250001E-6,3.4224337074374798E-6,3.41201352192602E-6,3.40140355497462E-6,3.3924112948244201E-6,3.3836897125011799E-6,3.3755968654662801E-6,{"$f":"IF($B1709=\"\",\"\",VLOOKUP($B1709,_tbl!$A:$E,N$2,0))","v":"Female"},{"$f":"IF($B1709=\"\",\"\",VLOOKUP($B1709,_tbl!$A:$E,O$2,0))","v":"Central"},{"$f":"IF($B1709=\"\",\"\",VLOOKUP($B1709,_tbl!$A:$E,P$2,0))","v":"Urban"},{"$f":"IF($B1709=\"\",\"\",VLOOKUP($B1709,_tbl!$A:$E,Q$2,0))","v":"Digestive"},null,3.4432651454277701E-6,3.3755968654662801E-6]
[null,"all_f_Central Urban digestive.csv","30-34",5.1579005205423302E-6,5.2581182138248301E-6,5.3186257670480498E-6,5.3808190117486499E-6,5.4343872699846202E-6,5.4903337495067901E-6,5.5437653289730704E-6,5.6000785568640199E-6,5.6566593364482603E-6,5.71347108239115E-6,{"$f":"IF($B1710=\"\",\"\",VLOOKUP($B1710,_tbl!$A:$E,N$2,0))","v":"Female"},{"$f":"IF($B1710=\"\",\"\",VLOOKUP($B1710,_tbl!$A:$E,O$2,0))","v":"Central"},{"$f":"IF($B1710=\"\",\"\",VLOOKUP($B1710,_tbl!$A:$E,P$2,0))","v":"Urban"},{"$f":"IF($B1710=\"\",\"\",VLOOKUP($B1710,_tbl!$A:$E,Q$2,0))","v":"Digestive"},null,5.71347108239115E-6,5.1579005205423302E-6]
[null,"all_f_Central Urban digestive.csv","35-39",7.9750728442523102E-6,8.1561522135818194E-6,8.2819911993791095E-6,8.4290371575667795E-6,8.5625870219547207E-6,8.7023529234068895E-6,8.8305607815128096E-6,8.9620091947126097E-6,9.0916274538877294E-6,9.2198149331135304E-6,{"$f":"IF($B1711=\"\",\"\",VLOOKUP($B1711,_tbl!$A:$E,N$2,0))","v":"Female"},{"$f":"IF($B1711=\"\",\"\",VLOOKUP($B1711,_tbl!$A:$E,O$2,0))","v":"Central"},{"$f":"IF($B1711=\"\",\"\",VLOOKUP($B1711,_tbl!$A:$E,P$2,0))","v":"Urban"},{"$f":"IF($B1711=\"\",\"\",VLOOKUP($B1711,_tbl!$A:$E,Q$2,0))","v":"Digestive"},null,9.2198149331135304E-6,7.9750728442523102E-6]
[null,"all_f_Central Urban digestive.csv","40-44",1.2546506118588499E-5,1.26468580020369E-5,1.26633794614655E-5,1.27527763612483E-5,1.2819258194696199E-5,1.2910464104403E-5,1.29776647986351E-5,1.30567917794188E-5,1.3134677952078801E-5,1.3213234529288001E-5,{"$f":"IF($B1712=\"\",\"\",VLOOKUP($B1712,_tbl!$A:$E,N$2,0))","v":"Female"},{"$f":"IF($B1712=\"\",\"\",VLOOKUP($B1712,_tbl!$A:$E,O$2,0))","v":"Central"},{"$f":"IF($B1712=\"\",\"\",VLOOKUP($B1712,_tbl!$A:$E,P$2,0))","v":"Urban"},{"$f":"IF($B1712=\"\",\"\",VLOOKUP($B1712,_tbl!$A:$E,Q$2,0))","v":"Digestive"},null,1.3213234529288001E-5,1.2546506118588499E-5]
[null,"all_f_Central Urban digestive.csv","45-49",2.1479533429201701E-5,2.17514082700049E-5,2.1763639277837201E-5,2.1914490032898801E-5,2.2011523487434E-5,2.2156249357271101E-5,2.2250366746607501E-5,2.23689352841543E-5,2.24836694220092E-5,2.25976796208674E-5,{"$f":"IF($B1713=\"\",\"\",VLOOKUP($B1713,_tbl!$A:$E,N$2,0))","v":"Female"},{"$f":"IF($B1713=\"\",\"\",VLOOKUP($B1713,_tbl!$A:$E,O$2,0))","v":"Central"},{"$f":"IF($B1713=\"\",\"\",VLOOKUP($B1713,_tbl!$A:$E,P$2,0))","v":"Urban"},{"$f":"IF($B1713=\"\",\"\",VLOOKUP($B1713,_tbl!$A:$E,Q$2,0))","v":"Digestive"},null,2.25976796208674E-5,2.1479533429201701E-5]
[null,"all_f_Central Urban digestive.csv","50-54",3.3219096374777301E-5,3.2777949112950499E-5,3.2214652456309101E-5,3.1520175378349697E-5,3.0799056247980999E-5,3.0055379440321E-5,2.9348948364539901E-5,2.86484917001961E-5,2.7963001635546299E-5,2.7297956837862099E-5,{"$f":"IF($B1714=\"\",\"\",VLOOKUP($B1714,_tbl!$A:$E,N$2,0))","v":"Female"},{"$f":"IF($B1714=\"\",\"\",VLOOKUP($B1714,_tbl!$A:$E,O$2,0))","v":"Central"},{"$f":"IF($B1714=\"\",\"\",VLOOKUP($B1714,_tbl!$A:$E,P$2,0))","v":"Urban"},{"$f":"IF($B1714=\"\",\"\",VLOOKUP($B1714,_tbl!$A:$E,Q$2,0))","v":"Digestive"},null,3.3219096374777301E-5,2.7297956837862099E-5]
[null,"all_f_Central Urban digestive.csv","55-59",6.0799300082776497E-5,6.0227378588231902E-5,5.92815443300979E-5,5.8254743213310002E-5,5.7175527740020799E-5,5.6071363687854001E-5,5.49685864596203E-5,5.3856128609503798E-5,5.2743315284678803E-5,5.1637549949297799E-5,{"$f":"IF($B1715=\"\",\"\",VLOOKUP($B1715,_tbl!$A:$E,N$2,0))","v":"Female"},{"$f":"IF($B1715=\"\",\"\",VLOOKUP($B1715,_tbl!$A:$E,O$2,0))","v":"Central"},{"$f":"IF($B1715=\"\",\"\",VLOOKUP($B1715,_tbl!$A:$E,P$2,0))","v":"Urban"},{"$f":"IF($B1715=\"\",\"\",VLOOKUP($B1715,_tbl!$A:$E,Q$2,0))","v":"Digestive"},null,6.0799300082776497E-5,5.1637549949297799E-5]
[null,"all_f_Central Urban digestive.csv","60-64",1.0192320330642099E-4,1.01040264361955E-4,9.9466094827751201E-5,9.7710382362029704E-5,9.5842108514651402E-5,9.3907823277455995E-5,9.1999201161540399E-5,9.0055023820923699E-5,8.8102790545756805E-5,8.61637012186108E-5,{"$f":"IF($B1716=\"\",\"\",VLOOKUP($B1716,_tbl!$A:$E,N$2,0))","v":"Female"},{"$f":"IF($B1716=\"\",\"\",VLOOKUP($B1716,_tbl!$A:$E,O$2,0))","v":"Central"},{"$f":"IF($B1716=\"\",\"\",VLOOKUP($B1716,_tbl!$A:$E,P$2,0))","v":"Urban"},{"$f":"IF($B1716=\"\",\"\",VLOOKUP($B1716,_tbl!$A:$E,Q$2,0))","v":"Digestive"},null,1.0192320330642099E-4,8.61637012186108E-5]
[null,"all_f_Central Urban digestive.csv","65-69",1.71344663245923E-4,1.6952782083111301E-4,1.66542583240277E-4,1.6320875046677301E-4,1.59696982447479E-4,1.5608635621373201E-4,1.5260156920459699E-4,1.49076208869564E-4,1.45573800754612E-4,1.4213828828788799E-4,{"$f":"IF($B1717=\"\",\"\",VLOOKUP($B1717,_tbl!$A:$E,N$2,0))","v":"Female"},{"$f":"IF($B1717=\"\",\"\",VLOOKUP($B1717,_tbl!$A:$E,O$2,0))","v":"Central"},{"$f":"IF($B1717=\"\",\"\",VLOOKUP($B1717,_tbl!$A:$E,P$2,0))","v":"Urban"},{"$f":"IF($B1717=\"\",\"\",VLOOKUP($B1717,_tbl!$A:$E,Q$2,0))","v":"Digestive"},null,1.71344663245923E-4,1.4213828828788799E-4]
[null,"all_f_Central Urban digestive.csv","70-74",3.3826289891126002E-4,3.3984961929001698E-4,3.3925191500552398E-4,3.3833670389611301E-4,3.3731539271320102E-4,3.3621301603062803E-4,3.3489484844127001E-4,3.3363821657042699E-4,3.32433752147248E-4,3.3122013140069302E-4,{"$f":"IF($B1718=\"\",\"\",VLOOKUP($B1718,_tbl!$A:$E,N$2,0))","v":"Female"},{"$f":"IF($B1718=\"\",\"\",VLOOKUP($B1718,_tbl!$A:$E,O$2,0))","v":"Central"},{"$f":"IF($B1718=\"\",\"\",VLOOKUP($B1718,_tbl!$A:$E,P$2,0))","v":"Urban"},{"$f":"IF($B1718=\"\",\"\",VLOOKUP($B1718,_tbl!$A:$E,Q$2,0))","v":"Digestive"},null,3.3984961929001698E-4,3.3122013140069302E-4]
[null,"all_f_Central Urban digestive.csv","75-79",6.6156795253840997E-4,6.67709044443063E-4,6.7291648734042904E-4,6.7762876160504704E-4,6.8235664825175095E-4,6.8686563199795705E-4,6.9069371759659004E-4,6.9468893378802504E-4,6.9877417144374005E-4,7.0270955083497804E-4,{"$f":"IF($B1719=\"\",\"\",VLOOKUP($B1719,_tbl!$A:$E,N$2,0))","v":"Female"},{"$f":"IF($B1719=\"\",\"\",VLOOKUP($B1719,_tbl!$A:$E,O$2,0))","v":"Central"},{"$f":"IF($B1719=\"\",\"\",VLOOKUP($B1719,_tbl!$A:$E,P$2,0))","v":"Urban"},{"$f":"IF($B1719=\"\",\"\",VLOOKUP($B1719,_tbl!$A:$E,Q$2,0))","v":"Digestive"},null,7.0270955083497804E-4,6.6156795253840997E-4]
[null,"all_f_Central Urban digestive.csv","80-84",1.3027704517014601E-3,1.3029916985163E-3,1.3121019834361101E-3,1.31850599784789E-3,1.3242231450244001E-3,1.32871753707132E-3,1.33420906691073E-3,1.3390113685199699E-3,1.3436613769930001E-3,1.3483878181749099E-3,{"$f":"IF($B1720=\"\",\"\",VLOOKUP($B1720,_tbl!$A:$E,N$2,0))","v":"Female"},{"$f":"IF($B1720=\"\",\"\",VLOOKUP($B1720,_tbl!$A:$E,O$2,0))","v":"Central"},{"$f":"IF($B1720=\"\",\"\",VLOOKUP($B1720,_tbl!$A:$E,P$2,0))","v":"Urban"},{"$f":"IF($B1720=\"\",\"\",VLOOKUP($B1720,_tbl!$A:$E,Q$2,0))","v":"Digestive"},null,1.3483878181749099E-3,1.3027704517014601E-3]
[null,"all_f_Central Urban digestive.csv","85+",2.7857829491577599E-3,2.8294231596283099E-3,2.8520504868874202E-3,2.8750453958069902E-3,2.8959988504903699E-3,2.91567524228389E-3,2.93510405576151E-3,2.95490104288808E-3,2.97515341027964E-3,2.9955992752054399E-3,{"$f":"IF($B1721=\"\",\"\",VLOOKUP($B1721,_tbl!$A:$E,N$2,0))","v":"Female"},{"$f":"IF($B1721=\"\",\"\",VLOOKUP($B1721,_tbl!$A:$E,O$2,0))","v":"Central"},{"$f":"IF($B1721=\"\",\"\",VLOOKUP($B1721,_tbl!$A:$E,P$2,0))","v":"Urban"},{"$f":"IF($B1721=\"\",\"\",VLOOKUP($B1721,_tbl!$A:$E,Q$2,0))","v":"Digestive"},null,2.9955992752054399E-3,2.7857829491577599E-3]
[null,null,null,null,null,null,null,null,null,null,null,null,null,{"$f":"IF($B1722=\"\",\"\",VLOOKUP($B1722,_tbl!$A:$E,N$2,0))","v":""},{"$f":"IF($B1722=\"\",\"\",VLOOKUP($B1722,_tbl!$A:$E,O$2,0))","v":""},{"$f":"IF($B1722=\"\",\"\",VLOOKUP($B1722,_tbl!$A:$E,P$2,0))","v":""},{"$f":"IF($B1722=\"\",\"\",VLOOKUP($B1722,_tbl!$A:$E,Q$2,0))","v":""}]
[null,null,null,2020,2021,2022,2023,2024,2025,2026,2027,2028,2029,{"$f":"IF($B1723=\"\",\"\",VLOOKUP($B1723,_tbl!$A:$E,N$2,0))","v":""},{"$f":"IF($B1723=\"\",\"\",VLOOKUP($B1723,_tbl!$A:$E,O$2,0))","v":""},{"$f":"IF($B1723=\"\",\"\",VLOOKUP($B1723,_tbl!$A:$E,P$2,0))","v":""},{"$f":"IF($B1723=\"\",\"\",VLOOKUP($B1723,_tbl!$A:$E,Q$2,0))","v":""}]
[null,"all_f_Central Urban external.csv","1-4",8.7850097361465103E-5,8.3757497098535503E-5,7.9704365795623102E-5,7.5752388648627904E-5,7.1936734476274895E-5,6.8275859934013096E-5,6.4777818113778295E-5,6.1444275583583802E-5,5.8273051154463202E-5,5.5259710789132698E-5,{"$f":"IF($B1724=\"\",\"\",VLOOKUP($B1724,_tbl!$A:$E,N$2,0))","v":"Female"},{"$f":"IF($B1724=\"\",\"\",VLOOKUP($B1724,_tbl!$A:$E,O$2,0))","v":"Central"},{"$f":"IF($B1724=\"\",\"\",VLOOKUP($B1724,_tbl!$A:$E,P$2,0))","v":"Urban"},{"$f":"IF($B1724=\"\",\"\",VLOOKUP($B1724,_tbl!$A:$E,Q$2,0))","v":"External"},null,{"$f":"MAX(D1724:M1724)","v":8.7850097361465103E-5},{"$f":"MIN(D1724:M1724)","v":5.5259710789132698E-5}]
[null,"all_f_Central Urban external.csv","5-9",5.6665050192351503E-5,5.4830224308875302E-5,5.29912164481673E-5,5.1173290301481001E-5,4.9391823691993602E-5,4.7655847919230601E-5,4.5970346127161101E-5,4.4337735782756499E-5,4.2758820514364202E-5,4.1233399226366399E-5,{"$f":"IF($B1725=\"\",\"\",VLOOKUP($B1725,_tbl!$A:$E,N$2,0))","v":"Female"},{"$f":"IF($B1725=\"\",\"\",VLOOKUP($B1725,_tbl!$A:$E,O$2,0))","v":"Central"},{"$f":"IF($B1725=\"\",\"\",VLOOKUP($B1725,_tbl!$A:$E,P$2,0))","v":"Urban"},{"$f":"IF($B1725=\"\",\"\",VLOOKUP($B1725,_tbl!$A:$E,Q$2,0))","v":"External"},null,5.6665050192351503E-5,4.1233399226366399E-5]
[null,"all_f_Central Urban external.csv","10-14",5.4809346133370003E-5,5.2338348296797402E-5,5.0094338392857198E-5,4.8019832137705797E-5,4.6077749088329499E-5,4.4243747023455799E-5,4.2501505730102502E-5,4.08397932350711E-5,3.9250626842115302E-5,3.7728114227900097E-5,{"$f":"IF($B1726=\"\",\"\",VLOOKUP($B1726,_tbl!$A:$E,N$2,0))","v":"Female"},{"$f":"IF($B1726=\"\",\"\",VLOOKUP($B1726,_tbl!$A:$E,O$2,0))","v":"Central"},{"$f":"IF($B1726=\"\",\"\",VLOOKUP($B1726,_tbl!$A:$E,P$2,0))","v":"Urban"},{"$f":"IF($B1726=\"\",\"\",VLOOKUP($B1726,_tbl!$A:$E,Q$2,0))","v":"External"},null,5.4809346133370003E-5,3.7728114227900097E-5]
[null,"all_f_Central Urban external.csv","15-19",5.4623526671360002E-5,5.1073511054948201E-5,4.78876549137777E-5,4.49834478621883E-5,4.2306953513298501E-5,3.9821820327959699E-5,3.7502663750657398E-5,3.5331029799954297E-5,3.3292909984172398E-5,3.1377199962950001E-5,{"$f":"IF($B1727=\"\",\"\",VLOOKUP($B1727,_tbl!$A:$E,N$2,0))","v":"Female"},{"$f":"IF($B1727=\"\",\"\",VLOOKUP($B1727,_tbl!$A:$E,O$2,0))","v":"Central"},{"$f":"IF($B1727=\"\",\"\",VLOOKUP($B1727,_tbl!$A:$E,P$2,0))","v":"Urban"},{"$f":"IF($B1727=\"\",\"\",VLOOKUP($B1727,_tbl!$A:$E,Q$2,0))","v":"External"},null,5.4623526671360002E-5,3.1377199962950001E-5]
[null,"all_f_Central Urban external.csv","20-24",5.6692820748134697E-5,5.2551091632669103E-5,4.8772858146791203E-5,4.5303689528121703E-5,4.21042804815375E-5,3.91449590164704E-5,3.6402330653764102E-5,3.38572080475201E-5,3.1493320781225399E-5,2.92965018093715E-5,{"$f":"IF($B1728=\"\",\"\",VLOOKUP($B1728,_tbl!$A:$E,N$2,0))","v":"Female"},{"$f":"IF($B1728=\"\",\"\",VLOOKUP($B1728,_tbl!$A:$E,O$2,0))","v":"Central"},{"$f":"IF($B1728=\"\",\"\",VLOOKUP($B1728,_tbl!$A:$E,P$2,0))","v":"Urban"},{"$f":"IF($B1728=\"\",\"\",VLOOKUP($B1728,_tbl!$A:$E,Q$2,0))","v":"External"},null,5.6692820748134697E-5,2.92965018093715E-5]
[null,"all_f_Central Urban external.csv","25-29",6.8011281870556094E-5,6.3036849403563501E-5,5.8494879171338398E-5,5.4322318002774198E-5,5.0473292150966203E-5,4.6912907878395401E-5,4.3613458298038799E-5,4.0552079843734103E-5,3.7709289352704097E-5,3.5068059513884499E-5,{"$f":"IF($B1729=\"\",\"\",VLOOKUP($B1729,_tbl!$A:$E,N$2,0))","v":"Female"},{"$f":"IF($B1729=\"\",\"\",VLOOKUP($B1729,_tbl!$A:$E,O$2,0))","v":"Central"},{"$f":"IF($B1729=\"\",\"\",VLOOKUP($B1729,_tbl!$A:$E,P$2,0))","v":"Urban"},{"$f":"IF($B1729=\"\",\"\",VLOOKUP($B1729,_tbl!$A:$E,Q$2,0))","v":"External"},null,6.8011281870556094E-5,3.5068059513884499E-5]
[null,"all_f_Central Urban external.csv","30-34",8.3524374161113193E-5,7.7460823788426004E-5,7.19865754619705E-5,6.6990984000992498E-5,6.2398610099023799E-5,5.8155903481435101E-5,5.4223161318992397E-5,5.0569618904930699E-5,4.7170424735467599E-5,4.4004759890232797E-5,{"$f":"IF($B1730=\"\",\"\",VLOOKUP($B1730,_tbl!$A:$E,N$2,0))","v":"Female"},{"$f":"IF($B1730=\"\",\"\",VLOOKUP($B1730,_tbl!$A:$E,O$2,0))","v":"Central"},{"$f":"IF($B1730=\"\",\"\",VLOOKUP($B1730,_tbl!$A:$E,P$2,0))","v":"Urban"},{"$f":"IF($B1730=\"\",\"\",VLOOKUP($B1730,_tbl!$A:$E,Q$2,0))","v":"External"},null,8.3524374161113193E-5,4.4004759890232797E-5]
[null,"all_f_Central Urban external.csv","35-39",9.4055686906821997E-5,8.7376093227973001E-5,8.1324466748217505E-5,7.5786650151994899E-5,7.06843328958235E-5,6.5961567892819197E-5,6.1576602031262293E-5,5.74968751872857E-5,5.3695931670745503E-5,5.0151496009909403E-5,{"$f":"IF($B1731=\"\",\"\",VLOOKUP($B1731,_tbl!$A:$E,N$2,0))","v":"Female"},{"$f":"IF($B1731=\"\",\"\",VLOOKUP($B1731,_tbl!$A:$E,O$2,0))","v":"Central"},{"$f":"IF($B1731=\"\",\"\",VLOOKUP($B1731,_tbl!$A:$E,P$2,0))","v":"Urban"},{"$f":"IF($B1731=\"\",\"\",VLOOKUP($B1731,_tbl!$A:$E,Q$2,0))","v":"External"},null,9.4055686906821997E-5,5.0151496009909403E-5]
[null,"all_f_Central Urban external.csv","40-44",1.03994854639361E-4,9.7319703235204696E-5,9.11102153771871E-5,8.5319961971480406E-5,7.9911959949091206E-5,7.4855581544914804E-5,7.0124616662193404E-5,6.5696045796622397E-5,6.1549252706541297E-5,5.7665510349858102E-5,{"$f":"IF($B1732=\"\",\"\",VLOOKUP($B1732,_tbl!$A:$E,N$2,0))","v":"Female"},{"$f":"IF($B1732=\"\",\"\",VLOOKUP($B1732,_tbl!$A:$E,O$2,0))","v":"Central"},{"$f":"IF($B1732=\"\",\"\",VLOOKUP($B1732,_tbl!$A:$E,P$2,0))","v":"Urban"},{"$f":"IF($B1732=\"\",\"\",VLOOKUP($B1732,_tbl!$A:$E,Q$2,0))","v":"External"},null,1.03994854639361E-4,5.7665510349858102E-5]
[null,"all_f_Central Urban external.csv","45-49",1.2635556823395301E-4,1.19903872382006E-4,1.1365115993614601E-4,1.07642838951991E-4,1.01901039355495E-4,9.6433531353988305E-5,9.1239375402234701E-5,8.6312475463599003E-5,8.1643799686576606E-5,7.7222759387530194E-5,{"$f":"IF($B1733=\"\",\"\",VLOOKUP($B1733,_tbl!$A:$E,N$2,0))","v":"Female"},{"$f":"IF($B1733=\"\",\"\",VLOOKUP($B1733,_tbl!$A:$E,O$2,0))","v":"Central"},{"$f":"IF($B1733=\"\",\"\",VLOOKUP($B1733,_tbl!$A:$E,P$2,0))","v":"Urban"},{"$f":"IF($B1733=\"\",\"\",VLOOKUP($B1733,_tbl!$A:$E,Q$2,0))","v":"External"},null,1.2635556823395301E-4,7.7222759387530194E-5]
[null,"all_f_Central Urban external.csv","50-54",1.6791098659771499E-4,1.6193574699163799E-4,1.5585173785072099E-4,1.49792124814478E-4,1.4383849973988701E-4,1.38039272026821E-4,1.3242169834598401E-4,1.2699966158734199E-4,1.21778662916356E-4,1.16759008425278E-4,{"$f":"IF($B1734=\"\",\"\",VLOOKUP($B1734,_tbl!$A:$E,N$2,0))","v":"Female"},{"$f":"IF($B1734=\"\",\"\",VLOOKUP($B1734,_tbl!$A:$E,O$2,0))","v":"Central"},{"$f":"IF($B1734=\"\",\"\",VLOOKUP($B1734,_tbl!$A:$E,P$2,0))","v":"Urban"},{"$f":"IF($B1734=\"\",\"\",VLOOKUP($B1734,_tbl!$A:$E,Q$2,0))","v":"External"},null,1.6791098659771499E-4,1.16759008425278E-4]
[null,"all_f_Central Urban external.csv","55-59",2.2090509556238599E-4,2.15651410114424E-4,2.0995903826199699E-4,2.0405488405847701E-4,1.98084444927364E-4,1.9213972506258199E-4,1.86277928603699E-4,1.8053378036296899E-4,1.7492756419796801E-4,1.69470332744635E-4,{"$f":"IF($B1735=\"\",\"\",VLOOKUP($B1735,_tbl!$A:$E,N$2,0))","v":"Female"},{"$f":"IF($B1735=\"\",\"\",VLOOKUP($B1735,_tbl!$A:$E,O$2,0))","v":"Central"},{"$f":"IF($B1735=\"\",\"\",VLOOKUP($B1735,_tbl!$A:$E,P$2,0))","v":"Urban"},{"$f":"IF($B1735=\"\",\"\",VLOOKUP($B1735,_tbl!$A:$E,Q$2,0))","v":"External"},null,2.2090509556238599E-4,1.69470332744635E-4]
[null,"all_f_Central Urban external.csv","60-64",2.7195056438690101E-4,2.6658165040634201E-4,2.6041052771127798E-4,2.5379733647285598E-4,2.46975868538305E-4,2.4009597389751801E-4,2.3325244886379101E-4,2.26504294265678E-4,2.1988738043063601E-4,2.1342270370810601E-4,{"$f":"IF($B1736=\"\",\"\",VLOOKUP($B1736,_tbl!$A:$E,N$2,0))","v":"Female"},{"$f":"IF($B1736=\"\",\"\",VLOOKUP($B1736,_tbl!$A:$E,O$2,0))","v":"Central"},{"$f":"IF($B1736=\"\",\"\",VLOOKUP($B1736,_tbl!$A:$E,P$2,0))","v":"Urban"},{"$f":"IF($B1736=\"\",\"\",VLOOKUP($B1736,_tbl!$A:$E,Q$2,0))","v":"External"},null,2.7195056438690101E-4,2.1342270370810601E-4]
[null,"all_f_Central Urban external.csv","65-69",3.3496322097949102E-4,3.2701281228240503E-4,3.1792508964165802E-4,3.08240437266608E-4,2.9830746283202199E-4,2.8834741474622803E-4,2.7849825474874002E-4,2.6884404732790702E-4,2.5943424631328299E-4,2.5029622211059002E-4,{"$f":"IF($B1737=\"\",\"\",VLOOKUP($B1737,_tbl!$A:$E,N$2,0))","v":"Female"},{"$f":"IF($B1737=\"\",\"\",VLOOKUP($B1737,_tbl!$A:$E,O$2,0))","v":"Central"},{"$f":"IF($B1737=\"\",\"\",VLOOKUP($B1737,_tbl!$A:$E,P$2,0))","v":"Urban"},{"$f":"IF($B1737=\"\",\"\",VLOOKUP($B1737,_tbl!$A:$E,Q$2,0))","v":"External"},null,3.3496322097949102E-4,2.5029622211059002E-4]
[null,"all_f_Central Urban external.csv","70-74",4.7487416695410898E-4,4.5912919958359598E-4,4.4223026239822901E-4,4.2488924569922802E-4,4.0755362635487102E-4,3.9049804161624802E-4,3.7388576464305999E-4,3.5780908123316099E-4,3.4231544253396302E-4,3.2742425012283102E-4,{"$f":"IF($B1738=\"\",\"\",VLOOKUP($B1738,_tbl!$A:$E,N$2,0))","v":"Female"},{"$f":"IF($B1738=\"\",\"\",VLOOKUP($B1738,_tbl!$A:$E,O$2,0))","v":"Central"},{"$f":"IF($B1738=\"\",\"\",VLOOKUP($B1738,_tbl!$A:$E,P$2,0))","v":"Urban"},{"$f":"IF($B1738=\"\",\"\",VLOOKUP($B1738,_tbl!$A:$E,Q$2,0))","v":"External"},null,4.7487416695410898E-4,3.2742425012283102E-4]
[null,"all_f_Central Urban external.csv","75-79",8.5371900212830596E-4,8.1547957555162603E-4,7.7770449015370001E-4,7.4089302437411802E-4,7.0532915515534298E-4,6.7116110369888897E-4,6.3845245711530304E-4,6.0721472941920995E-4,5.7742796635570904E-4,5.4905371566726598E-4,{"$f":"IF($B1739=\"\",\"\",VLOOKUP($B1739,_tbl!$A:$E,N$2,0))","v":"Female"},{"$f":"IF($B1739=\"\",\"\",VLOOKUP($B1739,_tbl!$A:$E,O$2,0))","v":"Central"},{"$f":"IF($B1739=\"\",\"\",VLOOKUP($B1739,_tbl!$A:$E,P$2,0))","v":"Urban"},{"$f":"IF($B1739=\"\",\"\",VLOOKUP($B1739,_tbl!$A:$E,Q$2,0))","v":"External"},null,8.5371900212830596E-4,5.4905371566726598E-4]
[null,"all_f_Central Urban external.csv","80-84",1.9056425354639799E-3,1.7979414319484E-3,1.70017044032372E-3,1.6101236854184501E-3,1.5263555601497799E-3,1.4478924738092101E-3,1.3740570840942599E-3,1.30435996835736E-3,1.23843234100794E-3,1.1759840157736501E-3,{"$f":"IF($B1740=\"\",\"\",VLOOKUP($B1740,_tbl!$A:$E,N$2,0))","v":"Female"},{"$f":"IF($B1740=\"\",\"\",VLOOKUP($B1740,_tbl!$A:$E,O$2,0))","v":"Central"},{"$f":"IF($B1740=\"\",\"\",VLOOKUP($B1740,_tbl!$A:$E,P$2,0))","v":"Urban"},{"$f":"IF($B1740=\"\",\"\",VLOOKUP($B1740,_tbl!$A:$E,Q$2,0))","v":"External"},null,1.9056425354639799E-3,1.1759840157736501E-3]
[null,"all_f_Central Urban external.csv","85+",4.7049089719726697E-3,4.38664424955064E-3,4.1184992572980304E-3,3.8845973388418101E-3,3.6751557655230098E-3,3.4840156963932799E-3,3.30721754152211E-3,3.1421564847823901E-3,2.9870720495840698E-3,2.8407353095777298E-3,{"$f":"IF($B1741=\"\",\"\",VLOOKUP($B1741,_tbl!$A:$E,N$2,0))","v":"Female"},{"$f":"IF($B1741=\"\",\"\",VLOOKUP($B1741,_tbl!$A:$E,O$2,0))","v":"Central"},{"$f":"IF($B1741=\"\",\"\",VLOOKUP($B1741,_tbl!$A:$E,P$2,0))","v":"Urban"},{"$f":"IF($B1741=\"\",\"\",VLOOKUP($B1741,_tbl!$A:$E,Q$2,0))","v":"External"},null,4.7049089719726697E-3,2.8407353095777298E-3]
[null,null,null,null,null,null,null,null,null,null,null,null,null,{"$f":"IF($B1742=\"\",\"\",VLOOKUP($B1742,_tbl!$A:$E,N$2,0))","v":""},{"$f":"IF($B1742=\"\",\"\",VLOOKUP($B1742,_tbl!$A:$E,O$2,0))","v":""},{"$f":"IF($B1742=\"\",\"\",VLOOKUP($B1742,_tbl!$A:$E,P$2,0))","v":""},{"$f":"IF($B1742=\"\",\"\",VLOOKUP($B1742,_tbl!$A:$E,Q$2,0))","v":""}]
[null,null,null,2020,2021,2022,2023,2024,2025,2026,2027,2028,2029,{"$f":"IF($B1743=\"\",\"\",VLOOKUP($B1743,_tbl!$A:$E,N$2,0))","v":""},{"$f":"IF($B1743=\"\",\"\",VLOOKUP($B1743,_tbl!$A:$E,O$2,0))","v":""},{"$f":"IF($B1743=\"\",\"\",VLOOKUP($B1743,_tbl!$A:$E,P$2,0))","v":""},{"$f":"IF($B1743=\"\",\"\",VLOOKUP($B1743,_tbl!$A:$E,Q$2,0))","v":""}]
[null,"all_f_Central Urban infectious.csv","1-4",3.8994167629734102E-5,3.8981364790363801E-5,3.88225608212914E-5,3.8701388921590999E-5,3.8530776450025001E-5,3.83973908932254E-5,3.8264925914949399E-5,3.8179822005604102E-5,3.8112379221731901E-5,3.8059024508753597E-5,{"$f":"IF($B1744=\"\",\"\",VLOOKUP($B1744,_tbl!$A:$E,N$2,0))","v":"Female"},{"$f":"IF($B1744=\"\",\"\",VLOOKUP($B1744,_tbl!$A:$E,O$2,0))","v":"Central"},{"$f":"IF($B1744=\"\",\"\",VLOOKUP($B1744,_tbl!$A:$E,P$2,0))","v":"Urban"},{"$f":"IF($B1744=\"\",\"\",VLOOKUP($B1744,_tbl!$A:$E,Q$2,0))","v":"Infectious"},null,{"$f":"MAX(D1744:M1744)","v":3.8994167629734102E-5},{"$f":"MIN(D1744:M1744)","v":3.8059024508753597E-5}]
[null,"all_f_Central Urban infectious.csv","5-9",1.28287148971764E-5,1.28058251437785E-5,1.27981690463012E-5,1.27911612688623E-5,1.2784417531978901E-5,1.27777776126367E-5,1.27708745139766E-5,1.27640150822611E-5,1.27571897492027E-5,1.27502207025913E-5,{"$f":"IF($B1745=\"\",\"\",VLOOKUP($B1745,_tbl!$A:$E,N$2,0))","v":"Female"},{"$f":"IF($B1745=\"\",\"\",VLOOKUP($B1745,_tbl!$A:$E,O$2,0))","v":"Central"},{"$f":"IF($B1745=\"\",\"\",VLOOKUP($B1745,_tbl!$A:$E,P$2,0))","v":"Urban"},{"$f":"IF($B1745=\"\",\"\",VLOOKUP($B1745,_tbl!$A:$E,Q$2,0))","v":"Infectious"},null,1.28287148971764E-5,1.27502207025913E-5]
[null,"all_f_Central Urban infectious.csv","10-14",7.6098839752297202E-6,7.60925520421074E-6,7.6100892358657899E-6,7.6097785679746404E-6,7.6079971830687997E-6,7.6063948145100296E-6,7.60468129139193E-6,7.6036600819059399E-6,7.6030133077275903E-6,7.6026819876843104E-6,{"$f":"IF($B1746=\"\",\"\",VLOOKUP($B1746,_tbl!$A:$E,N$2,0))","v":"Female"},{"$f":"IF($B1746=\"\",\"\",VLOOKUP($B1746,_tbl!$A:$E,O$2,0))","v":"Central"},{"$f":"IF($B1746=\"\",\"\",VLOOKUP($B1746,_tbl!$A:$E,P$2,0))","v":"Urban"},{"$f":"IF($B1746=\"\",\"\",VLOOKUP($B1746,_tbl!$A:$E,Q$2,0))","v":"Infectious"},null,7.6100892358657899E-6,7.6026819876843104E-6]
[null,"all_f_Central Urban infectious.csv","15-19",6.1061187718058403E-6,6.1153498672691196E-6,6.1090741345680898E-6,6.10376417660868E-6,6.0948031647945496E-6,6.0884644275773098E-6,6.0829788538361599E-6,6.0798566074504799E-6,6.0775289592144598E-6,6.0762877514066401E-6,{"$f":"IF($B1747=\"\",\"\",VLOOKUP($B1747,_tbl!$A:$E,N$2,0))","v":"Female"},{"$f":"IF($B1747=\"\",\"\",VLOOKUP($B1747,_tbl!$A:$E,O$2,0))","v":"Central"},{"$f":"IF($B1747=\"\",\"\",VLOOKUP($B1747,_tbl!$A:$E,P$2,0))","v":"Urban"},{"$f":"IF($B1747=\"\",\"\",VLOOKUP($B1747,_tbl!$A:$E,Q$2,0))","v":"Infectious"},null,6.1153498672691196E-6,6.0762877514066401E-6]
[null,"all_f_Central Urban infectious.csv","20-24",5.8828616155299998E-6,5.8733284765989901E-6,5.8432490188539396E-6,5.8152579376162701E-6,5.7826518944768803E-6,5.7542806631458497E-6,5.7276249464192996E-6,5.70451052757264E-6,5.6828231474844303E-6,5.6628213456978603E-6,{"$f":"IF($B1748=\"\",\"\",VLOOKUP($B1748,_tbl!$A:$E,N$2,0))","v":"Female"},{"$f":"IF($B1748=\"\",\"\",VLOOKUP($B1748,_tbl!$A:$E,O$2,0))","v":"Central"},{"$f":"IF($B1748=\"\",\"\",VLOOKUP($B1748,_tbl!$A:$E,P$2,0))","v":"Urban"},{"$f":"IF($B1748=\"\",\"\",VLOOKUP($B1748,_tbl!$A:$E,Q$2,0))","v":"Infectious"},null,5.8828616155299998E-6,5.6628213456978603E-6]
[null,"all_f_Central Urban infectious.csv","25-29",7.3736857397750803E-6,7.3631792394049299E-6,7.3269379637437896E-6,7.2964208972511597E-6,7.26106841590795E-6,7.23227417704065E-6,7.2052957661956497E-6,7.1839729184514503E-6,7.1651126571325597E-6,7.14868924308363E-6,{"$f":"IF($B1749=\"\",\"\",VLOOKUP($B1749,_tbl!$A:$E,N$2,0))","v":"Female"},{"$f":"IF($B1749=\"\",\"\",VLOOKUP($B1749,_tbl!$A:$E,O$2,0))","v":"Central"},{"$f":"IF($B1749=\"\",\"\",VLOOKUP($B1749,_tbl!$A:$E,P$2,0))","v":"Urban"},{"$f":"IF($B1749=\"\",\"\",VLOOKUP($B1749,_tbl!$A:$E,Q$2,0))","v":"Infectious"},null,7.3736857397750803E-6,7.14868924308363E-6]
[null,"all_f_Central Urban infectious.csv","30-34",1.00731616422645E-5,1.0109056467045299E-5,1.01190104009187E-5,1.01356570132004E-5,1.01500228801074E-5,1.0168637690688799E-5,1.01865485866996E-5,1.02079551878329E-5,1.0230837959512001E-5,1.0254903743982299E-5,{"$f":"IF($B1750=\"\",\"\",VLOOKUP($B1750,_tbl!$A:$E,N$2,0))","v":"Female"},{"$f":"IF($B1750=\"\",\"\",VLOOKUP($B1750,_tbl!$A:$E,O$2,0))","v":"Central"},{"$f":"IF($B1750=\"\",\"\",VLOOKUP($B1750,_tbl!$A:$E,P$2,0))","v":"Urban"},{"$f":"IF($B1750=\"\",\"\",VLOOKUP($B1750,_tbl!$A:$E,Q$2,0))","v":"Infectious"},null,1.0254903743982299E-5,1.00731616422645E-5]
[null,"all_f_Central Urban infectious.csv","35-39",1.31769144858206E-5,1.32547888754914E-5,1.3271690530016301E-5,1.33254360582492E-5,1.33673703507073E-5,1.3421677055268399E-5,1.34629062384591E-5,1.35106922077432E-5,1.35580748187413E-5,1.36055698313087E-5,{"$f":"IF($B1751=\"\",\"\",VLOOKUP($B1751,_tbl!$A:$E,N$2,0))","v":"Female"},{"$f":"IF($B1751=\"\",\"\",VLOOKUP($B1751,_tbl!$A:$E,O$2,0))","v":"Central"},{"$f":"IF($B1751=\"\",\"\",VLOOKUP($B1751,_tbl!$A:$E,P$2,0))","v":"Urban"},{"$f":"IF($B1751=\"\",\"\",VLOOKUP($B1751,_tbl!$A:$E,Q$2,0))","v":"Infectious"},null,1.36055698313087E-5,1.31769144858206E-5]
[null,"all_f_Central Urban infectious.csv","40-44",1.7993379846363299E-5,1.81979412131515E-5,1.8289893500741701E-5,1.84400271038094E-5,1.8565141910444902E-5,1.8707239874795698E-5,1.8824554741619799E-5,1.8948697624050201E-5,1.90681203684131E-5,1.91842207831712E-5,{"$f":"IF($B1752=\"\",\"\",VLOOKUP($B1752,_tbl!$A:$E,N$2,0))","v":"Female"},{"$f":"IF($B1752=\"\",\"\",VLOOKUP($B1752,_tbl!$A:$E,O$2,0))","v":"Central"},{"$f":"IF($B1752=\"\",\"\",VLOOKUP($B1752,_tbl!$A:$E,P$2,0))","v":"Urban"},{"$f":"IF($B1752=\"\",\"\",VLOOKUP($B1752,_tbl!$A:$E,Q$2,0))","v":"Infectious"},null,1.91842207831712E-5,1.7993379846363299E-5]
[null,"all_f_Central Urban infectious.csv","45-49",2.8104582194699999E-5,2.8709312934154801E-5,2.9325664144164399E-5,2.9909945237854102E-5,3.0481000245025298E-5,3.10285907546949E-5,3.1560014901186997E-5,3.2068215324752303E-5,3.2557203910000098E-5,3.3028378905856299E-5,{"$f":"IF($B1753=\"\",\"\",VLOOKUP($B1753,_tbl!$A:$E,N$2,0))","v":"Female"},{"$f":"IF($B1753=\"\",\"\",VLOOKUP($B1753,_tbl!$A:$E,O$2,0))","v":"Central"},{"$f":"IF($B1753=\"\",\"\",VLOOKUP($B1753,_tbl!$A:$E,P$2,0))","v":"Urban"},{"$f":"IF($B1753=\"\",\"\",VLOOKUP($B1753,_tbl!$A:$E,Q$2,0))","v":"Infectious"},null,3.3028378905856299E-5,2.8104582194699999E-5]
[null,"all_f_Central Urban infectious.csv","50-54",4.2024050359089297E-5,4.1493888849972497E-5,4.15324382829821E-5,4.1246003033795401E-5,4.1043442905967903E-5,4.07390746178383E-5,4.05529141911421E-5,4.0306592856523602E-5,4.0061803544423703E-5,3.98243116502589E-5,{"$f":"IF($B1754=\"\",\"\",VLOOKUP($B1754,_tbl!$A:$E,N$2,0))","v":"Female"},{"$f":"IF($B1754=\"\",\"\",VLOOKUP($B1754,_tbl!$A:$E,O$2,0))","v":"Central"},{"$f":"IF($B1754=\"\",\"\",VLOOKUP($B1754,_tbl!$A:$E,P$2,0))","v":"Urban"},{"$f":"IF($B1754=\"\",\"\",VLOOKUP($B1754,_tbl!$A:$E,Q$2,0))","v":"Infectious"},null,4.2024050359089297E-5,3.98243116502589E-5]
[null,"all_f_Central Urban infectious.csv","55-59",7.2316558220577595E-5,7.0958835740772899E-5,7.0349020696262304E-5,6.94971767470124E-5,6.8739414977291605E-5,6.7911364271551502E-5,6.7233792746660795E-5,6.6502640870266396E-5,6.5780272253235605E-5,6.50816257677184E-5,{"$f":"IF($B1755=\"\",\"\",VLOOKUP($B1755,_tbl!$A:$E,N$2,0))","v":"Female"},{"$f":"IF($B1755=\"\",\"\",VLOOKUP($B1755,_tbl!$A:$E,O$2,0))","v":"Central"},{"$f":"IF($B1755=\"\",\"\",VLOOKUP($B1755,_tbl!$A:$E,P$2,0))","v":"Urban"},{"$f":"IF($B1755=\"\",\"\",VLOOKUP($B1755,_tbl!$A:$E,Q$2,0))","v":"Infectious"},null,7.2316558220577595E-5,6.50816257677184E-5]
[null,"all_f_Central Urban infectious.csv","60-64",1.20473909663613E-4,1.18924827632601E-4,1.17671437715777E-4,1.16344238813775E-4,1.15053098726111E-4,1.13754232442765E-4,1.1255439014163201E-4,1.11344902416984E-4,1.10154000881567E-4,1.08996279909831E-4,{"$f":"IF($B1756=\"\",\"\",VLOOKUP($B1756,_tbl!$A:$E,N$2,0))","v":"Female"},{"$f":"IF($B1756=\"\",\"\",VLOOKUP($B1756,_tbl!$A:$E,O$2,0))","v":"Central"},{"$f":"IF($B1756=\"\",\"\",VLOOKUP($B1756,_tbl!$A:$E,P$2,0))","v":"Urban"},{"$f":"IF($B1756=\"\",\"\",VLOOKUP($B1756,_tbl!$A:$E,Q$2,0))","v":"Infectious"},null,1.20473909663613E-4,1.08996279909831E-4]
[null,"all_f_Central Urban infectious.csv","65-69",1.8761518165694599E-4,1.85049510973711E-4,1.8292103765927899E-4,1.79482150345546E-4,1.75803320646753E-4,1.7166027517929501E-4,1.6824118788346699E-4,1.6443363531352801E-4,1.60546806084686E-4,1.5676855278346801E-4,{"$f":"IF($B1757=\"\",\"\",VLOOKUP($B1757,_tbl!$A:$E,N$2,0))","v":"Female"},{"$f":"IF($B1757=\"\",\"\",VLOOKUP($B1757,_tbl!$A:$E,O$2,0))","v":"Central"},{"$f":"IF($B1757=\"\",\"\",VLOOKUP($B1757,_tbl!$A:$E,P$2,0))","v":"Urban"},{"$f":"IF($B1757=\"\",\"\",VLOOKUP($B1757,_tbl!$A:$E,Q$2,0))","v":"Infectious"},null,1.8761518165694599E-4,1.5676855278346801E-4]
[null,"all_f_Central Urban infectious.csv","70-74",3.9106131864311401E-4,3.9097006755381202E-4,3.9119121808362499E-4,3.8913534403220098E-4,3.8643693184398802E-4,3.8282767645176897E-4,3.8040309874307998E-4,3.7714607981393999E-4,3.7359666765716297E-4,3.7013063059966801E-4,{"$f":"IF($B1758=\"\",\"\",VLOOKUP($B1758,_tbl!$A:$E,N$2,0))","v":"Female"},{"$f":"IF($B1758=\"\",\"\",VLOOKUP($B1758,_tbl!$A:$E,O$2,0))","v":"Central"},{"$f":"IF($B1758=\"\",\"\",VLOOKUP($B1758,_tbl!$A:$E,P$2,0))","v":"Urban"},{"$f":"IF($B1758=\"\",\"\",VLOOKUP($B1758,_tbl!$A:$E,Q$2,0))","v":"Infectious"},null,3.9119121808362499E-4,3.7013063059966801E-4]
[null,"all_f_Central Urban infectious.csv","75-79",9.6137643108681295E-4,9.5726958390641504E-4,9.6046742851818199E-4,9.6046625820340103E-4,9.59659850357065E-4,9.5734165557195697E-4,9.5785256947960901E-4,9.5651509548173798E-4,9.54428991610374E-4,9.5251171879823205E-4,{"$f":"IF($B1759=\"\",\"\",VLOOKUP($B1759,_tbl!$A:$E,N$2,0))","v":"Female"},{"$f":"IF($B1759=\"\",\"\",VLOOKUP($B1759,_tbl!$A:$E,O$2,0))","v":"Central"},{"$f":"IF($B1759=\"\",\"\",VLOOKUP($B1759,_tbl!$A:$E,P$2,0))","v":"Urban"},{"$f":"IF($B1759=\"\",\"\",VLOOKUP($B1759,_tbl!$A:$E,Q$2,0))","v":"Infectious"},null,9.6137643108681295E-4,9.5251171879823205E-4]
[null,"all_f_Central Urban infectious.csv","80-84",2.73478252575678E-3,2.6668256754948999E-3,2.66143744301333E-3,2.6501764081359501E-3,2.63688600886931E-3,2.6183644836774902E-3,2.61763917640165E-3,2.60809269362537E-3,2.5950200249464398E-3,2.5837771514165102E-3,{"$f":"IF($B1760=\"\",\"\",VLOOKUP($B1760,_tbl!$A:$E,N$2,0))","v":"Female"},{"$f":"IF($B1760=\"\",\"\",VLOOKUP($B1760,_tbl!$A:$E,O$2,0))","v":"Central"},{"$f":"IF($B1760=\"\",\"\",VLOOKUP($B1760,_tbl!$A:$E,P$2,0))","v":"Urban"},{"$f":"IF($B1760=\"\",\"\",VLOOKUP($B1760,_tbl!$A:$E,Q$2,0))","v":"Infectious"},null,2.73478252575678E-3,2.5837771514165102E-3]
[null,"all_f_Central Urban infectious.csv","85+",8.4514789753536799E-3,8.2719164565631196E-3,8.1898383007765595E-3,8.1574302626273108E-3,8.1424359355233497E-3,8.1320545353688097E-3,8.1668253695968591E-3,8.1880406179316006E-3,8.2036729276737108E-3,8.2247351729001997E-3,{"$f":"IF($B1761=\"\",\"\",VLOOKUP($B1761,_tbl!$A:$E,N$2,0))","v":"Female"},{"$f":"IF($B1761=\"\",\"\",VLOOKUP($B1761,_tbl!$A:$E,O$2,0))","v":"Central"},{"$f":"IF($B1761=\"\",\"\",VLOOKUP($B1761,_tbl!$A:$E,P$2,0))","v":"Urban"},{"$f":"IF($B1761=\"\",\"\",VLOOKUP($B1761,_tbl!$A:$E,Q$2,0))","v":"Infectious"},null,8.4514789753536799E-3,8.1320545353688097E-3]
[null,null,null,null,null,null,null,null,null,null,null,null,null,{"$f":"IF($B1762=\"\",\"\",VLOOKUP($B1762,_tbl!$A:$E,N$2,0))","v":""},{"$f":"IF($B1762=\"\",\"\",VLOOKUP($B1762,_tbl!$A:$E,O$2,0))","v":""},{"$f":"IF($B1762=\"\",\"\",VLOOKUP($B1762,_tbl!$A:$E,P$2,0))","v":""},{"$f":"IF($B1762=\"\",\"\",VLOOKUP($B1762,_tbl!$A:$E,Q$2,0))","v":""}]
[null,null,null,2020,2021,2022,2023,2024,2025,2026,2027,2028,2029,{"$f":"IF($B1763=\"\",\"\",VLOOKUP($B1763,_tbl!$A:$E,N$2,0))","v":""},{"$f":"IF($B1763=\"\",\"\",VLOOKUP($B1763,_tbl!$A:$E,O$2,0))","v":""},{"$f":"IF($B1763=\"\",\"\",VLOOKUP($B1763,_tbl!$A:$E,P$2,0))","v":""},{"$f":"IF($B1763=\"\",\"\",VLOOKUP($B1763,_tbl!$A:$E,Q$2,0))","v":""}]
[null,"all_f_Central Urban mental.csv","1-4",1.8611629062319899E-5,1.8560372403905099E-5,1.8569038404649E-5,1.8569910656149201E-5,1.8593371253720301E-5,1.8599588085957399E-5,1.8601385442551201E-5,1.8580656391446301E-5,1.85520706800702E-5,1.8515333221513599E-5,{"$f":"IF($B1764=\"\",\"\",VLOOKUP($B1764,_tbl!$A:$E,N$2,0))","v":"Female"},{"$f":"IF($B1764=\"\",\"\",VLOOKUP($B1764,_tbl!$A:$E,O$2,0))","v":"Central"},{"$f":"IF($B1764=\"\",\"\",VLOOKUP($B1764,_tbl!$A:$E,P$2,0))","v":"Urban"},{"$f":"IF($B1764=\"\",\"\",VLOOKUP($B1764,_tbl!$A:$E,Q$2,0))","v":"Mental"},null,{"$f":"MAX(D1764:M1764)","v":1.8611629062319899E-5},{"$f":"MIN(D1764:M1764)","v":1.8515333221513599E-5}]
[null,"all_f_Central Urban mental.csv","5-9",1.31588853894946E-5,1.3132136622591199E-5,1.31218283375215E-5,1.3111657235697E-5,1.3102599294432901E-5,1.3092335273428401E-5,1.30817969493451E-5,1.30694067748955E-5,1.3055821918279799E-5,1.30413007483501E-5,{"$f":"IF($B1765=\"\",\"\",VLOOKUP($B1765,_tbl!$A:$E,N$2,0))","v":"Female"},{"$f":"IF($B1765=\"\",\"\",VLOOKUP($B1765,_tbl!$A:$E,O$2,0))","v":"Central"},{"$f":"IF($B1765=\"\",\"\",VLOOKUP($B1765,_tbl!$A:$E,P$2,0))","v":"Urban"},{"$f":"IF($B1765=\"\",\"\",VLOOKUP($B1765,_tbl!$A:$E,Q$2,0))","v":"Mental"},null,1.31588853894946E-5,1.30413007483501E-5]
[null,"all_f_Central Urban mental.csv","10-14",9.9194385787400207E-6,9.8469592009720907E-6,9.8072169172507897E-6,9.7675114601347694E-6,9.7228662323584796E-6,9.6777141607067704E-6,9.6335016261383602E-6,9.5879682014626304E-6,9.5403060927629798E-6,9.4926672767054701E-6,{"$f":"IF($B1766=\"\",\"\",VLOOKUP($B1766,_tbl!$A:$E,N$2,0))","v":"Female"},{"$f":"IF($B1766=\"\",\"\",VLOOKUP($B1766,_tbl!$A:$E,O$2,0))","v":"Central"},{"$f":"IF($B1766=\"\",\"\",VLOOKUP($B1766,_tbl!$A:$E,P$2,0))","v":"Urban"},{"$f":"IF($B1766=\"\",\"\",VLOOKUP($B1766,_tbl!$A:$E,Q$2,0))","v":"Mental"},null,9.9194385787400207E-6,9.4926672767054701E-6]
[null,"all_f_Central Urban mental.csv","15-19",7.16698426660579E-6,7.0637501680908499E-6,7.01198118761234E-6,6.9486128963872296E-6,6.8980646465172398E-6,6.8330734434328298E-6,6.76564420661197E-6,6.6855339368913498E-6,6.6011043461090797E-6,6.5125841321204402E-6,{"$f":"IF($B1767=\"\",\"\",VLOOKUP($B1767,_tbl!$A:$E,N$2,0))","v":"Female"},{"$f":"IF($B1767=\"\",\"\",VLOOKUP($B1767,_tbl!$A:$E,O$2,0))","v":"Central"},{"$f":"IF($B1767=\"\",\"\",VLOOKUP($B1767,_tbl!$A:$E,P$2,0))","v":"Urban"},{"$f":"IF($B1767=\"\",\"\",VLOOKUP($B1767,_tbl!$A:$E,Q$2,0))","v":"Mental"},null,7.16698426660579E-6,6.5125841321204402E-6]
[null,"all_f_Central Urban mental.csv","20-24",7.4203586522351504E-6,7.3552728761981701E-6,7.3157744174794098E-6,7.2722831957142503E-6,7.2347462316285798E-6,7.1918559820323002E-6,7.1484802532571597E-6,7.1011096499787104E-6,7.05309193135011E-6,7.0044596396413397E-6,{"$f":"IF($B1768=\"\",\"\",VLOOKUP($B1768,_tbl!$A:$E,N$2,0))","v":"Female"},{"$f":"IF($B1768=\"\",\"\",VLOOKUP($B1768,_tbl!$A:$E,O$2,0))","v":"Central"},{"$f":"IF($B1768=\"\",\"\",VLOOKUP($B1768,_tbl!$A:$E,P$2,0))","v":"Urban"},{"$f":"IF($B1768=\"\",\"\",VLOOKUP($B1768,_tbl!$A:$E,Q$2,0))","v":"Mental"},null,7.4203586522351504E-6,7.0044596396413397E-6]
[null,"all_f_Central Urban mental.csv","25-29",8.6883240568263394E-6,8.7019610826887597E-6,8.7058783325184999E-6,8.7096148483657608E-6,8.7106679338312298E-6,8.7131833225270105E-6,8.7154434151233196E-6,8.7194017443466494E-6,8.7239831654229206E-6,8.7290391557936593E-6,{"$f":"IF($B1769=\"\",\"\",VLOOKUP($B1769,_tbl!$A:$E,N$2,0))","v":"Female"},{"$f":"IF($B1769=\"\",\"\",VLOOKUP($B1769,_tbl!$A:$E,O$2,0))","v":"Central"},{"$f":"IF($B1769=\"\",\"\",VLOOKUP($B1769,_tbl!$A:$E,P$2,0))","v":"Urban"},{"$f":"IF($B1769=\"\",\"\",VLOOKUP($B1769,_tbl!$A:$E,Q$2,0))","v":"Mental"},null,8.7290391557936593E-6,8.6883240568263394E-6]
[null,"all_f_Central Urban mental.csv","30-34",1.0133518180065E-5,1.0228590199673701E-5,1.0283493552636301E-5,1.0345478128179E-5,1.0400009435208E-5,1.0458906102294801E-5,1.0513709661027401E-5,1.0572436248747201E-5,1.0631783041904E-5,1.06914198628448E-5,{"$f":"IF($B1770=\"\",\"\",VLOOKUP($B1770,_tbl!$A:$E,N$2,0))","v":"Female"},{"$f":"IF($B1770=\"\",\"\",VLOOKUP($B1770,_tbl!$A:$E,O$2,0))","v":"Central"},{"$f":"IF($B1770=\"\",\"\",VLOOKUP($B1770,_tbl!$A:$E,P$2,0))","v":"Urban"},{"$f":"IF($B1770=\"\",\"\",VLOOKUP($B1770,_tbl!$A:$E,Q$2,0))","v":"Mental"},null,1.06914198628448E-5,1.0133518180065E-5]
[null,"all_f_Central Urban mental.csv","35-39",1.2046689213833801E-5,1.22211850749022E-5,1.2326398750338199E-5,1.24637685363331E-5,1.258619381017E-5,1.27191568405407E-5,1.2838482012278999E-5,1.29635064221433E-5,1.30870115042964E-5,1.32092403226703E-5,{"$f":"IF($B1771=\"\",\"\",VLOOKUP($B1771,_tbl!$A:$E,N$2,0))","v":"Female"},{"$f":"IF($B1771=\"\",\"\",VLOOKUP($B1771,_tbl!$A:$E,O$2,0))","v":"Central"},{"$f":"IF($B1771=\"\",\"\",VLOOKUP($B1771,_tbl!$A:$E,P$2,0))","v":"Urban"},{"$f":"IF($B1771=\"\",\"\",VLOOKUP($B1771,_tbl!$A:$E,Q$2,0))","v":"Mental"},null,1.32092403226703E-5,1.2046689213833801E-5]
[null,"all_f_Central Urban mental.csv","40-44",1.47533801678784E-5,1.4821800264433099E-5,1.48707563106414E-5,1.4937815905883499E-5,1.4996754375483699E-5,1.5061530842453901E-5,1.51191746056143E-5,1.51794040040843E-5,1.52384574240468E-5,1.5296659710678302E-5,{"$f":"IF($B1772=\"\",\"\",VLOOKUP($B1772,_tbl!$A:$E,N$2,0))","v":"Female"},{"$f":"IF($B1772=\"\",\"\",VLOOKUP($B1772,_tbl!$A:$E,O$2,0))","v":"Central"},{"$f":"IF($B1772=\"\",\"\",VLOOKUP($B1772,_tbl!$A:$E,P$2,0))","v":"Urban"},{"$f":"IF($B1772=\"\",\"\",VLOOKUP($B1772,_tbl!$A:$E,Q$2,0))","v":"Mental"},null,1.5296659710678302E-5,1.47533801678784E-5]
[null,"all_f_Central Urban mental.csv","45-49",1.8975793957171601E-5,1.8707764401971E-5,1.8509681080094498E-5,1.82869569110086E-5,1.80814977907085E-5,1.7873854663238201E-5,1.7684676724967501E-5,1.7496296594782402E-5,1.7314405654107599E-5,1.7139067660983702E-5,{"$f":"IF($B1773=\"\",\"\",VLOOKUP($B1773,_tbl!$A:$E,N$2,0))","v":"Female"},{"$f":"IF($B1773=\"\",\"\",VLOOKUP($B1773,_tbl!$A:$E,O$2,0))","v":"Central"},{"$f":"IF($B1773=\"\",\"\",VLOOKUP($B1773,_tbl!$A:$E,P$2,0))","v":"Urban"},{"$f":"IF($B1773=\"\",\"\",VLOOKUP($B1773,_tbl!$A:$E,Q$2,0))","v":"Mental"},null,1.8975793957171601E-5,1.7139067660983702E-5]
[null,"all_f_Central Urban mental.csv","50-54",2.7190548173729301E-5,2.6553276047960699E-5,2.6129878133665701E-5,2.5554738561067701E-5,2.5020051477423901E-5,2.4449863035956599E-5,2.3948081820183199E-5,2.3433583942892901E-5,2.2932351759361199E-5,2.2447380198858999E-5,{"$f":"IF($B1774=\"\",\"\",VLOOKUP($B1774,_tbl!$A:$E,N$2,0))","v":"Female"},{"$f":"IF($B1774=\"\",\"\",VLOOKUP($B1774,_tbl!$A:$E,O$2,0))","v":"Central"},{"$f":"IF($B1774=\"\",\"\",VLOOKUP($B1774,_tbl!$A:$E,P$2,0))","v":"Urban"},{"$f":"IF($B1774=\"\",\"\",VLOOKUP($B1774,_tbl!$A:$E,Q$2,0))","v":"Mental"},null,2.7190548173729301E-5,2.2447380198858999E-5]
[null,"all_f_Central Urban mental.csv","55-59",4.2333633929599402E-5,4.1826414741690599E-5,4.1490342207730398E-5,4.1042501245561101E-5,4.0620753362915197E-5,4.01686287632553E-5,3.9771178637246999E-5,3.9351609365680497E-5,3.89346325220682E-5,3.8527169643617302E-5,{"$f":"IF($B1775=\"\",\"\",VLOOKUP($B1775,_tbl!$A:$E,N$2,0))","v":"Female"},{"$f":"IF($B1775=\"\",\"\",VLOOKUP($B1775,_tbl!$A:$E,O$2,0))","v":"Central"},{"$f":"IF($B1775=\"\",\"\",VLOOKUP($B1775,_tbl!$A:$E,P$2,0))","v":"Urban"},{"$f":"IF($B1775=\"\",\"\",VLOOKUP($B1775,_tbl!$A:$E,Q$2,0))","v":"Mental"},null,4.2333633929599402E-5,3.8527169643617302E-5]
[null,"all_f_Central Urban mental.csv","60-64",6.4649827304114006E-5,6.4587235950442598E-5,6.4577839748074898E-5,6.4464320913477702E-5,6.4321895312974904E-5,6.4147971946079793E-5,6.3993370754482706E-5,6.3811053391195995E-5,6.3617535357917906E-5,6.3423630606334504E-5,{"$f":"IF($B1776=\"\",\"\",VLOOKUP($B1776,_tbl!$A:$E,N$2,0))","v":"Female"},{"$f":"IF($B1776=\"\",\"\",VLOOKUP($B1776,_tbl!$A:$E,O$2,0))","v":"Central"},{"$f":"IF($B1776=\"\",\"\",VLOOKUP($B1776,_tbl!$A:$E,P$2,0))","v":"Urban"},{"$f":"IF($B1776=\"\",\"\",VLOOKUP($B1776,_tbl!$A:$E,Q$2,0))","v":"Mental"},null,6.4649827304114006E-5,6.3423630606334504E-5]
[null,"all_f_Central Urban mental.csv","65-69",1.0159471651774201E-4,1.01550385113829E-4,1.01233373885605E-4,1.00663309168182E-4,9.9978215481914807E-5,9.9223009118356794E-5,9.8488534608073003E-5,9.7712041964572797E-5,9.6922686549480804E-5,9.6140894892171594E-5,{"$f":"IF($B1777=\"\",\"\",VLOOKUP($B1777,_tbl!$A:$E,N$2,0))","v":"Female"},{"$f":"IF($B1777=\"\",\"\",VLOOKUP($B1777,_tbl!$A:$E,O$2,0))","v":"Central"},{"$f":"IF($B1777=\"\",\"\",VLOOKUP($B1777,_tbl!$A:$E,P$2,0))","v":"Urban"},{"$f":"IF($B1777=\"\",\"\",VLOOKUP($B1777,_tbl!$A:$E,Q$2,0))","v":"Mental"},null,1.0159471651774201E-4,9.6140894892171594E-5]
[null,"all_f_Central Urban mental.csv","70-74",2.02456858477998E-4,2.0367113055852899E-4,2.0385506334873199E-4,2.0366764708550599E-4,2.0329285680521699E-4,2.0281811408611399E-4,2.0221066521672199E-4,2.0157766631789101E-4,2.00926094312965E-4,2.00247656770411E-4,{"$f":"IF($B1778=\"\",\"\",VLOOKUP($B1778,_tbl!$A:$E,N$2,0))","v":"Female"},{"$f":"IF($B1778=\"\",\"\",VLOOKUP($B1778,_tbl!$A:$E,O$2,0))","v":"Central"},{"$f":"IF($B1778=\"\",\"\",VLOOKUP($B1778,_tbl!$A:$E,P$2,0))","v":"Urban"},{"$f":"IF($B1778=\"\",\"\",VLOOKUP($B1778,_tbl!$A:$E,Q$2,0))","v":"Mental"},null,2.0385506334873199E-4,2.00247656770411E-4]
[null,"all_f_Central Urban mental.csv","75-79",4.9248752595910104E-4,4.9388624348982305E-4,4.9570361103226505E-4,4.9688908058060201E-4,4.9774754692079E-4,4.9822820103165104E-4,4.9880285326555003E-4,4.9914208843854701E-4,4.9936773538371401E-4,4.9953150217847296E-4,{"$f":"IF($B1779=\"\",\"\",VLOOKUP($B1779,_tbl!$A:$E,N$2,0))","v":"Female"},{"$f":"IF($B1779=\"\",\"\",VLOOKUP($B1779,_tbl!$A:$E,O$2,0))","v":"Central"},{"$f":"IF($B1779=\"\",\"\",VLOOKUP($B1779,_tbl!$A:$E,P$2,0))","v":"Urban"},{"$f":"IF($B1779=\"\",\"\",VLOOKUP($B1779,_tbl!$A:$E,Q$2,0))","v":"Mental"},null,4.9953150217847296E-4,4.9248752595910104E-4]
[null,"all_f_Central Urban mental.csv","80-84",1.3285477647456299E-3,1.3170667540540199E-3,1.3193356717545899E-3,1.3203643270151401E-3,1.3207056310895499E-3,1.3196263670118499E-3,1.3222474401250899E-3,1.32327063123084E-3,1.32380092600377E-3,1.3248193091812E-3,{"$f":"IF($B1780=\"\",\"\",VLOOKUP($B1780,_tbl!$A:$E,N$2,0))","v":"Female"},{"$f":"IF($B1780=\"\",\"\",VLOOKUP($B1780,_tbl!$A:$E,O$2,0))","v":"Central"},{"$f":"IF($B1780=\"\",\"\",VLOOKUP($B1780,_tbl!$A:$E,P$2,0))","v":"Urban"},{"$f":"IF($B1780=\"\",\"\",VLOOKUP($B1780,_tbl!$A:$E,Q$2,0))","v":"Mental"},null,1.3285477647456299E-3,1.3170667540540199E-3]
[null,"all_f_Central Urban mental.csv","85+",3.86745588262435E-3,3.7659260347163099E-3,3.7521757449450201E-3,3.7386682245954999E-3,3.7311534465861102E-3,3.7241975223254301E-3,3.73874180646453E-3,3.73990646967471E-3,3.73352000718044E-3,3.7282002892761201E-3,{"$f":"IF($B1781=\"\",\"\",VLOOKUP($B1781,_tbl!$A:$E,N$2,0))","v":"Female"},{"$f":"IF($B1781=\"\",\"\",VLOOKUP($B1781,_tbl!$A:$E,O$2,0))","v":"Central"},{"$f":"IF($B1781=\"\",\"\",VLOOKUP($B1781,_tbl!$A:$E,P$2,0))","v":"Urban"},{"$f":"IF($B1781=\"\",\"\",VLOOKUP($B1781,_tbl!$A:$E,Q$2,0))","v":"Mental"},null,3.86745588262435E-3,3.7241975223254301E-3]
[null,null,null,null,null,null,null,null,null,null,null,null,null,{"$f":"IF($B1782=\"\",\"\",VLOOKUP($B1782,_tbl!$A:$E,N$2,0))","v":""},{"$f":"IF($B1782=\"\",\"\",VLOOKUP($B1782,_tbl!$A:$E,O$2,0))","v":""},{"$f":"IF($B1782=\"\",\"\",VLOOKUP($B1782,_tbl!$A:$E,P$2,0))","v":""},{"$f":"IF($B1782=\"\",\"\",VLOOKUP($B1782,_tbl!$A:$E,Q$2,0))","v":""}]
[null,null,null,2020,2021,2022,2023,2024,2025,2026,2027,2028,2029,{"$f":"IF($B1783=\"\",\"\",VLOOKUP($B1783,_tbl!$A:$E,N$2,0))","v":""},{"$f":"IF($B1783=\"\",\"\",VLOOKUP($B1783,_tbl!$A:$E,O$2,0))","v":""},{"$f":"IF($B1783=\"\",\"\",VLOOKUP($B1783,_tbl!$A:$E,P$2,0))","v":""},{"$f":"IF($B1783=\"\",\"\",VLOOKUP($B1783,_tbl!$A:$E,Q$2,0))","v":""}]
[null,"all_f_Central Urban other.csv","1-4",2.4021337510040999E-5,2.27204139304363E-5,2.1510346305608199E-5,2.03739169194574E-5,1.9322426559856301E-5,1.8322801725065E-5,1.737949053705E-5,1.6474307838818701E-5,1.5615271745536699E-5,1.47973828778207E-5,{"$f":"IF($B1784=\"\",\"\",VLOOKUP($B1784,_tbl!$A:$E,N$2,0))","v":"Female"},{"$f":"IF($B1784=\"\",\"\",VLOOKUP($B1784,_tbl!$A:$E,O$2,0))","v":"Central"},{"$f":"IF($B1784=\"\",\"\",VLOOKUP($B1784,_tbl!$A:$E,P$2,0))","v":"Urban"},{"$f":"IF($B1784=\"\",\"\",VLOOKUP($B1784,_tbl!$A:$E,Q$2,0))","v":"Other"},null,{"$f":"MAX(D1784:M1784)","v":2.4021337510040999E-5},{"$f":"MIN(D1784:M1784)","v":1.47973828778207E-5}]
[null,"all_f_Central Urban other.csv","5-9",1.3456490109672999E-5,1.31874442532823E-5,1.2922588519103801E-5,1.26643550336742E-5,1.2411059076861599E-5,1.21635221295446E-5,1.19205543010685E-5,1.16831459110232E-5,1.1450789121343199E-5,1.12230718987016E-5,{"$f":"IF($B1785=\"\",\"\",VLOOKUP($B1785,_tbl!$A:$E,N$2,0))","v":"Female"},{"$f":"IF($B1785=\"\",\"\",VLOOKUP($B1785,_tbl!$A:$E,O$2,0))","v":"Central"},{"$f":"IF($B1785=\"\",\"\",VLOOKUP($B1785,_tbl!$A:$E,P$2,0))","v":"Urban"},{"$f":"IF($B1785=\"\",\"\",VLOOKUP($B1785,_tbl!$A:$E,Q$2,0))","v":"Other"},null,1.3456490109672999E-5,1.12230718987016E-5]
[null,"all_f_Central Urban other.csv","10-14",1.28796450007392E-5,1.2444530466731699E-5,1.2035325694521201E-5,1.16357091406633E-5,1.1245810374552E-5,1.08669097781514E-5,1.05001671222939E-5,1.0143893910152599E-5,9.7976548961406093E-6,9.4620265251751992E-6,{"$f":"IF($B1786=\"\",\"\",VLOOKUP($B1786,_tbl!$A:$E,N$2,0))","v":"Female"},{"$f":"IF($B1786=\"\",\"\",VLOOKUP($B1786,_tbl!$A:$E,O$2,0))","v":"Central"},{"$f":"IF($B1786=\"\",\"\",VLOOKUP($B1786,_tbl!$A:$E,P$2,0))","v":"Urban"},{"$f":"IF($B1786=\"\",\"\",VLOOKUP($B1786,_tbl!$A:$E,Q$2,0))","v":"Other"},null,1.28796450007392E-5,9.4620265251751992E-6]
[null,"all_f_Central Urban other.csv","15-19",1.20126132051178E-5,1.1129055349162101E-5,1.02595419829115E-5,9.4256172599193103E-6,8.6226553080831402E-6,7.8584729145837396E-6,7.1333387730238498E-6,6.4447167639750698E-6,5.7901093660454401E-6,5.1692000624419301E-6,{"$f":"IF($B1787=\"\",\"\",VLOOKUP($B1787,_tbl!$A:$E,N$2,0))","v":"Female"},{"$f":"IF($B1787=\"\",\"\",VLOOKUP($B1787,_tbl!$A:$E,O$2,0))","v":"Central"},{"$f":"IF($B1787=\"\",\"\",VLOOKUP($B1787,_tbl!$A:$E,P$2,0))","v":"Urban"},{"$f":"IF($B1787=\"\",\"\",VLOOKUP($B1787,_tbl!$A:$E,Q$2,0))","v":"Other"},null,1.20126132051178E-5,5.1692000624419301E-6]
[null,"all_f_Central Urban other.csv","20-24",1.4414439474221399E-5,1.3074711937247699E-5,1.1810211412471101E-5,1.0607204890663801E-5,9.4679676706211204E-6,8.3839806604378807E-6,7.3577966511525302E-6,6.3816184831134696E-6,5.4555322594476797E-6,4.5776142373571598E-6,{"$f":"IF($B1788=\"\",\"\",VLOOKUP($B1788,_tbl!$A:$E,N$2,0))","v":"Female"},{"$f":"IF($B1788=\"\",\"\",VLOOKUP($B1788,_tbl!$A:$E,O$2,0))","v":"Central"},{"$f":"IF($B1788=\"\",\"\",VLOOKUP($B1788,_tbl!$A:$E,P$2,0))","v":"Urban"},{"$f":"IF($B1788=\"\",\"\",VLOOKUP($B1788,_tbl!$A:$E,Q$2,0))","v":"Other"},null,1.4414439474221399E-5,4.5776142373571598E-6]
[null,"all_f_Central Urban other.csv","25-29",1.9846440487817401E-5,1.7855029534771301E-5,1.6001042693726001E-5,1.4210337473169401E-5,1.24961001009413E-5,1.08475452664284E-5,9.2769970073742904E-6,7.7685899671356805E-6,6.3248533490828901E-6,4.9447147502442799E-6,{"$f":"IF($B1789=\"\",\"\",VLOOKUP($B1789,_tbl!$A:$E,N$2,0))","v":"Female"},{"$f":"IF($B1789=\"\",\"\",VLOOKUP($B1789,_tbl!$A:$E,O$2,0))","v":"Central"},{"$f":"IF($B1789=\"\",\"\",VLOOKUP($B1789,_tbl!$A:$E,P$2,0))","v":"Urban"},{"$f":"IF($B1789=\"\",\"\",VLOOKUP($B1789,_tbl!$A:$E,Q$2,0))","v":"Other"},null,1.9846440487817401E-5,4.9447147502442799E-6]
[null,"all_f_Central Urban other.csv","30-34",2.9148916748232898E-5,2.6629984277666501E-5,2.4330451396190401E-5,2.2107190510213599E-5,1.9985171499788301E-5,1.7961542498695E-5,1.60567922560686E-5,1.42475240992285E-5,1.2531942890141601E-5,1.0906303484272499E-5,{"$f":"IF($B1790=\"\",\"\",VLOOKUP($B1790,_tbl!$A:$E,N$2,0))","v":"Female"},{"$f":"IF($B1790=\"\",\"\",VLOOKUP($B1790,_tbl!$A:$E,O$2,0))","v":"Central"},{"$f":"IF($B1790=\"\",\"\",VLOOKUP($B1790,_tbl!$A:$E,P$2,0))","v":"Urban"},{"$f":"IF($B1790=\"\",\"\",VLOOKUP($B1790,_tbl!$A:$E,Q$2,0))","v":"Other"},null,2.9148916748232898E-5,1.0906303484272499E-5]
[null,"all_f_Central Urban other.csv","35-39",3.3411541840496803E-5,3.0834269728833198E-5,2.8421729406597599E-5,2.6167143541541001E-5,2.40643312226877E-5,2.2103846248737001E-5,2.0280376563963699E-5,1.8582234817806702E-5,1.7001640615664501E-5,1.5530414253372401E-5,{"$f":"IF($B1791=\"\",\"\",VLOOKUP($B1791,_tbl!$A:$E,N$2,0))","v":"Female"},{"$f":"IF($B1791=\"\",\"\",VLOOKUP($B1791,_tbl!$A:$E,O$2,0))","v":"Central"},{"$f":"IF($B1791=\"\",\"\",VLOOKUP($B1791,_tbl!$A:$E,P$2,0))","v":"Urban"},{"$f":"IF($B1791=\"\",\"\",VLOOKUP($B1791,_tbl!$A:$E,Q$2,0))","v":"Other"},null,3.3411541840496803E-5,1.5530414253372401E-5]
[null,"all_f_Central Urban other.csv","40-44",3.7194247852802697E-5,3.4612857634427099E-5,3.2184567657142499E-5,2.9987100096870699E-5,2.7946804451341098E-5,2.6082568868350099E-5,2.4354029244125101E-5,2.27724851901157E-5,2.1318849314439302E-5,1.9983289585143301E-5,{"$f":"IF($B1792=\"\",\"\",VLOOKUP($B1792,_tbl!$A:$E,N$2,0))","v":"Female"},{"$f":"IF($B1792=\"\",\"\",VLOOKUP($B1792,_tbl!$A:$E,O$2,0))","v":"Central"},{"$f":"IF($B1792=\"\",\"\",VLOOKUP($B1792,_tbl!$A:$E,P$2,0))","v":"Urban"},{"$f":"IF($B1792=\"\",\"\",VLOOKUP($B1792,_tbl!$A:$E,Q$2,0))","v":"Other"},null,3.7194247852802697E-5,1.9983289585143301E-5]
[null,"all_f_Central Urban other.csv","45-49",5.0039815899740802E-5,4.69227520809391E-5,4.40322343907095E-5,4.1425763813598901E-5,3.89929093363853E-5,3.6775763303674302E-5,3.4710975396291098E-5,3.2820772453486897E-5,3.1078154837776501E-5,2.94755308762699E-5,{"$f":"IF($B1793=\"\",\"\",VLOOKUP($B1793,_tbl!$A:$E,N$2,0))","v":"Female"},{"$f":"IF($B1793=\"\",\"\",VLOOKUP($B1793,_tbl!$A:$E,O$2,0))","v":"Central"},{"$f":"IF($B1793=\"\",\"\",VLOOKUP($B1793,_tbl!$A:$E,P$2,0))","v":"Urban"},{"$f":"IF($B1793=\"\",\"\",VLOOKUP($B1793,_tbl!$A:$E,Q$2,0))","v":"Other"},null,5.0039815899740802E-5,2.94755308762699E-5]
[null,"all_f_Central Urban other.csv","50-54",8.0320870655994E-5,7.5614523371066901E-5,7.1183941333521195E-5,6.7012966264534899E-5,6.3086386668743694E-5,5.9389882358103002E-5,5.5909972226335303E-5,5.26339650835003E-5,4.9549913371379197E-5,4.6646569590875002E-5,{"$f":"IF($B1794=\"\",\"\",VLOOKUP($B1794,_tbl!$A:$E,N$2,0))","v":"Female"},{"$f":"IF($B1794=\"\",\"\",VLOOKUP($B1794,_tbl!$A:$E,O$2,0))","v":"Central"},{"$f":"IF($B1794=\"\",\"\",VLOOKUP($B1794,_tbl!$A:$E,P$2,0))","v":"Urban"},{"$f":"IF($B1794=\"\",\"\",VLOOKUP($B1794,_tbl!$A:$E,Q$2,0))","v":"Other"},null,8.0320870655994E-5,4.6646569590875002E-5]
[null,"all_f_Central Urban other.csv","55-59",1.31749090330665E-4,1.2475402862308701E-4,1.17921455733651E-4,1.1156133255041501E-4,1.05467691714132E-4,9.9738285342184898E-5,9.4210526677114201E-5,8.8986218320709497E-5,8.4016297889506604E-5,7.9286560454464996E-5,{"$f":"IF($B1795=\"\",\"\",VLOOKUP($B1795,_tbl!$A:$E,N$2,0))","v":"Female"},{"$f":"IF($B1795=\"\",\"\",VLOOKUP($B1795,_tbl!$A:$E,O$2,0))","v":"Central"},{"$f":"IF($B1795=\"\",\"\",VLOOKUP($B1795,_tbl!$A:$E,P$2,0))","v":"Urban"},{"$f":"IF($B1795=\"\",\"\",VLOOKUP($B1795,_tbl!$A:$E,Q$2,0))","v":"Other"},null,1.31749090330665E-4,7.9286560454464996E-5]
[null,"all_f_Central Urban other.csv","60-64",1.9205209024612601E-4,1.8428556827972199E-4,1.7543065480375499E-4,1.6736459930798901E-4,1.59547874493883E-4,1.5230546621034001E-4,1.45062477833122E-4,1.38339718644285E-4,1.3198334580306201E-4,1.2592618520888301E-4,{"$f":"IF($B1796=\"\",\"\",VLOOKUP($B1796,_tbl!$A:$E,N$2,0))","v":"Female"},{"$f":"IF($B1796=\"\",\"\",VLOOKUP($B1796,_tbl!$A:$E,O$2,0))","v":"Central"},{"$f":"IF($B1796=\"\",\"\",VLOOKUP($B1796,_tbl!$A:$E,P$2,0))","v":"Urban"},{"$f":"IF($B1796=\"\",\"\",VLOOKUP($B1796,_tbl!$A:$E,Q$2,0))","v":"Other"},null,1.9205209024612601E-4,1.2592618520888301E-4]
[null,"all_f_Central Urban other.csv","65-69",2.6403506607557202E-4,2.4856635591668201E-4,2.34003892786024E-4,2.2029458346071299E-4,2.07388445227726E-4,1.95238423652137E-4,1.8380022102154701E-4,1.73032134841251E-4,1.6289490579127601E-4,1.5335157459100401E-4,{"$f":"IF($B1797=\"\",\"\",VLOOKUP($B1797,_tbl!$A:$E,N$2,0))","v":"Female"},{"$f":"IF($B1797=\"\",\"\",VLOOKUP($B1797,_tbl!$A:$E,O$2,0))","v":"Central"},{"$f":"IF($B1797=\"\",\"\",VLOOKUP($B1797,_tbl!$A:$E,P$2,0))","v":"Urban"},{"$f":"IF($B1797=\"\",\"\",VLOOKUP($B1797,_tbl!$A:$E,Q$2,0))","v":"Other"},null,2.6403506607557202E-4,1.5335157459100401E-4]
[null,"all_f_Central Urban other.csv","70-74",4.2841230823035799E-4,4.0034197038967098E-4,3.7411085110399E-4,3.4959844149621199E-4,3.2669212864560199E-4,3.0528667823066102E-4,2.8528375107015502E-4,2.6659145134124102E-4,2.4912390439913899E-4,2.3280086225882201E-4,{"$f":"IF($B1798=\"\",\"\",VLOOKUP($B1798,_tbl!$A:$E,N$2,0))","v":"Female"},{"$f":"IF($B1798=\"\",\"\",VLOOKUP($B1798,_tbl!$A:$E,O$2,0))","v":"Central"},{"$f":"IF($B1798=\"\",\"\",VLOOKUP($B1798,_tbl!$A:$E,P$2,0))","v":"Urban"},{"$f":"IF($B1798=\"\",\"\",VLOOKUP($B1798,_tbl!$A:$E,Q$2,0))","v":"Other"},null,4.2841230823035799E-4,2.3280086225882201E-4]
[null,"all_f_Central Urban other.csv","75-79",9.62353701324128E-4,9.0029345107363096E-4,8.4376639977687699E-4,7.8983033172015096E-4,7.3907727407755404E-4,6.9096070391449604E-4,6.4611293079220005E-4,6.0380773066659704E-4,5.6409331484758496E-4,5.2683190747885905E-4,{"$f":"IF($B1799=\"\",\"\",VLOOKUP($B1799,_tbl!$A:$E,N$2,0))","v":"Female"},{"$f":"IF($B1799=\"\",\"\",VLOOKUP($B1799,_tbl!$A:$E,O$2,0))","v":"Central"},{"$f":"IF($B1799=\"\",\"\",VLOOKUP($B1799,_tbl!$A:$E,P$2,0))","v":"Urban"},{"$f":"IF($B1799=\"\",\"\",VLOOKUP($B1799,_tbl!$A:$E,Q$2,0))","v":"Other"},null,9.62353701324128E-4,5.2683190747885905E-4]
[null,"all_f_Central Urban other.csv","80-84",3.3401792917048998E-3,3.0794498663494498E-3,2.89637985110378E-3,2.7220798837142299E-3,2.5539041885905001E-3,2.3877003593506898E-3,2.2523280336376799E-3,2.1105457353354702E-3,1.9688024811634901E-3,1.8345921983942499E-3,{"$f":"IF($B1800=\"\",\"\",VLOOKUP($B1800,_tbl!$A:$E,N$2,0))","v":"Female"},{"$f":"IF($B1800=\"\",\"\",VLOOKUP($B1800,_tbl!$A:$E,O$2,0))","v":"Central"},{"$f":"IF($B1800=\"\",\"\",VLOOKUP($B1800,_tbl!$A:$E,P$2,0))","v":"Urban"},{"$f":"IF($B1800=\"\",\"\",VLOOKUP($B1800,_tbl!$A:$E,Q$2,0))","v":"Other"},null,3.3401792917048998E-3,1.8345921983942499E-3]
[null,"all_f_Central Urban other.csv","85+",1.2320741233872501E-2,1.1573958956926001E-2,1.0975717825488601E-2,1.0573589814818299E-2,1.0241635279300399E-2,9.9480798269921105E-3,9.7521836530245296E-3,9.5480929656822592E-3,9.3438963645107193E-3,9.1579241357976193E-3,{"$f":"IF($B1801=\"\",\"\",VLOOKUP($B1801,_tbl!$A:$E,N$2,0))","v":"Female"},{"$f":"IF($B1801=\"\",\"\",VLOOKUP($B1801,_tbl!$A:$E,O$2,0))","v":"Central"},{"$f":"IF($B1801=\"\",\"\",VLOOKUP($B1801,_tbl!$A:$E,P$2,0))","v":"Urban"},{"$f":"IF($B1801=\"\",\"\",VLOOKUP($B1801,_tbl!$A:$E,Q$2,0))","v":"Other"},null,1.2320741233872501E-2,9.1579241357976193E-3]
[null,null,null,null,null,null,null,null,null,null,null,null,null,{"$f":"IF($B1802=\"\",\"\",VLOOKUP($B1802,_tbl!$A:$E,N$2,0))","v":""},{"$f":"IF($B1802=\"\",\"\",VLOOKUP($B1802,_tbl!$A:$E,O$2,0))","v":""},{"$f":"IF($B1802=\"\",\"\",VLOOKUP($B1802,_tbl!$A:$E,P$2,0))","v":""},{"$f":"IF($B1802=\"\",\"\",VLOOKUP($B1802,_tbl!$A:$E,Q$2,0))","v":""}]
[null,null,null,2020,2021,2022,2023,2024,2025,2026,2027,2028,2029,{"$f":"IF($B1803=\"\",\"\",VLOOKUP($B1803,_tbl!$A:$E,N$2,0))","v":""},{"$f":"IF($B1803=\"\",\"\",VLOOKUP($B1803,_tbl!$A:$E,O$2,0))","v":""},{"$f":"IF($B1803=\"\",\"\",VLOOKUP($B1803,_tbl!$A:$E,P$2,0))","v":""},{"$f":"IF($B1803=\"\",\"\",VLOOKUP($B1803,_tbl!$A:$E,Q$2,0))","v":""}]
[null,"all_f_Central Urban respiratory.csv","1-4",5.8215558051413096E-6,5.79220634323103E-6,5.7743048993749798E-6,5.7502006663115896E-6,5.7296567673351802E-6,5.7072717351857899E-6,5.6860330421737702E-6,5.6642875639178E-6,5.6429492965795796E-6,5.6215121493397299E-6,{"$f":"IF($B1804=\"\",\"\",VLOOKUP($B1804,_tbl!$A:$E,N$2,0))","v":"Female"},{"$f":"IF($B1804=\"\",\"\",VLOOKUP($B1804,_tbl!$A:$E,O$2,0))","v":"Central"},{"$f":"IF($B1804=\"\",\"\",VLOOKUP($B1804,_tbl!$A:$E,P$2,0))","v":"Urban"},{"$f":"IF($B1804=\"\",\"\",VLOOKUP($B1804,_tbl!$A:$E,Q$2,0))","v":"Respiratory"},null,{"$f":"MAX(D1804:M1804)","v":5.8215558051413096E-6},{"$f":"MIN(D1804:M1804)","v":5.6215121493397299E-6}]
[null,"all_f_Central Urban respiratory.csv","5-9",3.0217034694537801E-6,2.9025128275839701E-6,2.8318500134715201E-6,2.73908140680399E-6,2.6621240983240899E-6,2.5804285792672401E-6,2.5049520590905601E-6,2.4296816422675399E-6,2.3577508445227901E-6,2.2873687057476199E-6,{"$f":"IF($B1805=\"\",\"\",VLOOKUP($B1805,_tbl!$A:$E,N$2,0))","v":"Female"},{"$f":"IF($B1805=\"\",\"\",VLOOKUP($B1805,_tbl!$A:$E,O$2,0))","v":"Central"},{"$f":"IF($B1805=\"\",\"\",VLOOKUP($B1805,_tbl!$A:$E,P$2,0))","v":"Urban"},{"$f":"IF($B1805=\"\",\"\",VLOOKUP($B1805,_tbl!$A:$E,Q$2,0))","v":"Respiratory"},null,3.0217034694537801E-6,2.2873687057476199E-6]
[null,"all_f_Central Urban respiratory.csv","10-14",2.2041907211651E-6,2.0753343723206401E-6,2.0001666862050201E-6,1.9028919237449399E-6,1.8234271891810701E-6,1.7403103127725701E-6,1.6646730981765E-6,1.59036178327621E-6,1.52040799681829E-6,1.4529788850486001E-6,{"$f":"IF($B1806=\"\",\"\",VLOOKUP($B1806,_tbl!$A:$E,N$2,0))","v":"Female"},{"$f":"IF($B1806=\"\",\"\",VLOOKUP($B1806,_tbl!$A:$E,O$2,0))","v":"Central"},{"$f":"IF($B1806=\"\",\"\",VLOOKUP($B1806,_tbl!$A:$E,P$2,0))","v":"Urban"},{"$f":"IF($B1806=\"\",\"\",VLOOKUP($B1806,_tbl!$A:$E,Q$2,0))","v":"Respiratory"},null,2.2041907211651E-6,1.4529788850486001E-6]
[null,"all_f_Central Urban respiratory.csv","15-19",1.9228647744499102E-6,1.77879992380858E-6,1.69595235123348E-6,1.59008877521712E-6,1.50477282039448E-6,1.4166942093630201E-6,1.3376040650544599E-6,1.2609184410165499E-6,1.1896814692191499E-6,1.1219177242715801E-6,{"$f":"IF($B1807=\"\",\"\",VLOOKUP($B1807,_tbl!$A:$E,N$2,0))","v":"Female"},{"$f":"IF($B1807=\"\",\"\",VLOOKUP($B1807,_tbl!$A:$E,O$2,0))","v":"Central"},{"$f":"IF($B1807=\"\",\"\",VLOOKUP($B1807,_tbl!$A:$E,P$2,0))","v":"Urban"},{"$f":"IF($B1807=\"\",\"\",VLOOKUP($B1807,_tbl!$A:$E,Q$2,0))","v":"Respiratory"},null,1.9228647744499102E-6,1.1219177242715801E-6]
[null,"all_f_Central Urban respiratory.csv","20-24",1.8927437432169701E-6,1.7183447140132501E-6,1.61956901592359E-6,1.49504307237047E-6,1.3961270285330999E-6,1.29541909172926E-6,1.2062646835828299E-6,1.1210266147645001E-6,1.04295658739209E-6,9.6973186926643495E-7,{"$f":"IF($B1808=\"\",\"\",VLOOKUP($B1808,_tbl!$A:$E,N$2,0))","v":"Female"},{"$f":"IF($B1808=\"\",\"\",VLOOKUP($B1808,_tbl!$A:$E,O$2,0))","v":"Central"},{"$f":"IF($B1808=\"\",\"\",VLOOKUP($B1808,_tbl!$A:$E,P$2,0))","v":"Urban"},{"$f":"IF($B1808=\"\",\"\",VLOOKUP($B1808,_tbl!$A:$E,Q$2,0))","v":"Respiratory"},null,1.8927437432169701E-6,9.6973186926643495E-7]
[null,"all_f_Central Urban respiratory.csv","25-29",2.18999061969765E-6,1.9632960641550998E-6,1.8362082803594999E-6,1.67743188465979E-6,1.5525268159672E-6,1.4265406168841601E-6,1.3160666309205701E-6,1.21143628879689E-6,1.11650965812543E-6,1.02831217058223E-6,{"$f":"IF($B1809=\"\",\"\",VLOOKUP($B1809,_tbl!$A:$E,N$2,0))","v":"Female"},{"$f":"IF($B1809=\"\",\"\",VLOOKUP($B1809,_tbl!$A:$E,O$2,0))","v":"Central"},{"$f":"IF($B1809=\"\",\"\",VLOOKUP($B1809,_tbl!$A:$E,P$2,0))","v":"Urban"},{"$f":"IF($B1809=\"\",\"\",VLOOKUP($B1809,_tbl!$A:$E,Q$2,0))","v":"Respiratory"},null,2.18999061969765E-6,1.02831217058223E-6]
[null,"all_f_Central Urban respiratory.csv","30-34",2.8929770556406902E-6,2.5694274813048001E-6,2.3894108660185799E-6,2.1660079010831599E-6,1.9915203800444198E-6,1.8167341880160401E-6,1.66454693133733E-6,1.52141169819267E-6,1.3924599188857299E-6,1.2734845352214001E-6,{"$f":"IF($B1810=\"\",\"\",VLOOKUP($B1810,_tbl!$A:$E,N$2,0))","v":"Female"},{"$f":"IF($B1810=\"\",\"\",VLOOKUP($B1810,_tbl!$A:$E,O$2,0))","v":"Central"},{"$f":"IF($B1810=\"\",\"\",VLOOKUP($B1810,_tbl!$A:$E,P$2,0))","v":"Urban"},{"$f":"IF($B1810=\"\",\"\",VLOOKUP($B1810,_tbl!$A:$E,Q$2,0))","v":"Respiratory"},null,2.8929770556406902E-6,1.2734845352214001E-6]
[null,"all_f_Central Urban respiratory.csv","35-39",4.1639109992058602E-6,3.6589250934558199E-6,3.3803894315038099E-6,3.0373598871430598E-6,2.77163287833218E-6,2.5075477395141898E-6,2.2794584941633299E-6,2.0666421907984999E-6,1.8764493710346E-6,1.7023707979271401E-6,{"$f":"IF($B1811=\"\",\"\",VLOOKUP($B1811,_tbl!$A:$E,N$2,0))","v":"Female"},{"$f":"IF($B1811=\"\",\"\",VLOOKUP($B1811,_tbl!$A:$E,O$2,0))","v":"Central"},{"$f":"IF($B1811=\"\",\"\",VLOOKUP($B1811,_tbl!$A:$E,P$2,0))","v":"Urban"},{"$f":"IF($B1811=\"\",\"\",VLOOKUP($B1811,_tbl!$A:$E,Q$2,0))","v":"Respiratory"},null,4.1639109992058602E-6,1.7023707979271401E-6]
[null,"all_f_Central Urban respiratory.csv","40-44",6.5569391400388796E-6,5.7077645860069701E-6,5.2429552273558097E-6,4.6743683959225996E-6,4.2370939631947497E-6,3.8055381884184202E-6,3.4354501712775199E-6,3.0925641483737899E-6,2.7882915072973999E-6,2.5117568660974501E-6,{"$f":"IF($B1812=\"\",\"\",VLOOKUP($B1812,_tbl!$A:$E,N$2,0))","v":"Female"},{"$f":"IF($B1812=\"\",\"\",VLOOKUP($B1812,_tbl!$A:$E,O$2,0))","v":"Central"},{"$f":"IF($B1812=\"\",\"\",VLOOKUP($B1812,_tbl!$A:$E,P$2,0))","v":"Urban"},{"$f":"IF($B1812=\"\",\"\",VLOOKUP($B1812,_tbl!$A:$E,Q$2,0))","v":"Respiratory"},null,6.5569391400388796E-6,2.5117568660974501E-6]
[null,"all_f_Central Urban respiratory.csv","45-49",1.18893788702809E-5,1.0338105014626299E-5,9.4897583469374195E-6,8.4528290170820092E-6,7.6560563471977504E-6,6.87035105862738E-6,6.19712305097E-6,5.57389673410081E-6,5.0213165709039098E-6,4.5195292507296999E-6,{"$f":"IF($B1813=\"\",\"\",VLOOKUP($B1813,_tbl!$A:$E,N$2,0))","v":"Female"},{"$f":"IF($B1813=\"\",\"\",VLOOKUP($B1813,_tbl!$A:$E,O$2,0))","v":"Central"},{"$f":"IF($B1813=\"\",\"\",VLOOKUP($B1813,_tbl!$A:$E,P$2,0))","v":"Urban"},{"$f":"IF($B1813=\"\",\"\",VLOOKUP($B1813,_tbl!$A:$E,Q$2,0))","v":"Respiratory"},null,1.18893788702809E-5,4.5195292507296999E-6]
[null,"all_f_Central Urban respiratory.csv","50-54",2.5246911435577E-5,2.21448993443482E-5,2.04364365926262E-5,1.8335115223399699E-5,1.6709600004600399E-5,1.5096293065872199E-5,1.37047949449229E-5,1.24082288240677E-5,1.12510729515826E-5,1.01933954875714E-5,{"$f":"IF($B1814=\"\",\"\",VLOOKUP($B1814,_tbl!$A:$E,N$2,0))","v":"Female"},{"$f":"IF($B1814=\"\",\"\",VLOOKUP($B1814,_tbl!$A:$E,O$2,0))","v":"Central"},{"$f":"IF($B1814=\"\",\"\",VLOOKUP($B1814,_tbl!$A:$E,P$2,0))","v":"Urban"},{"$f":"IF($B1814=\"\",\"\",VLOOKUP($B1814,_tbl!$A:$E,Q$2,0))","v":"Respiratory"},null,2.5246911435577E-5,1.01933954875714E-5]
[null,"all_f_Central Urban respiratory.csv","55-59",5.8378453432392201E-5,5.17438724533967E-5,4.8058628700683602E-5,4.3491870308105803E-5,3.9930622071604202E-5,3.6368656060265299E-5,3.32720119462565E-5,3.0363988337810902E-5,2.77481395214725E-5,2.53383516824986E-5,{"$f":"IF($B1815=\"\",\"\",VLOOKUP($B1815,_tbl!$A:$E,N$2,0))","v":"Female"},{"$f":"IF($B1815=\"\",\"\",VLOOKUP($B1815,_tbl!$A:$E,O$2,0))","v":"Central"},{"$f":"IF($B1815=\"\",\"\",VLOOKUP($B1815,_tbl!$A:$E,P$2,0))","v":"Urban"},{"$f":"IF($B1815=\"\",\"\",VLOOKUP($B1815,_tbl!$A:$E,Q$2,0))","v":"Respiratory"},null,5.8378453432392201E-5,2.53383516824986E-5]
[null,"all_f_Central Urban respiratory.csv","60-64",1.32563974075037E-4,1.17706736209835E-4,1.09442248384677E-4,9.9187868023165401E-5,9.1180387239056404E-5,8.3160780183308403E-5,7.61794719738504E-5,6.9614714701929706E-5,6.3701652031009499E-5,5.8247143829904299E-5,{"$f":"IF($B1816=\"\",\"\",VLOOKUP($B1816,_tbl!$A:$E,N$2,0))","v":"Female"},{"$f":"IF($B1816=\"\",\"\",VLOOKUP($B1816,_tbl!$A:$E,O$2,0))","v":"Central"},{"$f":"IF($B1816=\"\",\"\",VLOOKUP($B1816,_tbl!$A:$E,P$2,0))","v":"Urban"},{"$f":"IF($B1816=\"\",\"\",VLOOKUP($B1816,_tbl!$A:$E,Q$2,0))","v":"Respiratory"},null,1.32563974075037E-4,5.8247143829904299E-5]
[null,"all_f_Central Urban respiratory.csv","65-69",2.8785950750011697E-4,2.5373377272257399E-4,2.3486353511785601E-4,2.1157229856910801E-4,1.93486710460337E-4,1.75471596115446E-4,1.5987549455209499E-4,1.45289969558736E-4,1.3222453023518E-4,1.2023825715334699E-4,{"$f":"IF($B1817=\"\",\"\",VLOOKUP($B1817,_tbl!$A:$E,N$2,0))","v":"Female"},{"$f":"IF($B1817=\"\",\"\",VLOOKUP($B1817,_tbl!$A:$E,O$2,0))","v":"Central"},{"$f":"IF($B1817=\"\",\"\",VLOOKUP($B1817,_tbl!$A:$E,P$2,0))","v":"Urban"},{"$f":"IF($B1817=\"\",\"\",VLOOKUP($B1817,_tbl!$A:$E,Q$2,0))","v":"Respiratory"},null,2.8785950750011697E-4,1.2023825715334699E-4]
[null,"all_f_Central Urban respiratory.csv","70-74",6.4372700354727898E-4,5.6460491331733302E-4,5.2102950517400105E-4,4.6743598534728699E-4,4.2597940273366699E-4,3.84835755825446E-4,3.4935022061785098E-4,3.1628689274302099E-4,2.8677977410383499E-4,2.5981037326308501E-4,{"$f":"IF($B1818=\"\",\"\",VLOOKUP($B1818,_tbl!$A:$E,N$2,0))","v":"Female"},{"$f":"IF($B1818=\"\",\"\",VLOOKUP($B1818,_tbl!$A:$E,O$2,0))","v":"Central"},{"$f":"IF($B1818=\"\",\"\",VLOOKUP($B1818,_tbl!$A:$E,P$2,0))","v":"Urban"},{"$f":"IF($B1818=\"\",\"\",VLOOKUP($B1818,_tbl!$A:$E,Q$2,0))","v":"Respiratory"},null,6.4372700354727898E-4,2.5981037326308501E-4]
[null,"all_f_Central Urban respiratory.csv","75-79",1.6252450766891301E-3,1.4389182355697299E-3,1.3355158052128001E-3,1.2074828015148501E-3,1.10772665248505E-3,1.0080335487217399E-3,9.2143779778212497E-4,8.4018513766706104E-4,7.6715801095151605E-4,6.99940308870932E-4,{"$f":"IF($B1819=\"\",\"\",VLOOKUP($B1819,_tbl!$A:$E,N$2,0))","v":"Female"},{"$f":"IF($B1819=\"\",\"\",VLOOKUP($B1819,_tbl!$A:$E,O$2,0))","v":"Central"},{"$f":"IF($B1819=\"\",\"\",VLOOKUP($B1819,_tbl!$A:$E,P$2,0))","v":"Urban"},{"$f":"IF($B1819=\"\",\"\",VLOOKUP($B1819,_tbl!$A:$E,Q$2,0))","v":"Respiratory"},null,1.6252450766891301E-3,6.99940308870932E-4]
[null,"all_f_Central Urban respiratory.csv","80-84",4.7048373757568396E-3,4.2737883051695603E-3,4.02953778377992E-3,3.7214854089437201E-3,3.4766784626760498E-3,3.2273305320890898E-3,3.00649245390411E-3,2.7952644053553799E-3,2.6017156437378799E-3,2.4201008719670798E-3,{"$f":"IF($B1820=\"\",\"\",VLOOKUP($B1820,_tbl!$A:$E,N$2,0))","v":"Female"},{"$f":"IF($B1820=\"\",\"\",VLOOKUP($B1820,_tbl!$A:$E,O$2,0))","v":"Central"},{"$f":"IF($B1820=\"\",\"\",VLOOKUP($B1820,_tbl!$A:$E,P$2,0))","v":"Urban"},{"$f":"IF($B1820=\"\",\"\",VLOOKUP($B1820,_tbl!$A:$E,Q$2,0))","v":"Respiratory"},null,4.7048373757568396E-3,2.4201008719670798E-3]
[null,"all_f_Central Urban respiratory.csv","85+",1.4519195605461501E-2,1.36502550140891E-2,1.3143967906905699E-2,1.2489474093593999E-2,1.1955417578107801E-2,1.13974263760819E-2,1.0890214905932E-2,1.0392444105597899E-2,9.9243819164185204E-3,9.4737112013343495E-3,{"$f":"IF($B1821=\"\",\"\",VLOOKUP($B1821,_tbl!$A:$E,N$2,0))","v":"Female"},{"$f":"IF($B1821=\"\",\"\",VLOOKUP($B1821,_tbl!$A:$E,O$2,0))","v":"Central"},{"$f":"IF($B1821=\"\",\"\",VLOOKUP($B1821,_tbl!$A:$E,P$2,0))","v":"Urban"},{"$f":"IF($B1821=\"\",\"\",VLOOKUP($B1821,_tbl!$A:$E,Q$2,0))","v":"Respiratory"},null,1.4519195605461501E-2,9.4737112013343495E-3]
[null,null,null,null,null,null,null,null,null,null,null,null,null,{"$f":"IF($B1822=\"\",\"\",VLOOKUP($B1822,_tbl!$A:$E,N$2,0))","v":""},{"$f":"IF($B1822=\"\",\"\",VLOOKUP($B1822,_tbl!$A:$E,O$2,0))","v":""},{"$f":"IF($B1822=\"\",\"\",VLOOKUP($B1822,_tbl!$A:$E,P$2,0))","v":""},{"$f":"IF($B1822=\"\",\"\",VLOOKUP($B1822,_tbl!$A:$E,Q$2,0))","v":""}]
[null,null,null,2020,2021,2022,2023,2024,2025,2026,2027,2028,2029,{"$f":"IF($B1823=\"\",\"\",VLOOKUP($B1823,_tbl!$A:$E,N$2,0))","v":""},{"$f":"IF($B1823=\"\",\"\",VLOOKUP($B1823,_tbl!$A:$E,O$2,0))","v":""},{"$f":"IF($B1823=\"\",\"\",VLOOKUP($B1823,_tbl!$A:$E,P$2,0))","v":""},{"$f":"IF($B1823=\"\",\"\",VLOOKUP($B1823,_tbl!$A:$E,Q$2,0))","v":""}]
[null,"all_f_Central Urban.csv","1-4",2.6892175621497398E-4,2.6419570693890401E-4,2.5910927292053599E-4,2.5433426009835599E-4,2.4965412839083798E-4,2.4532313600836601E-4,2.4125202849020001E-4,2.37539454324858E-4,2.34091370489241E-4,2.30878454827614E-4,{"$f":"IF($B1824=\"\",\"\",VLOOKUP($B1824,_tbl!$A:$E,N$2,0))","v":"Female"},{"$f":"IF($B1824=\"\",\"\",VLOOKUP($B1824,_tbl!$A:$E,O$2,0))","v":"Central"},{"$f":"IF($B1824=\"\",\"\",VLOOKUP($B1824,_tbl!$A:$E,P$2,0))","v":"Urban"},{"$f":"IF($B1824=\"\",\"\",VLOOKUP($B1824,_tbl!$A:$E,Q$2,0))","v":"Total"},null,{"$f":"MAX(D1824:M1824)","v":2.6892175621497398E-4},{"$f":"MIN(D1824:M1824)","v":2.30878454827614E-4}]
[null,"all_f_Central Urban.csv","5-9",1.53300165643672E-4,1.5107363372276599E-4,1.4889557729005299E-4,1.4672050501394099E-4,1.4461806740009899E-4,1.42550293685787E-4,1.40544707738749E-4,1.3858025677378501E-4,1.36669377820895E-4,1.34810878109836E-4,{"$f":"IF($B1825=\"\",\"\",VLOOKUP($B1825,_tbl!$A:$E,N$2,0))","v":"Female"},{"$f":"IF($B1825=\"\",\"\",VLOOKUP($B1825,_tbl!$A:$E,O$2,0))","v":"Central"},{"$f":"IF($B1825=\"\",\"\",VLOOKUP($B1825,_tbl!$A:$E,P$2,0))","v":"Urban"},{"$f":"IF($B1825=\"\",\"\",VLOOKUP($B1825,_tbl!$A:$E,Q$2,0))","v":"Total"},null,1.53300165643672E-4,1.34810878109836E-4]
[null,"all_f_Central Urban.csv","10-14",1.3770181533048501E-4,1.3449500992510199E-4,1.3162661891909499E-4,1.2889255085394099E-4,1.2628525708745499E-4,1.2378681258710399E-4,1.21401642763077E-4,1.19105931318766E-4,1.16891203774133E-4,1.14758298389515E-4,{"$f":"IF($B1826=\"\",\"\",VLOOKUP($B1826,_tbl!$A:$E,N$2,0))","v":"Female"},{"$f":"IF($B1826=\"\",\"\",VLOOKUP($B1826,_tbl!$A:$E,O$2,0))","v":"Central"},{"$f":"IF($B1826=\"\",\"\",VLOOKUP($B1826,_tbl!$A:$E,P$2,0))","v":"Urban"},{"$f":"IF($B1826=\"\",\"\",VLOOKUP($B1826,_tbl!$A:$E,Q$2,0))","v":"Total"},null,1.3770181533048501E-4,1.14758298389515E-4]
[null,"all_f_Central Urban.csv","15-19",1.37806874539873E-4,1.33108431192029E-4,1.2873804016836401E-4,1.24650778312426E-4,1.20800004891283E-4,1.17188612775362E-4,1.1379595138583301E-4,1.1060549369986401E-4,1.07594091813279E-4,1.04752435236993E-4,{"$f":"IF($B1827=\"\",\"\",VLOOKUP($B1827,_tbl!$A:$E,N$2,0))","v":"Female"},{"$f":"IF($B1827=\"\",\"\",VLOOKUP($B1827,_tbl!$A:$E,O$2,0))","v":"Central"},{"$f":"IF($B1827=\"\",\"\",VLOOKUP($B1827,_tbl!$A:$E,P$2,0))","v":"Urban"},{"$f":"IF($B1827=\"\",\"\",VLOOKUP($B1827,_tbl!$A:$E,Q$2,0))","v":"Total"},null,1.37806874539873E-4,1.04752435236993E-4]
[null,"all_f_Central Urban.csv","20-24",1.5784984636251401E-4,1.51925942342093E-4,1.4637140497844299E-4,1.41172181806627E-4,1.36292523031485E-4,1.31734691965075E-4,1.2747292663475799E-4,1.2349015278821101E-4,1.19759279696215E-4,1.16263942249E-4,{"$f":"IF($B1828=\"\",\"\",VLOOKUP($B1828,_tbl!$A:$E,N$2,0))","v":"Female"},{"$f":"IF($B1828=\"\",\"\",VLOOKUP($B1828,_tbl!$A:$E,O$2,0))","v":"Central"},{"$f":"IF($B1828=\"\",\"\",VLOOKUP($B1828,_tbl!$A:$E,P$2,0))","v":"Urban"},{"$f":"IF($B1828=\"\",\"\",VLOOKUP($B1828,_tbl!$A:$E,Q$2,0))","v":"Total"},null,1.5784984636251401E-4,1.16263942249E-4]
[null,"all_f_Central Urban.csv","25-29",2.11851944659426E-4,2.04473879049429E-4,1.9745962060587101E-4,1.9087234312347199E-4,1.84646808316113E-4,1.7883460835056001E-4,1.73394216819645E-4,1.68319210152311E-4,1.6356424767515599E-4,1.59108779429524E-4,{"$f":"IF($B1829=\"\",\"\",VLOOKUP($B1829,_tbl!$A:$E,N$2,0))","v":"Female"},{"$f":"IF($B1829=\"\",\"\",VLOOKUP($B1829,_tbl!$A:$E,O$2,0))","v":"Central"},{"$f":"IF($B1829=\"\",\"\",VLOOKUP($B1829,_tbl!$A:$E,P$2,0))","v":"Urban"},{"$f":"IF($B1829=\"\",\"\",VLOOKUP($B1829,_tbl!$A:$E,Q$2,0))","v":"Total"},null,2.11851944659426E-4,1.59108779429524E-4]
[null,"all_f_Central Urban.csv","30-34",3.0984251414996398E-4,3.0181186603363502E-4,2.9416215306382799E-4,2.8710466536813699E-4,2.8050038456514599E-4,2.7441833339186702E-4,2.6877358135468898E-4,2.6358548332614299E-4,2.5878750901597299E-4,2.54347390640304E-4,{"$f":"IF($B1830=\"\",\"\",VLOOKUP($B1830,_tbl!$A:$E,N$2,0))","v":"Female"},{"$f":"IF($B1830=\"\",\"\",VLOOKUP($B1830,_tbl!$A:$E,O$2,0))","v":"Central"},{"$f":"IF($B1830=\"\",\"\",VLOOKUP($B1830,_tbl!$A:$E,P$2,0))","v":"Urban"},{"$f":"IF($B1830=\"\",\"\",VLOOKUP($B1830,_tbl!$A:$E,Q$2,0))","v":"Total"},null,3.0984251414996398E-4,2.54347390640304E-4]
[null,"all_f_Central Urban.csv","35-39",4.5718488624856902E-4,4.4831056844084398E-4,4.3924291113039699E-4,4.3152052484087097E-4,4.2428471088516202E-4,4.1788441391077299E-4,4.1185141507871302E-4,4.0647297605978801E-4,4.0158581461600999E-4,3.9715617281372098E-4,{"$f":"IF($B1831=\"\",\"\",VLOOKUP($B1831,_tbl!$A:$E,N$2,0))","v":"Female"},{"$f":"IF($B1831=\"\",\"\",VLOOKUP($B1831,_tbl!$A:$E,O$2,0))","v":"Central"},{"$f":"IF($B1831=\"\",\"\",VLOOKUP($B1831,_tbl!$A:$E,P$2,0))","v":"Urban"},{"$f":"IF($B1831=\"\",\"\",VLOOKUP($B1831,_tbl!$A:$E,Q$2,0))","v":"Total"},null,4.5718488624856902E-4,3.9715617281372098E-4]
[null,"all_f_Central Urban.csv","40-44",6.9271901295482E-4,6.7580434011623098E-4,6.5843789975669504E-4,6.4377490722963295E-4,6.2967542073729603E-4,6.1707849771560903E-4,6.0484715521116601E-4,5.93709523443232E-4,5.8331842135480097E-4,5.7365890459718796E-4,{"$f":"IF($B1832=\"\",\"\",VLOOKUP($B1832,_tbl!$A:$E,N$2,0))","v":"Female"},{"$f":"IF($B1832=\"\",\"\",VLOOKUP($B1832,_tbl!$A:$E,O$2,0))","v":"Central"},{"$f":"IF($B1832=\"\",\"\",VLOOKUP($B1832,_tbl!$A:$E,P$2,0))","v":"Urban"},{"$f":"IF($B1832=\"\",\"\",VLOOKUP($B1832,_tbl!$A:$E,Q$2,0))","v":"Total"},null,6.9271901295482E-4,5.7365890459718796E-4]
[null,"all_f_Central Urban.csv","45-49",1.1557524136432799E-3,1.13212436349259E-3,1.10736489411335E-3,1.0862230982944001E-3,1.0656708605331199E-3,1.04716283206653E-3,1.0290080357032801E-3,1.01228909340794E-3,9.9648727081099093E-4,9.8162530397278105E-4,{"$f":"IF($B1833=\"\",\"\",VLOOKUP($B1833,_tbl!$A:$E,N$2,0))","v":"Female"},{"$f":"IF($B1833=\"\",\"\",VLOOKUP($B1833,_tbl!$A:$E,O$2,0))","v":"Central"},{"$f":"IF($B1833=\"\",\"\",VLOOKUP($B1833,_tbl!$A:$E,P$2,0))","v":"Urban"},{"$f":"IF($B1833=\"\",\"\",VLOOKUP($B1833,_tbl!$A:$E,Q$2,0))","v":"Total"},null,1.1557524136432799E-3,9.8162530397278105E-4]
[null,"all_f_Central Urban.csv","50-54",1.9446309460987999E-3,1.90328227191291E-3,1.86757089165537E-3,1.82855694641491E-3,1.7909719083732201E-3,1.75348395180354E-3,1.7184171865983499E-3,1.6840669541828099E-3,1.6509260338845599E-3,1.6190837732995901E-3,{"$f":"IF($B1834=\"\",\"\",VLOOKUP($B1834,_tbl!$A:$E,N$2,0))","v":"Female"},{"$f":"IF($B1834=\"\",\"\",VLOOKUP($B1834,_tbl!$A:$E,O$2,0))","v":"Central"},{"$f":"IF($B1834=\"\",\"\",VLOOKUP($B1834,_tbl!$A:$E,P$2,0))","v":"Urban"},{"$f":"IF($B1834=\"\",\"\",VLOOKUP($B1834,_tbl!$A:$E,Q$2,0))","v":"Total"},null,1.9446309460987999E-3,1.6190837732995901E-3]
[null,"all_f_Central Urban.csv","55-59",3.3616323029212001E-3,3.3155720810718499E-3,3.2739207491019099E-3,3.2302487586207398E-3,3.18797898383472E-3,3.1461582401722801E-3,3.1061472664414098E-3,3.0669157865849199E-3,3.0288546230877299E-3,2.99201373043065E-3,{"$f":"IF($B1835=\"\",\"\",VLOOKUP($B1835,_tbl!$A:$E,N$2,0))","v":"Female"},{"$f":"IF($B1835=\"\",\"\",VLOOKUP($B1835,_tbl!$A:$E,O$2,0))","v":"Central"},{"$f":"IF($B1835=\"\",\"\",VLOOKUP($B1835,_tbl!$A:$E,P$2,0))","v":"Urban"},{"$f":"IF($B1835=\"\",\"\",VLOOKUP($B1835,_tbl!$A:$E,Q$2,0))","v":"Total"},null,3.3616323029212001E-3,2.99201373043065E-3]
[null,"all_f_Central Urban.csv","60-64",5.46163134999046E-3,5.3763682709089197E-3,5.3006549636077701E-3,5.2162889411055402E-3,5.1336852653067503E-3,5.05019219971018E-3,4.9717795815075998E-3,4.8935196276003803E-3,4.8170700545095198E-3,4.7429844615409899E-3,{"$f":"IF($B1836=\"\",\"\",VLOOKUP($B1836,_tbl!$A:$E,N$2,0))","v":"Female"},{"$f":"IF($B1836=\"\",\"\",VLOOKUP($B1836,_tbl!$A:$E,O$2,0))","v":"Central"},{"$f":"IF($B1836=\"\",\"\",VLOOKUP($B1836,_tbl!$A:$E,P$2,0))","v":"Urban"},{"$f":"IF($B1836=\"\",\"\",VLOOKUP($B1836,_tbl!$A:$E,Q$2,0))","v":"Total"},null,5.46163134999046E-3,4.7429844615409899E-3]
[null,"all_f_Central Urban.csv","65-69",8.8480380438948902E-3,8.6602412399892793E-3,8.4899555259560708E-3,8.2965523452583397E-3,8.1047865742174593E-3,7.9092824800840195E-3,7.7301455458235304E-3,7.5490562160552502E-3,7.3712796494769701E-3,7.1996076716956802E-3,{"$f":"IF($B1837=\"\",\"\",VLOOKUP($B1837,_tbl!$A:$E,N$2,0))","v":"Female"},{"$f":"IF($B1837=\"\",\"\",VLOOKUP($B1837,_tbl!$A:$E,O$2,0))","v":"Central"},{"$f":"IF($B1837=\"\",\"\",VLOOKUP($B1837,_tbl!$A:$E,P$2,0))","v":"Urban"},{"$f":"IF($B1837=\"\",\"\",VLOOKUP($B1837,_tbl!$A:$E,Q$2,0))","v":"Total"},null,8.8480380438948902E-3,7.1996076716956802E-3]
[null,"all_f_Central Urban.csv","70-74",1.6207413405598101E-2,1.5907981818001599E-2,1.5643060159629602E-2,1.53501544352988E-2,1.5063549053324901E-2,1.47742242358683E-2,1.4510838975115001E-2,1.4246013030893101E-2,1.39870141012073E-2,1.3738053606731601E-2,{"$f":"IF($B1838=\"\",\"\",VLOOKUP($B1838,_tbl!$A:$E,N$2,0))","v":"Female"},{"$f":"IF($B1838=\"\",\"\",VLOOKUP($B1838,_tbl!$A:$E,O$2,0))","v":"Central"},{"$f":"IF($B1838=\"\",\"\",VLOOKUP($B1838,_tbl!$A:$E,P$2,0))","v":"Urban"},{"$f":"IF($B1838=\"\",\"\",VLOOKUP($B1838,_tbl!$A:$E,Q$2,0))","v":"Total"},null,1.6207413405598101E-2,1.3738053606731601E-2]
[null,"all_f_Central Urban.csv","75-79",3.27172793301636E-2,3.2221616131798698E-2,3.1873954505228203E-2,3.1485136375390202E-2,3.1117924479693599E-2,3.0744610944554902E-2,3.04208209682796E-2,3.0091495739613401E-2,2.9770031660524301E-2,2.9463851127275301E-2,{"$f":"IF($B1839=\"\",\"\",VLOOKUP($B1839,_tbl!$A:$E,N$2,0))","v":"Female"},{"$f":"IF($B1839=\"\",\"\",VLOOKUP($B1839,_tbl!$A:$E,O$2,0))","v":"Central"},{"$f":"IF($B1839=\"\",\"\",VLOOKUP($B1839,_tbl!$A:$E,P$2,0))","v":"Urban"},{"$f":"IF($B1839=\"\",\"\",VLOOKUP($B1839,_tbl!$A:$E,Q$2,0))","v":"Total"},null,3.27172793301636E-2,2.9463851127275301E-2]
[null,"all_f_Central Urban.csv","80-84",7.4079821859690698E-2,7.25217048874469E-2,7.1829129796927002E-2,7.1044933332718593E-2,7.0315768045577001E-2,6.9543053746257799E-2,6.9033445417928704E-2,6.8428375664570398E-2,6.7799996864274598E-2,6.7214185180128699E-2,{"$f":"IF($B1840=\"\",\"\",VLOOKUP($B1840,_tbl!$A:$E,N$2,0))","v":"Female"},{"$f":"IF($B1840=\"\",\"\",VLOOKUP($B1840,_tbl!$A:$E,O$2,0))","v":"Central"},{"$f":"IF($B1840=\"\",\"\",VLOOKUP($B1840,_tbl!$A:$E,P$2,0))","v":"Urban"},{"$f":"IF($B1840=\"\",\"\",VLOOKUP($B1840,_tbl!$A:$E,Q$2,0))","v":"Total"},null,7.4079821859690698E-2,6.7214185180128699E-2]
[null,"all_f_Central Urban.csv","85+",0.18478352482643101,0.18138949235094801,0.18006689758643399,0.17906780112154,0.178360974088666,0.17767626078488899,0.17769370933853701,0.17747688732660699,0.177180370300632,0.17698272056054801,{"$f":"IF($B1841=\"\",\"\",VLOOKUP($B1841,_tbl!$A:$E,N$2,0))","v":"Female"},{"$f":"IF($B1841=\"\",\"\",VLOOKUP($B1841,_tbl!$A:$E,O$2,0))","v":"Central"},{"$f":"IF($B1841=\"\",\"\",VLOOKUP($B1841,_tbl!$A:$E,P$2,0))","v":"Urban"},{"$f":"IF($B1841=\"\",\"\",VLOOKUP($B1841,_tbl!$A:$E,Q$2,0))","v":"Total"},null,0.18478352482643101,0.17698272056054801]
[null,null,null,null,null,null,null,null,null,null,null,null,null,{"$f":"IF($B1842=\"\",\"\",VLOOKUP($B1842,_tbl!$A:$E,N$2,0))","v":""},{"$f":"IF($B1842=\"\",\"\",VLOOKUP($B1842,_tbl!$A:$E,O$2,0))","v":""},{"$f":"IF($B1842=\"\",\"\",VLOOKUP($B1842,_tbl!$A:$E,P$2,0))","v":""},{"$f":"IF($B1842=\"\",\"\",VLOOKUP($B1842,_tbl!$A:$E,Q$2,0))","v":""}]
[null,null,null,2020,2021,2022,2023,2024,2025,2026,2027,2028,2029,{"$f":"IF($B1843=\"\",\"\",VLOOKUP($B1843,_tbl!$A:$E,N$2,0))","v":""},{"$f":"IF($B1843=\"\",\"\",VLOOKUP($B1843,_tbl!$A:$E,O$2,0))","v":""},{"$f":"IF($B1843=\"\",\"\",VLOOKUP($B1843,_tbl!$A:$E,P$2,0))","v":""},{"$f":"IF($B1843=\"\",\"\",VLOOKUP($B1843,_tbl!$A:$E,Q$2,0))","v":""}]
[null,"all_f_Central.csv","1-4",2.820022411464E-4,2.7547818637227699E-4,2.6813556858340298E-4,2.6131599619423602E-4,2.5476104773809001E-4,2.4869537126740999E-4,2.4284610721395301E-4,2.3750258115466099E-4,2.32560436027686E-4,2.27905863094666E-4,{"$f":"IF($B1844=\"\",\"\",VLOOKUP($B1844,_tbl!$A:$E,N$2,0))","v":"Female"},{"$f":"IF($B1844=\"\",\"\",VLOOKUP($B1844,_tbl!$A:$E,O$2,0))","v":"Central"},{"$f":"IF($B1844=\"\",\"\",VLOOKUP($B1844,_tbl!$A:$E,P$2,0))","v":"Total"},{"$f":"IF($B1844=\"\",\"\",VLOOKUP($B1844,_tbl!$A:$E,Q$2,0))","v":"Total"},null,{"$f":"MAX(D1844:M1844)","v":2.820022411464E-4},{"$f":"MIN(D1844:M1844)","v":2.27905863094666E-4}]
[null,"all_f_Central.csv","5-9",1.8486064821906999E-4,1.8374652946238801E-4,1.8238013678739299E-4,1.8112486006894299E-4,1.79944255875694E-4,1.7882722164655899E-4,1.77697545650121E-4,1.7665268642510899E-4,1.75689034558406E-4,1.7475711213652399E-4,{"$f":"IF($B1845=\"\",\"\",VLOOKUP($B1845,_tbl!$A:$E,N$2,0))","v":"Female"},{"$f":"IF($B1845=\"\",\"\",VLOOKUP($B1845,_tbl!$A:$E,O$2,0))","v":"Central"},{"$f":"IF($B1845=\"\",\"\",VLOOKUP($B1845,_tbl!$A:$E,P$2,0))","v":"Total"},{"$f":"IF($B1845=\"\",\"\",VLOOKUP($B1845,_tbl!$A:$E,Q$2,0))","v":"Total"},null,1.8486064821906999E-4,1.7475711213652399E-4]
[null,"all_f_Central.csv","10-14",1.5698800348953499E-4,1.55273266651587E-4,1.5342834560310201E-4,1.5168150084305301E-4,1.5002692835971499E-4,1.4843069501721201E-4,1.46835279480144E-4,1.4531482360695999E-4,1.4386720795937701E-4,1.42451336888308E-4,{"$f":"IF($B1846=\"\",\"\",VLOOKUP($B1846,_tbl!$A:$E,N$2,0))","v":"Female"},{"$f":"IF($B1846=\"\",\"\",VLOOKUP($B1846,_tbl!$A:$E,O$2,0))","v":"Central"},{"$f":"IF($B1846=\"\",\"\",VLOOKUP($B1846,_tbl!$A:$E,P$2,0))","v":"Total"},{"$f":"IF($B1846=\"\",\"\",VLOOKUP($B1846,_tbl!$A:$E,Q$2,0))","v":"Total"},null,1.5698800348953499E-4,1.42451336888308E-4]
[null,"all_f_Central.csv","15-19",1.60740049809984E-4,1.5729353663467699E-4,1.5366627587270901E-4,1.50256111710513E-4,1.46966737752136E-4,1.4386022799715899E-4,1.4081309036403499E-4,1.37953496807514E-4,1.3523678005016699E-4,1.32628887992092E-4,{"$f":"IF($B1847=\"\",\"\",VLOOKUP($B1847,_tbl!$A:$E,N$2,0))","v":"Female"},{"$f":"IF($B1847=\"\",\"\",VLOOKUP($B1847,_tbl!$A:$E,O$2,0))","v":"Central"},{"$f":"IF($B1847=\"\",\"\",VLOOKUP($B1847,_tbl!$A:$E,P$2,0))","v":"Total"},{"$f":"IF($B1847=\"\",\"\",VLOOKUP($B1847,_tbl!$A:$E,Q$2,0))","v":"Total"},null,1.60740049809984E-4,1.32628887992092E-4]
[null,"all_f_Central.csv","20-24",1.90286489044732E-4,1.8534896204088199E-4,1.80029677316918E-4,1.7511729586821599E-4,1.70368698353273E-4,1.6596615607776999E-4,1.61653144173723E-4,1.5766801603834201E-4,1.53910780887179E-4,1.5033942284130701E-4,{"$f":"IF($B1848=\"\",\"\",VLOOKUP($B1848,_tbl!$A:$E,N$2,0))","v":"Female"},{"$f":"IF($B1848=\"\",\"\",VLOOKUP($B1848,_tbl!$A:$E,O$2,0))","v":"Central"},{"$f":"IF($B1848=\"\",\"\",VLOOKUP($B1848,_tbl!$A:$E,P$2,0))","v":"Total"},{"$f":"IF($B1848=\"\",\"\",VLOOKUP($B1848,_tbl!$A:$E,Q$2,0))","v":"Total"},null,1.90286489044732E-4,1.5033942284130701E-4]
[null,"all_f_Central.csv","25-29",2.5196549161338199E-4,2.4520479793238499E-4,2.3784424718785099E-4,2.31147711931928E-4,2.2465427347015499E-4,2.18653984069336E-4,2.1273714435517799E-4,2.0727211592259999E-4,2.0211125478589601E-4,1.9720668288105599E-4,{"$f":"IF($B1849=\"\",\"\",VLOOKUP($B1849,_tbl!$A:$E,N$2,0))","v":"Female"},{"$f":"IF($B1849=\"\",\"\",VLOOKUP($B1849,_tbl!$A:$E,O$2,0))","v":"Central"},{"$f":"IF($B1849=\"\",\"\",VLOOKUP($B1849,_tbl!$A:$E,P$2,0))","v":"Total"},{"$f":"IF($B1849=\"\",\"\",VLOOKUP($B1849,_tbl!$A:$E,Q$2,0))","v":"Total"},null,2.5196549161338199E-4,1.9720668288105599E-4]
[null,"all_f_Central.csv","30-34",3.5715266780953999E-4,3.49509075298027E-4,3.3994978565533298E-4,3.3187666129674798E-4,3.23855216229633E-4,3.1669600072702602E-4,3.0947554254359699E-4,3.0296767839058499E-4,2.96860695908485E-4,2.91107330692782E-4,{"$f":"IF($B1850=\"\",\"\",VLOOKUP($B1850,_tbl!$A:$E,N$2,0))","v":"Female"},{"$f":"IF($B1850=\"\",\"\",VLOOKUP($B1850,_tbl!$A:$E,O$2,0))","v":"Central"},{"$f":"IF($B1850=\"\",\"\",VLOOKUP($B1850,_tbl!$A:$E,P$2,0))","v":"Total"},{"$f":"IF($B1850=\"\",\"\",VLOOKUP($B1850,_tbl!$A:$E,Q$2,0))","v":"Total"},null,3.5715266780953999E-4,2.91107330692782E-4]
[null,"all_f_Central.csv","35-39",5.27018381804119E-4,5.18446027942217E-4,5.0480903815187895E-4,4.9485562158659295E-4,4.8438166441143498E-4,4.7559873043666399E-4,4.6619698312375303E-4,4.5801078893597299E-4,4.5032563066730002E-4,4.4312717378390998E-4,{"$f":"IF($B1851=\"\",\"\",VLOOKUP($B1851,_tbl!$A:$E,N$2,0))","v":"Female"},{"$f":"IF($B1851=\"\",\"\",VLOOKUP($B1851,_tbl!$A:$E,O$2,0))","v":"Central"},{"$f":"IF($B1851=\"\",\"\",VLOOKUP($B1851,_tbl!$A:$E,P$2,0))","v":"Total"},{"$f":"IF($B1851=\"\",\"\",VLOOKUP($B1851,_tbl!$A:$E,Q$2,0))","v":"Total"},null,5.27018381804119E-4,4.4312717378390998E-4]
[null,"all_f_Central.csv","40-44",8.1728169174933804E-4,8.0290001913992505E-4,7.7777563557721496E-4,7.6045861232726896E-4,7.4154027348513195E-4,7.2591324897681704E-4,7.0863713132586297E-4,6.9353799567620298E-4,6.7913753424863601E-4,6.6549477578409298E-4,{"$f":"IF($B1852=\"\",\"\",VLOOKUP($B1852,_tbl!$A:$E,N$2,0))","v":"Female"},{"$f":"IF($B1852=\"\",\"\",VLOOKUP($B1852,_tbl!$A:$E,O$2,0))","v":"Central"},{"$f":"IF($B1852=\"\",\"\",VLOOKUP($B1852,_tbl!$A:$E,P$2,0))","v":"Total"},{"$f":"IF($B1852=\"\",\"\",VLOOKUP($B1852,_tbl!$A:$E,Q$2,0))","v":"Total"},null,8.1728169174933804E-4,6.6549477578409298E-4]
[null,"all_f_Central.csv","45-49",1.35044505969262E-3,1.32881102905852E-3,1.28670208238631E-3,1.2585441884872799E-3,1.2270988263226601E-3,1.2014278418917999E-3,1.17234850531322E-3,1.14703548084667E-3,1.1227456543986701E-3,1.0995802138769801E-3,{"$f":"IF($B1853=\"\",\"\",VLOOKUP($B1853,_tbl!$A:$E,N$2,0))","v":"Female"},{"$f":"IF($B1853=\"\",\"\",VLOOKUP($B1853,_tbl!$A:$E,O$2,0))","v":"Central"},{"$f":"IF($B1853=\"\",\"\",VLOOKUP($B1853,_tbl!$A:$E,P$2,0))","v":"Total"},{"$f":"IF($B1853=\"\",\"\",VLOOKUP($B1853,_tbl!$A:$E,Q$2,0))","v":"Total"},null,1.35044505969262E-3,1.0995802138769801E-3]
[null,"all_f_Central.csv","50-54",2.2307781540524402E-3,2.1879463145619798E-3,2.1267137703419401E-3,2.0722878222200602E-3,2.0147961555231301E-3,1.9612323378925402E-3,1.90524373055738E-3,1.85278512020185E-3,1.80186459389067E-3,1.75241472389425E-3,{"$f":"IF($B1854=\"\",\"\",VLOOKUP($B1854,_tbl!$A:$E,N$2,0))","v":"Female"},{"$f":"IF($B1854=\"\",\"\",VLOOKUP($B1854,_tbl!$A:$E,O$2,0))","v":"Central"},{"$f":"IF($B1854=\"\",\"\",VLOOKUP($B1854,_tbl!$A:$E,P$2,0))","v":"Total"},{"$f":"IF($B1854=\"\",\"\",VLOOKUP($B1854,_tbl!$A:$E,Q$2,0))","v":"Total"},null,2.2307781540524402E-3,1.75241472389425E-3]
[null,"all_f_Central.csv","55-59",3.7865695241418502E-3,3.7099413932075E-3,3.6067129828086198E-3,3.51216028653002E-3,3.4145788239478398E-3,3.3222172355559499E-3,3.2255091887272202E-3,3.1340131916395E-3,3.04500424876498E-3,2.9578872360605502E-3,{"$f":"IF($B1855=\"\",\"\",VLOOKUP($B1855,_tbl!$A:$E,N$2,0))","v":"Female"},{"$f":"IF($B1855=\"\",\"\",VLOOKUP($B1855,_tbl!$A:$E,O$2,0))","v":"Central"},{"$f":"IF($B1855=\"\",\"\",VLOOKUP($B1855,_tbl!$A:$E,P$2,0))","v":"Total"},{"$f":"IF($B1855=\"\",\"\",VLOOKUP($B1855,_tbl!$A:$E,Q$2,0))","v":"Total"},null,3.7865695241418502E-3,2.9578872360605502E-3]
[null,"all_f_Central.csv","60-64",6.3102996976262997E-3,6.1879228012855104E-3,6.0159792946654503E-3,5.85745725814897E-3,5.6961015679845304E-3,5.5433383494380402E-3,5.3802716589608302E-3,5.2272678289179897E-3,5.0791662723109901E-3,4.9336090810946096E-3,{"$f":"IF($B1856=\"\",\"\",VLOOKUP($B1856,_tbl!$A:$E,N$2,0))","v":"Female"},{"$f":"IF($B1856=\"\",\"\",VLOOKUP($B1856,_tbl!$A:$E,O$2,0))","v":"Central"},{"$f":"IF($B1856=\"\",\"\",VLOOKUP($B1856,_tbl!$A:$E,P$2,0))","v":"Total"},{"$f":"IF($B1856=\"\",\"\",VLOOKUP($B1856,_tbl!$A:$E,Q$2,0))","v":"Total"},null,6.3102996976262997E-3,4.9336090810946096E-3]
[null,"all_f_Central.csv","65-69",1.0781377388434999E-2,1.0621779309369099E-2,1.0351003512575899E-2,1.01068952756556E-2,9.8635877198248196E-3,9.6370637846583604E-3,9.3801615554097301E-3,9.1462532676072402E-3,8.9230522695794602E-3,8.7018927498528405E-3,{"$f":"IF($B1857=\"\",\"\",VLOOKUP($B1857,_tbl!$A:$E,N$2,0))","v":"Female"},{"$f":"IF($B1857=\"\",\"\",VLOOKUP($B1857,_tbl!$A:$E,O$2,0))","v":"Central"},{"$f":"IF($B1857=\"\",\"\",VLOOKUP($B1857,_tbl!$A:$E,P$2,0))","v":"Total"},{"$f":"IF($B1857=\"\",\"\",VLOOKUP($B1857,_tbl!$A:$E,Q$2,0))","v":"Total"},null,1.0781377388434999E-2,8.7018927498528405E-3]
[null,"all_f_Central.csv","70-74",1.91541601475009E-2,1.8903770999248101E-2,1.8466107175199E-2,1.8070325368034601E-2,1.7688909100302099E-2,1.7335622637798701E-2,1.6919498911913099E-2,1.65472739078565E-2,1.6196227881146101E-2,1.5845632447690099E-2,{"$f":"IF($B1858=\"\",\"\",VLOOKUP($B1858,_tbl!$A:$E,N$2,0))","v":"Female"},{"$f":"IF($B1858=\"\",\"\",VLOOKUP($B1858,_tbl!$A:$E,O$2,0))","v":"Central"},{"$f":"IF($B1858=\"\",\"\",VLOOKUP($B1858,_tbl!$A:$E,P$2,0))","v":"Total"},{"$f":"IF($B1858=\"\",\"\",VLOOKUP($B1858,_tbl!$A:$E,Q$2,0))","v":"Total"},null,1.91541601475009E-2,1.5845632447690099E-2]
[null,"all_f_Central.csv","75-79",3.7279178565157202E-2,3.6773744085090598E-2,3.5996109190347798E-2,3.5319085685517899E-2,3.4696807671449698E-2,3.41306476891493E-2,3.3437636641098403E-2,3.2831835814922397E-2,3.2268638681141798E-2,3.17009436628009E-2,{"$f":"IF($B1859=\"\",\"\",VLOOKUP($B1859,_tbl!$A:$E,N$2,0))","v":"Female"},{"$f":"IF($B1859=\"\",\"\",VLOOKUP($B1859,_tbl!$A:$E,O$2,0))","v":"Central"},{"$f":"IF($B1859=\"\",\"\",VLOOKUP($B1859,_tbl!$A:$E,P$2,0))","v":"Total"},{"$f":"IF($B1859=\"\",\"\",VLOOKUP($B1859,_tbl!$A:$E,Q$2,0))","v":"Total"},null,3.7279178565157202E-2,3.17009436628009E-2]
[null,"all_f_Central.csv","80-84",7.7331496118079199E-2,7.5999964439305998E-2,7.4528868690795405E-2,7.3304930957804507E-2,7.2215209452700102E-2,7.1217697206446398E-2,7.0064533639599205E-2,6.9049834073164604E-2,6.8110321373832994E-2,6.7168523150959406E-2,{"$f":"IF($B1860=\"\",\"\",VLOOKUP($B1860,_tbl!$A:$E,N$2,0))","v":"Female"},{"$f":"IF($B1860=\"\",\"\",VLOOKUP($B1860,_tbl!$A:$E,O$2,0))","v":"Central"},{"$f":"IF($B1860=\"\",\"\",VLOOKUP($B1860,_tbl!$A:$E,P$2,0))","v":"Total"},{"$f":"IF($B1860=\"\",\"\",VLOOKUP($B1860,_tbl!$A:$E,Q$2,0))","v":"Total"},null,7.7331496118079199E-2,6.7168523150959406E-2]
[null,"all_f_Central.csv","85+",0.162988142713376,0.160233880982632,0.15697786241657699,0.15468858633593399,0.152878136481259,0.15136348271917199,0.14962248774272799,0.14818344140689099,0.14690361522551501,0.14562172699963499,{"$f":"IF($B1861=\"\",\"\",VLOOKUP($B1861,_tbl!$A:$E,N$2,0))","v":"Female"},{"$f":"IF($B1861=\"\",\"\",VLOOKUP($B1861,_tbl!$A:$E,O$2,0))","v":"Central"},{"$f":"IF($B1861=\"\",\"\",VLOOKUP($B1861,_tbl!$A:$E,P$2,0))","v":"Total"},{"$f":"IF($B1861=\"\",\"\",VLOOKUP($B1861,_tbl!$A:$E,Q$2,0))","v":"Total"},null,0.162988142713376,0.14562172699963499]
[null,null,null,null,null,null,null,null,null,null,null,null,null,{"$f":"IF($B1862=\"\",\"\",VLOOKUP($B1862,_tbl!$A:$E,N$2,0))","v":""},{"$f":"IF($B1862=\"\",\"\",VLOOKUP($B1862,_tbl!$A:$E,O$2,0))","v":""},{"$f":"IF($B1862=\"\",\"\",VLOOKUP($B1862,_tbl!$A:$E,P$2,0))","v":""},{"$f":"IF($B1862=\"\",\"\",VLOOKUP($B1862,_tbl!$A:$E,Q$2,0))","v":""}]
[null,null,null,2020,2021,2022,2023,2024,2025,2026,2027,2028,2029,{"$f":"IF($B1863=\"\",\"\",VLOOKUP($B1863,_tbl!$A:$E,N$2,0))","v":""},{"$f":"IF($B1863=\"\",\"\",VLOOKUP($B1863,_tbl!$A:$E,O$2,0))","v":""},{"$f":"IF($B1863=\"\",\"\",VLOOKUP($B1863,_tbl!$A:$E,P$2,0))","v":""},{"$f":"IF($B1863=\"\",\"\",VLOOKUP($B1863,_tbl!$A:$E,Q$2,0))","v":""}]
[null,"all_f_East Rural cancer.csv","1-4",2.6829988154059999E-5,2.6880577737537302E-5,2.6924915120976201E-5,2.6972328818741599E-5,2.7020299884476699E-5,2.7070997387916601E-5,2.7124158648787798E-5,2.7178304691971299E-5,2.7232264559210899E-5,2.7284826294215699E-5,{"$f":"IF($B1864=\"\",\"\",VLOOKUP($B1864,_tbl!$A:$E,N$2,0))","v":"Female"},{"$f":"IF($B1864=\"\",\"\",VLOOKUP($B1864,_tbl!$A:$E,O$2,0))","v":"East"},{"$f":"IF($B1864=\"\",\"\",VLOOKUP($B1864,_tbl!$A:$E,P$2,0))","v":"Rural"},{"$f":"IF($B1864=\"\",\"\",VLOOKUP($B1864,_tbl!$A:$E,Q$2,0))","v":"Cancer"},null,{"$f":"MAX(D1864:M1864)","v":2.7284826294215699E-5},{"$f":"MIN(D1864:M1864)","v":2.6829988154059999E-5}]
[null,"all_f_East Rural cancer.csv","5-9",2.8631237677696501E-5,2.8585280860862499E-5,2.8578061043050101E-5,2.8569791290307001E-5,2.8555459525598098E-5,2.8542971914084101E-5,2.8530420799564599E-5,2.85209581025286E-5,2.8511948234537201E-5,2.8503861691738601E-5,{"$f":"IF($B1865=\"\",\"\",VLOOKUP($B1865,_tbl!$A:$E,N$2,0))","v":"Female"},{"$f":"IF($B1865=\"\",\"\",VLOOKUP($B1865,_tbl!$A:$E,O$2,0))","v":"East"},{"$f":"IF($B1865=\"\",\"\",VLOOKUP($B1865,_tbl!$A:$E,P$2,0))","v":"Rural"},{"$f":"IF($B1865=\"\",\"\",VLOOKUP($B1865,_tbl!$A:$E,Q$2,0))","v":"Cancer"},null,2.8631237677696501E-5,2.8503861691738601E-5]
[null,"all_f_East Rural cancer.csv","10-14",3.0844831842457402E-5,3.0636110134964899E-5,3.0621621769986298E-5,3.05970396120405E-5,3.0578676476982101E-5,3.0550622938632099E-5,3.0518841710351898E-5,3.0479753393718299E-5,3.0438164209872902E-5,3.03920784162048E-5,{"$f":"IF($B1866=\"\",\"\",VLOOKUP($B1866,_tbl!$A:$E,N$2,0))","v":"Female"},{"$f":"IF($B1866=\"\",\"\",VLOOKUP($B1866,_tbl!$A:$E,O$2,0))","v":"East"},{"$f":"IF($B1866=\"\",\"\",VLOOKUP($B1866,_tbl!$A:$E,P$2,0))","v":"Rural"},{"$f":"IF($B1866=\"\",\"\",VLOOKUP($B1866,_tbl!$A:$E,Q$2,0))","v":"Cancer"},null,3.0844831842457402E-5,3.03920784162048E-5]
[null,"all_f_East Rural cancer.csv","15-19",3.9043322131807698E-5,3.8985964487748599E-5,3.9011601254246203E-5,3.9035203818305002E-5,3.9056479519346702E-5,3.90749021422318E-5,3.9089992521674702E-5,3.9105890349084701E-5,3.91226558059475E-5,3.9138560992370603E-5,{"$f":"IF($B1867=\"\",\"\",VLOOKUP($B1867,_tbl!$A:$E,N$2,0))","v":"Female"},{"$f":"IF($B1867=\"\",\"\",VLOOKUP($B1867,_tbl!$A:$E,O$2,0))","v":"East"},{"$f":"IF($B1867=\"\",\"\",VLOOKUP($B1867,_tbl!$A:$E,P$2,0))","v":"Rural"},{"$f":"IF($B1867=\"\",\"\",VLOOKUP($B1867,_tbl!$A:$E,Q$2,0))","v":"Cancer"},null,3.9138560992370603E-5,3.8985964487748599E-5]
[null,"all_f_East Rural cancer.csv","20-24",5.4789850048126202E-5,5.4832720062705303E-5,5.4850104717957299E-5,5.4881012837297298E-5,5.4893098727617998E-5,5.4922304191519603E-5,5.4951163439348897E-5,5.4995452166796902E-5,5.5044561091161201E-5,5.5097369888666101E-5,{"$f":"IF($B1868=\"\",\"\",VLOOKUP($B1868,_tbl!$A:$E,N$2,0))","v":"Female"},{"$f":"IF($B1868=\"\",\"\",VLOOKUP($B1868,_tbl!$A:$E,O$2,0))","v":"East"},{"$f":"IF($B1868=\"\",\"\",VLOOKUP($B1868,_tbl!$A:$E,P$2,0))","v":"Rural"},{"$f":"IF($B1868=\"\",\"\",VLOOKUP($B1868,_tbl!$A:$E,Q$2,0))","v":"Cancer"},null,5.5097369888666101E-5,5.4789850048126202E-5]
[null,"all_f_East Rural cancer.csv","25-29",8.29185495372956E-5,8.2918454328353904E-5,8.2951896931354301E-5,8.2993262078089505E-5,8.3031625205255905E-5,8.3072692703807394E-5,8.3106169005609095E-5,8.31427987437616E-5,8.3179792576424993E-5,8.3215541296975296E-5,{"$f":"IF($B1869=\"\",\"\",VLOOKUP($B1869,_tbl!$A:$E,N$2,0))","v":"Female"},{"$f":"IF($B1869=\"\",\"\",VLOOKUP($B1869,_tbl!$A:$E,O$2,0))","v":"East"},{"$f":"IF($B1869=\"\",\"\",VLOOKUP($B1869,_tbl!$A:$E,P$2,0))","v":"Rural"},{"$f":"IF($B1869=\"\",\"\",VLOOKUP($B1869,_tbl!$A:$E,Q$2,0))","v":"Cancer"},null,8.3215541296975296E-5,8.2918454328353904E-5]
[null,"all_f_East Rural cancer.csv","30-34",1.3422106597695999E-4,1.3433506779388701E-4,1.3441419529429101E-4,1.3452856701817099E-4,1.3463129641896901E-4,1.3474354527882201E-4,1.3483419824931401E-4,1.34929812698746E-4,1.3502295156209301E-4,1.35112333617301E-4,{"$f":"IF($B1870=\"\",\"\",VLOOKUP($B1870,_tbl!$A:$E,N$2,0))","v":"Female"},{"$f":"IF($B1870=\"\",\"\",VLOOKUP($B1870,_tbl!$A:$E,O$2,0))","v":"East"},{"$f":"IF($B1870=\"\",\"\",VLOOKUP($B1870,_tbl!$A:$E,P$2,0))","v":"Rural"},{"$f":"IF($B1870=\"\",\"\",VLOOKUP($B1870,_tbl!$A:$E,Q$2,0))","v":"Cancer"},null,1.35112333617301E-4,1.3422106597695999E-4]
[null,"all_f_East Rural cancer.csv","35-39",2.2119267893181199E-4,2.21124859594754E-4,2.2061508173627101E-4,2.2036556090657299E-4,2.2004187517459499E-4,2.1981538674251499E-4,2.1951501114454301E-4,2.19276030672834E-4,2.1904903166887E-4,2.1883566875785399E-4,{"$f":"IF($B1871=\"\",\"\",VLOOKUP($B1871,_tbl!$A:$E,N$2,0))","v":"Female"},{"$f":"IF($B1871=\"\",\"\",VLOOKUP($B1871,_tbl!$A:$E,O$2,0))","v":"East"},{"$f":"IF($B1871=\"\",\"\",VLOOKUP($B1871,_tbl!$A:$E,P$2,0))","v":"Rural"},{"$f":"IF($B1871=\"\",\"\",VLOOKUP($B1871,_tbl!$A:$E,Q$2,0))","v":"Cancer"},null,2.2119267893181199E-4,2.1883566875785399E-4]
[null,"all_f_East Rural cancer.csv","40-44",3.57279398825188E-4,3.5457829227260302E-4,3.5033881497670201E-4,3.4672510077538E-4,3.4306265660882101E-4,3.39693231261862E-4,3.3627702867295399E-4,3.3306564295637099E-4,3.2996198607234003E-4,3.2697271033264597E-4,{"$f":"IF($B1872=\"\",\"\",VLOOKUP($B1872,_tbl!$A:$E,N$2,0))","v":"Female"},{"$f":"IF($B1872=\"\",\"\",VLOOKUP($B1872,_tbl!$A:$E,O$2,0))","v":"East"},{"$f":"IF($B1872=\"\",\"\",VLOOKUP($B1872,_tbl!$A:$E,P$2,0))","v":"Rural"},{"$f":"IF($B1872=\"\",\"\",VLOOKUP($B1872,_tbl!$A:$E,Q$2,0))","v":"Cancer"},null,3.57279398825188E-4,3.2697271033264597E-4]
[null,"all_f_East Rural cancer.csv","45-49",5.8707387352541305E-4,5.8114149352284496E-4,5.7204174160074405E-4,5.6391013982761101E-4,5.5574575608699397E-4,5.4812537393855699E-4,5.40520142654045E-4,5.3331360928037701E-4,5.2634283763043697E-4,5.1962739748085199E-4,{"$f":"IF($B1873=\"\",\"\",VLOOKUP($B1873,_tbl!$A:$E,N$2,0))","v":"Female"},{"$f":"IF($B1873=\"\",\"\",VLOOKUP($B1873,_tbl!$A:$E,O$2,0))","v":"East"},{"$f":"IF($B1873=\"\",\"\",VLOOKUP($B1873,_tbl!$A:$E,P$2,0))","v":"Rural"},{"$f":"IF($B1873=\"\",\"\",VLOOKUP($B1873,_tbl!$A:$E,Q$2,0))","v":"Cancer"},null,5.8707387352541305E-4,5.1962739748085199E-4]
[null,"all_f_East Rural cancer.csv","50-54",9.4281845382383496E-4,9.2982225977897997E-4,9.1850638887690304E-4,9.0263004892714095E-4,8.8725773745393995E-4,8.7067459758468095E-4,8.5560330199967605E-4,8.4010487874861797E-4,8.2488634436723995E-4,8.1002633779171196E-4,{"$f":"IF($B1874=\"\",\"\",VLOOKUP($B1874,_tbl!$A:$E,N$2,0))","v":"Female"},{"$f":"IF($B1874=\"\",\"\",VLOOKUP($B1874,_tbl!$A:$E,O$2,0))","v":"East"},{"$f":"IF($B1874=\"\",\"\",VLOOKUP($B1874,_tbl!$A:$E,P$2,0))","v":"Rural"},{"$f":"IF($B1874=\"\",\"\",VLOOKUP($B1874,_tbl!$A:$E,Q$2,0))","v":"Cancer"},null,9.4281845382383496E-4,8.1002633779171196E-4]
[null,"all_f_East Rural cancer.csv","55-59",1.507919841602E-3,1.4911973343077101E-3,1.4750421519651999E-3,1.4547025769814099E-3,1.4345781258284999E-3,1.41320234051397E-3,1.3933656301881401E-3,1.37284092156098E-3,1.3524369644817701E-3,1.33235377370224E-3,{"$f":"IF($B1875=\"\",\"\",VLOOKUP($B1875,_tbl!$A:$E,N$2,0))","v":"Female"},{"$f":"IF($B1875=\"\",\"\",VLOOKUP($B1875,_tbl!$A:$E,O$2,0))","v":"East"},{"$f":"IF($B1875=\"\",\"\",VLOOKUP($B1875,_tbl!$A:$E,P$2,0))","v":"Rural"},{"$f":"IF($B1875=\"\",\"\",VLOOKUP($B1875,_tbl!$A:$E,Q$2,0))","v":"Cancer"},null,1.507919841602E-3,1.33235377370224E-3]
[null,"all_f_East Rural cancer.csv","60-64",2.27661596315338E-3,2.2681153353214202E-3,2.2548304566961598E-3,2.2398790216953098E-3,2.22441296491816E-3,2.2085501101967199E-3,2.1930913681666498E-3,2.1774335107061001E-3,2.16182843898362E-3,2.14642883959021E-3,{"$f":"IF($B1876=\"\",\"\",VLOOKUP($B1876,_tbl!$A:$E,N$2,0))","v":"Female"},{"$f":"IF($B1876=\"\",\"\",VLOOKUP($B1876,_tbl!$A:$E,O$2,0))","v":"East"},{"$f":"IF($B1876=\"\",\"\",VLOOKUP($B1876,_tbl!$A:$E,P$2,0))","v":"Rural"},{"$f":"IF($B1876=\"\",\"\",VLOOKUP($B1876,_tbl!$A:$E,Q$2,0))","v":"Cancer"},null,2.27661596315338E-3,2.14642883959021E-3]
[null,"all_f_East Rural cancer.csv","65-69",3.13786768043053E-3,3.1206205851291402E-3,3.1069094580107701E-3,3.0816832617519899E-3,3.0535286609920899E-3,3.02132625252654E-3,2.9941457692849701E-3,2.9635121097805E-3,2.9318245665035298E-3,2.9006994236934198E-3,{"$f":"IF($B1877=\"\",\"\",VLOOKUP($B1877,_tbl!$A:$E,N$2,0))","v":"Female"},{"$f":"IF($B1877=\"\",\"\",VLOOKUP($B1877,_tbl!$A:$E,O$2,0))","v":"East"},{"$f":"IF($B1877=\"\",\"\",VLOOKUP($B1877,_tbl!$A:$E,P$2,0))","v":"Rural"},{"$f":"IF($B1877=\"\",\"\",VLOOKUP($B1877,_tbl!$A:$E,Q$2,0))","v":"Cancer"},null,3.13786768043053E-3,2.9006994236934198E-3]
[null,"all_f_East Rural cancer.csv","70-74",4.3381455534640496E-3,4.2872097822065098E-3,4.2557046759281198E-3,4.2010997587722202E-3,4.1376428437369696E-3,4.0651233567119997E-3,4.0071996246704598E-3,3.9397856294530404E-3,3.8688308021016301E-3,3.7994920926733801E-3,{"$f":"IF($B1878=\"\",\"\",VLOOKUP($B1878,_tbl!$A:$E,N$2,0))","v":"Female"},{"$f":"IF($B1878=\"\",\"\",VLOOKUP($B1878,_tbl!$A:$E,O$2,0))","v":"East"},{"$f":"IF($B1878=\"\",\"\",VLOOKUP($B1878,_tbl!$A:$E,P$2,0))","v":"Rural"},{"$f":"IF($B1878=\"\",\"\",VLOOKUP($B1878,_tbl!$A:$E,Q$2,0))","v":"Cancer"},null,4.3381455534640496E-3,3.7994920926733801E-3]
[null,"all_f_East Rural cancer.csv","75-79",6.3897648757624296E-3,6.2701550301373903E-3,6.2025253400117396E-3,6.1157099277170997E-3,6.0193100835519899E-3,5.9129418881912798E-3,5.8323450973641897E-3,5.7361985418961604E-3,5.6332917514557799E-3,5.5329000091644404E-3,{"$f":"IF($B1879=\"\",\"\",VLOOKUP($B1879,_tbl!$A:$E,N$2,0))","v":"Female"},{"$f":"IF($B1879=\"\",\"\",VLOOKUP($B1879,_tbl!$A:$E,O$2,0))","v":"East"},{"$f":"IF($B1879=\"\",\"\",VLOOKUP($B1879,_tbl!$A:$E,P$2,0))","v":"Rural"},{"$f":"IF($B1879=\"\",\"\",VLOOKUP($B1879,_tbl!$A:$E,Q$2,0))","v":"Cancer"},null,6.3897648757624296E-3,5.5329000091644404E-3]
[null,"all_f_East Rural cancer.csv","80-84",9.1285832530700207E-3,8.9480464838572298E-3,8.8503654936183708E-3,8.77625423362134E-3,8.7086134398882704E-3,8.6416052066730607E-3,8.5989380206418706E-3,8.5447861858758498E-3,8.4845507271869396E-3,8.4257346760046505E-3,{"$f":"IF($B1880=\"\",\"\",VLOOKUP($B1880,_tbl!$A:$E,N$2,0))","v":"Female"},{"$f":"IF($B1880=\"\",\"\",VLOOKUP($B1880,_tbl!$A:$E,O$2,0))","v":"East"},{"$f":"IF($B1880=\"\",\"\",VLOOKUP($B1880,_tbl!$A:$E,P$2,0))","v":"Rural"},{"$f":"IF($B1880=\"\",\"\",VLOOKUP($B1880,_tbl!$A:$E,Q$2,0))","v":"Cancer"},null,9.1285832530700207E-3,8.4257346760046505E-3]
[null,"all_f_East Rural cancer.csv","85+",1.1485451945198601E-2,1.1185705128615501E-2,1.1035970748719299E-2,1.09669532149658E-2,1.0927962687727E-2,1.0903818771491099E-2,1.09110569065035E-2,1.0912539962013201E-2,1.09100515057091E-2,1.09102369055551E-2,{"$f":"IF($B1881=\"\",\"\",VLOOKUP($B1881,_tbl!$A:$E,N$2,0))","v":"Female"},{"$f":"IF($B1881=\"\",\"\",VLOOKUP($B1881,_tbl!$A:$E,O$2,0))","v":"East"},{"$f":"IF($B1881=\"\",\"\",VLOOKUP($B1881,_tbl!$A:$E,P$2,0))","v":"Rural"},{"$f":"IF($B1881=\"\",\"\",VLOOKUP($B1881,_tbl!$A:$E,Q$2,0))","v":"Cancer"},null,1.1485451945198601E-2,1.0903818771491099E-2]
[null,null,null,null,null,null,null,null,null,null,null,null,null,{"$f":"IF($B1882=\"\",\"\",VLOOKUP($B1882,_tbl!$A:$E,N$2,0))","v":""},{"$f":"IF($B1882=\"\",\"\",VLOOKUP($B1882,_tbl!$A:$E,O$2,0))","v":""},{"$f":"IF($B1882=\"\",\"\",VLOOKUP($B1882,_tbl!$A:$E,P$2,0))","v":""},{"$f":"IF($B1882=\"\",\"\",VLOOKUP($B1882,_tbl!$A:$E,Q$2,0))","v":""}]
[null,null,null,2020,2021,2022,2023,2024,2025,2026,2027,2028,2029,{"$f":"IF($B1883=\"\",\"\",VLOOKUP($B1883,_tbl!$A:$E,N$2,0))","v":""},{"$f":"IF($B1883=\"\",\"\",VLOOKUP($B1883,_tbl!$A:$E,O$2,0))","v":""},{"$f":"IF($B1883=\"\",\"\",VLOOKUP($B1883,_tbl!$A:$E,P$2,0))","v":""},{"$f":"IF($B1883=\"\",\"\",VLOOKUP($B1883,_tbl!$A:$E,Q$2,0))","v":""}]
[null,"all_f_East Rural circulatory.csv","1-4",7.6276127141251599E-6,7.6591627025384697E-6,7.6790058570961197E-6,7.7020537230471699E-6,7.7230080640307905E-6,7.7474993513909699E-6,7.7732519928673805E-6,7.8024202908522097E-6,7.8328496570122504E-6,7.8639668667593399E-6,{"$f":"IF($B1884=\"\",\"\",VLOOKUP($B1884,_tbl!$A:$E,N$2,0))","v":"Female"},{"$f":"IF($B1884=\"\",\"\",VLOOKUP($B1884,_tbl!$A:$E,O$2,0))","v":"East"},{"$f":"IF($B1884=\"\",\"\",VLOOKUP($B1884,_tbl!$A:$E,P$2,0))","v":"Rural"},{"$f":"IF($B1884=\"\",\"\",VLOOKUP($B1884,_tbl!$A:$E,Q$2,0))","v":"Circulatory"},null,{"$f":"MAX(D1884:M1884)","v":7.8639668667593399E-6},{"$f":"MIN(D1884:M1884)","v":7.6276127141251599E-6}]
[null,"all_f_East Rural circulatory.csv","5-9",9.5503969826438606E-6,9.5509090303248501E-6,9.5563122006272902E-6,9.5611793288875504E-6,9.5668479068818693E-6,9.5717925524155693E-6,9.5764596233405804E-6,9.5804254084747396E-6,9.5842256142063301E-6,9.5876526800886505E-6,{"$f":"IF($B1885=\"\",\"\",VLOOKUP($B1885,_tbl!$A:$E,N$2,0))","v":"Female"},{"$f":"IF($B1885=\"\",\"\",VLOOKUP($B1885,_tbl!$A:$E,O$2,0))","v":"East"},{"$f":"IF($B1885=\"\",\"\",VLOOKUP($B1885,_tbl!$A:$E,P$2,0))","v":"Rural"},{"$f":"IF($B1885=\"\",\"\",VLOOKUP($B1885,_tbl!$A:$E,Q$2,0))","v":"Circulatory"},null,9.5876526800886505E-6,9.5503969826438606E-6]
[null,"all_f_East Rural circulatory.csv","10-14",1.26529974214947E-5,1.26168598470882E-5,1.26173126744753E-5,1.2618358637885701E-5,1.2620546800419099E-5,1.26215900737543E-5,1.26216629138064E-5,1.2621032236029801E-5,1.26202374192843E-5,1.26186553259904E-5,{"$f":"IF($B1886=\"\",\"\",VLOOKUP($B1886,_tbl!$A:$E,N$2,0))","v":"Female"},{"$f":"IF($B1886=\"\",\"\",VLOOKUP($B1886,_tbl!$A:$E,O$2,0))","v":"East"},{"$f":"IF($B1886=\"\",\"\",VLOOKUP($B1886,_tbl!$A:$E,P$2,0))","v":"Rural"},{"$f":"IF($B1886=\"\",\"\",VLOOKUP($B1886,_tbl!$A:$E,Q$2,0))","v":"Circulatory"},null,1.26529974214947E-5,1.26168598470882E-5]
[null,"all_f_East Rural circulatory.csv","15-19",1.6706915615240001E-5,1.6708783589787302E-5,1.6719216605331599E-5,1.6728426202030099E-5,1.67357073603203E-5,1.6741300537582899E-5,1.67452091846915E-5,1.67484822400189E-5,1.6751297542696E-5,1.67533974847486E-5,{"$f":"IF($B1887=\"\",\"\",VLOOKUP($B1887,_tbl!$A:$E,N$2,0))","v":"Female"},{"$f":"IF($B1887=\"\",\"\",VLOOKUP($B1887,_tbl!$A:$E,O$2,0))","v":"East"},{"$f":"IF($B1887=\"\",\"\",VLOOKUP($B1887,_tbl!$A:$E,P$2,0))","v":"Rural"},{"$f":"IF($B1887=\"\",\"\",VLOOKUP($B1887,_tbl!$A:$E,Q$2,0))","v":"Circulatory"},null,1.67533974847486E-5,1.6706915615240001E-5]
[null,"all_f_East Rural circulatory.csv","20-24",2.4037166229930202E-5,2.4064946623214801E-5,2.40565124683778E-5,2.4056218709884901E-5,2.4038707607121199E-5,2.4034663725907799E-5,2.4032493185793799E-5,2.4042284555752999E-5,2.40557749482527E-5,2.4072787051247901E-5,{"$f":"IF($B1888=\"\",\"\",VLOOKUP($B1888,_tbl!$A:$E,N$2,0))","v":"Female"},{"$f":"IF($B1888=\"\",\"\",VLOOKUP($B1888,_tbl!$A:$E,O$2,0))","v":"East"},{"$f":"IF($B1888=\"\",\"\",VLOOKUP($B1888,_tbl!$A:$E,P$2,0))","v":"Rural"},{"$f":"IF($B1888=\"\",\"\",VLOOKUP($B1888,_tbl!$A:$E,Q$2,0))","v":"Circulatory"},null,2.4072787051247901E-5,2.4032493185793799E-5]
[null,"all_f_East Rural circulatory.csv","25-29",3.8352370678793603E-5,3.8253005903690901E-5,3.8204573814516602E-5,3.8156739758176101E-5,3.8106127971173701E-5,3.8057661603277797E-5,3.8008424031704402E-5,3.7962267161515797E-5,3.7917595095626697E-5,3.7873741220093402E-5,{"$f":"IF($B1889=\"\",\"\",VLOOKUP($B1889,_tbl!$A:$E,N$2,0))","v":"Female"},{"$f":"IF($B1889=\"\",\"\",VLOOKUP($B1889,_tbl!$A:$E,O$2,0))","v":"East"},{"$f":"IF($B1889=\"\",\"\",VLOOKUP($B1889,_tbl!$A:$E,P$2,0))","v":"Rural"},{"$f":"IF($B1889=\"\",\"\",VLOOKUP($B1889,_tbl!$A:$E,Q$2,0))","v":"Circulatory"},null,3.8352370678793603E-5,3.7873741220093402E-5]
[null,"all_f_East Rural circulatory.csv","30-34",6.5754453054507194E-5,6.5343514346525699E-5,6.5089990965955304E-5,6.4864989772635604E-5,6.4630993779864996E-5,6.4411204702139507E-5,6.4184079953830199E-5,6.3969232246290095E-5,6.3759418166934697E-5,6.3553398761725306E-5,{"$f":"IF($B1890=\"\",\"\",VLOOKUP($B1890,_tbl!$A:$E,N$2,0))","v":"Female"},{"$f":"IF($B1890=\"\",\"\",VLOOKUP($B1890,_tbl!$A:$E,O$2,0))","v":"East"},{"$f":"IF($B1890=\"\",\"\",VLOOKUP($B1890,_tbl!$A:$E,P$2,0))","v":"Rural"},{"$f":"IF($B1890=\"\",\"\",VLOOKUP($B1890,_tbl!$A:$E,Q$2,0))","v":"Circulatory"},null,6.5754453054507194E-5,6.3553398761725306E-5]
[null,"all_f_East Rural circulatory.csv","35-39",1.05472179033134E-4,1.04003780958851E-4,1.02071218775274E-4,1.0044356007498999E-4,9.8770708890635704E-5,9.7233517480257805E-5,9.5656537143353498E-5,9.4179105933568796E-5,9.2749208301488704E-5,9.13668459733888E-5,{"$f":"IF($B1891=\"\",\"\",VLOOKUP($B1891,_tbl!$A:$E,N$2,0))","v":"Female"},{"$f":"IF($B1891=\"\",\"\",VLOOKUP($B1891,_tbl!$A:$E,O$2,0))","v":"East"},{"$f":"IF($B1891=\"\",\"\",VLOOKUP($B1891,_tbl!$A:$E,P$2,0))","v":"Rural"},{"$f":"IF($B1891=\"\",\"\",VLOOKUP($B1891,_tbl!$A:$E,Q$2,0))","v":"Circulatory"},null,1.05472179033134E-4,9.13668459733888E-5]
[null,"all_f_East Rural circulatory.csv","40-44",1.6132161173907099E-4,1.5693770598835901E-4,1.4996567795070201E-4,1.4397553743739999E-4,1.3792839255246799E-4,1.3234751775508701E-4,1.2671648597743101E-4,1.21426164180851E-4,1.16325111516033E-4,1.11416633429424E-4,{"$f":"IF($B1892=\"\",\"\",VLOOKUP($B1892,_tbl!$A:$E,N$2,0))","v":"Female"},{"$f":"IF($B1892=\"\",\"\",VLOOKUP($B1892,_tbl!$A:$E,O$2,0))","v":"East"},{"$f":"IF($B1892=\"\",\"\",VLOOKUP($B1892,_tbl!$A:$E,P$2,0))","v":"Rural"},{"$f":"IF($B1892=\"\",\"\",VLOOKUP($B1892,_tbl!$A:$E,Q$2,0))","v":"Circulatory"},null,1.6132161173907099E-4,1.11416633429424E-4]
[null,"all_f_East Rural circulatory.csv","45-49",2.8974982178084802E-4,2.8165544210143702E-4,2.6711374231502599E-4,2.5487978427985602E-4,2.42447231717559E-4,2.3109119413550799E-4,2.19507314309612E-4,2.08667707272778E-4,1.9819453691512299E-4,1.8810195728182399E-4,{"$f":"IF($B1893=\"\",\"\",VLOOKUP($B1893,_tbl!$A:$E,N$2,0))","v":"Female"},{"$f":"IF($B1893=\"\",\"\",VLOOKUP($B1893,_tbl!$A:$E,O$2,0))","v":"East"},{"$f":"IF($B1893=\"\",\"\",VLOOKUP($B1893,_tbl!$A:$E,P$2,0))","v":"Rural"},{"$f":"IF($B1893=\"\",\"\",VLOOKUP($B1893,_tbl!$A:$E,Q$2,0))","v":"Circulatory"},null,2.8974982178084802E-4,1.8810195728182399E-4]
[null,"all_f_East Rural circulatory.csv","50-54",5.4188658488949902E-4,5.1969807271329499E-4,4.9571014894432498E-4,4.6744042417764999E-4,4.3997296133805903E-4,4.1153137501664602E-4,3.8475324829525799E-4,3.5775355758378599E-4,3.3128991918469398E-4,3.05403369644218E-4,{"$f":"IF($B1894=\"\",\"\",VLOOKUP($B1894,_tbl!$A:$E,N$2,0))","v":"Female"},{"$f":"IF($B1894=\"\",\"\",VLOOKUP($B1894,_tbl!$A:$E,O$2,0))","v":"East"},{"$f":"IF($B1894=\"\",\"\",VLOOKUP($B1894,_tbl!$A:$E,P$2,0))","v":"Rural"},{"$f":"IF($B1894=\"\",\"\",VLOOKUP($B1894,_tbl!$A:$E,Q$2,0))","v":"Circulatory"},null,5.4188658488949902E-4,3.05403369644218E-4]
[null,"all_f_East Rural circulatory.csv","55-59",1.11720456380458E-3,1.0850885368267999E-3,1.0499463386759601E-3,1.0070090292391501E-3,9.6453137396004796E-4,9.1987801105704499E-4,8.7813384829557605E-4,8.3533958210362403E-4,7.9295054027559602E-4,7.5129650271564899E-4,{"$f":"IF($B1895=\"\",\"\",VLOOKUP($B1895,_tbl!$A:$E,N$2,0))","v":"Female"},{"$f":"IF($B1895=\"\",\"\",VLOOKUP($B1895,_tbl!$A:$E,O$2,0))","v":"East"},{"$f":"IF($B1895=\"\",\"\",VLOOKUP($B1895,_tbl!$A:$E,P$2,0))","v":"Rural"},{"$f":"IF($B1895=\"\",\"\",VLOOKUP($B1895,_tbl!$A:$E,Q$2,0))","v":"Circulatory"},null,1.11720456380458E-3,7.5129650271564899E-4]
[null,"all_f_East Rural circulatory.csv","60-64",1.9727865131197301E-3,1.9232019068602601E-3,1.87113672235768E-3,1.80113336075731E-3,1.7299866329643799E-3,1.65322158490575E-3,1.5841828424147E-3,1.5112227314340999E-3,1.4380417231415899E-3,1.36626714494124E-3,{"$f":"IF($B1896=\"\",\"\",VLOOKUP($B1896,_tbl!$A:$E,N$2,0))","v":"Female"},{"$f":"IF($B1896=\"\",\"\",VLOOKUP($B1896,_tbl!$A:$E,O$2,0))","v":"East"},{"$f":"IF($B1896=\"\",\"\",VLOOKUP($B1896,_tbl!$A:$E,P$2,0))","v":"Rural"},{"$f":"IF($B1896=\"\",\"\",VLOOKUP($B1896,_tbl!$A:$E,Q$2,0))","v":"Circulatory"},null,1.9727865131197301E-3,1.36626714494124E-3]
[null,"all_f_East Rural circulatory.csv","65-69",3.42862492380392E-3,3.33131095632731E-3,3.23357277869809E-3,3.1049655961579402E-3,2.9695398705151602E-3,2.8243049172883899E-3,2.6953539188914201E-3,2.5579011819049499E-3,2.4189444886334299E-3,2.2831802276210701E-3,{"$f":"IF($B1897=\"\",\"\",VLOOKUP($B1897,_tbl!$A:$E,N$2,0))","v":"Female"},{"$f":"IF($B1897=\"\",\"\",VLOOKUP($B1897,_tbl!$A:$E,O$2,0))","v":"East"},{"$f":"IF($B1897=\"\",\"\",VLOOKUP($B1897,_tbl!$A:$E,P$2,0))","v":"Rural"},{"$f":"IF($B1897=\"\",\"\",VLOOKUP($B1897,_tbl!$A:$E,Q$2,0))","v":"Circulatory"},null,3.42862492380392E-3,2.2831802276210701E-3]
[null,"all_f_East Rural circulatory.csv","70-74",6.7813478367157098E-3,6.5191743860278598E-3,6.27433066549829E-3,5.9711496600780298E-3,5.64537234778144E-3,5.2992503772283798E-3,4.9945654048040604E-3,4.6676661112522904E-3,4.3344999340159803E-3,4.0092319946844202E-3,{"$f":"IF($B1898=\"\",\"\",VLOOKUP($B1898,_tbl!$A:$E,N$2,0))","v":"Female"},{"$f":"IF($B1898=\"\",\"\",VLOOKUP($B1898,_tbl!$A:$E,O$2,0))","v":"East"},{"$f":"IF($B1898=\"\",\"\",VLOOKUP($B1898,_tbl!$A:$E,P$2,0))","v":"Rural"},{"$f":"IF($B1898=\"\",\"\",VLOOKUP($B1898,_tbl!$A:$E,Q$2,0))","v":"Circulatory"},null,6.7813478367157098E-3,4.0092319946844202E-3]
[null,"all_f_East Rural circulatory.csv","75-79",1.7628359429257601E-2,1.69462342153049E-2,1.6441313433951402E-2,1.587128380636E-2,1.5262421753404301E-2,1.4618332289021201E-2,1.4063600681301001E-2,1.3457478000598801E-2,1.2830904787509499E-2,1.22161005168934E-2,{"$f":"IF($B1899=\"\",\"\",VLOOKUP($B1899,_tbl!$A:$E,N$2,0))","v":"Female"},{"$f":"IF($B1899=\"\",\"\",VLOOKUP($B1899,_tbl!$A:$E,O$2,0))","v":"East"},{"$f":"IF($B1899=\"\",\"\",VLOOKUP($B1899,_tbl!$A:$E,P$2,0))","v":"Rural"},{"$f":"IF($B1899=\"\",\"\",VLOOKUP($B1899,_tbl!$A:$E,Q$2,0))","v":"Circulatory"},null,1.7628359429257601E-2,1.22161005168934E-2]
[null,"all_f_East Rural circulatory.csv","80-84",4.6106823816733603E-2,4.4763269979208903E-2,4.4033175015376999E-2,4.3491651065529199E-2,4.29757318825758E-2,4.2473318074104503E-2,4.1952540624257698E-2,4.1447901309035903E-2,4.0946869320345802E-2,4.0436279276193199E-2,{"$f":"IF($B1900=\"\",\"\",VLOOKUP($B1900,_tbl!$A:$E,N$2,0))","v":"Female"},{"$f":"IF($B1900=\"\",\"\",VLOOKUP($B1900,_tbl!$A:$E,O$2,0))","v":"East"},{"$f":"IF($B1900=\"\",\"\",VLOOKUP($B1900,_tbl!$A:$E,P$2,0))","v":"Rural"},{"$f":"IF($B1900=\"\",\"\",VLOOKUP($B1900,_tbl!$A:$E,Q$2,0))","v":"Circulatory"},null,4.6106823816733603E-2,4.0436279276193199E-2]
[null,"all_f_East Rural circulatory.csv","85+",0.107299713504411,0.100969214085431,9.9450381881814306E-2,9.87727202531829E-2,9.8285256688530803E-2,9.7895850590142705E-2,9.7586277392309906E-2,9.7343458817132994E-2,9.7123839508871199E-2,9.6900181114245407E-2,{"$f":"IF($B1901=\"\",\"\",VLOOKUP($B1901,_tbl!$A:$E,N$2,0))","v":"Female"},{"$f":"IF($B1901=\"\",\"\",VLOOKUP($B1901,_tbl!$A:$E,O$2,0))","v":"East"},{"$f":"IF($B1901=\"\",\"\",VLOOKUP($B1901,_tbl!$A:$E,P$2,0))","v":"Rural"},{"$f":"IF($B1901=\"\",\"\",VLOOKUP($B1901,_tbl!$A:$E,Q$2,0))","v":"Circulatory"},null,0.107299713504411,9.6900181114245407E-2]
[null,null,null,null,null,null,null,null,null,null,null,null,null,{"$f":"IF($B1902=\"\",\"\",VLOOKUP($B1902,_tbl!$A:$E,N$2,0))","v":""},{"$f":"IF($B1902=\"\",\"\",VLOOKUP($B1902,_tbl!$A:$E,O$2,0))","v":""},{"$f":"IF($B1902=\"\",\"\",VLOOKUP($B1902,_tbl!$A:$E,P$2,0))","v":""},{"$f":"IF($B1902=\"\",\"\",VLOOKUP($B1902,_tbl!$A:$E,Q$2,0))","v":""}]
[null,null,null,2020,2021,2022,2023,2024,2025,2026,2027,2028,2029,{"$f":"IF($B1903=\"\",\"\",VLOOKUP($B1903,_tbl!$A:$E,N$2,0))","v":""},{"$f":"IF($B1903=\"\",\"\",VLOOKUP($B1903,_tbl!$A:$E,O$2,0))","v":""},{"$f":"IF($B1903=\"\",\"\",VLOOKUP($B1903,_tbl!$A:$E,P$2,0))","v":""},{"$f":"IF($B1903=\"\",\"\",VLOOKUP($B1903,_tbl!$A:$E,Q$2,0))","v":""}]
[null,"all_f_East Rural congenital.csv","1-4",3.2348945473671803E-5,3.2500556463340098E-5,3.2699331726200301E-5,3.2899967187378897E-5,3.3111938316043301E-5,3.3319586083987701E-5,3.35273800225264E-5,3.3723668177824501E-5,3.3913605394515299E-5,3.4092654075023403E-5,{"$f":"IF($B1904=\"\",\"\",VLOOKUP($B1904,_tbl!$A:$E,N$2,0))","v":"Female"},{"$f":"IF($B1904=\"\",\"\",VLOOKUP($B1904,_tbl!$A:$E,O$2,0))","v":"East"},{"$f":"IF($B1904=\"\",\"\",VLOOKUP($B1904,_tbl!$A:$E,P$2,0))","v":"Rural"},{"$f":"IF($B1904=\"\",\"\",VLOOKUP($B1904,_tbl!$A:$E,Q$2,0))","v":"Congenital"},null,{"$f":"MAX(D1904:M1904)","v":3.4092654075023403E-5},{"$f":"MIN(D1904:M1904)","v":3.2348945473671803E-5}]
[null,"all_f_East Rural congenital.csv","5-9",1.49925447930644E-5,1.4849021719744201E-5,1.4846943935403901E-5,1.48394749960184E-5,1.4820662767479099E-5,1.4800529842783701E-5,1.4779425058378699E-5,1.47587743486572E-5,1.47351146112446E-5,1.4710417625565801E-5,{"$f":"IF($B1905=\"\",\"\",VLOOKUP($B1905,_tbl!$A:$E,N$2,0))","v":"Female"},{"$f":"IF($B1905=\"\",\"\",VLOOKUP($B1905,_tbl!$A:$E,O$2,0))","v":"East"},{"$f":"IF($B1905=\"\",\"\",VLOOKUP($B1905,_tbl!$A:$E,P$2,0))","v":"Rural"},{"$f":"IF($B1905=\"\",\"\",VLOOKUP($B1905,_tbl!$A:$E,Q$2,0))","v":"Congenital"},null,1.49925447930644E-5,1.4710417625565801E-5]
[null,"all_f_East Rural congenital.csv","10-14",8.7519352289583207E-6,8.6273219685687399E-6,8.6154008204088896E-6,8.59838741616499E-6,8.5874137248686098E-6,8.5700314521000704E-6,8.55124208448133E-6,8.5259273215121393E-6,8.4976560821881604E-6,8.4661018560786098E-6,{"$f":"IF($B1906=\"\",\"\",VLOOKUP($B1906,_tbl!$A:$E,N$2,0))","v":"Female"},{"$f":"IF($B1906=\"\",\"\",VLOOKUP($B1906,_tbl!$A:$E,O$2,0))","v":"East"},{"$f":"IF($B1906=\"\",\"\",VLOOKUP($B1906,_tbl!$A:$E,P$2,0))","v":"Rural"},{"$f":"IF($B1906=\"\",\"\",VLOOKUP($B1906,_tbl!$A:$E,Q$2,0))","v":"Congenital"},null,8.7519352289583207E-6,8.4661018560786098E-6]
[null,"all_f_East Rural congenital.csv","15-19",7.1301819125515501E-6,7.1288995940679901E-6,7.1540192728907602E-6,7.17699719548648E-6,7.2039848184305601E-6,7.22682094893938E-6,7.24763737062707E-6,7.2661251564258703E-6,7.2843365743685201E-6,7.3011918267376E-6,{"$f":"IF($B1907=\"\",\"\",VLOOKUP($B1907,_tbl!$A:$E,N$2,0))","v":"Female"},{"$f":"IF($B1907=\"\",\"\",VLOOKUP($B1907,_tbl!$A:$E,O$2,0))","v":"East"},{"$f":"IF($B1907=\"\",\"\",VLOOKUP($B1907,_tbl!$A:$E,P$2,0))","v":"Rural"},{"$f":"IF($B1907=\"\",\"\",VLOOKUP($B1907,_tbl!$A:$E,Q$2,0))","v":"Congenital"},null,7.3011918267376E-6,7.1288995940679901E-6]
[null,"all_f_East Rural congenital.csv","20-24",6.3924108992135097E-6,6.4559152172742904E-6,6.4683720088505802E-6,6.4891467378720601E-6,6.4968375719490498E-6,6.51654612612139E-6,6.5378358925114703E-6,6.5690337085610797E-6,6.60317351307736E-6,6.6401795000291101E-6,{"$f":"IF($B1908=\"\",\"\",VLOOKUP($B1908,_tbl!$A:$E,N$2,0))","v":"Female"},{"$f":"IF($B1908=\"\",\"\",VLOOKUP($B1908,_tbl!$A:$E,O$2,0))","v":"East"},{"$f":"IF($B1908=\"\",\"\",VLOOKUP($B1908,_tbl!$A:$E,P$2,0))","v":"Rural"},{"$f":"IF($B1908=\"\",\"\",VLOOKUP($B1908,_tbl!$A:$E,Q$2,0))","v":"Congenital"},null,6.6401795000291101E-6,6.3924108992135097E-6]
[null,"all_f_East Rural congenital.csv","25-29",5.94652016307187E-6,5.9347227225312702E-6,5.90687365823886E-6,5.8860661651342702E-6,5.8603236682256601E-6,5.8415664463598701E-6,5.8241565189877498E-6,5.8124555329586497E-6,5.8029305409423997E-6,5.7955556146185502E-6,{"$f":"IF($B1909=\"\",\"\",VLOOKUP($B1909,_tbl!$A:$E,N$2,0))","v":"Female"},{"$f":"IF($B1909=\"\",\"\",VLOOKUP($B1909,_tbl!$A:$E,O$2,0))","v":"East"},{"$f":"IF($B1909=\"\",\"\",VLOOKUP($B1909,_tbl!$A:$E,P$2,0))","v":"Rural"},{"$f":"IF($B1909=\"\",\"\",VLOOKUP($B1909,_tbl!$A:$E,Q$2,0))","v":"Congenital"},null,5.94652016307187E-6,5.7955556146185502E-6]
[null,"all_f_East Rural congenital.csv",null,null,null,null,null,null,null,null,null,null,null,{"$f":"IF($B1910=\"\",\"\",VLOOKUP($B1910,_tbl!$A:$E,N$2,0))","v":"Female"},{"$f":"IF($B1910=\"\",\"\",VLOOKUP($B1910,_tbl!$A:$E,O$2,0))","v":"East"},{"$f":"IF($B1910=\"\",\"\",VLOOKUP($B1910,_tbl!$A:$E,P$2,0))","v":"Rural"},{"$f":"IF($B1910=\"\",\"\",VLOOKUP($B1910,_tbl!$A:$E,Q$2,0))","v":"Congenital"},null,0,0]
[null,"all_f_East Rural congenital.csv",null,null,null,null,null,null,null,null,null,null,null,{"$f":"IF($B1911=\"\",\"\",VLOOKUP($B1911,_tbl!$A:$E,N$2,0))","v":"Female"},{"$f":"IF($B1911=\"\",\"\",VLOOKUP($B1911,_tbl!$A:$E,O$2,0))","v":"East"},{"$f":"IF($B1911=\"\",\"\",VLOOKUP($B1911,_tbl!$A:$E,P$2,0))","v":"Rural"},{"$f":"IF($B1911=\"\",\"\",VLOOKUP($B1911,_tbl!$A:$E,Q$2,0))","v":"Congenital"},null,0,0]
[null,"all_f_East Rural congenital.csv",null,null,null,null,null,null,null,null,null,null,null,{"$f":"IF($B1912=\"\",\"\",VLOOKUP($B1912,_tbl!$A:$E,N$2,0))","v":"Female"},{"$f":"IF($B1912=\"\",\"\",VLOOKUP($B1912,_tbl!$A:$E,O$2,0))","v":"East"},{"$f":"IF($B1912=\"\",\"\",VLOOKUP($B1912,_tbl!$A:$E,P$2,0))","v":"Rural"},{"$f":"IF($B1912=\"\",\"\",VLOOKUP($B1912,_tbl!$A:$E,Q$2,0))","v":"Congenital"},null,0,0]
[null,"all_f_East Rural congenital.csv",null,null,null,null,null,null,null,null,null,null,null,{"$f":"IF($B1913=\"\",\"\",VLOOKUP($B1913,_tbl!$A:$E,N$2,0))","v":"Female"},{"$f":"IF($B1913=\"\",\"\",VLOOKUP($B1913,_tbl!$A:$E,O$2,0))","v":"East"},{"$f":"IF($B1913=\"\",\"\",VLOOKUP($B1913,_tbl!$A:$E,P$2,0))","v":"Rural"},{"$f":"IF($B1913=\"\",\"\",VLOOKUP($B1913,_tbl!$A:$E,Q$2,0))","v":"Congenital"},null,0,0]
[null,"all_f_East Rural congenital.csv",null,null,null,null,null,null,null,null,null,null,null,{"$f":"IF($B1914=\"\",\"\",VLOOKUP($B1914,_tbl!$A:$E,N$2,0))","v":"Female"},{"$f":"IF($B1914=\"\",\"\",VLOOKUP($B1914,_tbl!$A:$E,O$2,0))","v":"East"},{"$f":"IF($B1914=\"\",\"\",VLOOKUP($B1914,_tbl!$A:$E,P$2,0))","v":"Rural"},{"$f":"IF($B1914=\"\",\"\",VLOOKUP($B1914,_tbl!$A:$E,Q$2,0))","v":"Congenital"},null,0,0]
[null,"all_f_East Rural congenital.csv",null,null,null,null,null,null,null,null,null,null,null,{"$f":"IF($B1915=\"\",\"\",VLOOKUP($B1915,_tbl!$A:$E,N$2,0))","v":"Female"},{"$f":"IF($B1915=\"\",\"\",VLOOKUP($B1915,_tbl!$A:$E,O$2,0))","v":"East"},{"$f":"IF($B1915=\"\",\"\",VLOOKUP($B1915,_tbl!$A:$E,P$2,0))","v":"Rural"},{"$f":"IF($B1915=\"\",\"\",VLOOKUP($B1915,_tbl!$A:$E,Q$2,0))","v":"Congenital"},null,0,0]
[null,"all_f_East Rural congenital.csv",null,null,null,null,null,null,null,null,null,null,null,{"$f":"IF($B1916=\"\",\"\",VLOOKUP($B1916,_tbl!$A:$E,N$2,0))","v":"Female"},{"$f":"IF($B1916=\"\",\"\",VLOOKUP($B1916,_tbl!$A:$E,O$2,0))","v":"East"},{"$f":"IF($B1916=\"\",\"\",VLOOKUP($B1916,_tbl!$A:$E,P$2,0))","v":"Rural"},{"$f":"IF($B1916=\"\",\"\",VLOOKUP($B1916,_tbl!$A:$E,Q$2,0))","v":"Congenital"},null,0,0]
[null,"all_f_East Rural congenital.csv",null,null,null,null,null,null,null,null,null,null,null,{"$f":"IF($B1917=\"\",\"\",VLOOKUP($B1917,_tbl!$A:$E,N$2,0))","v":"Female"},{"$f":"IF($B1917=\"\",\"\",VLOOKUP($B1917,_tbl!$A:$E,O$2,0))","v":"East"},{"$f":"IF($B1917=\"\",\"\",VLOOKUP($B1917,_tbl!$A:$E,P$2,0))","v":"Rural"},{"$f":"IF($B1917=\"\",\"\",VLOOKUP($B1917,_tbl!$A:$E,Q$2,0))","v":"Congenital"},null,0,0]
[null,"all_f_East Rural congenital.csv",null,null,null,null,null,null,null,null,null,null,null,{"$f":"IF($B1918=\"\",\"\",VLOOKUP($B1918,_tbl!$A:$E,N$2,0))","v":"Female"},{"$f":"IF($B1918=\"\",\"\",VLOOKUP($B1918,_tbl!$A:$E,O$2,0))","v":"East"},{"$f":"IF($B1918=\"\",\"\",VLOOKUP($B1918,_tbl!$A:$E,P$2,0))","v":"Rural"},{"$f":"IF($B1918=\"\",\"\",VLOOKUP($B1918,_tbl!$A:$E,Q$2,0))","v":"Congenital"},null,0,0]
[null,"all_f_East Rural congenital.csv",null,null,null,null,null,null,null,null,null,null,null,{"$f":"IF($B1919=\"\",\"\",VLOOKUP($B1919,_tbl!$A:$E,N$2,0))","v":"Female"},{"$f":"IF($B1919=\"\",\"\",VLOOKUP($B1919,_tbl!$A:$E,O$2,0))","v":"East"},{"$f":"IF($B1919=\"\",\"\",VLOOKUP($B1919,_tbl!$A:$E,P$2,0))","v":"Rural"},{"$f":"IF($B1919=\"\",\"\",VLOOKUP($B1919,_tbl!$A:$E,Q$2,0))","v":"Congenital"},null,0,0]
[null,"all_f_East Rural congenital.csv",null,null,null,null,null,null,null,null,null,null,null,{"$f":"IF($B1920=\"\",\"\",VLOOKUP($B1920,_tbl!$A:$E,N$2,0))","v":"Female"},{"$f":"IF($B1920=\"\",\"\",VLOOKUP($B1920,_tbl!$A:$E,O$2,0))","v":"East"},{"$f":"IF($B1920=\"\",\"\",VLOOKUP($B1920,_tbl!$A:$E,P$2,0))","v":"Rural"},{"$f":"IF($B1920=\"\",\"\",VLOOKUP($B1920,_tbl!$A:$E,Q$2,0))","v":"Congenital"},null,0,0]
[null,"all_f_East Rural congenital.csv",null,null,null,null,null,null,null,null,null,null,null,{"$f":"IF($B1921=\"\",\"\",VLOOKUP($B1921,_tbl!$A:$E,N$2,0))","v":"Female"},{"$f":"IF($B1921=\"\",\"\",VLOOKUP($B1921,_tbl!$A:$E,O$2,0))","v":"East"},{"$f":"IF($B1921=\"\",\"\",VLOOKUP($B1921,_tbl!$A:$E,P$2,0))","v":"Rural"},{"$f":"IF($B1921=\"\",\"\",VLOOKUP($B1921,_tbl!$A:$E,Q$2,0))","v":"Congenital"},null,0,0]
[null,null,null,null,null,null,null,null,null,null,null,null,null,{"$f":"IF($B1922=\"\",\"\",VLOOKUP($B1922,_tbl!$A:$E,N$2,0))","v":""},{"$f":"IF($B1922=\"\",\"\",VLOOKUP($B1922,_tbl!$A:$E,O$2,0))","v":""},{"$f":"IF($B1922=\"\",\"\",VLOOKUP($B1922,_tbl!$A:$E,P$2,0))","v":""},{"$f":"IF($B1922=\"\",\"\",VLOOKUP($B1922,_tbl!$A:$E,Q$2,0))","v":""}]
[null,null,null,2020,2021,2022,2023,2024,2025,2026,2027,2028,2029,{"$f":"IF($B1923=\"\",\"\",VLOOKUP($B1923,_tbl!$A:$E,N$2,0))","v":""},{"$f":"IF($B1923=\"\",\"\",VLOOKUP($B1923,_tbl!$A:$E,O$2,0))","v":""},{"$f":"IF($B1923=\"\",\"\",VLOOKUP($B1923,_tbl!$A:$E,P$2,0))","v":""},{"$f":"IF($B1923=\"\",\"\",VLOOKUP($B1923,_tbl!$A:$E,Q$2,0))","v":""}]
[null,"all_f_East Rural diabetes.csv","30-34",3.8139989042265301E-6,3.66248116296375E-6,3.53908150390296E-6,3.4164941215333499E-6,3.2983580050926299E-6,3.18090191538498E-6,3.0668649822361901E-6,2.9533061946449402E-6,2.8412873252064502E-6,2.73102072713486E-6,{"$f":"IF($B1924=\"\",\"\",VLOOKUP($B1924,_tbl!$A:$E,N$2,0))","v":"Female"},{"$f":"IF($B1924=\"\",\"\",VLOOKUP($B1924,_tbl!$A:$E,O$2,0))","v":"East"},{"$f":"IF($B1924=\"\",\"\",VLOOKUP($B1924,_tbl!$A:$E,P$2,0))","v":"Rural"},{"$f":"IF($B1924=\"\",\"\",VLOOKUP($B1924,_tbl!$A:$E,Q$2,0))","v":"Diabetes"},null,{"$f":"MAX(D1924:M1924)","v":3.8139989042265301E-6},{"$f":"MIN(D1924:M1924)","v":2.73102072713486E-6}]
[null,"all_f_East Rural diabetes.csv","35-39",6.8493237186813699E-6,6.7030847547275901E-6,6.5376493126171999E-6,6.4004614552831203E-6,6.26671077681832E-6,6.1481185702762902E-6,6.0314551515957304E-6,5.9261680129220196E-6,5.8282584432629502E-6,5.7375351149922599E-6,{"$f":"IF($B1925=\"\",\"\",VLOOKUP($B1925,_tbl!$A:$E,N$2,0))","v":"Female"},{"$f":"IF($B1925=\"\",\"\",VLOOKUP($B1925,_tbl!$A:$E,O$2,0))","v":"East"},{"$f":"IF($B1925=\"\",\"\",VLOOKUP($B1925,_tbl!$A:$E,P$2,0))","v":"Rural"},{"$f":"IF($B1925=\"\",\"\",VLOOKUP($B1925,_tbl!$A:$E,Q$2,0))","v":"Diabetes"},null,6.8493237186813699E-6,5.7375351149922599E-6]
[null,"all_f_East Rural diabetes.csv","40-44",1.24464998690283E-5,1.19386489358204E-5,1.13956484679246E-5,1.0927259275780899E-5,1.04699164645537E-5,1.0052569860761801E-5,9.6427103428088204E-6,9.2624841440236508E-6,8.90210082125658E-6,8.5613574786315706E-6,{"$f":"IF($B1926=\"\",\"\",VLOOKUP($B1926,_tbl!$A:$E,N$2,0))","v":"Female"},{"$f":"IF($B1926=\"\",\"\",VLOOKUP($B1926,_tbl!$A:$E,O$2,0))","v":"East"},{"$f":"IF($B1926=\"\",\"\",VLOOKUP($B1926,_tbl!$A:$E,P$2,0))","v":"Rural"},{"$f":"IF($B1926=\"\",\"\",VLOOKUP($B1926,_tbl!$A:$E,Q$2,0))","v":"Diabetes"},null,1.24464998690283E-5,8.5613574786315706E-6]
[null,"all_f_East Rural diabetes.csv","45-49",2.7752586098131499E-5,2.7180442259138298E-5,2.6522446634428898E-5,2.5928308126538702E-5,2.5343419962620998E-5,2.47914477485126E-5,2.4243169593689201E-5,2.3719615180241002E-5,2.3213113104785899E-5,2.2723187816511701E-5,{"$f":"IF($B1927=\"\",\"\",VLOOKUP($B1927,_tbl!$A:$E,N$2,0))","v":"Female"},{"$f":"IF($B1927=\"\",\"\",VLOOKUP($B1927,_tbl!$A:$E,O$2,0))","v":"East"},{"$f":"IF($B1927=\"\",\"\",VLOOKUP($B1927,_tbl!$A:$E,P$2,0))","v":"Rural"},{"$f":"IF($B1927=\"\",\"\",VLOOKUP($B1927,_tbl!$A:$E,Q$2,0))","v":"Diabetes"},null,2.7752586098131499E-5,2.2723187816511701E-5]
[null,"all_f_East Rural diabetes.csv","50-54",5.7126516762423402E-5,5.4803499634280702E-5,5.2828994632310999E-5,5.0593681908944203E-5,4.8447613270826597E-5,4.62693064943969E-5,4.4246741511549702E-5,4.2237589752834102E-5,4.0284404433213403E-5,3.83937277655898E-5,{"$f":"IF($B1928=\"\",\"\",VLOOKUP($B1928,_tbl!$A:$E,N$2,0))","v":"Female"},{"$f":"IF($B1928=\"\",\"\",VLOOKUP($B1928,_tbl!$A:$E,O$2,0))","v":"East"},{"$f":"IF($B1928=\"\",\"\",VLOOKUP($B1928,_tbl!$A:$E,P$2,0))","v":"Rural"},{"$f":"IF($B1928=\"\",\"\",VLOOKUP($B1928,_tbl!$A:$E,Q$2,0))","v":"Diabetes"},null,5.7126516762423402E-5,3.83937277655898E-5]
[null,"all_f_East Rural diabetes.csv","55-59",1.05937953906828E-4,1.01439976509453E-4,9.7457865578170404E-5,9.3217635885256396E-5,8.9153191593208304E-5,8.5088646338373606E-5,8.1282522255080503E-5,7.7506098182876203E-5,7.3832757099698995E-5,7.0276717972415505E-5,{"$f":"IF($B1929=\"\",\"\",VLOOKUP($B1929,_tbl!$A:$E,N$2,0))","v":"Female"},{"$f":"IF($B1929=\"\",\"\",VLOOKUP($B1929,_tbl!$A:$E,O$2,0))","v":"East"},{"$f":"IF($B1929=\"\",\"\",VLOOKUP($B1929,_tbl!$A:$E,P$2,0))","v":"Rural"},{"$f":"IF($B1929=\"\",\"\",VLOOKUP($B1929,_tbl!$A:$E,Q$2,0))","v":"Diabetes"},null,1.05937953906828E-4,7.0276717972415505E-5]
[null,"all_f_East Rural diabetes.csv","60-64",2.1896012116157901E-4,2.1365081073139799E-4,2.08801505125289E-4,2.03253138798891E-4,1.97669883979036E-4,1.9190715769534501E-4,1.8647712305593599E-4,1.8092799528011499E-4,1.7540221250085799E-4,1.6997014019256199E-4,{"$f":"IF($B1930=\"\",\"\",VLOOKUP($B1930,_tbl!$A:$E,N$2,0))","v":"Female"},{"$f":"IF($B1930=\"\",\"\",VLOOKUP($B1930,_tbl!$A:$E,O$2,0))","v":"East"},{"$f":"IF($B1930=\"\",\"\",VLOOKUP($B1930,_tbl!$A:$E,P$2,0))","v":"Rural"},{"$f":"IF($B1930=\"\",\"\",VLOOKUP($B1930,_tbl!$A:$E,Q$2,0))","v":"Diabetes"},null,2.1896012116157901E-4,1.6997014019256199E-4]
[null,"all_f_East Rural diabetes.csv","65-69",4.2314566255053997E-4,4.1614145599068502E-4,4.1170497435912299E-4,4.04345385372242E-4,3.9618260304342799E-4,3.8697439671356299E-4,3.7921551057086702E-4,3.7051713975404899E-4,3.61526614832305E-4,3.5270938440320701E-4,{"$f":"IF($B1931=\"\",\"\",VLOOKUP($B1931,_tbl!$A:$E,N$2,0))","v":"Female"},{"$f":"IF($B1931=\"\",\"\",VLOOKUP($B1931,_tbl!$A:$E,O$2,0))","v":"East"},{"$f":"IF($B1931=\"\",\"\",VLOOKUP($B1931,_tbl!$A:$E,P$2,0))","v":"Rural"},{"$f":"IF($B1931=\"\",\"\",VLOOKUP($B1931,_tbl!$A:$E,Q$2,0))","v":"Diabetes"},null,4.2314566255053997E-4,3.5270938440320701E-4]
[null,"all_f_East Rural diabetes.csv","70-74",7.6251820297007901E-4,7.5968505353168697E-4,7.6074161881872304E-4,7.5935493184687902E-4,7.5701486094207704E-4,7.53784846448523E-4,7.5236234036960903E-4,7.49933977343814E-4,7.4717177728328703E-4,7.4469347096658902E-4,{"$f":"IF($B1932=\"\",\"\",VLOOKUP($B1932,_tbl!$A:$E,N$2,0))","v":"Female"},{"$f":"IF($B1932=\"\",\"\",VLOOKUP($B1932,_tbl!$A:$E,O$2,0))","v":"East"},{"$f":"IF($B1932=\"\",\"\",VLOOKUP($B1932,_tbl!$A:$E,P$2,0))","v":"Rural"},{"$f":"IF($B1932=\"\",\"\",VLOOKUP($B1932,_tbl!$A:$E,Q$2,0))","v":"Diabetes"},null,7.6251820297007901E-4,7.4469347096658902E-4]
[null,"all_f_East Rural diabetes.csv","75-79",1.1678378113835299E-3,1.17060720074492E-3,1.17739010289147E-3,1.1831008109300001E-3,1.1881549861614E-3,1.1926752258703799E-3,1.1994414128782701E-3,1.20517979383153E-3,1.2105603681484001E-3,1.2163406244777601E-3,{"$f":"IF($B1933=\"\",\"\",VLOOKUP($B1933,_tbl!$A:$E,N$2,0))","v":"Female"},{"$f":"IF($B1933=\"\",\"\",VLOOKUP($B1933,_tbl!$A:$E,O$2,0))","v":"East"},{"$f":"IF($B1933=\"\",\"\",VLOOKUP($B1933,_tbl!$A:$E,P$2,0))","v":"Rural"},{"$f":"IF($B1933=\"\",\"\",VLOOKUP($B1933,_tbl!$A:$E,Q$2,0))","v":"Diabetes"},null,1.2163406244777601E-3,1.1678378113835299E-3]
[null,"all_f_East Rural diabetes.csv","80-84",1.73435564953839E-3,1.7635832676790399E-3,1.80057695298202E-3,1.8398821687757999E-3,1.8800341374039999E-3,1.9207556205524099E-3,1.9654828252074199E-3,2.0102043745466301E-3,2.0556621697688099E-3,2.1027019827343498E-3,{"$f":"IF($B1934=\"\",\"\",VLOOKUP($B1934,_tbl!$A:$E,N$2,0))","v":"Female"},{"$f":"IF($B1934=\"\",\"\",VLOOKUP($B1934,_tbl!$A:$E,O$2,0))","v":"East"},{"$f":"IF($B1934=\"\",\"\",VLOOKUP($B1934,_tbl!$A:$E,P$2,0))","v":"Rural"},{"$f":"IF($B1934=\"\",\"\",VLOOKUP($B1934,_tbl!$A:$E,Q$2,0))","v":"Diabetes"},null,2.1027019827343498E-3,1.73435564953839E-3]
[null,"all_f_East Rural diabetes.csv","85+",2.5697051020641499E-3,2.65325528060068E-3,2.7697299497866398E-3,2.8983681037850098E-3,3.0354602569713299E-3,3.1793542170780102E-3,3.3381407462494701E-3,3.5015812868151499E-3,3.6717379720962598E-3,3.85115294227869E-3,{"$f":"IF($B1935=\"\",\"\",VLOOKUP($B1935,_tbl!$A:$E,N$2,0))","v":"Female"},{"$f":"IF($B1935=\"\",\"\",VLOOKUP($B1935,_tbl!$A:$E,O$2,0))","v":"East"},{"$f":"IF($B1935=\"\",\"\",VLOOKUP($B1935,_tbl!$A:$E,P$2,0))","v":"Rural"},{"$f":"IF($B1935=\"\",\"\",VLOOKUP($B1935,_tbl!$A:$E,Q$2,0))","v":"Diabetes"},null,3.85115294227869E-3,2.5697051020641499E-3]
[null,"all_f_East Rural diabetes.csv",null,null,null,null,null,null,null,null,null,null,null,{"$f":"IF($B1936=\"\",\"\",VLOOKUP($B1936,_tbl!$A:$E,N$2,0))","v":"Female"},{"$f":"IF($B1936=\"\",\"\",VLOOKUP($B1936,_tbl!$A:$E,O$2,0))","v":"East"},{"$f":"IF($B1936=\"\",\"\",VLOOKUP($B1936,_tbl!$A:$E,P$2,0))","v":"Rural"},{"$f":"IF($B1936=\"\",\"\",VLOOKUP($B1936,_tbl!$A:$E,Q$2,0))","v":"Diabetes"},null,0,0]
[null,"all_f_East Rural diabetes.csv",null,null,null,null,null,null,null,null,null,null,null,{"$f":"IF($B1937=\"\",\"\",VLOOKUP($B1937,_tbl!$A:$E,N$2,0))","v":"Female"},{"$f":"IF($B1937=\"\",\"\",VLOOKUP($B1937,_tbl!$A:$E,O$2,0))","v":"East"},{"$f":"IF($B1937=\"\",\"\",VLOOKUP($B1937,_tbl!$A:$E,P$2,0))","v":"Rural"},{"$f":"IF($B1937=\"\",\"\",VLOOKUP($B1937,_tbl!$A:$E,Q$2,0))","v":"Diabetes"},null,0,0]
[null,"all_f_East Rural diabetes.csv",null,null,null,null,null,null,null,null,null,null,null,{"$f":"IF($B1938=\"\",\"\",VLOOKUP($B1938,_tbl!$A:$E,N$2,0))","v":"Female"},{"$f":"IF($B1938=\"\",\"\",VLOOKUP($B1938,_tbl!$A:$E,O$2,0))","v":"East"},{"$f":"IF($B1938=\"\",\"\",VLOOKUP($B1938,_tbl!$A:$E,P$2,0))","v":"Rural"},{"$f":"IF($B1938=\"\",\"\",VLOOKUP($B1938,_tbl!$A:$E,Q$2,0))","v":"Diabetes"},null,0,0]
[null,"all_f_East Rural diabetes.csv",null,null,null,null,null,null,null,null,null,null,null,{"$f":"IF($B1939=\"\",\"\",VLOOKUP($B1939,_tbl!$A:$E,N$2,0))","v":"Female"},{"$f":"IF($B1939=\"\",\"\",VLOOKUP($B1939,_tbl!$A:$E,O$2,0))","v":"East"},{"$f":"IF($B1939=\"\",\"\",VLOOKUP($B1939,_tbl!$A:$E,P$2,0))","v":"Rural"},{"$f":"IF($B1939=\"\",\"\",VLOOKUP($B1939,_tbl!$A:$E,Q$2,0))","v":"Diabetes"},null,0,0]
[null,"all_f_East Rural diabetes.csv",null,null,null,null,null,null,null,null,null,null,null,{"$f":"IF($B1940=\"\",\"\",VLOOKUP($B1940,_tbl!$A:$E,N$2,0))","v":"Female"},{"$f":"IF($B1940=\"\",\"\",VLOOKUP($B1940,_tbl!$A:$E,O$2,0))","v":"East"},{"$f":"IF($B1940=\"\",\"\",VLOOKUP($B1940,_tbl!$A:$E,P$2,0))","v":"Rural"},{"$f":"IF($B1940=\"\",\"\",VLOOKUP($B1940,_tbl!$A:$E,Q$2,0))","v":"Diabetes"},null,0,0]
[null,"all_f_East Rural diabetes.csv",null,null,null,null,null,null,null,null,null,null,null,{"$f":"IF($B1941=\"\",\"\",VLOOKUP($B1941,_tbl!$A:$E,N$2,0))","v":"Female"},{"$f":"IF($B1941=\"\",\"\",VLOOKUP($B1941,_tbl!$A:$E,O$2,0))","v":"East"},{"$f":"IF($B1941=\"\",\"\",VLOOKUP($B1941,_tbl!$A:$E,P$2,0))","v":"Rural"},{"$f":"IF($B1941=\"\",\"\",VLOOKUP($B1941,_tbl!$A:$E,Q$2,0))","v":"Diabetes"},null,0,0]
[null,null,null,null,null,null,null,null,null,null,null,null,null,{"$f":"IF($B1942=\"\",\"\",VLOOKUP($B1942,_tbl!$A:$E,N$2,0))","v":""},{"$f":"IF($B1942=\"\",\"\",VLOOKUP($B1942,_tbl!$A:$E,O$2,0))","v":""},{"$f":"IF($B1942=\"\",\"\",VLOOKUP($B1942,_tbl!$A:$E,P$2,0))","v":""},{"$f":"IF($B1942=\"\",\"\",VLOOKUP($B1942,_tbl!$A:$E,Q$2,0))","v":""}]
[null,null,null,2020,2021,2022,2023,2024,2025,2026,2027,2028,2029,{"$f":"IF($B1943=\"\",\"\",VLOOKUP($B1943,_tbl!$A:$E,N$2,0))","v":""},{"$f":"IF($B1943=\"\",\"\",VLOOKUP($B1943,_tbl!$A:$E,O$2,0))","v":""},{"$f":"IF($B1943=\"\",\"\",VLOOKUP($B1943,_tbl!$A:$E,P$2,0))","v":""},{"$f":"IF($B1943=\"\",\"\",VLOOKUP($B1943,_tbl!$A:$E,Q$2,0))","v":""}]
[null,"all_f_East Rural digestive.csv","1-4",4.61985091399577E-6,4.3582191749042504E-6,4.03266703294906E-6,3.77761265119276E-6,3.51111167341309E-6,3.2796930050520701E-6,3.05384466480163E-6,2.8492803917319899E-6,2.6550162097258799E-6,2.47601342616795E-6,{"$f":"IF($B1944=\"\",\"\",VLOOKUP($B1944,_tbl!$A:$E,N$2,0))","v":"Female"},{"$f":"IF($B1944=\"\",\"\",VLOOKUP($B1944,_tbl!$A:$E,O$2,0))","v":"East"},{"$f":"IF($B1944=\"\",\"\",VLOOKUP($B1944,_tbl!$A:$E,P$2,0))","v":"Rural"},{"$f":"IF($B1944=\"\",\"\",VLOOKUP($B1944,_tbl!$A:$E,Q$2,0))","v":"Digestive"},null,{"$f":"MAX(D1944:M1944)","v":4.61985091399577E-6},{"$f":"MIN(D1944:M1944)","v":2.47601342616795E-6}]
[null,"all_f_East Rural digestive.csv","5-9",2.1988878514543302E-6,2.0907879723588599E-6,1.95503877094762E-6,1.84765015643855E-6,1.7343870432136001E-6,1.63508821420653E-6,1.5372608729842199E-6,1.44780519721948E-6,1.3620457499707001E-6,1.28226921210795E-6,{"$f":"IF($B1945=\"\",\"\",VLOOKUP($B1945,_tbl!$A:$E,N$2,0))","v":"Female"},{"$f":"IF($B1945=\"\",\"\",VLOOKUP($B1945,_tbl!$A:$E,O$2,0))","v":"East"},{"$f":"IF($B1945=\"\",\"\",VLOOKUP($B1945,_tbl!$A:$E,P$2,0))","v":"Rural"},{"$f":"IF($B1945=\"\",\"\",VLOOKUP($B1945,_tbl!$A:$E,Q$2,0))","v":"Digestive"},null,2.1988878514543302E-6,1.28226921210795E-6]
[null,"all_f_East Rural digestive.csv","10-14",1.9028991448946501E-6,1.8311763460601901E-6,1.73984381403469E-6,1.66652054794349E-6,1.5880780561989201E-6,1.5182992348654101E-6,1.448561314797E-6,1.3838617379957201E-6,1.3209364862601199E-6,1.26154966154214E-6,{"$f":"IF($B1946=\"\",\"\",VLOOKUP($B1946,_tbl!$A:$E,N$2,0))","v":"Female"},{"$f":"IF($B1946=\"\",\"\",VLOOKUP($B1946,_tbl!$A:$E,O$2,0))","v":"East"},{"$f":"IF($B1946=\"\",\"\",VLOOKUP($B1946,_tbl!$A:$E,P$2,0))","v":"Rural"},{"$f":"IF($B1946=\"\",\"\",VLOOKUP($B1946,_tbl!$A:$E,Q$2,0))","v":"Digestive"},null,1.9028991448946501E-6,1.26154966154214E-6]
[null,"all_f_East Rural digestive.csv","15-19",1.9783931015319598E-6,1.90808301440717E-6,1.81831641733093E-6,1.7460523547931501E-6,1.6685377585430999E-6,1.59939725249894E-6,1.53011234460628E-6,1.4656595055408701E-6,1.4028059247881699E-6,1.3433269111736001E-6,{"$f":"IF($B1947=\"\",\"\",VLOOKUP($B1947,_tbl!$A:$E,N$2,0))","v":"Female"},{"$f":"IF($B1947=\"\",\"\",VLOOKUP($B1947,_tbl!$A:$E,O$2,0))","v":"East"},{"$f":"IF($B1947=\"\",\"\",VLOOKUP($B1947,_tbl!$A:$E,P$2,0))","v":"Rural"},{"$f":"IF($B1947=\"\",\"\",VLOOKUP($B1947,_tbl!$A:$E,Q$2,0))","v":"Digestive"},null,1.9783931015319598E-6,1.3433269111736001E-6]
[null,"all_f_East Rural digestive.csv","20-24",2.4107509756292701E-6,2.3213178511490801E-6,2.2073510657596002E-6,2.1157873324405799E-6,2.0177591465135199E-6,1.93049253808675E-6,1.8432127074548701E-6,1.7621782724626001E-6,1.6833077723115801E-6,1.6088170222152301E-6,{"$f":"IF($B1948=\"\",\"\",VLOOKUP($B1948,_tbl!$A:$E,N$2,0))","v":"Female"},{"$f":"IF($B1948=\"\",\"\",VLOOKUP($B1948,_tbl!$A:$E,O$2,0))","v":"East"},{"$f":"IF($B1948=\"\",\"\",VLOOKUP($B1948,_tbl!$A:$E,P$2,0))","v":"Rural"},{"$f":"IF($B1948=\"\",\"\",VLOOKUP($B1948,_tbl!$A:$E,Q$2,0))","v":"Digestive"},null,2.4107509756292701E-6,1.6088170222152301E-6]
[null,"all_f_East Rural digestive.csv","25-29",3.2732967552693102E-6,3.1457784658847299E-6,2.9836438520556398E-6,2.8536897066434101E-6,2.7148795290440201E-6,2.5915973748820699E-6,2.4685813362930599E-6,2.3546339666719898E-6,2.2439864199923999E-6,2.13972624499514E-6,{"$f":"IF($B1949=\"\",\"\",VLOOKUP($B1949,_tbl!$A:$E,N$2,0))","v":"Female"},{"$f":"IF($B1949=\"\",\"\",VLOOKUP($B1949,_tbl!$A:$E,O$2,0))","v":"East"},{"$f":"IF($B1949=\"\",\"\",VLOOKUP($B1949,_tbl!$A:$E,P$2,0))","v":"Rural"},{"$f":"IF($B1949=\"\",\"\",VLOOKUP($B1949,_tbl!$A:$E,Q$2,0))","v":"Digestive"},null,3.2732967552693102E-6,2.13972624499514E-6]
[null,"all_f_East Rural digestive.csv","30-34",4.6317431937816203E-6,4.4344365440429402E-6,4.1846740678155504E-6,3.9854155459814697E-6,3.7735348108952598E-6,3.58622069732071E-6,3.40015783938467E-6,3.22859927364152E-6,3.0627661869130698E-6,2.9072190388719799E-6,{"$f":"IF($B1950=\"\",\"\",VLOOKUP($B1950,_tbl!$A:$E,N$2,0))","v":"Female"},{"$f":"IF($B1950=\"\",\"\",VLOOKUP($B1950,_tbl!$A:$E,O$2,0))","v":"East"},{"$f":"IF($B1950=\"\",\"\",VLOOKUP($B1950,_tbl!$A:$E,P$2,0))","v":"Rural"},{"$f":"IF($B1950=\"\",\"\",VLOOKUP($B1950,_tbl!$A:$E,Q$2,0))","v":"Digestive"},null,4.6317431937816203E-6,2.9072190388719799E-6]
[null,"all_f_East Rural digestive.csv","35-39",6.7792982517078597E-6,6.4528280813399397E-6,6.0423513190907004E-6,5.71720963273492E-6,5.3738518949409101E-6,5.0724412423929202E-6,4.7751219546528803E-6,4.5028994450848E-6,4.2415941174728002E-6,3.9982092165016498E-6,{"$f":"IF($B1951=\"\",\"\",VLOOKUP($B1951,_tbl!$A:$E,N$2,0))","v":"Female"},{"$f":"IF($B1951=\"\",\"\",VLOOKUP($B1951,_tbl!$A:$E,O$2,0))","v":"East"},{"$f":"IF($B1951=\"\",\"\",VLOOKUP($B1951,_tbl!$A:$E,P$2,0))","v":"Rural"},{"$f":"IF($B1951=\"\",\"\",VLOOKUP($B1951,_tbl!$A:$E,Q$2,0))","v":"Digestive"},null,6.7792982517078597E-6,3.9982092165016498E-6]
[null,"all_f_East Rural digestive.csv","40-44",1.03122444982073E-5,9.7701673939452302E-6,9.0922732643978198E-6,8.5583623726889507E-6,7.9976366635988802E-6,7.5081781087914999E-6,7.0280375937030803E-6,6.5908825717451301E-6,6.1735908915595201E-6,5.7870848336323698E-6,{"$f":"IF($B1952=\"\",\"\",VLOOKUP($B1952,_tbl!$A:$E,N$2,0))","v":"Female"},{"$f":"IF($B1952=\"\",\"\",VLOOKUP($B1952,_tbl!$A:$E,O$2,0))","v":"East"},{"$f":"IF($B1952=\"\",\"\",VLOOKUP($B1952,_tbl!$A:$E,P$2,0))","v":"Rural"},{"$f":"IF($B1952=\"\",\"\",VLOOKUP($B1952,_tbl!$A:$E,Q$2,0))","v":"Digestive"},null,1.03122444982073E-5,5.7870848336323698E-6]
[null,"all_f_East Rural digestive.csv","45-49",1.65678548716471E-5,1.5711450822374998E-5,1.46393246984967E-5,1.3793956966292E-5,1.29051584158609E-5,1.2128454467618E-5,1.13656946099029E-5,1.06704475222318E-5,1.00060547504507E-5,9.3899923508320899E-6,{"$f":"IF($B1953=\"\",\"\",VLOOKUP($B1953,_tbl!$A:$E,N$2,0))","v":"Female"},{"$f":"IF($B1953=\"\",\"\",VLOOKUP($B1953,_tbl!$A:$E,O$2,0))","v":"East"},{"$f":"IF($B1953=\"\",\"\",VLOOKUP($B1953,_tbl!$A:$E,P$2,0))","v":"Rural"},{"$f":"IF($B1953=\"\",\"\",VLOOKUP($B1953,_tbl!$A:$E,Q$2,0))","v":"Digestive"},null,1.65678548716471E-5,9.3899923508320899E-6]
[null,"all_f_East Rural digestive.csv","50-54",2.8530683020638599E-5,2.72491269454044E-5,2.5631427449212899E-5,2.4344678929862101E-5,2.2980353144567198E-5,2.1777758766047899E-5,2.0586659121953098E-5,1.9491620828669699E-5,1.84362046859316E-5,1.7449139810746298E-5,{"$f":"IF($B1954=\"\",\"\",VLOOKUP($B1954,_tbl!$A:$E,N$2,0))","v":"Female"},{"$f":"IF($B1954=\"\",\"\",VLOOKUP($B1954,_tbl!$A:$E,O$2,0))","v":"East"},{"$f":"IF($B1954=\"\",\"\",VLOOKUP($B1954,_tbl!$A:$E,P$2,0))","v":"Rural"},{"$f":"IF($B1954=\"\",\"\",VLOOKUP($B1954,_tbl!$A:$E,Q$2,0))","v":"Digestive"},null,2.8530683020638599E-5,1.7449139810746298E-5]
[null,"all_f_East Rural digestive.csv","55-59",5.0669444856650498E-5,4.87839029958022E-5,4.63814453703906E-5,4.4451534504071603E-5,4.2385663619337503E-5,4.0546851303298703E-5,3.8708023088618903E-5,3.7001020094396897E-5,3.5339838815432202E-5,3.3771130069230599E-5,{"$f":"IF($B1955=\"\",\"\",VLOOKUP($B1955,_tbl!$A:$E,N$2,0))","v":"Female"},{"$f":"IF($B1955=\"\",\"\",VLOOKUP($B1955,_tbl!$A:$E,O$2,0))","v":"East"},{"$f":"IF($B1955=\"\",\"\",VLOOKUP($B1955,_tbl!$A:$E,P$2,0))","v":"Rural"},{"$f":"IF($B1955=\"\",\"\",VLOOKUP($B1955,_tbl!$A:$E,Q$2,0))","v":"Digestive"},null,5.0669444856650498E-5,3.3771130069230599E-5]
[null,"all_f_East Rural digestive.csv","60-64",8.6139006404581194E-5,8.3134564372434807E-5,7.9295665872738599E-5,7.6202672494431507E-5,7.2882254879697505E-5,6.9918091773384997E-5,6.6945306110126901E-5,6.4177564512742994E-5,6.1476281670575094E-5,5.8917921974581999E-5,{"$f":"IF($B1956=\"\",\"\",VLOOKUP($B1956,_tbl!$A:$E,N$2,0))","v":"Female"},{"$f":"IF($B1956=\"\",\"\",VLOOKUP($B1956,_tbl!$A:$E,O$2,0))","v":"East"},{"$f":"IF($B1956=\"\",\"\",VLOOKUP($B1956,_tbl!$A:$E,P$2,0))","v":"Rural"},{"$f":"IF($B1956=\"\",\"\",VLOOKUP($B1956,_tbl!$A:$E,Q$2,0))","v":"Digestive"},null,8.6139006404581194E-5,5.8917921974581999E-5]
[null,"all_f_East Rural digestive.csv","65-69",1.38029980305627E-4,1.32665633652899E-4,1.2584430063802601E-4,1.2037621216649299E-4,1.1453481345733599E-4,1.0934625151772199E-4,1.04168286928168E-4,9.9371475593046995E-5,9.4713032096609603E-5,9.0322993043087898E-5,{"$f":"IF($B1957=\"\",\"\",VLOOKUP($B1957,_tbl!$A:$E,N$2,0))","v":"Female"},{"$f":"IF($B1957=\"\",\"\",VLOOKUP($B1957,_tbl!$A:$E,O$2,0))","v":"East"},{"$f":"IF($B1957=\"\",\"\",VLOOKUP($B1957,_tbl!$A:$E,P$2,0))","v":"Rural"},{"$f":"IF($B1957=\"\",\"\",VLOOKUP($B1957,_tbl!$A:$E,Q$2,0))","v":"Digestive"},null,1.38029980305627E-4,9.0322993043087898E-5]
[null,"all_f_East Rural digestive.csv","70-74",2.2786069207293699E-4,2.17989079349196E-4,2.0550399854313701E-4,1.95552752523157E-4,1.84980633477881E-4,1.75642879386199E-4,1.66375893832837E-4,1.57839104404706E-4,1.4959470658822699E-4,1.4186871941302499E-4,{"$f":"IF($B1958=\"\",\"\",VLOOKUP($B1958,_tbl!$A:$E,N$2,0))","v":"Female"},{"$f":"IF($B1958=\"\",\"\",VLOOKUP($B1958,_tbl!$A:$E,O$2,0))","v":"East"},{"$f":"IF($B1958=\"\",\"\",VLOOKUP($B1958,_tbl!$A:$E,P$2,0))","v":"Rural"},{"$f":"IF($B1958=\"\",\"\",VLOOKUP($B1958,_tbl!$A:$E,Q$2,0))","v":"Digestive"},null,2.2786069207293699E-4,1.4186871941302499E-4]
[null,"all_f_East Rural digestive.csv","75-79",4.3590709271254302E-4,4.18011789222303E-4,3.95316306620853E-4,3.77174124481449E-4,3.5784574269248799E-4,3.40724930952736E-4,3.2368563520993997E-4,3.0794399733931398E-4,2.9269822220831998E-4,2.7837026720449801E-4,{"$f":"IF($B1959=\"\",\"\",VLOOKUP($B1959,_tbl!$A:$E,N$2,0))","v":"Female"},{"$f":"IF($B1959=\"\",\"\",VLOOKUP($B1959,_tbl!$A:$E,O$2,0))","v":"East"},{"$f":"IF($B1959=\"\",\"\",VLOOKUP($B1959,_tbl!$A:$E,P$2,0))","v":"Rural"},{"$f":"IF($B1959=\"\",\"\",VLOOKUP($B1959,_tbl!$A:$E,Q$2,0))","v":"Digestive"},null,4.3590709271254302E-4,2.7837026720449801E-4]
[null,"all_f_East Rural digestive.csv","80-84",9.9698289271209109E-4,9.6745351688407705E-4,9.29483201584706E-4,8.9868577057661302E-4,8.6540984668672001E-4,8.3550769382273904E-4,8.0532291033258397E-4,7.7703513367899098E-4,7.4924590923792101E-4,7.2275413423625995E-4,{"$f":"IF($B1960=\"\",\"\",VLOOKUP($B1960,_tbl!$A:$E,N$2,0))","v":"Female"},{"$f":"IF($B1960=\"\",\"\",VLOOKUP($B1960,_tbl!$A:$E,O$2,0))","v":"East"},{"$f":"IF($B1960=\"\",\"\",VLOOKUP($B1960,_tbl!$A:$E,P$2,0))","v":"Rural"},{"$f":"IF($B1960=\"\",\"\",VLOOKUP($B1960,_tbl!$A:$E,Q$2,0))","v":"Digestive"},null,9.9698289271209109E-4,7.2275413423625995E-4]
[null,"all_f_East Rural digestive.csv","85+",2.5082992061597302E-3,2.4769012582308101E-3,2.4356985323950599E-3,2.4015551712093298E-3,2.3638909138349999E-3,2.3293207368148901E-3,2.2936867280398902E-3,2.2595807318194902E-3,2.2253659210047499E-3,2.1920550444941601E-3,{"$f":"IF($B1961=\"\",\"\",VLOOKUP($B1961,_tbl!$A:$E,N$2,0))","v":"Female"},{"$f":"IF($B1961=\"\",\"\",VLOOKUP($B1961,_tbl!$A:$E,O$2,0))","v":"East"},{"$f":"IF($B1961=\"\",\"\",VLOOKUP($B1961,_tbl!$A:$E,P$2,0))","v":"Rural"},{"$f":"IF($B1961=\"\",\"\",VLOOKUP($B1961,_tbl!$A:$E,Q$2,0))","v":"Digestive"},null,2.5082992061597302E-3,2.1920550444941601E-3]
[null,null,null,null,null,null,null,null,null,null,null,null,null,{"$f":"IF($B1962=\"\",\"\",VLOOKUP($B1962,_tbl!$A:$E,N$2,0))","v":""},{"$f":"IF($B1962=\"\",\"\",VLOOKUP($B1962,_tbl!$A:$E,O$2,0))","v":""},{"$f":"IF($B1962=\"\",\"\",VLOOKUP($B1962,_tbl!$A:$E,P$2,0))","v":""},{"$f":"IF($B1962=\"\",\"\",VLOOKUP($B1962,_tbl!$A:$E,Q$2,0))","v":""}]
[null,null,null,2020,2021,2022,2023,2024,2025,2026,2027,2028,2029,{"$f":"IF($B1963=\"\",\"\",VLOOKUP($B1963,_tbl!$A:$E,N$2,0))","v":""},{"$f":"IF($B1963=\"\",\"\",VLOOKUP($B1963,_tbl!$A:$E,O$2,0))","v":""},{"$f":"IF($B1963=\"\",\"\",VLOOKUP($B1963,_tbl!$A:$E,P$2,0))","v":""},{"$f":"IF($B1963=\"\",\"\",VLOOKUP($B1963,_tbl!$A:$E,Q$2,0))","v":""}]
[null,"all_f_East Rural external.csv","1-4",1.18833033687539E-4,1.11427668413224E-4,1.05035588744182E-4,9.8936120653854694E-5,9.3077543500499994E-5,8.7470790337857701E-5,8.2078809014820694E-5,7.6915871397986894E-5,7.1957601201509206E-5,6.7183856320315706E-5,{"$f":"IF($B1964=\"\",\"\",VLOOKUP($B1964,_tbl!$A:$E,N$2,0))","v":"Female"},{"$f":"IF($B1964=\"\",\"\",VLOOKUP($B1964,_tbl!$A:$E,O$2,0))","v":"East"},{"$f":"IF($B1964=\"\",\"\",VLOOKUP($B1964,_tbl!$A:$E,P$2,0))","v":"Rural"},{"$f":"IF($B1964=\"\",\"\",VLOOKUP($B1964,_tbl!$A:$E,Q$2,0))","v":"External"},null,{"$f":"MAX(D1964:M1964)","v":1.18833033687539E-4},{"$f":"MIN(D1964:M1964)","v":6.7183856320315706E-5}]
[null,"all_f_East Rural external.csv","5-9",6.5238859315068905E-5,6.2043297142879206E-5,5.9995325559894998E-5,5.8000049305588902E-5,5.6029672183264997E-5,5.4122126219486802E-5,5.2263424833415602E-5,5.04746973600211E-5,4.8738931812108701E-5,4.7054354246129E-5,{"$f":"IF($B1965=\"\",\"\",VLOOKUP($B1965,_tbl!$A:$E,N$2,0))","v":"Female"},{"$f":"IF($B1965=\"\",\"\",VLOOKUP($B1965,_tbl!$A:$E,O$2,0))","v":"East"},{"$f":"IF($B1965=\"\",\"\",VLOOKUP($B1965,_tbl!$A:$E,P$2,0))","v":"Rural"},{"$f":"IF($B1965=\"\",\"\",VLOOKUP($B1965,_tbl!$A:$E,Q$2,0))","v":"External"},null,6.5238859315068905E-5,4.7054354246129E-5]
[null,"all_f_East Rural external.csv","10-14",5.5156631907630001E-5,5.23083167570302E-5,5.0147649075367801E-5,4.8056601359128003E-5,4.60539319048825E-5,4.41098281596519E-5,4.2234003505316902E-5,4.0414217748247001E-5,3.8655148764830602E-5,3.6952323185906999E-5,{"$f":"IF($B1966=\"\",\"\",VLOOKUP($B1966,_tbl!$A:$E,N$2,0))","v":"Female"},{"$f":"IF($B1966=\"\",\"\",VLOOKUP($B1966,_tbl!$A:$E,O$2,0))","v":"East"},{"$f":"IF($B1966=\"\",\"\",VLOOKUP($B1966,_tbl!$A:$E,P$2,0))","v":"Rural"},{"$f":"IF($B1966=\"\",\"\",VLOOKUP($B1966,_tbl!$A:$E,Q$2,0))","v":"External"},null,5.5156631907630001E-5,3.6952323185906999E-5]
[null,"all_f_East Rural external.csv","15-19",5.4887917143340099E-5,5.0683910590377097E-5,4.7373751157201498E-5,4.4225980433873801E-5,4.1305099486126699E-5,3.8509995842504101E-5,3.5866515676849101E-5,3.3342364953143403E-5,3.0952527143216703E-5,2.86832990228181E-5,{"$f":"IF($B1967=\"\",\"\",VLOOKUP($B1967,_tbl!$A:$E,N$2,0))","v":"Female"},{"$f":"IF($B1967=\"\",\"\",VLOOKUP($B1967,_tbl!$A:$E,O$2,0))","v":"East"},{"$f":"IF($B1967=\"\",\"\",VLOOKUP($B1967,_tbl!$A:$E,P$2,0))","v":"Rural"},{"$f":"IF($B1967=\"\",\"\",VLOOKUP($B1967,_tbl!$A:$E,Q$2,0))","v":"External"},null,5.4887917143340099E-5,2.86832990228181E-5]
[null,"all_f_East Rural external.csv","20-24",6.44575249393825E-5,6.0501744815995503E-5,5.6653866860300902E-5,5.3128703977421099E-5,4.9760261147600701E-5,4.6705247420110503E-5,4.3872956267682101E-5,4.13128582493747E-5,3.8961682291506803E-5,3.6804100971283101E-5,{"$f":"IF($B1968=\"\",\"\",VLOOKUP($B1968,_tbl!$A:$E,N$2,0))","v":"Female"},{"$f":"IF($B1968=\"\",\"\",VLOOKUP($B1968,_tbl!$A:$E,O$2,0))","v":"East"},{"$f":"IF($B1968=\"\",\"\",VLOOKUP($B1968,_tbl!$A:$E,P$2,0))","v":"Rural"},{"$f":"IF($B1968=\"\",\"\",VLOOKUP($B1968,_tbl!$A:$E,Q$2,0))","v":"External"},null,6.44575249393825E-5,3.6804100971283101E-5]
[null,"all_f_East Rural external.csv","25-29",8.0644910903642495E-5,7.5057798262046006E-5,7.0186494805813803E-5,6.5620776269683298E-5,6.1290054793566295E-5,5.7230675188838798E-5,5.3388848731547897E-5,4.9791225128915698E-5,4.6406557770861503E-5,4.3218156331819999E-5,{"$f":"IF($B1969=\"\",\"\",VLOOKUP($B1969,_tbl!$A:$E,N$2,0))","v":"Female"},{"$f":"IF($B1969=\"\",\"\",VLOOKUP($B1969,_tbl!$A:$E,O$2,0))","v":"East"},{"$f":"IF($B1969=\"\",\"\",VLOOKUP($B1969,_tbl!$A:$E,P$2,0))","v":"Rural"},{"$f":"IF($B1969=\"\",\"\",VLOOKUP($B1969,_tbl!$A:$E,Q$2,0))","v":"External"},null,8.0644910903642495E-5,4.3218156331819999E-5]
[null,"all_f_East Rural external.csv","30-34",1.01702837850934E-4,9.5309001836642402E-5,8.9537391780739395E-5,8.4086249387752807E-5,7.8931887849613796E-5,7.4061393010724396E-5,6.9452386860041599E-5,6.5096380749649096E-5,6.09771729569001E-5,5.7080852780764301E-5,{"$f":"IF($B1970=\"\",\"\",VLOOKUP($B1970,_tbl!$A:$E,N$2,0))","v":"Female"},{"$f":"IF($B1970=\"\",\"\",VLOOKUP($B1970,_tbl!$A:$E,O$2,0))","v":"East"},{"$f":"IF($B1970=\"\",\"\",VLOOKUP($B1970,_tbl!$A:$E,P$2,0))","v":"Rural"},{"$f":"IF($B1970=\"\",\"\",VLOOKUP($B1970,_tbl!$A:$E,Q$2,0))","v":"External"},null,1.01702837850934E-4,5.7080852780764301E-5]
[null,"all_f_East Rural external.csv","35-39",1.12075971980475E-4,1.04070861127629E-4,9.6368436582110493E-5,8.9135924517508806E-5,8.2268219364080997E-5,7.5786472100648799E-5,6.9626350531762105E-5,6.3804174998517197E-5,5.8290060494197602E-5,5.3067886313993103E-5,{"$f":"IF($B1971=\"\",\"\",VLOOKUP($B1971,_tbl!$A:$E,N$2,0))","v":"Female"},{"$f":"IF($B1971=\"\",\"\",VLOOKUP($B1971,_tbl!$A:$E,O$2,0))","v":"East"},{"$f":"IF($B1971=\"\",\"\",VLOOKUP($B1971,_tbl!$A:$E,P$2,0))","v":"Rural"},{"$f":"IF($B1971=\"\",\"\",VLOOKUP($B1971,_tbl!$A:$E,Q$2,0))","v":"External"},null,1.12075971980475E-4,5.3067886313993103E-5]
[null,"all_f_East Rural external.csv","40-44",1.2662547046980599E-4,1.1762359287997901E-4,1.08678808989656E-4,1.00213206625976E-4,9.2199175605278395E-5,8.4617728383564204E-5,7.7439671442409093E-5,7.0644177244842497E-5,6.4210119122422603E-5,5.8119121543939102E-5,{"$f":"IF($B1972=\"\",\"\",VLOOKUP($B1972,_tbl!$A:$E,N$2,0))","v":"Female"},{"$f":"IF($B1972=\"\",\"\",VLOOKUP($B1972,_tbl!$A:$E,O$2,0))","v":"East"},{"$f":"IF($B1972=\"\",\"\",VLOOKUP($B1972,_tbl!$A:$E,P$2,0))","v":"Rural"},{"$f":"IF($B1972=\"\",\"\",VLOOKUP($B1972,_tbl!$A:$E,Q$2,0))","v":"External"},null,1.2662547046980599E-4,5.8119121543939102E-5]
[null,"all_f_East Rural external.csv","45-49",1.6931124936454101E-4,1.5892573911968801E-4,1.4864122389739501E-4,1.3889808406003699E-4,1.29549599616859E-4,1.2067509894931E-4,1.12190047650411E-4,1.04124493817146E-4,9.6436546191070897E-5,8.9115726589648504E-5,{"$f":"IF($B1973=\"\",\"\",VLOOKUP($B1973,_tbl!$A:$E,N$2,0))","v":"Female"},{"$f":"IF($B1973=\"\",\"\",VLOOKUP($B1973,_tbl!$A:$E,O$2,0))","v":"East"},{"$f":"IF($B1973=\"\",\"\",VLOOKUP($B1973,_tbl!$A:$E,P$2,0))","v":"Rural"},{"$f":"IF($B1973=\"\",\"\",VLOOKUP($B1973,_tbl!$A:$E,Q$2,0))","v":"External"},null,1.6931124936454101E-4,8.9115726589648504E-5]
[null,"all_f_East Rural external.csv","50-54",2.5366924302133498E-4,2.43907266411189E-4,2.3501907053563001E-4,2.2564440907102E-4,2.1655898025934499E-4,2.0750643598929899E-4,1.98891958627707E-4,1.90423863232079E-4,1.8220510902217601E-4,1.74238221753817E-4,{"$f":"IF($B1974=\"\",\"\",VLOOKUP($B1974,_tbl!$A:$E,N$2,0))","v":"Female"},{"$f":"IF($B1974=\"\",\"\",VLOOKUP($B1974,_tbl!$A:$E,O$2,0))","v":"East"},{"$f":"IF($B1974=\"\",\"\",VLOOKUP($B1974,_tbl!$A:$E,P$2,0))","v":"Rural"},{"$f":"IF($B1974=\"\",\"\",VLOOKUP($B1974,_tbl!$A:$E,Q$2,0))","v":"External"},null,2.5366924302133498E-4,1.74238221753817E-4]
[null,"all_f_East Rural external.csv","55-59",3.4914987504295898E-4,3.41152562070827E-4,3.3398087269158398E-4,3.2604715178129602E-4,3.1825732836199901E-4,3.1031429556741197E-4,3.0275441905033102E-4,2.9515807505666001E-4,2.8767739640334598E-4,2.80342929373192E-4,{"$f":"IF($B1975=\"\",\"\",VLOOKUP($B1975,_tbl!$A:$E,N$2,0))","v":"Female"},{"$f":"IF($B1975=\"\",\"\",VLOOKUP($B1975,_tbl!$A:$E,O$2,0))","v":"East"},{"$f":"IF($B1975=\"\",\"\",VLOOKUP($B1975,_tbl!$A:$E,P$2,0))","v":"Rural"},{"$f":"IF($B1975=\"\",\"\",VLOOKUP($B1975,_tbl!$A:$E,Q$2,0))","v":"External"},null,3.4914987504295898E-4,2.80342929373192E-4]
[null,"all_f_East Rural external.csv","60-64",4.1205805945179503E-4,4.0355829475779298E-4,3.9539575587214102E-4,3.8674718100177E-4,3.7816254734366901E-4,3.6953246238769199E-4,3.6122816756128701E-4,3.5293878942590498E-4,3.4476971197558198E-4,3.3676371877979302E-4,{"$f":"IF($B1976=\"\",\"\",VLOOKUP($B1976,_tbl!$A:$E,N$2,0))","v":"Female"},{"$f":"IF($B1976=\"\",\"\",VLOOKUP($B1976,_tbl!$A:$E,O$2,0))","v":"East"},{"$f":"IF($B1976=\"\",\"\",VLOOKUP($B1976,_tbl!$A:$E,P$2,0))","v":"Rural"},{"$f":"IF($B1976=\"\",\"\",VLOOKUP($B1976,_tbl!$A:$E,Q$2,0))","v":"External"},null,4.1205805945179503E-4,3.3676371877979302E-4]
[null,"all_f_East Rural external.csv","65-69",4.6261454373732798E-4,4.4903597053536499E-4,4.3551945274613397E-4,4.2184332036828998E-4,4.08301021044797E-4,3.9495829295215499E-4,3.8201368842372699E-4,3.6928595286146899E-4,3.5683449395174397E-4,3.44703368481424E-4,{"$f":"IF($B1977=\"\",\"\",VLOOKUP($B1977,_tbl!$A:$E,N$2,0))","v":"Female"},{"$f":"IF($B1977=\"\",\"\",VLOOKUP($B1977,_tbl!$A:$E,O$2,0))","v":"East"},{"$f":"IF($B1977=\"\",\"\",VLOOKUP($B1977,_tbl!$A:$E,P$2,0))","v":"Rural"},{"$f":"IF($B1977=\"\",\"\",VLOOKUP($B1977,_tbl!$A:$E,Q$2,0))","v":"External"},null,4.6261454373732798E-4,3.44703368481424E-4]
[null,"all_f_East Rural external.csv","70-74",6.3461069089472096E-4,6.1289821288827099E-4,5.9192860245078102E-4,5.7167644321914001E-4,5.5211718842199705E-4,5.3322713112766704E-4,5.14983375509984E-4,4.9736380909725395E-4,4.8034707597067702E-4,4.6391255087975601E-4,{"$f":"IF($B1978=\"\",\"\",VLOOKUP($B1978,_tbl!$A:$E,N$2,0))","v":"Female"},{"$f":"IF($B1978=\"\",\"\",VLOOKUP($B1978,_tbl!$A:$E,O$2,0))","v":"East"},{"$f":"IF($B1978=\"\",\"\",VLOOKUP($B1978,_tbl!$A:$E,P$2,0))","v":"Rural"},{"$f":"IF($B1978=\"\",\"\",VLOOKUP($B1978,_tbl!$A:$E,Q$2,0))","v":"External"},null,6.3461069089472096E-4,4.6391255087975601E-4]
[null,"all_f_East Rural external.csv","75-79",1.1557395182854801E-3,1.0918358155768699E-3,1.0382717201055901E-3,9.8289482787059608E-4,9.2674416638242397E-4,8.7013162298613697E-4,8.19526360872288E-4,7.6738652017379705E-4,7.1525533361536595E-4,6.6482022168000204E-4,{"$f":"IF($B1979=\"\",\"\",VLOOKUP($B1979,_tbl!$A:$E,N$2,0))","v":"Female"},{"$f":"IF($B1979=\"\",\"\",VLOOKUP($B1979,_tbl!$A:$E,O$2,0))","v":"East"},{"$f":"IF($B1979=\"\",\"\",VLOOKUP($B1979,_tbl!$A:$E,P$2,0))","v":"Rural"},{"$f":"IF($B1979=\"\",\"\",VLOOKUP($B1979,_tbl!$A:$E,Q$2,0))","v":"External"},null,1.1557395182854801E-3,6.6482022168000204E-4]
[null,"all_f_East Rural external.csv","80-84",3.15303974960443E-3,3.00244498939838E-3,2.88947849750666E-3,2.7896993132531301E-3,2.6918561536413001E-3,2.5942516803233199E-3,2.5102655549361199E-3,2.42320527851877E-3,2.3357128002027801E-3,2.2509418102229198E-3,{"$f":"IF($B1980=\"\",\"\",VLOOKUP($B1980,_tbl!$A:$E,N$2,0))","v":"Female"},{"$f":"IF($B1980=\"\",\"\",VLOOKUP($B1980,_tbl!$A:$E,O$2,0))","v":"East"},{"$f":"IF($B1980=\"\",\"\",VLOOKUP($B1980,_tbl!$A:$E,P$2,0))","v":"Rural"},{"$f":"IF($B1980=\"\",\"\",VLOOKUP($B1980,_tbl!$A:$E,Q$2,0))","v":"External"},null,3.15303974960443E-3,2.2509418102229198E-3]
[null,"all_f_East Rural external.csv","85+",8.3359580915955394E-3,7.9385830649482004E-3,7.6556408130517102E-3,7.4777420726037198E-3,7.3286232201274304E-3,7.1947894291594398E-3,7.0797165447561497E-3,6.9737276333911797E-3,6.8737863348017798E-3,6.7781361896916701E-3,{"$f":"IF($B1981=\"\",\"\",VLOOKUP($B1981,_tbl!$A:$E,N$2,0))","v":"Female"},{"$f":"IF($B1981=\"\",\"\",VLOOKUP($B1981,_tbl!$A:$E,O$2,0))","v":"East"},{"$f":"IF($B1981=\"\",\"\",VLOOKUP($B1981,_tbl!$A:$E,P$2,0))","v":"Rural"},{"$f":"IF($B1981=\"\",\"\",VLOOKUP($B1981,_tbl!$A:$E,Q$2,0))","v":"External"},null,8.3359580915955394E-3,6.7781361896916701E-3]
[null,null,null,null,null,null,null,null,null,null,null,null,null,{"$f":"IF($B1982=\"\",\"\",VLOOKUP($B1982,_tbl!$A:$E,N$2,0))","v":""},{"$f":"IF($B1982=\"\",\"\",VLOOKUP($B1982,_tbl!$A:$E,O$2,0))","v":""},{"$f":"IF($B1982=\"\",\"\",VLOOKUP($B1982,_tbl!$A:$E,P$2,0))","v":""},{"$f":"IF($B1982=\"\",\"\",VLOOKUP($B1982,_tbl!$A:$E,Q$2,0))","v":""}]
[null,null,null,2020,2021,2022,2023,2024,2025,2026,2027,2028,2029,{"$f":"IF($B1983=\"\",\"\",VLOOKUP($B1983,_tbl!$A:$E,N$2,0))","v":""},{"$f":"IF($B1983=\"\",\"\",VLOOKUP($B1983,_tbl!$A:$E,O$2,0))","v":""},{"$f":"IF($B1983=\"\",\"\",VLOOKUP($B1983,_tbl!$A:$E,P$2,0))","v":""},{"$f":"IF($B1983=\"\",\"\",VLOOKUP($B1983,_tbl!$A:$E,Q$2,0))","v":""}]
[null,"all_f_East Rural infectious.csv","1-4",2.7139103978481199E-5,2.5235715966166899E-5,2.34936443918288E-5,2.1857031733303699E-5,2.0342292492428101E-5,1.8928346939060999E-5,1.76149036105282E-5,1.6391419201045099E-5,1.52535426608357E-5,1.4194322646511499E-5,{"$f":"IF($B1984=\"\",\"\",VLOOKUP($B1984,_tbl!$A:$E,N$2,0))","v":"Female"},{"$f":"IF($B1984=\"\",\"\",VLOOKUP($B1984,_tbl!$A:$E,O$2,0))","v":"East"},{"$f":"IF($B1984=\"\",\"\",VLOOKUP($B1984,_tbl!$A:$E,P$2,0))","v":"Rural"},{"$f":"IF($B1984=\"\",\"\",VLOOKUP($B1984,_tbl!$A:$E,Q$2,0))","v":"Infectious"},null,{"$f":"MAX(D1984:M1984)","v":2.7139103978481199E-5},{"$f":"MIN(D1984:M1984)","v":1.4194322646511499E-5}]
[null,"all_f_East Rural infectious.csv","5-9",8.4522542138862592E-6,7.9570702083056899E-6,7.4982705672989301E-6,7.0619551681194997E-6,6.6531638820758503E-6,6.2668867883309299E-6,5.90365496183235E-6,5.56114348540879E-6,5.2386824865436398E-6,4.9348229368714198E-6,{"$f":"IF($B1985=\"\",\"\",VLOOKUP($B1985,_tbl!$A:$E,N$2,0))","v":"Female"},{"$f":"IF($B1985=\"\",\"\",VLOOKUP($B1985,_tbl!$A:$E,O$2,0))","v":"East"},{"$f":"IF($B1985=\"\",\"\",VLOOKUP($B1985,_tbl!$A:$E,P$2,0))","v":"Rural"},{"$f":"IF($B1985=\"\",\"\",VLOOKUP($B1985,_tbl!$A:$E,Q$2,0))","v":"Infectious"},null,8.4522542138862592E-6,4.9348229368714198E-6]
[null,"all_f_East Rural infectious.csv","10-14",6.4227205484630703E-6,6.1201781736655398E-6,5.8364745078382703E-6,5.5634226768715296E-6,5.3045059841131402E-6,5.05689788246972E-6,4.8212514241312502E-6,4.5963660606984598E-6,4.3820900807952296E-6,4.1777381543640903E-6,{"$f":"IF($B1986=\"\",\"\",VLOOKUP($B1986,_tbl!$A:$E,N$2,0))","v":"Female"},{"$f":"IF($B1986=\"\",\"\",VLOOKUP($B1986,_tbl!$A:$E,O$2,0))","v":"East"},{"$f":"IF($B1986=\"\",\"\",VLOOKUP($B1986,_tbl!$A:$E,P$2,0))","v":"Rural"},{"$f":"IF($B1986=\"\",\"\",VLOOKUP($B1986,_tbl!$A:$E,Q$2,0))","v":"Infectious"},null,6.4227205484630703E-6,4.1777381543640903E-6]
[null,"all_f_East Rural infectious.csv","15-19",5.6648622290224801E-6,5.4037008111328403E-6,5.1585456767612996E-6,4.9223495944464401E-6,4.6981472429768196E-6,4.4835140297594399E-6,4.2790366492530497E-6,4.0836937424455503E-6,3.8973725961308804E-6,3.71949570217822E-6,{"$f":"IF($B1987=\"\",\"\",VLOOKUP($B1987,_tbl!$A:$E,N$2,0))","v":"Female"},{"$f":"IF($B1987=\"\",\"\",VLOOKUP($B1987,_tbl!$A:$E,O$2,0))","v":"East"},{"$f":"IF($B1987=\"\",\"\",VLOOKUP($B1987,_tbl!$A:$E,P$2,0))","v":"Rural"},{"$f":"IF($B1987=\"\",\"\",VLOOKUP($B1987,_tbl!$A:$E,Q$2,0))","v":"Infectious"},null,5.6648622290224801E-6,3.71949570217822E-6]
[null,"all_f_East Rural infectious.csv","20-24",5.7293378206649504E-6,5.4766979972919001E-6,5.2390474148201299E-6,5.0096057356028304E-6,4.7913611686477E-6,4.5819968046383496E-6,4.3821237305245102E-6,4.1907820908887E-6,4.0078975386418498E-6,3.8329381199969003E-6,{"$f":"IF($B1988=\"\",\"\",VLOOKUP($B1988,_tbl!$A:$E,N$2,0))","v":"Female"},{"$f":"IF($B1988=\"\",\"\",VLOOKUP($B1988,_tbl!$A:$E,O$2,0))","v":"East"},{"$f":"IF($B1988=\"\",\"\",VLOOKUP($B1988,_tbl!$A:$E,P$2,0))","v":"Rural"},{"$f":"IF($B1988=\"\",\"\",VLOOKUP($B1988,_tbl!$A:$E,Q$2,0))","v":"Infectious"},null,5.7293378206649504E-6,3.8329381199969003E-6]
[null,"all_f_East Rural infectious.csv","25-29",7.5416152840958298E-6,7.2651801649546002E-6,7.0031381828885203E-6,6.74820137831926E-6,6.50383640523587E-6,6.2676094055733304E-6,6.0403537897862403E-6,5.8211227376440896E-6,5.60996714111486E-6,5.4064057231931296E-6,{"$f":"IF($B1989=\"\",\"\",VLOOKUP($B1989,_tbl!$A:$E,N$2,0))","v":"Female"},{"$f":"IF($B1989=\"\",\"\",VLOOKUP($B1989,_tbl!$A:$E,O$2,0))","v":"East"},{"$f":"IF($B1989=\"\",\"\",VLOOKUP($B1989,_tbl!$A:$E,P$2,0))","v":"Rural"},{"$f":"IF($B1989=\"\",\"\",VLOOKUP($B1989,_tbl!$A:$E,Q$2,0))","v":"Infectious"},null,7.5416152840958298E-6,5.4064057231931296E-6]
[null,"all_f_East Rural infectious.csv","30-34",1.01336378032694E-5,9.7569356963271805E-6,9.4000380843895304E-6,9.0530024334607794E-6,8.7205352312256608E-6,8.3993112455598297E-6,8.09045138165438E-6,7.7926563621082794E-6,7.5059836092518601E-6,7.2297682809783103E-6,{"$f":"IF($B1990=\"\",\"\",VLOOKUP($B1990,_tbl!$A:$E,N$2,0))","v":"Female"},{"$f":"IF($B1990=\"\",\"\",VLOOKUP($B1990,_tbl!$A:$E,O$2,0))","v":"East"},{"$f":"IF($B1990=\"\",\"\",VLOOKUP($B1990,_tbl!$A:$E,P$2,0))","v":"Rural"},{"$f":"IF($B1990=\"\",\"\",VLOOKUP($B1990,_tbl!$A:$E,Q$2,0))","v":"Infectious"},null,1.01336378032694E-5,7.2297682809783103E-6]
[null,"all_f_East Rural infectious.csv","35-39",1.1534374513530001E-5,1.0934385890704699E-5,1.03746346786742E-5,9.8386445338423503E-6,9.3329961496718104E-6,8.8518987595650203E-6,8.3963791334103902E-6,7.9638789665780494E-6,7.5538854540286896E-6,7.1648753099481398E-6,{"$f":"IF($B1991=\"\",\"\",VLOOKUP($B1991,_tbl!$A:$E,N$2,0))","v":"Female"},{"$f":"IF($B1991=\"\",\"\",VLOOKUP($B1991,_tbl!$A:$E,O$2,0))","v":"East"},{"$f":"IF($B1991=\"\",\"\",VLOOKUP($B1991,_tbl!$A:$E,P$2,0))","v":"Rural"},{"$f":"IF($B1991=\"\",\"\",VLOOKUP($B1991,_tbl!$A:$E,Q$2,0))","v":"Infectious"},null,1.1534374513530001E-5,7.1648753099481398E-6]
[null,"all_f_East Rural infectious.csv","40-44",1.2850357735477501E-5,1.1954790443195701E-5,1.1134737542125499E-5,1.03639654588483E-5,9.6502541291156908E-6,8.9837209254684995E-6,8.3642727537336308E-6,7.7869794409328697E-6,7.2498267829609796E-6,6.7495697132695499E-6,{"$f":"IF($B1992=\"\",\"\",VLOOKUP($B1992,_tbl!$A:$E,N$2,0))","v":"Female"},{"$f":"IF($B1992=\"\",\"\",VLOOKUP($B1992,_tbl!$A:$E,O$2,0))","v":"East"},{"$f":"IF($B1992=\"\",\"\",VLOOKUP($B1992,_tbl!$A:$E,P$2,0))","v":"Rural"},{"$f":"IF($B1992=\"\",\"\",VLOOKUP($B1992,_tbl!$A:$E,Q$2,0))","v":"Infectious"},null,1.2850357735477501E-5,6.7495697132695499E-6]
[null,"all_f_East Rural infectious.csv","45-49",1.7539618859543E-5,1.6201753118934999E-5,1.4985298832670401E-5,1.3849944866986001E-5,1.2806012034572001E-5,1.1837911958086199E-5,1.0944504140910899E-5,1.0117726241213E-5,9.35382554537876E-6,8.6473784166996806E-6,{"$f":"IF($B1993=\"\",\"\",VLOOKUP($B1993,_tbl!$A:$E,N$2,0))","v":"Female"},{"$f":"IF($B1993=\"\",\"\",VLOOKUP($B1993,_tbl!$A:$E,O$2,0))","v":"East"},{"$f":"IF($B1993=\"\",\"\",VLOOKUP($B1993,_tbl!$A:$E,P$2,0))","v":"Rural"},{"$f":"IF($B1993=\"\",\"\",VLOOKUP($B1993,_tbl!$A:$E,Q$2,0))","v":"Infectious"},null,1.7539618859543E-5,8.6473784166996806E-6]
[null,"all_f_East Rural infectious.csv","50-54",2.9559672432587699E-5,2.7492086597213101E-5,2.5599353076132499E-5,2.3820843074239099E-5,2.21744429132779E-5,2.0637289483695399E-5,1.9209109501487002E-5,1.7878480216106501E-5,1.6640707695271901E-5,1.5488266125066501E-5,{"$f":"IF($B1994=\"\",\"\",VLOOKUP($B1994,_tbl!$A:$E,N$2,0))","v":"Female"},{"$f":"IF($B1994=\"\",\"\",VLOOKUP($B1994,_tbl!$A:$E,O$2,0))","v":"East"},{"$f":"IF($B1994=\"\",\"\",VLOOKUP($B1994,_tbl!$A:$E,P$2,0))","v":"Rural"},{"$f":"IF($B1994=\"\",\"\",VLOOKUP($B1994,_tbl!$A:$E,Q$2,0))","v":"Infectious"},null,2.9559672432587699E-5,1.5488266125066501E-5]
[null,"all_f_East Rural infectious.csv","55-59",5.1171188428007398E-5,4.8105309058063498E-5,4.52686751801312E-5,4.25748164378104E-5,4.005442117097E-5,3.7676160360889698E-5,3.5442909610646601E-5,3.3339993072276403E-5,3.1362944776857302E-5,2.9502545217240299E-5,{"$f":"IF($B1995=\"\",\"\",VLOOKUP($B1995,_tbl!$A:$E,N$2,0))","v":"Female"},{"$f":"IF($B1995=\"\",\"\",VLOOKUP($B1995,_tbl!$A:$E,O$2,0))","v":"East"},{"$f":"IF($B1995=\"\",\"\",VLOOKUP($B1995,_tbl!$A:$E,P$2,0))","v":"Rural"},{"$f":"IF($B1995=\"\",\"\",VLOOKUP($B1995,_tbl!$A:$E,Q$2,0))","v":"Infectious"},null,5.1171188428007398E-5,2.9502545217240299E-5]
[null,"all_f_East Rural infectious.csv","60-64",7.9209310347113697E-5,7.4779546920818296E-5,7.0663757396232399E-5,6.6738734415013704E-5,6.3051018241138299E-5,5.9556659313204201E-5,5.6261578994986499E-5,5.3145773754009798E-5,5.0204159544333198E-5,4.7424480874618498E-5,{"$f":"IF($B1996=\"\",\"\",VLOOKUP($B1996,_tbl!$A:$E,N$2,0))","v":"Female"},{"$f":"IF($B1996=\"\",\"\",VLOOKUP($B1996,_tbl!$A:$E,O$2,0))","v":"East"},{"$f":"IF($B1996=\"\",\"\",VLOOKUP($B1996,_tbl!$A:$E,P$2,0))","v":"Rural"},{"$f":"IF($B1996=\"\",\"\",VLOOKUP($B1996,_tbl!$A:$E,Q$2,0))","v":"Infectious"},null,7.9209310347113697E-5,4.7424480874618498E-5]
[null,"all_f_East Rural infectious.csv","65-69",1.16555370194557E-4,1.09608591947017E-4,1.0317911998149599E-4,9.7071247717284707E-5,9.1354787330823306E-5,8.5958920026630298E-5,8.0890383158604094E-5,7.6116075081373994E-5,7.1626047625114703E-5,6.73995440325337E-5,{"$f":"IF($B1997=\"\",\"\",VLOOKUP($B1997,_tbl!$A:$E,N$2,0))","v":"Female"},{"$f":"IF($B1997=\"\",\"\",VLOOKUP($B1997,_tbl!$A:$E,O$2,0))","v":"East"},{"$f":"IF($B1997=\"\",\"\",VLOOKUP($B1997,_tbl!$A:$E,P$2,0))","v":"Rural"},{"$f":"IF($B1997=\"\",\"\",VLOOKUP($B1997,_tbl!$A:$E,Q$2,0))","v":"Infectious"},null,1.16555370194557E-4,6.73995440325337E-5]
[null,"all_f_East Rural infectious.csv","70-74",1.9920674043957199E-4,1.86283703871203E-4,1.74389525698573E-4,1.6315289087035501E-4,1.5269472664418001E-4,1.4287782460735901E-4,1.33707619911065E-4,1.25117661471716E-4,1.17084004885087E-4,1.09563803483631E-4,{"$f":"IF($B1998=\"\",\"\",VLOOKUP($B1998,_tbl!$A:$E,N$2,0))","v":"Female"},{"$f":"IF($B1998=\"\",\"\",VLOOKUP($B1998,_tbl!$A:$E,O$2,0))","v":"East"},{"$f":"IF($B1998=\"\",\"\",VLOOKUP($B1998,_tbl!$A:$E,P$2,0))","v":"Rural"},{"$f":"IF($B1998=\"\",\"\",VLOOKUP($B1998,_tbl!$A:$E,Q$2,0))","v":"Infectious"},null,1.9920674043957199E-4,1.09563803483631E-4]
[null,"all_f_East Rural infectious.csv","75-79",4.63409439983375E-4,4.3336524510147499E-4,4.0571183730760298E-4,3.79586095102737E-4,3.55269317738624E-4,3.3244261479842702E-4,3.1111874895396898E-4,2.9114331842764601E-4,2.7246075233677098E-4,2.5497151336365703E-4,{"$f":"IF($B1999=\"\",\"\",VLOOKUP($B1999,_tbl!$A:$E,N$2,0))","v":"Female"},{"$f":"IF($B1999=\"\",\"\",VLOOKUP($B1999,_tbl!$A:$E,O$2,0))","v":"East"},{"$f":"IF($B1999=\"\",\"\",VLOOKUP($B1999,_tbl!$A:$E,P$2,0))","v":"Rural"},{"$f":"IF($B1999=\"\",\"\",VLOOKUP($B1999,_tbl!$A:$E,Q$2,0))","v":"Infectious"},null,4.63409439983375E-4,2.5497151336365703E-4]
[null,"all_f_East Rural infectious.csv","80-84",1.45245920959164E-3,1.3692012261113801E-3,1.2919580024994301E-3,1.21840274502986E-3,1.14939594107154E-3,1.08410309013229E-3,1.0226240085638E-3,9.6457495123342802E-4,9.0985144210029402E-4,8.5821619522757301E-4,{"$f":"IF($B2000=\"\",\"\",VLOOKUP($B2000,_tbl!$A:$E,N$2,0))","v":"Female"},{"$f":"IF($B2000=\"\",\"\",VLOOKUP($B2000,_tbl!$A:$E,O$2,0))","v":"East"},{"$f":"IF($B2000=\"\",\"\",VLOOKUP($B2000,_tbl!$A:$E,P$2,0))","v":"Rural"},{"$f":"IF($B2000=\"\",\"\",VLOOKUP($B2000,_tbl!$A:$E,Q$2,0))","v":"Infectious"},null,1.45245920959164E-3,8.5821619522757301E-4]
[null,"all_f_East Rural infectious.csv","85+",5.2505484291915901E-3,5.0128033033260497E-3,4.7894385470562597E-3,4.5740532686501696E-3,4.3694305038251202E-3,4.1733742404263703E-3,3.9864354910908503E-3,3.8076954617462999E-3,3.63706501439931E-3,3.47402880319713E-3,{"$f":"IF($B2001=\"\",\"\",VLOOKUP($B2001,_tbl!$A:$E,N$2,0))","v":"Female"},{"$f":"IF($B2001=\"\",\"\",VLOOKUP($B2001,_tbl!$A:$E,O$2,0))","v":"East"},{"$f":"IF($B2001=\"\",\"\",VLOOKUP($B2001,_tbl!$A:$E,P$2,0))","v":"Rural"},{"$f":"IF($B2001=\"\",\"\",VLOOKUP($B2001,_tbl!$A:$E,Q$2,0))","v":"Infectious"},null,5.2505484291915901E-3,3.47402880319713E-3]
[null,null,null,null,null,null,null,null,null,null,null,null,null,{"$f":"IF($B2002=\"\",\"\",VLOOKUP($B2002,_tbl!$A:$E,N$2,0))","v":""},{"$f":"IF($B2002=\"\",\"\",VLOOKUP($B2002,_tbl!$A:$E,O$2,0))","v":""},{"$f":"IF($B2002=\"\",\"\",VLOOKUP($B2002,_tbl!$A:$E,P$2,0))","v":""},{"$f":"IF($B2002=\"\",\"\",VLOOKUP($B2002,_tbl!$A:$E,Q$2,0))","v":""}]
[null,null,null,2020,2021,2022,2023,2024,2025,2026,2027,2028,2029,{"$f":"IF($B2003=\"\",\"\",VLOOKUP($B2003,_tbl!$A:$E,N$2,0))","v":""},{"$f":"IF($B2003=\"\",\"\",VLOOKUP($B2003,_tbl!$A:$E,O$2,0))","v":""},{"$f":"IF($B2003=\"\",\"\",VLOOKUP($B2003,_tbl!$A:$E,P$2,0))","v":""},{"$f":"IF($B2003=\"\",\"\",VLOOKUP($B2003,_tbl!$A:$E,Q$2,0))","v":""}]
[null,"all_f_East Rural mental.csv","1-4",1.58476779674841E-5,1.5875072496092201E-5,1.5885747414552302E-5,1.5899102622225399E-5,1.5904081902245899E-5,1.59150353432871E-5,1.5927806344225401E-5,1.5948200862278E-5,1.59709674240309E-5,1.59958005278118E-5,{"$f":"IF($B2004=\"\",\"\",VLOOKUP($B2004,_tbl!$A:$E,N$2,0))","v":"Female"},{"$f":"IF($B2004=\"\",\"\",VLOOKUP($B2004,_tbl!$A:$E,O$2,0))","v":"East"},{"$f":"IF($B2004=\"\",\"\",VLOOKUP($B2004,_tbl!$A:$E,P$2,0))","v":"Rural"},{"$f":"IF($B2004=\"\",\"\",VLOOKUP($B2004,_tbl!$A:$E,Q$2,0))","v":"Mental"},null,{"$f":"MAX(D2004:M2004)","v":1.59958005278118E-5},{"$f":"MIN(D2004:M2004)","v":1.58476779674841E-5}]
[null,"all_f_East Rural mental.csv","5-9",1.3346814107535001E-5,1.3255146393977299E-5,1.32417464213537E-5,1.32267726059725E-5,1.32066402380236E-5,1.31867441308256E-5,1.31655739332988E-5,1.31457483756887E-5,1.31254457087259E-5,1.31049715477819E-5,{"$f":"IF($B2005=\"\",\"\",VLOOKUP($B2005,_tbl!$A:$E,N$2,0))","v":"Female"},{"$f":"IF($B2005=\"\",\"\",VLOOKUP($B2005,_tbl!$A:$E,O$2,0))","v":"East"},{"$f":"IF($B2005=\"\",\"\",VLOOKUP($B2005,_tbl!$A:$E,P$2,0))","v":"Rural"},{"$f":"IF($B2005=\"\",\"\",VLOOKUP($B2005,_tbl!$A:$E,Q$2,0))","v":"Mental"},null,1.3346814107535001E-5,1.31049715477819E-5]
[null,"all_f_East Rural mental.csv","10-14",1.2123478293591601E-5,1.19890810236397E-5,1.19678586368935E-5,1.1947132320588E-5,1.19263298312265E-5,1.1904123080183799E-5,1.18803573302008E-5,1.1855408275428299E-5,1.18295970137881E-5,1.1802571668372901E-5,{"$f":"IF($B2006=\"\",\"\",VLOOKUP($B2006,_tbl!$A:$E,N$2,0))","v":"Female"},{"$f":"IF($B2006=\"\",\"\",VLOOKUP($B2006,_tbl!$A:$E,O$2,0))","v":"East"},{"$f":"IF($B2006=\"\",\"\",VLOOKUP($B2006,_tbl!$A:$E,P$2,0))","v":"Rural"},{"$f":"IF($B2006=\"\",\"\",VLOOKUP($B2006,_tbl!$A:$E,Q$2,0))","v":"Mental"},null,1.2123478293591601E-5,1.1802571668372901E-5]
[null,"all_f_East Rural mental.csv","15-19",1.0994617308934999E-5,1.10111284146066E-5,1.10131826929825E-5,1.1019383050198E-5,1.10150043783497E-5,1.1017832197730999E-5,1.1021335041369001E-5,1.1031629901005801E-5,1.10439650530789E-5,1.1058626838273401E-5,{"$f":"IF($B2007=\"\",\"\",VLOOKUP($B2007,_tbl!$A:$E,N$2,0))","v":"Female"},{"$f":"IF($B2007=\"\",\"\",VLOOKUP($B2007,_tbl!$A:$E,O$2,0))","v":"East"},{"$f":"IF($B2007=\"\",\"\",VLOOKUP($B2007,_tbl!$A:$E,P$2,0))","v":"Rural"},{"$f":"IF($B2007=\"\",\"\",VLOOKUP($B2007,_tbl!$A:$E,Q$2,0))","v":"Mental"},null,1.1058626838273401E-5,1.0994617308934999E-5]
[null,"all_f_East Rural mental.csv","20-24",1.0136446580073E-5,1.0124571226957E-5,1.0108842477003999E-5,1.0095201795691599E-5,1.00789031240441E-5,1.0065024811223899E-5,1.00512249969154E-5,1.00394724967999E-5,1.00284192760263E-5,1.00180971677863E-5,{"$f":"IF($B2008=\"\",\"\",VLOOKUP($B2008,_tbl!$A:$E,N$2,0))","v":"Female"},{"$f":"IF($B2008=\"\",\"\",VLOOKUP($B2008,_tbl!$A:$E,O$2,0))","v":"East"},{"$f":"IF($B2008=\"\",\"\",VLOOKUP($B2008,_tbl!$A:$E,P$2,0))","v":"Rural"},{"$f":"IF($B2008=\"\",\"\",VLOOKUP($B2008,_tbl!$A:$E,Q$2,0))","v":"Mental"},null,1.0136446580073E-5,1.00180971677863E-5]
[null,"all_f_East Rural mental.csv","25-29",1.16364256072493E-5,1.1622109810942499E-5,1.16205041133085E-5,1.16200858502696E-5,1.1618405160088699E-5,1.16171651389584E-5,1.16151768677347E-5,1.16135662141035E-5,1.1611812659935799E-5,1.16098963832384E-5,{"$f":"IF($B2009=\"\",\"\",VLOOKUP($B2009,_tbl!$A:$E,N$2,0))","v":"Female"},{"$f":"IF($B2009=\"\",\"\",VLOOKUP($B2009,_tbl!$A:$E,O$2,0))","v":"East"},{"$f":"IF($B2009=\"\",\"\",VLOOKUP($B2009,_tbl!$A:$E,P$2,0))","v":"Rural"},{"$f":"IF($B2009=\"\",\"\",VLOOKUP($B2009,_tbl!$A:$E,Q$2,0))","v":"Mental"},null,1.16364256072493E-5,1.16098963832384E-5]
[null,"all_f_East Rural mental.csv","30-34",1.3901497192724801E-5,1.39117531538563E-5,1.3942921254524801E-5,1.3976978115326101E-5,1.4008242882654E-5,1.4040190904217199E-5,1.40695752749501E-5,1.4099256804720701E-5,1.4127987869420899E-5,1.4155589586730101E-5,{"$f":"IF($B2010=\"\",\"\",VLOOKUP($B2010,_tbl!$A:$E,N$2,0))","v":"Female"},{"$f":"IF($B2010=\"\",\"\",VLOOKUP($B2010,_tbl!$A:$E,O$2,0))","v":"East"},{"$f":"IF($B2010=\"\",\"\",VLOOKUP($B2010,_tbl!$A:$E,P$2,0))","v":"Rural"},{"$f":"IF($B2010=\"\",\"\",VLOOKUP($B2010,_tbl!$A:$E,Q$2,0))","v":"Mental"},null,1.4155589586730101E-5,1.3901497192724801E-5]
[null,"all_f_East Rural mental.csv","35-39",1.4629860876263E-5,1.46622049737682E-5,1.46641479894674E-5,1.4684686249247E-5,1.46994730910651E-5,1.47204966415284E-5,1.4735261161418001E-5,1.47534793774507E-5,1.4771589293366E-5,1.4789715796581901E-5,{"$f":"IF($B2011=\"\",\"\",VLOOKUP($B2011,_tbl!$A:$E,N$2,0))","v":"Female"},{"$f":"IF($B2011=\"\",\"\",VLOOKUP($B2011,_tbl!$A:$E,O$2,0))","v":"East"},{"$f":"IF($B2011=\"\",\"\",VLOOKUP($B2011,_tbl!$A:$E,P$2,0))","v":"Rural"},{"$f":"IF($B2011=\"\",\"\",VLOOKUP($B2011,_tbl!$A:$E,Q$2,0))","v":"Mental"},null,1.4789715796581901E-5,1.4629860876263E-5]
[null,"all_f_East Rural mental.csv","40-44",1.4725252920679601E-5,1.45733995950719E-5,1.4357304702607601E-5,1.4170803865342299E-5,1.39814305216649E-5,1.3806054014256101E-5,1.3629113735484001E-5,1.34625943251994E-5,1.3301851359995099E-5,1.31471096536704E-5,{"$f":"IF($B2012=\"\",\"\",VLOOKUP($B2012,_tbl!$A:$E,N$2,0))","v":"Female"},{"$f":"IF($B2012=\"\",\"\",VLOOKUP($B2012,_tbl!$A:$E,O$2,0))","v":"East"},{"$f":"IF($B2012=\"\",\"\",VLOOKUP($B2012,_tbl!$A:$E,P$2,0))","v":"Rural"},{"$f":"IF($B2012=\"\",\"\",VLOOKUP($B2012,_tbl!$A:$E,Q$2,0))","v":"Mental"},null,1.4725252920679601E-5,1.31471096536704E-5]
[null,"all_f_East Rural mental.csv","45-49",1.8446620015357899E-5,1.8376129483576999E-5,1.8261630459855099E-5,1.8149895984023999E-5,1.8037188394842201E-5,1.7927777656044001E-5,1.7820173795449802E-5,1.7715941789723901E-5,1.7614623119137802E-5,1.75164910723667E-5,{"$f":"IF($B2013=\"\",\"\",VLOOKUP($B2013,_tbl!$A:$E,N$2,0))","v":"Female"},{"$f":"IF($B2013=\"\",\"\",VLOOKUP($B2013,_tbl!$A:$E,O$2,0))","v":"East"},{"$f":"IF($B2013=\"\",\"\",VLOOKUP($B2013,_tbl!$A:$E,P$2,0))","v":"Rural"},{"$f":"IF($B2013=\"\",\"\",VLOOKUP($B2013,_tbl!$A:$E,Q$2,0))","v":"Mental"},null,1.8446620015357899E-5,1.75164910723667E-5]
[null,"all_f_East Rural mental.csv","50-54",2.7104619227045E-5,2.71322959174612E-5,2.7260748461076899E-5,2.7275825197199E-5,2.7289452079012899E-5,2.7267398838550201E-5,2.7271904203868199E-5,2.7259103128213801E-5,2.72436216629515E-5,2.7228632865798799E-5,{"$f":"IF($B2014=\"\",\"\",VLOOKUP($B2014,_tbl!$A:$E,N$2,0))","v":"Female"},{"$f":"IF($B2014=\"\",\"\",VLOOKUP($B2014,_tbl!$A:$E,O$2,0))","v":"East"},{"$f":"IF($B2014=\"\",\"\",VLOOKUP($B2014,_tbl!$A:$E,P$2,0))","v":"Rural"},{"$f":"IF($B2014=\"\",\"\",VLOOKUP($B2014,_tbl!$A:$E,Q$2,0))","v":"Mental"},null,2.7289452079012899E-5,2.7104619227045E-5]
[null,"all_f_East Rural mental.csv","55-59",4.1779540296428597E-5,4.1908863689067401E-5,4.22038985345807E-5,4.2388958888774597E-5,4.2572504726552597E-5,4.2713010748782502E-5,4.2878772209241001E-5,4.3011719347447398E-5,4.31321107197831E-5,4.3245950625559401E-5,{"$f":"IF($B2015=\"\",\"\",VLOOKUP($B2015,_tbl!$A:$E,N$2,0))","v":"Female"},{"$f":"IF($B2015=\"\",\"\",VLOOKUP($B2015,_tbl!$A:$E,O$2,0))","v":"East"},{"$f":"IF($B2015=\"\",\"\",VLOOKUP($B2015,_tbl!$A:$E,P$2,0))","v":"Rural"},{"$f":"IF($B2015=\"\",\"\",VLOOKUP($B2015,_tbl!$A:$E,Q$2,0))","v":"Mental"},null,4.3245950625559401E-5,4.1779540296428597E-5]
[null,"all_f_East Rural mental.csv","60-64",6.3422100715997395E-5,6.3638006531808897E-5,6.3994866543264903E-5,6.4344245293459894E-5,6.4685548085040604E-5,6.5021184389080894E-5,6.5347668482574901E-5,6.5663333035986305E-5,6.5968286417585195E-5,6.6264798033668405E-5,{"$f":"IF($B2016=\"\",\"\",VLOOKUP($B2016,_tbl!$A:$E,N$2,0))","v":"Female"},{"$f":"IF($B2016=\"\",\"\",VLOOKUP($B2016,_tbl!$A:$E,O$2,0))","v":"East"},{"$f":"IF($B2016=\"\",\"\",VLOOKUP($B2016,_tbl!$A:$E,P$2,0))","v":"Rural"},{"$f":"IF($B2016=\"\",\"\",VLOOKUP($B2016,_tbl!$A:$E,Q$2,0))","v":"Mental"},null,6.6264798033668405E-5,6.3422100715997395E-5]
[null,"all_f_East Rural mental.csv","65-69",9.6208985026728896E-5,9.5615057261625805E-5,9.55898678558715E-5,9.5285156684377095E-5,9.4927273175398204E-5,9.4469687488136697E-5,9.4171375116225994E-5,9.3772495388345196E-5,9.3341265549714406E-5,9.2925389832012302E-5,{"$f":"IF($B2017=\"\",\"\",VLOOKUP($B2017,_tbl!$A:$E,N$2,0))","v":"Female"},{"$f":"IF($B2017=\"\",\"\",VLOOKUP($B2017,_tbl!$A:$E,O$2,0))","v":"East"},{"$f":"IF($B2017=\"\",\"\",VLOOKUP($B2017,_tbl!$A:$E,P$2,0))","v":"Rural"},{"$f":"IF($B2017=\"\",\"\",VLOOKUP($B2017,_tbl!$A:$E,Q$2,0))","v":"Mental"},null,9.6208985026728896E-5,9.2925389832012302E-5]
[null,"all_f_East Rural mental.csv","70-74",1.81962639328613E-4,1.7873175112156599E-4,1.7679246529684199E-4,1.7395622386080499E-4,1.707764954419E-4,1.6725702893235499E-4,1.6442353231472799E-4,1.6121060211153E-4,1.57874294959393E-4,1.54640038267084E-4,{"$f":"IF($B2018=\"\",\"\",VLOOKUP($B2018,_tbl!$A:$E,N$2,0))","v":"Female"},{"$f":"IF($B2018=\"\",\"\",VLOOKUP($B2018,_tbl!$A:$E,O$2,0))","v":"East"},{"$f":"IF($B2018=\"\",\"\",VLOOKUP($B2018,_tbl!$A:$E,P$2,0))","v":"Rural"},{"$f":"IF($B2018=\"\",\"\",VLOOKUP($B2018,_tbl!$A:$E,Q$2,0))","v":"Mental"},null,1.81962639328613E-4,1.54640038267084E-4]
[null,"all_f_East Rural mental.csv","75-79",5.1824136916773004E-4,5.0710230103744296E-4,5.0003655006096003E-4,4.91599670006726E-4,4.8235368275406399E-4,4.7237493685374E-4,4.64576523528049E-4,4.55553588172605E-4,4.4601954905656202E-4,4.3674721299843901E-4,{"$f":"IF($B2019=\"\",\"\",VLOOKUP($B2019,_tbl!$A:$E,N$2,0))","v":"Female"},{"$f":"IF($B2019=\"\",\"\",VLOOKUP($B2019,_tbl!$A:$E,O$2,0))","v":"East"},{"$f":"IF($B2019=\"\",\"\",VLOOKUP($B2019,_tbl!$A:$E,P$2,0))","v":"Rural"},{"$f":"IF($B2019=\"\",\"\",VLOOKUP($B2019,_tbl!$A:$E,Q$2,0))","v":"Mental"},null,5.1824136916773004E-4,4.3674721299843901E-4]
[null,"all_f_East Rural mental.csv","80-84",1.8399378643724599E-3,1.80644969319012E-3,1.78686451364859E-3,1.7720822633801E-3,1.7576941147926599E-3,1.742977531577E-3,1.7331725581658101E-3,1.72142266049297E-3,1.7087936614432299E-3,1.6966316788099699E-3,{"$f":"IF($B2020=\"\",\"\",VLOOKUP($B2020,_tbl!$A:$E,N$2,0))","v":"Female"},{"$f":"IF($B2020=\"\",\"\",VLOOKUP($B2020,_tbl!$A:$E,O$2,0))","v":"East"},{"$f":"IF($B2020=\"\",\"\",VLOOKUP($B2020,_tbl!$A:$E,P$2,0))","v":"Rural"},{"$f":"IF($B2020=\"\",\"\",VLOOKUP($B2020,_tbl!$A:$E,Q$2,0))","v":"Mental"},null,1.8399378643724599E-3,1.6966316788099699E-3]
[null,"all_f_East Rural mental.csv","85+",6.4653033382306201E-3,6.3426370667192603E-3,6.2716758122876104E-3,6.2424117380657698E-3,6.2227637426927598E-3,6.2071797564895101E-3,6.2051034867127803E-3,6.2039019337744401E-3,6.2039826742784302E-3,6.2066110399745297E-3,{"$f":"IF($B2021=\"\",\"\",VLOOKUP($B2021,_tbl!$A:$E,N$2,0))","v":"Female"},{"$f":"IF($B2021=\"\",\"\",VLOOKUP($B2021,_tbl!$A:$E,O$2,0))","v":"East"},{"$f":"IF($B2021=\"\",\"\",VLOOKUP($B2021,_tbl!$A:$E,P$2,0))","v":"Rural"},{"$f":"IF($B2021=\"\",\"\",VLOOKUP($B2021,_tbl!$A:$E,Q$2,0))","v":"Mental"},null,6.4653033382306201E-3,6.2039019337744401E-3]
[null,null,null,null,null,null,null,null,null,null,null,null,null,{"$f":"IF($B2022=\"\",\"\",VLOOKUP($B2022,_tbl!$A:$E,N$2,0))","v":""},{"$f":"IF($B2022=\"\",\"\",VLOOKUP($B2022,_tbl!$A:$E,O$2,0))","v":""},{"$f":"IF($B2022=\"\",\"\",VLOOKUP($B2022,_tbl!$A:$E,P$2,0))","v":""},{"$f":"IF($B2022=\"\",\"\",VLOOKUP($B2022,_tbl!$A:$E,Q$2,0))","v":""}]
[null,null,null,2020,2021,2022,2023,2024,2025,2026,2027,2028,2029,{"$f":"IF($B2023=\"\",\"\",VLOOKUP($B2023,_tbl!$A:$E,N$2,0))","v":""},{"$f":"IF($B2023=\"\",\"\",VLOOKUP($B2023,_tbl!$A:$E,O$2,0))","v":""},{"$f":"IF($B2023=\"\",\"\",VLOOKUP($B2023,_tbl!$A:$E,P$2,0))","v":""},{"$f":"IF($B2023=\"\",\"\",VLOOKUP($B2023,_tbl!$A:$E,Q$2,0))","v":""}]
[null,"all_f_East Rural other.csv","1-4",2.5112666571563299E-5,2.4496988265007702E-5,2.39603408797814E-5,2.33958812552667E-5,2.2869145963480801E-5,2.2339166461882599E-5,2.1830797953463199E-5,2.1328232248169501E-5,2.0840798524760099E-5,2.0362303032575401E-5,{"$f":"IF($B2024=\"\",\"\",VLOOKUP($B2024,_tbl!$A:$E,N$2,0))","v":"Female"},{"$f":"IF($B2024=\"\",\"\",VLOOKUP($B2024,_tbl!$A:$E,O$2,0))","v":"East"},{"$f":"IF($B2024=\"\",\"\",VLOOKUP($B2024,_tbl!$A:$E,P$2,0))","v":"Rural"},{"$f":"IF($B2024=\"\",\"\",VLOOKUP($B2024,_tbl!$A:$E,Q$2,0))","v":"Other"},null,{"$f":"MAX(D2024:M2024)","v":2.5112666571563299E-5},{"$f":"MIN(D2024:M2024)","v":2.0362303032575401E-5}]
[null,"all_f_East Rural other.csv","5-9",1.26146502655419E-5,1.25989857742024E-5,1.25850239211409E-5,1.25700142125851E-5,1.2555694062935799E-5,1.25409659373268E-5,1.25265231012313E-5,1.251192759593E-5,1.2497456042035501E-5,1.24829336700663E-5,{"$f":"IF($B2025=\"\",\"\",VLOOKUP($B2025,_tbl!$A:$E,N$2,0))","v":"Female"},{"$f":"IF($B2025=\"\",\"\",VLOOKUP($B2025,_tbl!$A:$E,O$2,0))","v":"East"},{"$f":"IF($B2025=\"\",\"\",VLOOKUP($B2025,_tbl!$A:$E,P$2,0))","v":"Rural"},{"$f":"IF($B2025=\"\",\"\",VLOOKUP($B2025,_tbl!$A:$E,Q$2,0))","v":"Other"},null,1.26146502655419E-5,1.24829336700663E-5]
[null,"all_f_East Rural other.csv","10-14",1.51698071302748E-5,1.5028372317359E-5,1.49032760943976E-5,1.47697995891496E-5,1.46434228670712E-5,1.4514425128363401E-5,1.43888844700169E-5,1.42629746497164E-5,1.41390787107154E-5,1.40156871672679E-5,{"$f":"IF($B2026=\"\",\"\",VLOOKUP($B2026,_tbl!$A:$E,N$2,0))","v":"Female"},{"$f":"IF($B2026=\"\",\"\",VLOOKUP($B2026,_tbl!$A:$E,O$2,0))","v":"East"},{"$f":"IF($B2026=\"\",\"\",VLOOKUP($B2026,_tbl!$A:$E,P$2,0))","v":"Rural"},{"$f":"IF($B2026=\"\",\"\",VLOOKUP($B2026,_tbl!$A:$E,Q$2,0))","v":"Other"},null,1.51698071302748E-5,1.40156871672679E-5]
[null,"all_f_East Rural other.csv","15-19",1.7626221259059801E-5,1.71416806643258E-5,1.67205562575129E-5,1.6278857128587801E-5,1.58678577605202E-5,1.5455500393287099E-5,1.5061086323290999E-5,1.4672282944010301E-5,1.42962607954114E-5,1.3928184273946901E-5,{"$f":"IF($B2027=\"\",\"\",VLOOKUP($B2027,_tbl!$A:$E,N$2,0))","v":"Female"},{"$f":"IF($B2027=\"\",\"\",VLOOKUP($B2027,_tbl!$A:$E,O$2,0))","v":"East"},{"$f":"IF($B2027=\"\",\"\",VLOOKUP($B2027,_tbl!$A:$E,P$2,0))","v":"Rural"},{"$f":"IF($B2027=\"\",\"\",VLOOKUP($B2027,_tbl!$A:$E,Q$2,0))","v":"Other"},null,1.7626221259059801E-5,1.3928184273946901E-5]
[null,"all_f_East Rural other.csv","20-24",2.0318193580423498E-5,1.96586765950875E-5,1.90882499062476E-5,1.8492785980564899E-5,1.79413684748879E-5,1.7390761151456399E-5,1.6866632558822401E-5,1.6352423113349701E-5,1.585749357862E-5,1.5375333865100501E-5,{"$f":"IF($B2028=\"\",\"\",VLOOKUP($B2028,_tbl!$A:$E,N$2,0))","v":"Female"},{"$f":"IF($B2028=\"\",\"\",VLOOKUP($B2028,_tbl!$A:$E,O$2,0))","v":"East"},{"$f":"IF($B2028=\"\",\"\",VLOOKUP($B2028,_tbl!$A:$E,P$2,0))","v":"Rural"},{"$f":"IF($B2028=\"\",\"\",VLOOKUP($B2028,_tbl!$A:$E,Q$2,0))","v":"Other"},null,2.0318193580423498E-5,1.5375333865100501E-5]
[null,"all_f_East Rural other.csv","25-29",2.8601612450276399E-5,2.7768316874110399E-5,2.7045241808592798E-5,2.6288027684993901E-5,2.5584561955878899E-5,2.4879883125797998E-5,2.4206934800075199E-5,2.3544606031973801E-5,2.2905063024100599E-5,2.2280022533172099E-5,{"$f":"IF($B2029=\"\",\"\",VLOOKUP($B2029,_tbl!$A:$E,N$2,0))","v":"Female"},{"$f":"IF($B2029=\"\",\"\",VLOOKUP($B2029,_tbl!$A:$E,O$2,0))","v":"East"},{"$f":"IF($B2029=\"\",\"\",VLOOKUP($B2029,_tbl!$A:$E,P$2,0))","v":"Rural"},{"$f":"IF($B2029=\"\",\"\",VLOOKUP($B2029,_tbl!$A:$E,Q$2,0))","v":"Other"},null,2.8601612450276399E-5,2.2280022533172099E-5]
[null,"all_f_East Rural other.csv","30-34",3.85812566352401E-5,3.7473925491978903E-5,3.6512655751324103E-5,3.5505584845346102E-5,3.4569605492365401E-5,3.3631622565947901E-5,3.2735501226848801E-5,3.1853154098375697E-5,3.1000806440885399E-5,3.0167439874755199E-5,{"$f":"IF($B2030=\"\",\"\",VLOOKUP($B2030,_tbl!$A:$E,N$2,0))","v":"Female"},{"$f":"IF($B2030=\"\",\"\",VLOOKUP($B2030,_tbl!$A:$E,O$2,0))","v":"East"},{"$f":"IF($B2030=\"\",\"\",VLOOKUP($B2030,_tbl!$A:$E,P$2,0))","v":"Rural"},{"$f":"IF($B2030=\"\",\"\",VLOOKUP($B2030,_tbl!$A:$E,Q$2,0))","v":"Other"},null,3.85812566352401E-5,3.0167439874755199E-5]
[null,"all_f_East Rural other.csv","35-39",4.13164572763141E-5,3.9995388503700299E-5,3.8852232913041101E-5,3.7658347825168201E-5,3.6552253839549002E-5,3.5447269623364598E-5,3.4394930561403199E-5,3.3362024283700203E-5,3.2367380159691802E-5,3.1397945671020202E-5,{"$f":"IF($B2031=\"\",\"\",VLOOKUP($B2031,_tbl!$A:$E,N$2,0))","v":"Female"},{"$f":"IF($B2031=\"\",\"\",VLOOKUP($B2031,_tbl!$A:$E,O$2,0))","v":"East"},{"$f":"IF($B2031=\"\",\"\",VLOOKUP($B2031,_tbl!$A:$E,P$2,0))","v":"Rural"},{"$f":"IF($B2031=\"\",\"\",VLOOKUP($B2031,_tbl!$A:$E,Q$2,0))","v":"Other"},null,4.13164572763141E-5,3.1397945671020202E-5]
[null,"all_f_East Rural other.csv","40-44",4.2559954889578199E-5,4.1124274348857903E-5,3.98840791800248E-5,3.8591027533666797E-5,3.7395103230387499E-5,3.6202399464536302E-5,3.5068452016008401E-5,3.3957330673892897E-5,3.2889186254170401E-5,3.1849880220173001E-5,{"$f":"IF($B2032=\"\",\"\",VLOOKUP($B2032,_tbl!$A:$E,N$2,0))","v":"Female"},{"$f":"IF($B2032=\"\",\"\",VLOOKUP($B2032,_tbl!$A:$E,O$2,0))","v":"East"},{"$f":"IF($B2032=\"\",\"\",VLOOKUP($B2032,_tbl!$A:$E,P$2,0))","v":"Rural"},{"$f":"IF($B2032=\"\",\"\",VLOOKUP($B2032,_tbl!$A:$E,Q$2,0))","v":"Other"},null,4.2559954889578199E-5,3.1849880220173001E-5]
[null,"all_f_East Rural other.csv","45-49",5.48374767896458E-5,5.3092366168951103E-5,5.15820528858196E-5,5.00044888881616E-5,4.8542715211746398E-5,4.7082196022486499E-5,4.5691057665071503E-5,4.4325409680399698E-5,4.3010157800064997E-5,4.17280547144882E-5,{"$f":"IF($B2033=\"\",\"\",VLOOKUP($B2033,_tbl!$A:$E,N$2,0))","v":"Female"},{"$f":"IF($B2033=\"\",\"\",VLOOKUP($B2033,_tbl!$A:$E,O$2,0))","v":"East"},{"$f":"IF($B2033=\"\",\"\",VLOOKUP($B2033,_tbl!$A:$E,P$2,0))","v":"Rural"},{"$f":"IF($B2033=\"\",\"\",VLOOKUP($B2033,_tbl!$A:$E,Q$2,0))","v":"Other"},null,5.48374767896458E-5,4.17280547144882E-5]
[null,"all_f_East Rural other.csv","50-54",8.6915743075612398E-5,8.4413244657149296E-5,8.2241028376868401E-5,7.9965510902015705E-5,7.7850813666291904E-5,7.5731774418983093E-5,7.3707484030843297E-5,7.1714482965284097E-5,6.9789411742547506E-5,6.7907374850335097E-5,{"$f":"IF($B2034=\"\",\"\",VLOOKUP($B2034,_tbl!$A:$E,N$2,0))","v":"Female"},{"$f":"IF($B2034=\"\",\"\",VLOOKUP($B2034,_tbl!$A:$E,O$2,0))","v":"East"},{"$f":"IF($B2034=\"\",\"\",VLOOKUP($B2034,_tbl!$A:$E,P$2,0))","v":"Rural"},{"$f":"IF($B2034=\"\",\"\",VLOOKUP($B2034,_tbl!$A:$E,Q$2,0))","v":"Other"},null,8.6915743075612398E-5,6.7907374850335097E-5]
[null,"all_f_East Rural other.csv","55-59",1.33383681034226E-4,1.29657476003932E-4,1.2642035967536501E-4,1.23026531516637E-4,1.1986994802203499E-4,1.1670428746466701E-4,1.13677677832238E-4,1.1069539986043E-4,1.0781239628499199E-4,1.04991521576906E-4,{"$f":"IF($B2035=\"\",\"\",VLOOKUP($B2035,_tbl!$A:$E,N$2,0))","v":"Female"},{"$f":"IF($B2035=\"\",\"\",VLOOKUP($B2035,_tbl!$A:$E,O$2,0))","v":"East"},{"$f":"IF($B2035=\"\",\"\",VLOOKUP($B2035,_tbl!$A:$E,P$2,0))","v":"Rural"},{"$f":"IF($B2035=\"\",\"\",VLOOKUP($B2035,_tbl!$A:$E,Q$2,0))","v":"Other"},null,1.33383681034226E-4,1.04991521576906E-4]
[null,"all_f_East Rural other.csv","60-64",1.70453252844906E-4,1.6537427149441799E-4,1.6096993652948101E-4,1.5636057065180001E-4,1.5208112927819E-4,1.4779703062281201E-4,1.4370845049536699E-4,1.3968695163460001E-4,1.3580627904482599E-4,1.3201602161355301E-4,{"$f":"IF($B2036=\"\",\"\",VLOOKUP($B2036,_tbl!$A:$E,N$2,0))","v":"Female"},{"$f":"IF($B2036=\"\",\"\",VLOOKUP($B2036,_tbl!$A:$E,O$2,0))","v":"East"},{"$f":"IF($B2036=\"\",\"\",VLOOKUP($B2036,_tbl!$A:$E,P$2,0))","v":"Rural"},{"$f":"IF($B2036=\"\",\"\",VLOOKUP($B2036,_tbl!$A:$E,Q$2,0))","v":"Other"},null,1.70453252844906E-4,1.3201602161355301E-4]
[null,"all_f_East Rural other.csv","65-69",2.0532242400016099E-4,1.98740628883479E-4,1.9304568226708799E-4,1.8709847633154801E-4,1.8158902768995399E-4,1.7608553817171599E-4,1.7084466644388599E-4,1.6570097810157899E-4,1.6074821830911601E-4,1.55921367531331E-4,{"$f":"IF($B2037=\"\",\"\",VLOOKUP($B2037,_tbl!$A:$E,N$2,0))","v":"Female"},{"$f":"IF($B2037=\"\",\"\",VLOOKUP($B2037,_tbl!$A:$E,O$2,0))","v":"East"},{"$f":"IF($B2037=\"\",\"\",VLOOKUP($B2037,_tbl!$A:$E,P$2,0))","v":"Rural"},{"$f":"IF($B2037=\"\",\"\",VLOOKUP($B2037,_tbl!$A:$E,Q$2,0))","v":"Other"},null,2.0532242400016099E-4,1.55921367531331E-4]
[null,"all_f_East Rural other.csv","70-74",3.1426594088555099E-4,3.0429333253043702E-4,2.9566173485702599E-4,2.8664501365093198E-4,2.7828937155404201E-4,2.6994017544188702E-4,2.6198690712445001E-4,2.54178690431909E-4,2.4665796237210801E-4,2.39326143781439E-4,{"$f":"IF($B2038=\"\",\"\",VLOOKUP($B2038,_tbl!$A:$E,N$2,0))","v":"Female"},{"$f":"IF($B2038=\"\",\"\",VLOOKUP($B2038,_tbl!$A:$E,O$2,0))","v":"East"},{"$f":"IF($B2038=\"\",\"\",VLOOKUP($B2038,_tbl!$A:$E,P$2,0))","v":"Rural"},{"$f":"IF($B2038=\"\",\"\",VLOOKUP($B2038,_tbl!$A:$E,Q$2,0))","v":"Other"},null,3.1426594088555099E-4,2.39326143781439E-4]
[null,"all_f_East Rural other.csv","75-79",7.6332755445433895E-4,7.4250783608494704E-4,7.2440919798223995E-4,7.0542243814440404E-4,6.8775166526565605E-4,6.7001886030682999E-4,6.5305417276393697E-4,6.3632736874569805E-4,6.2014708866106995E-4,6.0430544393974095E-4,{"$f":"IF($B2039=\"\",\"\",VLOOKUP($B2039,_tbl!$A:$E,N$2,0))","v":"Female"},{"$f":"IF($B2039=\"\",\"\",VLOOKUP($B2039,_tbl!$A:$E,O$2,0))","v":"East"},{"$f":"IF($B2039=\"\",\"\",VLOOKUP($B2039,_tbl!$A:$E,P$2,0))","v":"Rural"},{"$f":"IF($B2039=\"\",\"\",VLOOKUP($B2039,_tbl!$A:$E,Q$2,0))","v":"Other"},null,7.6332755445433895E-4,6.0430544393974095E-4]
[null,"all_f_East Rural other.csv","80-84",2.8773646726496199E-3,2.8221053598857298E-3,2.7736911281284701E-3,2.7225110180361602E-3,2.6745072349316501E-3,2.62596300676869E-3,2.5791609638186599E-3,2.53265817794123E-3,2.4873260077899599E-3,2.4425989297724099E-3,{"$f":"IF($B2040=\"\",\"\",VLOOKUP($B2040,_tbl!$A:$E,N$2,0))","v":"Female"},{"$f":"IF($B2040=\"\",\"\",VLOOKUP($B2040,_tbl!$A:$E,O$2,0))","v":"East"},{"$f":"IF($B2040=\"\",\"\",VLOOKUP($B2040,_tbl!$A:$E,P$2,0))","v":"Rural"},{"$f":"IF($B2040=\"\",\"\",VLOOKUP($B2040,_tbl!$A:$E,Q$2,0))","v":"Other"},null,2.8773646726496199E-3,2.4425989297724099E-3]
[null,"all_f_East Rural other.csv","85+",1.3427305957024301E-2,1.3301356041343E-2,1.31899619286321E-2,1.3071111747692699E-2,1.29585894037551E-2,1.2843739497781399E-2,1.2731973503651999E-2,1.2619884836672099E-2,1.25095948871444E-2,1.23997598095449E-2,{"$f":"IF($B2041=\"\",\"\",VLOOKUP($B2041,_tbl!$A:$E,N$2,0))","v":"Female"},{"$f":"IF($B2041=\"\",\"\",VLOOKUP($B2041,_tbl!$A:$E,O$2,0))","v":"East"},{"$f":"IF($B2041=\"\",\"\",VLOOKUP($B2041,_tbl!$A:$E,P$2,0))","v":"Rural"},{"$f":"IF($B2041=\"\",\"\",VLOOKUP($B2041,_tbl!$A:$E,Q$2,0))","v":"Other"},null,1.3427305957024301E-2,1.23997598095449E-2]
[null,null,null,null,null,null,null,null,null,null,null,null,null,{"$f":"IF($B2042=\"\",\"\",VLOOKUP($B2042,_tbl!$A:$E,N$2,0))","v":""},{"$f":"IF($B2042=\"\",\"\",VLOOKUP($B2042,_tbl!$A:$E,O$2,0))","v":""},{"$f":"IF($B2042=\"\",\"\",VLOOKUP($B2042,_tbl!$A:$E,P$2,0))","v":""},{"$f":"IF($B2042=\"\",\"\",VLOOKUP($B2042,_tbl!$A:$E,Q$2,0))","v":""}]
[null,null,null,2020,2021,2022,2023,2024,2025,2026,2027,2028,2029,{"$f":"IF($B2043=\"\",\"\",VLOOKUP($B2043,_tbl!$A:$E,N$2,0))","v":""},{"$f":"IF($B2043=\"\",\"\",VLOOKUP($B2043,_tbl!$A:$E,O$2,0))","v":""},{"$f":"IF($B2043=\"\",\"\",VLOOKUP($B2043,_tbl!$A:$E,P$2,0))","v":""},{"$f":"IF($B2043=\"\",\"\",VLOOKUP($B2043,_tbl!$A:$E,Q$2,0))","v":""}]
[null,"all_f_East Rural respiratory.csv","1-4",6.5713951518100203E-6,7.13165230478108E-6,7.7396752776737594E-6,8.3995364389365407E-6,9.1156553547590096E-6,9.8928283900947299E-6,1.07362608333772E-5,1.16516017600913E-5,1.2644981868707001E-5,1.37230545423889E-5,{"$f":"IF($B2044=\"\",\"\",VLOOKUP($B2044,_tbl!$A:$E,N$2,0))","v":"Female"},{"$f":"IF($B2044=\"\",\"\",VLOOKUP($B2044,_tbl!$A:$E,O$2,0))","v":"East"},{"$f":"IF($B2044=\"\",\"\",VLOOKUP($B2044,_tbl!$A:$E,P$2,0))","v":"Rural"},{"$f":"IF($B2044=\"\",\"\",VLOOKUP($B2044,_tbl!$A:$E,Q$2,0))","v":"Respiratory"},null,{"$f":"MAX(D2044:M2044)","v":1.37230545423889E-5},{"$f":"MIN(D2044:M2044)","v":6.5713951518100203E-6}]
[null,"all_f_East Rural respiratory.csv","5-9",2.56467135001289E-6,2.6117975913975401E-6,2.6597897849156E-6,2.7086638425743802E-6,2.7584359687668398E-6,2.8091226656442298E-6,2.8607407385874002E-6,2.9133073017787801E-6,2.96683978387657E-6,3.0213559337933401E-6,{"$f":"IF($B2045=\"\",\"\",VLOOKUP($B2045,_tbl!$A:$E,N$2,0))","v":"Female"},{"$f":"IF($B2045=\"\",\"\",VLOOKUP($B2045,_tbl!$A:$E,O$2,0))","v":"East"},{"$f":"IF($B2045=\"\",\"\",VLOOKUP($B2045,_tbl!$A:$E,P$2,0))","v":"Rural"},{"$f":"IF($B2045=\"\",\"\",VLOOKUP($B2045,_tbl!$A:$E,Q$2,0))","v":"Respiratory"},null,3.0213559337933401E-6,2.56467135001289E-6]
[null,"all_f_East Rural respiratory.csv","10-14",1.9356081880348899E-6,1.91733833369978E-6,1.8992409252034E-6,1.8813143348607699E-6,1.86355695035034E-6,1.8459671745689901E-6,1.8285434254883501E-6,1.81128413601251E-6,1.7941877538371299E-6,1.77725274130977E-6,{"$f":"IF($B2046=\"\",\"\",VLOOKUP($B2046,_tbl!$A:$E,N$2,0))","v":"Female"},{"$f":"IF($B2046=\"\",\"\",VLOOKUP($B2046,_tbl!$A:$E,O$2,0))","v":"East"},{"$f":"IF($B2046=\"\",\"\",VLOOKUP($B2046,_tbl!$A:$E,P$2,0))","v":"Rural"},{"$f":"IF($B2046=\"\",\"\",VLOOKUP($B2046,_tbl!$A:$E,Q$2,0))","v":"Respiratory"},null,1.9356081880348899E-6,1.77725274130977E-6]
[null,"all_f_East Rural respiratory.csv","15-19",1.76442617263739E-6,1.7005677363343899E-6,1.63902047629385E-6,1.57970074599974E-6,1.5225279262861001E-6,1.4674243157706599E-6,1.4143150252538199E-6,1.36312787593969E-6,1.3137933013406201E-6,1.26624425273205E-6,{"$f":"IF($B2047=\"\",\"\",VLOOKUP($B2047,_tbl!$A:$E,N$2,0))","v":"Female"},{"$f":"IF($B2047=\"\",\"\",VLOOKUP($B2047,_tbl!$A:$E,O$2,0))","v":"East"},{"$f":"IF($B2047=\"\",\"\",VLOOKUP($B2047,_tbl!$A:$E,P$2,0))","v":"Rural"},{"$f":"IF($B2047=\"\",\"\",VLOOKUP($B2047,_tbl!$A:$E,Q$2,0))","v":"Respiratory"},null,1.76442617263739E-6,1.26624425273205E-6]
[null,"all_f_East Rural respiratory.csv","20-24",1.9265936930497299E-6,1.8083210988753101E-6,1.69730919831949E-6,1.59311226114194E-6,1.4953119202521801E-6,1.40351549189981E-6,1.3173543989875799E-6,1.2364826911763101E-6,1.16057565583992E-6,1.0893285142931299E-6,{"$f":"IF($B2048=\"\",\"\",VLOOKUP($B2048,_tbl!$A:$E,N$2,0))","v":"Female"},{"$f":"IF($B2048=\"\",\"\",VLOOKUP($B2048,_tbl!$A:$E,O$2,0))","v":"East"},{"$f":"IF($B2048=\"\",\"\",VLOOKUP($B2048,_tbl!$A:$E,P$2,0))","v":"Rural"},{"$f":"IF($B2048=\"\",\"\",VLOOKUP($B2048,_tbl!$A:$E,Q$2,0))","v":"Respiratory"},null,1.9265936930497299E-6,1.0893285142931299E-6]
[null,"all_f_East Rural respiratory.csv","25-29",2.7354413107166202E-6,2.5369555105405199E-6,2.3528719981112699E-6,2.1821457319590999E-6,2.02380749965563E-6,1.87695841559822E-6,1.7407648180394899E-6,1.61445353639241E-6,1.4973075019435799E-6,1.3886616770565199E-6,{"$f":"IF($B2049=\"\",\"\",VLOOKUP($B2049,_tbl!$A:$E,N$2,0))","v":"Female"},{"$f":"IF($B2049=\"\",\"\",VLOOKUP($B2049,_tbl!$A:$E,O$2,0))","v":"East"},{"$f":"IF($B2049=\"\",\"\",VLOOKUP($B2049,_tbl!$A:$E,P$2,0))","v":"Rural"},{"$f":"IF($B2049=\"\",\"\",VLOOKUP($B2049,_tbl!$A:$E,Q$2,0))","v":"Respiratory"},null,2.7354413107166202E-6,1.3886616770565199E-6]
[null,"all_f_East Rural respiratory.csv","30-34",4.3362459106439602E-6,4.0040758709860601E-6,3.6973510983909601E-6,3.4141224055792701E-6,3.1525899191318399E-6,2.9110916415796802E-6,2.6880928896736301E-6,2.48217654171577E-6,2.2920340319757698E-6,2.1164570349632499E-6,{"$f":"IF($B2050=\"\",\"\",VLOOKUP($B2050,_tbl!$A:$E,N$2,0))","v":"Female"},{"$f":"IF($B2050=\"\",\"\",VLOOKUP($B2050,_tbl!$A:$E,O$2,0))","v":"East"},{"$f":"IF($B2050=\"\",\"\",VLOOKUP($B2050,_tbl!$A:$E,P$2,0))","v":"Rural"},{"$f":"IF($B2050=\"\",\"\",VLOOKUP($B2050,_tbl!$A:$E,Q$2,0))","v":"Respiratory"},null,4.3362459106439602E-6,2.1164570349632499E-6]
[null,"all_f_East Rural respiratory.csv","35-39",6.5347203928567304E-6,5.9318924119836801E-6,5.3846753146184597E-6,4.8879389965478599E-6,4.4370266056916802E-6,4.0277108845916598E-6,3.6561545403059899E-6,3.3188742701812199E-6,3.0127081062468198E-6,2.7347857720894201E-6,{"$f":"IF($B2051=\"\",\"\",VLOOKUP($B2051,_tbl!$A:$E,N$2,0))","v":"Female"},{"$f":"IF($B2051=\"\",\"\",VLOOKUP($B2051,_tbl!$A:$E,O$2,0))","v":"East"},{"$f":"IF($B2051=\"\",\"\",VLOOKUP($B2051,_tbl!$A:$E,P$2,0))","v":"Rural"},{"$f":"IF($B2051=\"\",\"\",VLOOKUP($B2051,_tbl!$A:$E,Q$2,0))","v":"Respiratory"},null,6.5347203928567304E-6,2.7347857720894201E-6]
[null,"all_f_East Rural respiratory.csv","40-44",9.8120511944461994E-6,8.6700927477609095E-6,7.6610391410640302E-6,6.7694224766017997E-6,5.9815750608940401E-6,5.2854198911027998E-6,4.6702855252793099E-6,4.1267424986139503E-6,3.6464587780953801E-6,3.2220720398267498E-6,{"$f":"IF($B2052=\"\",\"\",VLOOKUP($B2052,_tbl!$A:$E,N$2,0))","v":"Female"},{"$f":"IF($B2052=\"\",\"\",VLOOKUP($B2052,_tbl!$A:$E,O$2,0))","v":"East"},{"$f":"IF($B2052=\"\",\"\",VLOOKUP($B2052,_tbl!$A:$E,P$2,0))","v":"Rural"},{"$f":"IF($B2052=\"\",\"\",VLOOKUP($B2052,_tbl!$A:$E,Q$2,0))","v":"Respiratory"},null,9.8120511944461994E-6,3.2220720398267498E-6]
[null,"all_f_East Rural respiratory.csv","45-49",1.6927876684221701E-5,1.4704679788396499E-5,1.2773463069991501E-5,1.1095879757217699E-5,9.6386192931401898E-6,8.3727459120726399E-6,7.2731240830335002E-6,6.3179194117103001E-6,5.4881650907043998E-6,4.7673852893721403E-6,{"$f":"IF($B2053=\"\",\"\",VLOOKUP($B2053,_tbl!$A:$E,N$2,0))","v":"Female"},{"$f":"IF($B2053=\"\",\"\",VLOOKUP($B2053,_tbl!$A:$E,O$2,0))","v":"East"},{"$f":"IF($B2053=\"\",\"\",VLOOKUP($B2053,_tbl!$A:$E,P$2,0))","v":"Rural"},{"$f":"IF($B2053=\"\",\"\",VLOOKUP($B2053,_tbl!$A:$E,Q$2,0))","v":"Respiratory"},null,1.6927876684221701E-5,4.7673852893721403E-6]
[null,"all_f_East Rural respiratory.csv","50-54",3.4984669361799301E-5,3.0416579132270099E-5,2.64449629791232E-5,2.29919368620006E-5,1.9989786375709498E-5,1.7379638859696001E-5,1.51103088955714E-5,1.3137294552711901E-5,1.1421904698142599E-5,9.9305002571113107E-6,{"$f":"IF($B2054=\"\",\"\",VLOOKUP($B2054,_tbl!$A:$E,N$2,0))","v":"Female"},{"$f":"IF($B2054=\"\",\"\",VLOOKUP($B2054,_tbl!$A:$E,O$2,0))","v":"East"},{"$f":"IF($B2054=\"\",\"\",VLOOKUP($B2054,_tbl!$A:$E,P$2,0))","v":"Rural"},{"$f":"IF($B2054=\"\",\"\",VLOOKUP($B2054,_tbl!$A:$E,Q$2,0))","v":"Respiratory"},null,3.4984669361799301E-5,9.9305002571113107E-6]
[null,"all_f_East Rural respiratory.csv","55-59",7.9037191140819802E-5,6.9332731562836506E-5,6.0819819082382399E-5,5.3352151427371198E-5,4.6801389824483601E-5,4.1054953378685199E-5,3.6014084266451901E-5,3.1592150491260199E-5,2.7713157032626801E-5,2.4310439801415199E-5,{"$f":"IF($B2055=\"\",\"\",VLOOKUP($B2055,_tbl!$A:$E,N$2,0))","v":"Female"},{"$f":"IF($B2055=\"\",\"\",VLOOKUP($B2055,_tbl!$A:$E,O$2,0))","v":"East"},{"$f":"IF($B2055=\"\",\"\",VLOOKUP($B2055,_tbl!$A:$E,P$2,0))","v":"Rural"},{"$f":"IF($B2055=\"\",\"\",VLOOKUP($B2055,_tbl!$A:$E,Q$2,0))","v":"Respiratory"},null,7.9037191140819802E-5,2.4310439801415199E-5]
[null,"all_f_East Rural respiratory.csv","60-64",1.7371070878304901E-4,1.5283414478398799E-4,1.3446652757041899E-4,1.18306331758534E-4,1.04088269304274E-4,9.1578934497540206E-5,8.0572972341277997E-5,7.0889707415002802E-5,6.2370177881723797E-5,5.4874525948100999E-5,{"$f":"IF($B2056=\"\",\"\",VLOOKUP($B2056,_tbl!$A:$E,N$2,0))","v":"Female"},{"$f":"IF($B2056=\"\",\"\",VLOOKUP($B2056,_tbl!$A:$E,O$2,0))","v":"East"},{"$f":"IF($B2056=\"\",\"\",VLOOKUP($B2056,_tbl!$A:$E,P$2,0))","v":"Rural"},{"$f":"IF($B2056=\"\",\"\",VLOOKUP($B2056,_tbl!$A:$E,Q$2,0))","v":"Respiratory"},null,1.7371070878304901E-4,5.4874525948100999E-5]
[null,"all_f_East Rural respiratory.csv","65-69",3.6214984022415401E-4,3.1648274239328702E-4,2.76574265974493E-4,2.4169824876034901E-4,2.1122009760375399E-4,1.8458524155868299E-4,1.6130904107996099E-4,1.40967969673047E-4,1.2319190753784599E-4,1.07657406984098E-4,{"$f":"IF($B2057=\"\",\"\",VLOOKUP($B2057,_tbl!$A:$E,N$2,0))","v":"Female"},{"$f":"IF($B2057=\"\",\"\",VLOOKUP($B2057,_tbl!$A:$E,O$2,0))","v":"East"},{"$f":"IF($B2057=\"\",\"\",VLOOKUP($B2057,_tbl!$A:$E,P$2,0))","v":"Rural"},{"$f":"IF($B2057=\"\",\"\",VLOOKUP($B2057,_tbl!$A:$E,Q$2,0))","v":"Respiratory"},null,3.6214984022415401E-4,1.07657406984098E-4]
[null,"all_f_East Rural respiratory.csv","70-74",7.8281355755237204E-4,6.7974821258758695E-4,5.9025246568383003E-4,5.1253974161932802E-4,4.45058685921561E-4,3.8646219566977998E-4,3.3558052770647399E-4,2.9139794742557602E-4,2.5303245198455198E-4,2.1971816316127899E-4,{"$f":"IF($B2058=\"\",\"\",VLOOKUP($B2058,_tbl!$A:$E,N$2,0))","v":"Female"},{"$f":"IF($B2058=\"\",\"\",VLOOKUP($B2058,_tbl!$A:$E,O$2,0))","v":"East"},{"$f":"IF($B2058=\"\",\"\",VLOOKUP($B2058,_tbl!$A:$E,P$2,0))","v":"Rural"},{"$f":"IF($B2058=\"\",\"\",VLOOKUP($B2058,_tbl!$A:$E,Q$2,0))","v":"Respiratory"},null,7.8281355755237204E-4,2.1971816316127899E-4]
[null,"all_f_East Rural respiratory.csv","75-79",1.96985593239575E-3,1.725556857377E-3,1.51155544883908E-3,1.32409422798633E-3,1.1598817138552501E-3,1.0160346308447799E-3,8.9002728359653595E-4,7.7964721033927796E-4,6.8295633605021801E-4,5.9825694335283099E-4,{"$f":"IF($B2059=\"\",\"\",VLOOKUP($B2059,_tbl!$A:$E,N$2,0))","v":"Female"},{"$f":"IF($B2059=\"\",\"\",VLOOKUP($B2059,_tbl!$A:$E,O$2,0))","v":"East"},{"$f":"IF($B2059=\"\",\"\",VLOOKUP($B2059,_tbl!$A:$E,P$2,0))","v":"Rural"},{"$f":"IF($B2059=\"\",\"\",VLOOKUP($B2059,_tbl!$A:$E,Q$2,0))","v":"Respiratory"},null,1.96985593239575E-3,5.9825694335283099E-4]
[null,"all_f_East Rural respiratory.csv","80-84",5.9330399292632499E-3,5.3533156106214197E-3,4.8302368378770602E-3,4.3582687080308997E-3,3.9324171399739496E-3,3.54817603014377E-3,3.2014795716637E-3,2.8886592324351701E-3,2.6064049369512901E-3,2.3517300410811001E-3,{"$f":"IF($B2060=\"\",\"\",VLOOKUP($B2060,_tbl!$A:$E,N$2,0))","v":"Female"},{"$f":"IF($B2060=\"\",\"\",VLOOKUP($B2060,_tbl!$A:$E,O$2,0))","v":"East"},{"$f":"IF($B2060=\"\",\"\",VLOOKUP($B2060,_tbl!$A:$E,P$2,0))","v":"Rural"},{"$f":"IF($B2060=\"\",\"\",VLOOKUP($B2060,_tbl!$A:$E,Q$2,0))","v":"Respiratory"},null,5.9330399292632499E-3,2.3517300410811001E-3]
[null,"all_f_East Rural respiratory.csv","85+",1.95902845020163E-2,1.8439598138073401E-2,1.7356500333552901E-2,1.6337021098448701E-2,1.5377423630453999E-2,1.4474190618074E-2,1.3624011348262299E-2,1.2823769571322601E-2,1.20705320785977E-2,1.1361537951077701E-2,{"$f":"IF($B2061=\"\",\"\",VLOOKUP($B2061,_tbl!$A:$E,N$2,0))","v":"Female"},{"$f":"IF($B2061=\"\",\"\",VLOOKUP($B2061,_tbl!$A:$E,O$2,0))","v":"East"},{"$f":"IF($B2061=\"\",\"\",VLOOKUP($B2061,_tbl!$A:$E,P$2,0))","v":"Rural"},{"$f":"IF($B2061=\"\",\"\",VLOOKUP($B2061,_tbl!$A:$E,Q$2,0))","v":"Respiratory"},null,1.95902845020163E-2,1.1361537951077701E-2]
[null,null,null,null,null,null,null,null,null,null,null,null,null,{"$f":"IF($B2062=\"\",\"\",VLOOKUP($B2062,_tbl!$A:$E,N$2,0))","v":""},{"$f":"IF($B2062=\"\",\"\",VLOOKUP($B2062,_tbl!$A:$E,O$2,0))","v":""},{"$f":"IF($B2062=\"\",\"\",VLOOKUP($B2062,_tbl!$A:$E,P$2,0))","v":""},{"$f":"IF($B2062=\"\",\"\",VLOOKUP($B2062,_tbl!$A:$E,Q$2,0))","v":""}]
[null,null,null,2020,2021,2022,2023,2024,2025,2026,2027,2028,2029,{"$f":"IF($B2063=\"\",\"\",VLOOKUP($B2063,_tbl!$A:$E,N$2,0))","v":""},{"$f":"IF($B2063=\"\",\"\",VLOOKUP($B2063,_tbl!$A:$E,O$2,0))","v":""},{"$f":"IF($B2063=\"\",\"\",VLOOKUP($B2063,_tbl!$A:$E,P$2,0))","v":""},{"$f":"IF($B2063=\"\",\"\",VLOOKUP($B2063,_tbl!$A:$E,Q$2,0))","v":""}]
[null,"all_f_East Rural.csv","1-4",2.6493027461273102E-4,2.5556561352359198E-4,2.4745091644523998E-4,2.3983963508394701E-4,2.3267507715137801E-4,2.2596394330053101E-4,2.1966721308539801E-4,2.1378899902195099E-4,2.0830162750030699E-4,2.0317679773177E-4,{"$f":"IF($B2064=\"\",\"\",VLOOKUP($B2064,_tbl!$A:$E,N$2,0))","v":"Female"},{"$f":"IF($B2064=\"\",\"\",VLOOKUP($B2064,_tbl!$A:$E,O$2,0))","v":"East"},{"$f":"IF($B2064=\"\",\"\",VLOOKUP($B2064,_tbl!$A:$E,P$2,0))","v":"Rural"},{"$f":"IF($B2064=\"\",\"\",VLOOKUP($B2064,_tbl!$A:$E,Q$2,0))","v":"Total"},null,{"$f":"MAX(D2064:M2064)","v":2.6493027461273102E-4},{"$f":"MIN(D2064:M2064)","v":2.0317679773177E-4}]
[null,"all_f_East Rural.csv","5-9",1.5759031655690399E-4,1.5354229669405301E-4,1.50916512204633E-4,1.4838555090649201E-4,1.4588096357823999E-4,1.43476228265104E-4,1.4114348392263399E-4,1.3891478717570699E-4,1.3676069004324901E-4,1.34682639544143E-4,{"$f":"IF($B2065=\"\",\"\",VLOOKUP($B2065,_tbl!$A:$E,N$2,0))","v":"Female"},{"$f":"IF($B2065=\"\",\"\",VLOOKUP($B2065,_tbl!$A:$E,O$2,0))","v":"East"},{"$f":"IF($B2065=\"\",\"\",VLOOKUP($B2065,_tbl!$A:$E,P$2,0))","v":"Rural"},{"$f":"IF($B2065=\"\",\"\",VLOOKUP($B2065,_tbl!$A:$E,Q$2,0))","v":"Total"},null,1.5759031655690399E-4,1.34682639544143E-4]
[null,"all_f_East Rural.csv","10-14",1.4496090970579899E-4,1.41074754902076E-4,1.3834867831860601E-4,1.35698576494633E-4,1.3316646259611199E-4,1.3069178512458999E-4,1.2829334817859099E-4,1.2595082555935899E-4,1.23677096521572E-4,1.2146395817703699E-4,{"$f":"IF($B2066=\"\",\"\",VLOOKUP($B2066,_tbl!$A:$E,N$2,0))","v":"Female"},{"$f":"IF($B2066=\"\",\"\",VLOOKUP($B2066,_tbl!$A:$E,O$2,0))","v":"East"},{"$f":"IF($B2066=\"\",\"\",VLOOKUP($B2066,_tbl!$A:$E,P$2,0))","v":"Rural"},{"$f":"IF($B2066=\"\",\"\",VLOOKUP($B2066,_tbl!$A:$E,Q$2,0))","v":"Total"},null,1.4496090970579899E-4,1.2146395817703699E-4]
[null,"all_f_East Rural.csv","15-19",1.55796856874126E-4,1.5067271890278799E-4,1.4660820981055099E-4,1.4271295052372101E-4,1.390733462509E-4,1.3557668766030499E-4,1.32255240137616E-4,1.2907925666761499E-4,1.2606501473697899E-4,1.2319232730497899E-4,{"$f":"IF($B2067=\"\",\"\",VLOOKUP($B2067,_tbl!$A:$E,N$2,0))","v":"Female"},{"$f":"IF($B2067=\"\",\"\",VLOOKUP($B2067,_tbl!$A:$E,O$2,0))","v":"East"},{"$f":"IF($B2067=\"\",\"\",VLOOKUP($B2067,_tbl!$A:$E,P$2,0))","v":"Rural"},{"$f":"IF($B2067=\"\",\"\",VLOOKUP($B2067,_tbl!$A:$E,Q$2,0))","v":"Total"},null,1.55796856874126E-4,1.2319232730497899E-4]
[null,"all_f_East Rural.csv","20-24",1.9019827476649299E-4,1.8524491148855099E-4,1.8036965611763699E-4,1.75861575367917E-4,1.7151360888863399E-4,1.6755055226096499E-4,1.6385499717804099E-4,1.6050096734516301E-4,1.57402885665438E-4,1.5453895210061801E-4,{"$f":"IF($B2068=\"\",\"\",VLOOKUP($B2068,_tbl!$A:$E,N$2,0))","v":"Female"},{"$f":"IF($B2068=\"\",\"\",VLOOKUP($B2068,_tbl!$A:$E,O$2,0))","v":"East"},{"$f":"IF($B2068=\"\",\"\",VLOOKUP($B2068,_tbl!$A:$E,P$2,0))","v":"Rural"},{"$f":"IF($B2068=\"\",\"\",VLOOKUP($B2068,_tbl!$A:$E,Q$2,0))","v":"Total"},null,1.9019827476649299E-4,1.5453895210061801E-4]
[null,"all_f_East Rural.csv","25-29",2.6165074269041101E-4,2.5450232204305502E-4,2.4825523916488003E-4,2.42348994623268E-4,2.3673362218812501E-4,2.31435809403094E-4,2.26399409899778E-4,2.21657129053938E-4,2.1717501273094299E-4,2.1292770702516201E-4,{"$f":"IF($B2069=\"\",\"\",VLOOKUP($B2069,_tbl!$A:$E,N$2,0))","v":"Female"},{"$f":"IF($B2069=\"\",\"\",VLOOKUP($B2069,_tbl!$A:$E,O$2,0))","v":"East"},{"$f":"IF($B2069=\"\",\"\",VLOOKUP($B2069,_tbl!$A:$E,P$2,0))","v":"Rural"},{"$f":"IF($B2069=\"\",\"\",VLOOKUP($B2069,_tbl!$A:$E,Q$2,0))","v":"Total"},null,2.6165074269041101E-4,2.1292770702516201E-4]
[null,"all_f_East Rural.csv","30-34",3.7707673652228701E-4,3.6823119189720999E-4,3.6031829980133397E-4,3.52831403645787E-4,3.4571704438981197E-4,3.38965481961697E-4,3.3252130865793299E-4,3.2640457496989198E-4,3.2059040814958102E-4,3.15054079703224E-4,{"$f":"IF($B2070=\"\",\"\",VLOOKUP($B2070,_tbl!$A:$E,N$2,0))","v":"Female"},{"$f":"IF($B2070=\"\",\"\",VLOOKUP($B2070,_tbl!$A:$E,O$2,0))","v":"East"},{"$f":"IF($B2070=\"\",\"\",VLOOKUP($B2070,_tbl!$A:$E,P$2,0))","v":"Rural"},{"$f":"IF($B2070=\"\",\"\",VLOOKUP($B2070,_tbl!$A:$E,Q$2,0))","v":"Total"},null,3.7707673652228701E-4,3.15054079703224E-4]
[null,"all_f_East Rural.csv","35-39",5.2638486497477396E-4,5.1387928629745803E-4,5.0091042862116495E-4,4.8913233419189495E-4,4.7774311578704899E-4,4.6710331204514099E-4,4.5678720132244499E-4,4.4708663596083702E-4,4.3786371603862502E-4,4.29093467926369E-4,{"$f":"IF($B2071=\"\",\"\",VLOOKUP($B2071,_tbl!$A:$E,N$2,0))","v":"Female"},{"$f":"IF($B2071=\"\",\"\",VLOOKUP($B2071,_tbl!$A:$E,O$2,0))","v":"East"},{"$f":"IF($B2071=\"\",\"\",VLOOKUP($B2071,_tbl!$A:$E,P$2,0))","v":"Rural"},{"$f":"IF($B2071=\"\",\"\",VLOOKUP($B2071,_tbl!$A:$E,Q$2,0))","v":"Total"},null,5.2638486497477396E-4,4.29093467926369E-4]
[null,"all_f_East Rural.csv","40-44",7.4793284214148196E-4,7.2717096460559296E-4,7.0250838421520405E-4,6.8029468582168505E-4,6.5866614083678204E-4,6.3849681966543005E-4,6.1883605805981205E-4,6.0032299803647305E-4,5.82660231598834E-4,5.6582553924521299E-4,{"$f":"IF($B2072=\"\",\"\",VLOOKUP($B2072,_tbl!$A:$E,N$2,0))","v":"Female"},{"$f":"IF($B2072=\"\",\"\",VLOOKUP($B2072,_tbl!$A:$E,O$2,0))","v":"East"},{"$f":"IF($B2072=\"\",\"\",VLOOKUP($B2072,_tbl!$A:$E,P$2,0))","v":"Rural"},{"$f":"IF($B2072=\"\",\"\",VLOOKUP($B2072,_tbl!$A:$E,Q$2,0))","v":"Total"},null,7.4793284214148196E-4,5.6582553924521299E-4]
[null,"all_f_East Rural.csv","45-49",1.1982069779893499E-3,1.16698949638534E-3,1.1265609243944299E-3,1.0905104827567201E-3,1.0550157007341899E-3,1.0220322007882001E-3,9.8955522850212589E-4,9.5897287019582002E-4,9.2965986014715402E-4,9.0161757101259502E-4,{"$f":"IF($B2073=\"\",\"\",VLOOKUP($B2073,_tbl!$A:$E,N$2,0))","v":"Female"},{"$f":"IF($B2073=\"\",\"\",VLOOKUP($B2073,_tbl!$A:$E,O$2,0))","v":"East"},{"$f":"IF($B2073=\"\",\"\",VLOOKUP($B2073,_tbl!$A:$E,P$2,0))","v":"Rural"},{"$f":"IF($B2073=\"\",\"\",VLOOKUP($B2073,_tbl!$A:$E,Q$2,0))","v":"Total"},null,1.1982069779893499E-3,9.0161757101259502E-4]
[null,"all_f_East Rural.csv","50-54",2.0025961856147802E-3,1.94493443178724E-3,1.8892421233315799E-3,1.8247073590500699E-3,1.76252214050103E-3,1.6987755754519899E-3,1.6393807161879099E-3,1.5800008710083E-3,1.5221976274921701E-3,1.4660655708643999E-3,{"$f":"IF($B2074=\"\",\"\",VLOOKUP($B2074,_tbl!$A:$E,N$2,0))","v":"Female"},{"$f":"IF($B2074=\"\",\"\",VLOOKUP($B2074,_tbl!$A:$E,O$2,0))","v":"East"},{"$f":"IF($B2074=\"\",\"\",VLOOKUP($B2074,_tbl!$A:$E,P$2,0))","v":"Rural"},{"$f":"IF($B2074=\"\",\"\",VLOOKUP($B2074,_tbl!$A:$E,Q$2,0))","v":"Total"},null,2.0025961856147802E-3,1.4660655708643999E-3]
[null,"all_f_East Rural.csv","55-59",3.4362532801124998E-3,3.3566666930244901E-3,3.2775214267537602E-3,3.1867703866617801E-3,3.09820394710714E-3,3.0071785567331202E-3,2.9222578867963301E-3,2.8364849597699499E-3,2.7522581058901001E-3,2.6700915110538502E-3,{"$f":"IF($B2075=\"\",\"\",VLOOKUP($B2075,_tbl!$A:$E,N$2,0))","v":"Female"},{"$f":"IF($B2075=\"\",\"\",VLOOKUP($B2075,_tbl!$A:$E,O$2,0))","v":"East"},{"$f":"IF($B2075=\"\",\"\",VLOOKUP($B2075,_tbl!$A:$E,P$2,0))","v":"Rural"},{"$f":"IF($B2075=\"\",\"\",VLOOKUP($B2075,_tbl!$A:$E,Q$2,0))","v":"Total"},null,3.4362532801124998E-3,2.6700915110538502E-3]
[null,"all_f_East Rural.csv","60-64",5.4533550359821296E-3,5.3482868817743504E-3,5.2395551939634103E-3,5.1129652568665199E-3,4.9870202489935801E-3,4.8570832157815297E-3,4.7378154776229102E-3,4.6160863571985599E-3,4.49586727116069E-3,4.3789275919483197E-3,{"$f":"IF($B2076=\"\",\"\",VLOOKUP($B2076,_tbl!$A:$E,N$2,0))","v":"Female"},{"$f":"IF($B2076=\"\",\"\",VLOOKUP($B2076,_tbl!$A:$E,O$2,0))","v":"East"},{"$f":"IF($B2076=\"\",\"\",VLOOKUP($B2076,_tbl!$A:$E,P$2,0))","v":"Rural"},{"$f":"IF($B2076=\"\",\"\",VLOOKUP($B2076,_tbl!$A:$E,Q$2,0))","v":"Total"},null,5.4533550359821296E-3,4.3789275919483197E-3]
[null,"all_f_East Rural.csv","65-69",8.3705194102735407E-3,8.1702216221208098E-3,7.9819399005310893E-3,7.7543669053105196E-3,7.5211781548527399E-3,7.27800949824353E-3,7.0621126398978298E-3,6.8371453781383602E-3,6.6127506350394097E-3,6.3955191056221904E-3,{"$f":"IF($B2077=\"\",\"\",VLOOKUP($B2077,_tbl!$A:$E,N$2,0))","v":"Female"},{"$f":"IF($B2077=\"\",\"\",VLOOKUP($B2077,_tbl!$A:$E,O$2,0))","v":"East"},{"$f":"IF($B2077=\"\",\"\",VLOOKUP($B2077,_tbl!$A:$E,P$2,0))","v":"Rural"},{"$f":"IF($B2077=\"\",\"\",VLOOKUP($B2077,_tbl!$A:$E,Q$2,0))","v":"Total"},null,8.3705194102735407E-3,6.3955191056221904E-3]
[null,"all_f_East Rural.csv","70-74",1.42227318543236E-2,1.3746013514114299E-2,1.33253057527753E-2,1.28351274164408E-2,1.2323947153922E-2,1.1793565815554199E-2,1.13311852262437E-2,1.08444935329918E-2,1.0355093010160899E-2,9.8824469773106105E-3,{"$f":"IF($B2078=\"\",\"\",VLOOKUP($B2078,_tbl!$A:$E,N$2,0))","v":"Female"},{"$f":"IF($B2078=\"\",\"\",VLOOKUP($B2078,_tbl!$A:$E,O$2,0))","v":"East"},{"$f":"IF($B2078=\"\",\"\",VLOOKUP($B2078,_tbl!$A:$E,P$2,0))","v":"Rural"},{"$f":"IF($B2078=\"\",\"\",VLOOKUP($B2078,_tbl!$A:$E,Q$2,0))","v":"Total"},null,1.42227318543236E-2,9.8824469773106105E-3]
[null,"all_f_East Rural.csv","75-79",3.0492443023402802E-2,2.9305376290587201E-2,2.8396529937771E-2,2.74308659285993E-2,2.64397331118062E-2,2.5425676999825501E-2,2.4557375916468199E-2,2.3636858339524801E-2,2.2704294189042001E-2,2.1802812753074701E-2,{"$f":"IF($B2079=\"\",\"\",VLOOKUP($B2079,_tbl!$A:$E,N$2,0))","v":"Female"},{"$f":"IF($B2079=\"\",\"\",VLOOKUP($B2079,_tbl!$A:$E,O$2,0))","v":"East"},{"$f":"IF($B2079=\"\",\"\",VLOOKUP($B2079,_tbl!$A:$E,P$2,0))","v":"Rural"},{"$f":"IF($B2079=\"\",\"\",VLOOKUP($B2079,_tbl!$A:$E,Q$2,0))","v":"Total"},null,3.0492443023402802E-2,2.1802812753074701E-2]
[null,"all_f_East Rural.csv","80-84",7.3222587037535494E-2,7.0795870126836205E-2,6.9185829643222396E-2,6.7867437286233095E-2,6.6635659890965898E-2,6.5466657934097797E-2,6.4368987037587602E-2,6.3310447303758996E-2,6.2284416975026999E-2,6.1287588724282402E-2,{"$f":"IF($B2080=\"\",\"\",VLOOKUP($B2080,_tbl!$A:$E,N$2,0))","v":"Female"},{"$f":"IF($B2080=\"\",\"\",VLOOKUP($B2080,_tbl!$A:$E,O$2,0))","v":"East"},{"$f":"IF($B2080=\"\",\"\",VLOOKUP($B2080,_tbl!$A:$E,P$2,0))","v":"Rural"},{"$f":"IF($B2080=\"\",\"\",VLOOKUP($B2080,_tbl!$A:$E,Q$2,0))","v":"Total"},null,7.3222587037535494E-2,6.1287588724282402E-2]
[null,"all_f_East Rural.csv","85+",0.176932570075892,0.168320053367288,0.16495499854729601,0.16274193666860401,0.160869401047918,0.15920161785745801,0.157756402147577,0.156446140234687,0.155225955896903,0.154073699800059,{"$f":"IF($B2081=\"\",\"\",VLOOKUP($B2081,_tbl!$A:$E,N$2,0))","v":"Female"},{"$f":"IF($B2081=\"\",\"\",VLOOKUP($B2081,_tbl!$A:$E,O$2,0))","v":"East"},{"$f":"IF($B2081=\"\",\"\",VLOOKUP($B2081,_tbl!$A:$E,P$2,0))","v":"Rural"},{"$f":"IF($B2081=\"\",\"\",VLOOKUP($B2081,_tbl!$A:$E,Q$2,0))","v":"Total"},null,0.176932570075892,0.154073699800059]
[null,null,null,null,null,null,null,null,null,null,null,null,null,{"$f":"IF($B2082=\"\",\"\",VLOOKUP($B2082,_tbl!$A:$E,N$2,0))","v":""},{"$f":"IF($B2082=\"\",\"\",VLOOKUP($B2082,_tbl!$A:$E,O$2,0))","v":""},{"$f":"IF($B2082=\"\",\"\",VLOOKUP($B2082,_tbl!$A:$E,P$2,0))","v":""},{"$f":"IF($B2082=\"\",\"\",VLOOKUP($B2082,_tbl!$A:$E,Q$2,0))","v":""}]
[null,null,null,2020,2021,2022,2023,2024,2025,2026,2027,2028,2029,{"$f":"IF($B2083=\"\",\"\",VLOOKUP($B2083,_tbl!$A:$E,N$2,0))","v":""},{"$f":"IF($B2083=\"\",\"\",VLOOKUP($B2083,_tbl!$A:$E,O$2,0))","v":""},{"$f":"IF($B2083=\"\",\"\",VLOOKUP($B2083,_tbl!$A:$E,P$2,0))","v":""},{"$f":"IF($B2083=\"\",\"\",VLOOKUP($B2083,_tbl!$A:$E,Q$2,0))","v":""}]
[null,"all_f_East Urban cancer.csv","1-4",2.4178891376923599E-5,2.41984309504422E-5,2.4172438419652899E-5,2.4153671624897601E-5,2.4121139447945099E-5,2.4101813788353099E-5,2.4087151182500301E-5,2.4088901783924E-5,2.40970240839865E-5,2.4112141478079901E-5,{"$f":"IF($B2084=\"\",\"\",VLOOKUP($B2084,_tbl!$A:$E,N$2,0))","v":"Female"},{"$f":"IF($B2084=\"\",\"\",VLOOKUP($B2084,_tbl!$A:$E,O$2,0))","v":"East"},{"$f":"IF($B2084=\"\",\"\",VLOOKUP($B2084,_tbl!$A:$E,P$2,0))","v":"Urban"},{"$f":"IF($B2084=\"\",\"\",VLOOKUP($B2084,_tbl!$A:$E,Q$2,0))","v":"Cancer"},null,{"$f":"MAX(D2084:M2084)","v":2.41984309504422E-5},{"$f":"MIN(D2084:M2084)","v":2.4087151182500301E-5}]
[null,"all_f_East Urban cancer.csv","5-9",2.1021997686070902E-5,2.1047887890089201E-5,2.0936430116312102E-5,2.0839319759857002E-5,2.0701536599731101E-5,2.0593457713551699E-5,2.04901655184544E-5,2.0424843810961899E-5,2.0373948242005E-5,2.0340053733667999E-5,{"$f":"IF($B2085=\"\",\"\",VLOOKUP($B2085,_tbl!$A:$E,N$2,0))","v":"Female"},{"$f":"IF($B2085=\"\",\"\",VLOOKUP($B2085,_tbl!$A:$E,O$2,0))","v":"East"},{"$f":"IF($B2085=\"\",\"\",VLOOKUP($B2085,_tbl!$A:$E,P$2,0))","v":"Urban"},{"$f":"IF($B2085=\"\",\"\",VLOOKUP($B2085,_tbl!$A:$E,Q$2,0))","v":"Cancer"},null,2.1047887890089201E-5,2.0340053733667999E-5]
[null,"all_f_East Urban cancer.csv","10-14",2.2462021361700701E-5,2.2398675732361299E-5,2.2407585716682801E-5,2.2393529198570999E-5,2.24312890854365E-5,2.2430157429283199E-5,2.2418824922086899E-5,2.2366629856972001E-5,2.2300255944692001E-5,2.2214669479009801E-5,{"$f":"IF($B2086=\"\",\"\",VLOOKUP($B2086,_tbl!$A:$E,N$2,0))","v":"Female"},{"$f":"IF($B2086=\"\",\"\",VLOOKUP($B2086,_tbl!$A:$E,O$2,0))","v":"East"},{"$f":"IF($B2086=\"\",\"\",VLOOKUP($B2086,_tbl!$A:$E,P$2,0))","v":"Urban"},{"$f":"IF($B2086=\"\",\"\",VLOOKUP($B2086,_tbl!$A:$E,Q$2,0))","v":"Cancer"},null,2.2462021361700701E-5,2.2214669479009801E-5]
[null,"all_f_East Urban cancer.csv","15-19",2.5811300421826001E-5,2.5575517285741201E-5,2.5697822446324699E-5,2.5751417611598099E-5,2.5923175512444699E-5,2.5985729516034501E-5,2.6019933974296298E-5,2.59600809390455E-5,2.5869015175797301E-5,2.5740243882967099E-5,{"$f":"IF($B2087=\"\",\"\",VLOOKUP($B2087,_tbl!$A:$E,N$2,0))","v":"Female"},{"$f":"IF($B2087=\"\",\"\",VLOOKUP($B2087,_tbl!$A:$E,O$2,0))","v":"East"},{"$f":"IF($B2087=\"\",\"\",VLOOKUP($B2087,_tbl!$A:$E,P$2,0))","v":"Urban"},{"$f":"IF($B2087=\"\",\"\",VLOOKUP($B2087,_tbl!$A:$E,Q$2,0))","v":"Cancer"},null,2.6019933974296298E-5,2.5575517285741201E-5]
[null,"all_f_East Urban cancer.csv","20-24",3.3910928947742702E-5,3.3510991473884299E-5,3.3557828099537602E-5,3.3528233055615803E-5,3.3618231033384402E-5,3.35943131525201E-5,3.3541562978920897E-5,3.3399468563313397E-5,3.3231395970113199E-5,3.3034203488635402E-5,{"$f":"IF($B2088=\"\",\"\",VLOOKUP($B2088,_tbl!$A:$E,N$2,0))","v":"Female"},{"$f":"IF($B2088=\"\",\"\",VLOOKUP($B2088,_tbl!$A:$E,O$2,0))","v":"East"},{"$f":"IF($B2088=\"\",\"\",VLOOKUP($B2088,_tbl!$A:$E,P$2,0))","v":"Urban"},{"$f":"IF($B2088=\"\",\"\",VLOOKUP($B2088,_tbl!$A:$E,Q$2,0))","v":"Cancer"},null,3.3910928947742702E-5,3.3034203488635402E-5]
[null,"all_f_East Urban cancer.csv","25-29",5.6321169139052399E-5,5.5847741817056502E-5,5.5732834641989502E-5,5.55514413372904E-5,5.5465040192246001E-5,5.52897906101377E-5,5.5092913314859898E-5,5.4821900726042203E-5,5.4529362497107702E-5,5.4214814025453299E-5,{"$f":"IF($B2089=\"\",\"\",VLOOKUP($B2089,_tbl!$A:$E,N$2,0))","v":"Female"},{"$f":"IF($B2089=\"\",\"\",VLOOKUP($B2089,_tbl!$A:$E,O$2,0))","v":"East"},{"$f":"IF($B2089=\"\",\"\",VLOOKUP($B2089,_tbl!$A:$E,P$2,0))","v":"Urban"},{"$f":"IF($B2089=\"\",\"\",VLOOKUP($B2089,_tbl!$A:$E,Q$2,0))","v":"Cancer"},null,5.6321169139052399E-5,5.4214814025453299E-5]
[null,"all_f_East Urban cancer.csv","30-34",1.05897052095162E-4,1.0582556411081E-4,1.05827868098471E-4,1.05807481689138E-4,1.05789007725582E-4,1.05748555171697E-4,1.05691901431193E-4,1.05617061490131E-4,1.05532446663529E-4,1.05438855439753E-4,{"$f":"IF($B2090=\"\",\"\",VLOOKUP($B2090,_tbl!$A:$E,N$2,0))","v":"Female"},{"$f":"IF($B2090=\"\",\"\",VLOOKUP($B2090,_tbl!$A:$E,O$2,0))","v":"East"},{"$f":"IF($B2090=\"\",\"\",VLOOKUP($B2090,_tbl!$A:$E,P$2,0))","v":"Urban"},{"$f":"IF($B2090=\"\",\"\",VLOOKUP($B2090,_tbl!$A:$E,Q$2,0))","v":"Cancer"},null,1.05897052095162E-4,1.05438855439753E-4]
[null,"all_f_East Urban cancer.csv","35-39",1.8688694900941699E-4,1.8765427780019701E-4,1.8810341795420801E-4,1.8874521924605199E-4,1.8929730328854001E-4,1.8989880666648101E-4,1.90388907745972E-4,1.9089158763580501E-4,1.9136897023962801E-4,1.9183108754480601E-4,{"$f":"IF($B2091=\"\",\"\",VLOOKUP($B2091,_tbl!$A:$E,N$2,0))","v":"Female"},{"$f":"IF($B2091=\"\",\"\",VLOOKUP($B2091,_tbl!$A:$E,O$2,0))","v":"East"},{"$f":"IF($B2091=\"\",\"\",VLOOKUP($B2091,_tbl!$A:$E,P$2,0))","v":"Urban"},{"$f":"IF($B2091=\"\",\"\",VLOOKUP($B2091,_tbl!$A:$E,Q$2,0))","v":"Cancer"},null,1.9183108754480601E-4,1.8688694900941699E-4]
[null,"all_f_East Urban cancer.csv","40-44",2.9678707766429298E-4,2.9443199655675102E-4,2.9198333385605001E-4,2.9050423683670202E-4,2.8886012923761599E-4,2.8760431424593202E-4,2.8614368296281102E-4,2.8486836613787102E-4,2.8361974517281699E-4,2.8244556175965299E-4,{"$f":"IF($B2092=\"\",\"\",VLOOKUP($B2092,_tbl!$A:$E,N$2,0))","v":"Female"},{"$f":"IF($B2092=\"\",\"\",VLOOKUP($B2092,_tbl!$A:$E,O$2,0))","v":"East"},{"$f":"IF($B2092=\"\",\"\",VLOOKUP($B2092,_tbl!$A:$E,P$2,0))","v":"Urban"},{"$f":"IF($B2092=\"\",\"\",VLOOKUP($B2092,_tbl!$A:$E,Q$2,0))","v":"Cancer"},null,2.9678707766429298E-4,2.8244556175965299E-4]
[null,"all_f_East Urban cancer.csv","45-49",4.7741676867453899E-4,4.6884244860128299E-4,4.5794636149577102E-4,4.4934974180269E-4,4.4009307841020001E-4,4.3214238984514499E-4,4.2403971873994503E-4,4.16833828938574E-4,4.0994271035318898E-4,4.0349339243586798E-4,{"$f":"IF($B2093=\"\",\"\",VLOOKUP($B2093,_tbl!$A:$E,N$2,0))","v":"Female"},{"$f":"IF($B2093=\"\",\"\",VLOOKUP($B2093,_tbl!$A:$E,O$2,0))","v":"East"},{"$f":"IF($B2093=\"\",\"\",VLOOKUP($B2093,_tbl!$A:$E,P$2,0))","v":"Urban"},{"$f":"IF($B2093=\"\",\"\",VLOOKUP($B2093,_tbl!$A:$E,Q$2,0))","v":"Cancer"},null,4.7741676867453899E-4,4.0349339243586798E-4]
[null,"all_f_East Urban cancer.csv","50-54",8.3437751665140002E-4,8.1771868071158502E-4,7.9601932590004504E-4,7.7471550083344301E-4,7.5089423594316702E-4,7.2892317445931204E-4,7.0774024793878799E-4,6.8892195209723796E-4,6.7117352656110901E-4,6.5485237070143801E-4,{"$f":"IF($B2094=\"\",\"\",VLOOKUP($B2094,_tbl!$A:$E,N$2,0))","v":"Female"},{"$f":"IF($B2094=\"\",\"\",VLOOKUP($B2094,_tbl!$A:$E,O$2,0))","v":"East"},{"$f":"IF($B2094=\"\",\"\",VLOOKUP($B2094,_tbl!$A:$E,P$2,0))","v":"Urban"},{"$f":"IF($B2094=\"\",\"\",VLOOKUP($B2094,_tbl!$A:$E,Q$2,0))","v":"Cancer"},null,8.3437751665140002E-4,6.5485237070143801E-4]
[null,"all_f_East Urban cancer.csv","55-59",1.5025262763392899E-3,1.4939023924321201E-3,1.4854014882309901E-3,1.4770346507680799E-3,1.46783866529988E-3,1.45876872625363E-3,1.4492953581253601E-3,1.4397847672973001E-3,1.43009749548543E-3,1.42038827369649E-3,{"$f":"IF($B2095=\"\",\"\",VLOOKUP($B2095,_tbl!$A:$E,N$2,0))","v":"Female"},{"$f":"IF($B2095=\"\",\"\",VLOOKUP($B2095,_tbl!$A:$E,O$2,0))","v":"East"},{"$f":"IF($B2095=\"\",\"\",VLOOKUP($B2095,_tbl!$A:$E,P$2,0))","v":"Urban"},{"$f":"IF($B2095=\"\",\"\",VLOOKUP($B2095,_tbl!$A:$E,Q$2,0))","v":"Cancer"},null,1.5025262763392899E-3,1.42038827369649E-3]
[null,"all_f_East Urban cancer.csv","60-64",2.3156248572094298E-3,2.30914408398617E-3,2.3044918701753199E-3,2.29864824098283E-3,2.2907644813465302E-3,2.2824386651814099E-3,2.2733452791824601E-3,2.2637010433112499E-3,2.2534473536523999E-3,2.24291690447769E-3,{"$f":"IF($B2096=\"\",\"\",VLOOKUP($B2096,_tbl!$A:$E,N$2,0))","v":"Female"},{"$f":"IF($B2096=\"\",\"\",VLOOKUP($B2096,_tbl!$A:$E,O$2,0))","v":"East"},{"$f":"IF($B2096=\"\",\"\",VLOOKUP($B2096,_tbl!$A:$E,P$2,0))","v":"Urban"},{"$f":"IF($B2096=\"\",\"\",VLOOKUP($B2096,_tbl!$A:$E,Q$2,0))","v":"Cancer"},null,2.3156248572094298E-3,2.24291690447769E-3]
[null,"all_f_East Urban cancer.csv","65-69",3.0958987641542001E-3,3.0488696775715098E-3,3.0024318974391502E-3,2.94944697784688E-3,2.8921047510131999E-3,2.8328241763705699E-3,2.7766163845464099E-3,2.7184341827754198E-3,2.6595768523469299E-3,2.6016224118392802E-3,{"$f":"IF($B2097=\"\",\"\",VLOOKUP($B2097,_tbl!$A:$E,N$2,0))","v":"Female"},{"$f":"IF($B2097=\"\",\"\",VLOOKUP($B2097,_tbl!$A:$E,O$2,0))","v":"East"},{"$f":"IF($B2097=\"\",\"\",VLOOKUP($B2097,_tbl!$A:$E,P$2,0))","v":"Urban"},{"$f":"IF($B2097=\"\",\"\",VLOOKUP($B2097,_tbl!$A:$E,Q$2,0))","v":"Cancer"},null,3.0958987641542001E-3,2.6016224118392802E-3]
[null,"all_f_East Urban cancer.csv","70-74",4.6639599638884999E-3,4.6212735381987603E-3,4.5739418427904301E-3,4.5222734185864401E-3,4.4671548367333502E-3,4.4110209351996997E-3,4.3570839446731499E-3,4.3022670684515398E-3,4.2473986496632801E-3,4.1935424084189E-3,{"$f":"IF($B2098=\"\",\"\",VLOOKUP($B2098,_tbl!$A:$E,N$2,0))","v":"Female"},{"$f":"IF($B2098=\"\",\"\",VLOOKUP($B2098,_tbl!$A:$E,O$2,0))","v":"East"},{"$f":"IF($B2098=\"\",\"\",VLOOKUP($B2098,_tbl!$A:$E,P$2,0))","v":"Urban"},{"$f":"IF($B2098=\"\",\"\",VLOOKUP($B2098,_tbl!$A:$E,Q$2,0))","v":"Cancer"},null,4.6639599638884999E-3,4.1935424084189E-3]
[null,"all_f_East Urban cancer.csv","75-79",7.2605691161775204E-3,7.2943768580164504E-3,7.31160270041269E-3,7.3332811882311603E-3,7.3569152865596904E-3,7.3826096755597098E-3,7.3999887711621998E-3,7.4214796194599702E-3,7.4445728011605303E-3,7.4664963541355104E-3,{"$f":"IF($B2099=\"\",\"\",VLOOKUP($B2099,_tbl!$A:$E,N$2,0))","v":"Female"},{"$f":"IF($B2099=\"\",\"\",VLOOKUP($B2099,_tbl!$A:$E,O$2,0))","v":"East"},{"$f":"IF($B2099=\"\",\"\",VLOOKUP($B2099,_tbl!$A:$E,P$2,0))","v":"Urban"},{"$f":"IF($B2099=\"\",\"\",VLOOKUP($B2099,_tbl!$A:$E,Q$2,0))","v":"Cancer"},null,7.4664963541355104E-3,7.2605691161775204E-3]
[null,"all_f_East Urban cancer.csv","80-84",1.14034792959695E-2,1.12705659622717E-2,1.12706094629805E-2,1.1253176280365399E-2,1.12338722043908E-2,1.12051405908204E-2,1.12174816840242E-2,1.12069921167006E-2,1.11860708050967E-2,1.1168716332673301E-2,{"$f":"IF($B2100=\"\",\"\",VLOOKUP($B2100,_tbl!$A:$E,N$2,0))","v":"Female"},{"$f":"IF($B2100=\"\",\"\",VLOOKUP($B2100,_tbl!$A:$E,O$2,0))","v":"East"},{"$f":"IF($B2100=\"\",\"\",VLOOKUP($B2100,_tbl!$A:$E,P$2,0))","v":"Urban"},{"$f":"IF($B2100=\"\",\"\",VLOOKUP($B2100,_tbl!$A:$E,Q$2,0))","v":"Cancer"},null,1.14034792959695E-2,1.1168716332673301E-2]
[null,"all_f_East Urban cancer.csv","85+",1.81829387547459E-2,1.7919703669626901E-2,1.7878821483195199E-2,1.7868558030336899E-2,1.7868027709085899E-2,1.7863827013108E-2,1.79352696828977E-2,1.7975548438662899E-2,1.8001413131867299E-2,1.8035986715692499E-2,{"$f":"IF($B2101=\"\",\"\",VLOOKUP($B2101,_tbl!$A:$E,N$2,0))","v":"Female"},{"$f":"IF($B2101=\"\",\"\",VLOOKUP($B2101,_tbl!$A:$E,O$2,0))","v":"East"},{"$f":"IF($B2101=\"\",\"\",VLOOKUP($B2101,_tbl!$A:$E,P$2,0))","v":"Urban"},{"$f":"IF($B2101=\"\",\"\",VLOOKUP($B2101,_tbl!$A:$E,Q$2,0))","v":"Cancer"},null,1.81829387547459E-2,1.7863827013108E-2]
[null,null,null,null,null,null,null,null,null,null,null,null,null,{"$f":"IF($B2102=\"\",\"\",VLOOKUP($B2102,_tbl!$A:$E,N$2,0))","v":""},{"$f":"IF($B2102=\"\",\"\",VLOOKUP($B2102,_tbl!$A:$E,O$2,0))","v":""},{"$f":"IF($B2102=\"\",\"\",VLOOKUP($B2102,_tbl!$A:$E,P$2,0))","v":""},{"$f":"IF($B2102=\"\",\"\",VLOOKUP($B2102,_tbl!$A:$E,Q$2,0))","v":""}]
[null,null,null,2020,2021,2022,2023,2024,2025,2026,2027,2028,2029,{"$f":"IF($B2103=\"\",\"\",VLOOKUP($B2103,_tbl!$A:$E,N$2,0))","v":""},{"$f":"IF($B2103=\"\",\"\",VLOOKUP($B2103,_tbl!$A:$E,O$2,0))","v":""},{"$f":"IF($B2103=\"\",\"\",VLOOKUP($B2103,_tbl!$A:$E,P$2,0))","v":""},{"$f":"IF($B2103=\"\",\"\",VLOOKUP($B2103,_tbl!$A:$E,Q$2,0))","v":""}]
[null,"all_f_East Urban circulatory.csv","1-4",1.2767543527151201E-5,1.2543314172406999E-5,1.23230228346683E-5,1.21066003527053E-5,1.1893978779929E-5,1.16850913630588E-5,1.14798725211653E-5,1.12782578250813E-5,1.10801839771731E-5,1.08855887914692E-5,{"$f":"IF($B2104=\"\",\"\",VLOOKUP($B2104,_tbl!$A:$E,N$2,0))","v":"Female"},{"$f":"IF($B2104=\"\",\"\",VLOOKUP($B2104,_tbl!$A:$E,O$2,0))","v":"East"},{"$f":"IF($B2104=\"\",\"\",VLOOKUP($B2104,_tbl!$A:$E,P$2,0))","v":"Urban"},{"$f":"IF($B2104=\"\",\"\",VLOOKUP($B2104,_tbl!$A:$E,Q$2,0))","v":"Circulatory"},null,{"$f":"MAX(D2104:M2104)","v":1.2767543527151201E-5},{"$f":"MIN(D2104:M2104)","v":1.08855887914692E-5}]
[null,"all_f_East Urban circulatory.csv","5-9",1.0384893296523299E-5,1.03474854305036E-5,1.03102123129498E-5,1.02730734584786E-5,1.0236068383455501E-5,1.0199196605987601E-5,1.01624576459182E-5,1.01258510248202E-5,1.0089376265989601E-5,1.00530328944398E-5,{"$f":"IF($B2105=\"\",\"\",VLOOKUP($B2105,_tbl!$A:$E,N$2,0))","v":"Female"},{"$f":"IF($B2105=\"\",\"\",VLOOKUP($B2105,_tbl!$A:$E,O$2,0))","v":"East"},{"$f":"IF($B2105=\"\",\"\",VLOOKUP($B2105,_tbl!$A:$E,P$2,0))","v":"Urban"},{"$f":"IF($B2105=\"\",\"\",VLOOKUP($B2105,_tbl!$A:$E,Q$2,0))","v":"Circulatory"},null,1.0384893296523299E-5,1.00530328944398E-5]
[null,"all_f_East Urban circulatory.csv","10-14",1.16105242660608E-5,1.16516590138916E-5,1.16929394973878E-5,1.17343662328739E-5,1.1775939738504E-5,1.1817660534267799E-5,1.18595291419971E-5,1.19015460853727E-5,1.1943711889930699E-5,1.1986027083068999E-5,{"$f":"IF($B2106=\"\",\"\",VLOOKUP($B2106,_tbl!$A:$E,N$2,0))","v":"Female"},{"$f":"IF($B2106=\"\",\"\",VLOOKUP($B2106,_tbl!$A:$E,O$2,0))","v":"East"},{"$f":"IF($B2106=\"\",\"\",VLOOKUP($B2106,_tbl!$A:$E,P$2,0))","v":"Urban"},{"$f":"IF($B2106=\"\",\"\",VLOOKUP($B2106,_tbl!$A:$E,Q$2,0))","v":"Circulatory"},null,1.1986027083068999E-5,1.16105242660608E-5]
[null,"all_f_East Urban circulatory.csv","15-19",1.15154575052106E-5,1.12858160709885E-5,1.10607541498501E-5,1.0840180417073901E-5,1.0624005369137E-5,1.04121412873974E-5,1.02045022024996E-5,1.0001003859490199E-5,9.8015636836295801E-6,9.6061007468847498E-6,{"$f":"IF($B2107=\"\",\"\",VLOOKUP($B2107,_tbl!$A:$E,N$2,0))","v":"Female"},{"$f":"IF($B2107=\"\",\"\",VLOOKUP($B2107,_tbl!$A:$E,O$2,0))","v":"East"},{"$f":"IF($B2107=\"\",\"\",VLOOKUP($B2107,_tbl!$A:$E,P$2,0))","v":"Urban"},{"$f":"IF($B2107=\"\",\"\",VLOOKUP($B2107,_tbl!$A:$E,Q$2,0))","v":"Circulatory"},null,1.15154575052106E-5,9.6061007468847498E-6]
[null,"all_f_East Urban circulatory.csv","20-24",1.3137913155308399E-5,1.25934340017584E-5,1.20715198891816E-5,1.1571235646652E-5,1.1091684859861301E-5,1.06320082649144E-5,1.0191382208691901E-5,9.7690171730203105E-6,9.3641563600051306E-6,8.9760743359932004E-6,{"$f":"IF($B2108=\"\",\"\",VLOOKUP($B2108,_tbl!$A:$E,N$2,0))","v":"Female"},{"$f":"IF($B2108=\"\",\"\",VLOOKUP($B2108,_tbl!$A:$E,O$2,0))","v":"East"},{"$f":"IF($B2108=\"\",\"\",VLOOKUP($B2108,_tbl!$A:$E,P$2,0))","v":"Urban"},{"$f":"IF($B2108=\"\",\"\",VLOOKUP($B2108,_tbl!$A:$E,Q$2,0))","v":"Circulatory"},null,1.3137913155308399E-5,8.9760743359932004E-6]
[null,"all_f_East Urban circulatory.csv","25-29",2.0684017961113202E-5,1.9867887722088599E-5,1.9083959571086801E-5,1.83309629088538E-5,1.7607677270227801E-5,1.6912930345997002E-5,1.6245596082807101E-5,1.56045928580427E-5,1.4988881726721E-5,1.43974647375587E-5,{"$f":"IF($B2109=\"\",\"\",VLOOKUP($B2109,_tbl!$A:$E,N$2,0))","v":"Female"},{"$f":"IF($B2109=\"\",\"\",VLOOKUP($B2109,_tbl!$A:$E,O$2,0))","v":"East"},{"$f":"IF($B2109=\"\",\"\",VLOOKUP($B2109,_tbl!$A:$E,P$2,0))","v":"Urban"},{"$f":"IF($B2109=\"\",\"\",VLOOKUP($B2109,_tbl!$A:$E,Q$2,0))","v":"Circulatory"},null,2.0684017961113202E-5,1.43974647375587E-5]
[null,"all_f_East Urban circulatory.csv","30-34",3.6689886052635302E-5,3.5533551467729297E-5,3.4413660432152702E-5,3.3329064374977197E-5,3.2278650924140697E-5,3.1261342765588602E-5,3.0276096538369702E-5,2.93219017645553E-5,2.83977798128837E-5,2.7502782895066201E-5,{"$f":"IF($B2110=\"\",\"\",VLOOKUP($B2110,_tbl!$A:$E,N$2,0))","v":"Female"},{"$f":"IF($B2110=\"\",\"\",VLOOKUP($B2110,_tbl!$A:$E,O$2,0))","v":"East"},{"$f":"IF($B2110=\"\",\"\",VLOOKUP($B2110,_tbl!$A:$E,P$2,0))","v":"Urban"},{"$f":"IF($B2110=\"\",\"\",VLOOKUP($B2110,_tbl!$A:$E,Q$2,0))","v":"Circulatory"},null,3.6689886052635302E-5,2.7502782895066201E-5]
[null,"all_f_East Urban circulatory.csv","35-39",5.9093902611569903E-5,5.68712325794244E-5,5.4732162747189203E-5,5.2673548701467599E-5,5.0692364298145099E-5,4.87856972139842E-5,4.69507446655362E-5,4.5184809289073798E-5,4.3485295175491398E-5,4.1849704054341701E-5,{"$f":"IF($B2111=\"\",\"\",VLOOKUP($B2111,_tbl!$A:$E,N$2,0))","v":"Female"},{"$f":"IF($B2111=\"\",\"\",VLOOKUP($B2111,_tbl!$A:$E,O$2,0))","v":"East"},{"$f":"IF($B2111=\"\",\"\",VLOOKUP($B2111,_tbl!$A:$E,P$2,0))","v":"Urban"},{"$f":"IF($B2111=\"\",\"\",VLOOKUP($B2111,_tbl!$A:$E,Q$2,0))","v":"Circulatory"},null,5.9093902611569903E-5,4.1849704054341701E-5]
[null,"all_f_East Urban circulatory.csv","40-44",8.9105363599210495E-5,8.4366563535137999E-5,7.98797822625296E-5,7.5631616921928996E-5,7.1609377444543405E-5,6.7801048644621395E-5,6.4195254327833795E-5,6.0781223308441901E-5,5.7548757233739802E-5,5.44882001196565E-5,{"$f":"IF($B2112=\"\",\"\",VLOOKUP($B2112,_tbl!$A:$E,N$2,0))","v":"Female"},{"$f":"IF($B2112=\"\",\"\",VLOOKUP($B2112,_tbl!$A:$E,O$2,0))","v":"East"},{"$f":"IF($B2112=\"\",\"\",VLOOKUP($B2112,_tbl!$A:$E,P$2,0))","v":"Urban"},{"$f":"IF($B2112=\"\",\"\",VLOOKUP($B2112,_tbl!$A:$E,Q$2,0))","v":"Circulatory"},null,8.9105363599210495E-5,5.44882001196565E-5]
[null,"all_f_East Urban circulatory.csv","45-49",1.49719373415633E-4,1.4058845218857901E-4,1.3201439758841999E-4,1.2396324804299399E-4,1.1640311319132E-4,1.09304047566839E-4,1.0263793198432E-4,9.6378362160615493E-5,9.0500544128088796E-5,8.4981196026457102E-5,{"$f":"IF($B2113=\"\",\"\",VLOOKUP($B2113,_tbl!$A:$E,N$2,0))","v":"Female"},{"$f":"IF($B2113=\"\",\"\",VLOOKUP($B2113,_tbl!$A:$E,O$2,0))","v":"East"},{"$f":"IF($B2113=\"\",\"\",VLOOKUP($B2113,_tbl!$A:$E,P$2,0))","v":"Urban"},{"$f":"IF($B2113=\"\",\"\",VLOOKUP($B2113,_tbl!$A:$E,Q$2,0))","v":"Circulatory"},null,1.49719373415633E-4,8.4981196026457102E-5]
[null,"all_f_East Urban circulatory.csv","50-54",3.0225210360661898E-4,2.8575670036333402E-4,2.7016153346220002E-4,2.5541747252066498E-4,2.4147806844593701E-4,2.2829940710365E-4,2.15839970972549E-4,2.04060508349371E-4,1.9292390969186899E-4,1.8239509071041199E-4,{"$f":"IF($B2114=\"\",\"\",VLOOKUP($B2114,_tbl!$A:$E,N$2,0))","v":"Female"},{"$f":"IF($B2114=\"\",\"\",VLOOKUP($B2114,_tbl!$A:$E,O$2,0))","v":"East"},{"$f":"IF($B2114=\"\",\"\",VLOOKUP($B2114,_tbl!$A:$E,P$2,0))","v":"Urban"},{"$f":"IF($B2114=\"\",\"\",VLOOKUP($B2114,_tbl!$A:$E,Q$2,0))","v":"Circulatory"},null,3.0225210360661898E-4,1.8239509071041199E-4]
[null,"all_f_East Urban circulatory.csv","55-59",6.59225168550446E-4,6.3052035829726303E-4,6.0306544894438E-4,5.7680601573696297E-4,5.5169000375120895E-4,5.2766762470418595E-4,5.0469125825691199E-4,4.8271535761501197E-4,4.6169635923983698E-4,4.4159259649105402E-4,{"$f":"IF($B2115=\"\",\"\",VLOOKUP($B2115,_tbl!$A:$E,N$2,0))","v":"Female"},{"$f":"IF($B2115=\"\",\"\",VLOOKUP($B2115,_tbl!$A:$E,O$2,0))","v":"East"},{"$f":"IF($B2115=\"\",\"\",VLOOKUP($B2115,_tbl!$A:$E,P$2,0))","v":"Urban"},{"$f":"IF($B2115=\"\",\"\",VLOOKUP($B2115,_tbl!$A:$E,Q$2,0))","v":"Circulatory"},null,6.59225168550446E-4,4.4159259649105402E-4]
[null,"all_f_East Urban circulatory.csv","60-64",1.33801681311698E-3,1.28346268426622E-3,1.2311328570426699E-3,1.180936641377E-3,1.1327870448497399E-3,1.0866006219293501E-3,1.0422973293571401E-3,9.9980038742851604E-4,9.5903614693010201E-4,9.1993396150218804E-4,{"$f":"IF($B2116=\"\",\"\",VLOOKUP($B2116,_tbl!$A:$E,N$2,0))","v":"Female"},{"$f":"IF($B2116=\"\",\"\",VLOOKUP($B2116,_tbl!$A:$E,O$2,0))","v":"East"},{"$f":"IF($B2116=\"\",\"\",VLOOKUP($B2116,_tbl!$A:$E,P$2,0))","v":"Urban"},{"$f":"IF($B2116=\"\",\"\",VLOOKUP($B2116,_tbl!$A:$E,Q$2,0))","v":"Circulatory"},null,1.33801681311698E-3,9.1993396150218804E-4]
[null,"all_f_East Urban circulatory.csv","65-69",2.4818064389639399E-3,2.3637972681929101E-3,2.2513993989993898E-3,2.1443460156335102E-3,2.0423829893562802E-3,1.9452682751759801E-3,1.8527713372695101E-3,1.76467260172477E-3,1.680762935305E-3,1.60084314899771E-3,{"$f":"IF($B2117=\"\",\"\",VLOOKUP($B2117,_tbl!$A:$E,N$2,0))","v":"Female"},{"$f":"IF($B2117=\"\",\"\",VLOOKUP($B2117,_tbl!$A:$E,O$2,0))","v":"East"},{"$f":"IF($B2117=\"\",\"\",VLOOKUP($B2117,_tbl!$A:$E,P$2,0))","v":"Urban"},{"$f":"IF($B2117=\"\",\"\",VLOOKUP($B2117,_tbl!$A:$E,Q$2,0))","v":"Circulatory"},null,2.4818064389639399E-3,1.60084314899771E-3]
[null,"all_f_East Urban circulatory.csv","70-74",4.8072719157871598E-3,4.5554150035983197E-3,4.3167530812766204E-3,4.0905948524979302E-3,3.8762852385186802E-3,3.67320348070706E-3,3.4807613424843401E-3,3.2984014054677898E-3,3.1255954548802499E-3,2.9618429495492302E-3,{"$f":"IF($B2118=\"\",\"\",VLOOKUP($B2118,_tbl!$A:$E,N$2,0))","v":"Female"},{"$f":"IF($B2118=\"\",\"\",VLOOKUP($B2118,_tbl!$A:$E,O$2,0))","v":"East"},{"$f":"IF($B2118=\"\",\"\",VLOOKUP($B2118,_tbl!$A:$E,P$2,0))","v":"Urban"},{"$f":"IF($B2118=\"\",\"\",VLOOKUP($B2118,_tbl!$A:$E,Q$2,0))","v":"Circulatory"},null,4.8072719157871598E-3,2.9618429495492302E-3]
[null,"all_f_East Urban circulatory.csv","75-79",1.1308095789593599E-2,1.0826833828527799E-2,1.03660539255803E-2,9.9248843835492498E-3,9.5024906038490998E-3,9.0980735076280194E-3,8.7108680240813707E-3,8.3401416431010903E-3,7.9851930295229603E-3,7.6453506963501802E-3,{"$f":"IF($B2119=\"\",\"\",VLOOKUP($B2119,_tbl!$A:$E,N$2,0))","v":"Female"},{"$f":"IF($B2119=\"\",\"\",VLOOKUP($B2119,_tbl!$A:$E,O$2,0))","v":"East"},{"$f":"IF($B2119=\"\",\"\",VLOOKUP($B2119,_tbl!$A:$E,P$2,0))","v":"Urban"},{"$f":"IF($B2119=\"\",\"\",VLOOKUP($B2119,_tbl!$A:$E,Q$2,0))","v":"Circulatory"},null,1.1308095789593599E-2,7.6453506963501802E-3]
[null,"all_f_East Urban circulatory.csv","80-84",3.3219513959893102E-2,3.2739221562348701E-2,3.2265873299730997E-2,3.1799368772762203E-2,3.1339609033751298E-2,3.08864965656068E-2,3.0439935261153201E-2,2.9999830402746001E-2,2.9566088642181399E-2,2.9138617980897501E-2,{"$f":"IF($B2120=\"\",\"\",VLOOKUP($B2120,_tbl!$A:$E,N$2,0))","v":"Female"},{"$f":"IF($B2120=\"\",\"\",VLOOKUP($B2120,_tbl!$A:$E,O$2,0))","v":"East"},{"$f":"IF($B2120=\"\",\"\",VLOOKUP($B2120,_tbl!$A:$E,P$2,0))","v":"Urban"},{"$f":"IF($B2120=\"\",\"\",VLOOKUP($B2120,_tbl!$A:$E,Q$2,0))","v":"Circulatory"},null,3.3219513959893102E-2,2.9138617980897501E-2]
[null,"all_f_East Urban circulatory.csv","85+",0.109274672303999,0.11202136842086099,0.114837104685813,0.117723616471771,0.12068268277147499,0.12371612729390601,0.12682581958825601,0.13001367619616,0.13328166183288201,0.136631790598191,{"$f":"IF($B2121=\"\",\"\",VLOOKUP($B2121,_tbl!$A:$E,N$2,0))","v":"Female"},{"$f":"IF($B2121=\"\",\"\",VLOOKUP($B2121,_tbl!$A:$E,O$2,0))","v":"East"},{"$f":"IF($B2121=\"\",\"\",VLOOKUP($B2121,_tbl!$A:$E,P$2,0))","v":"Urban"},{"$f":"IF($B2121=\"\",\"\",VLOOKUP($B2121,_tbl!$A:$E,Q$2,0))","v":"Circulatory"},null,0.136631790598191,0.109274672303999]
[null,null,null,null,null,null,null,null,null,null,null,null,null,{"$f":"IF($B2122=\"\",\"\",VLOOKUP($B2122,_tbl!$A:$E,N$2,0))","v":""},{"$f":"IF($B2122=\"\",\"\",VLOOKUP($B2122,_tbl!$A:$E,O$2,0))","v":""},{"$f":"IF($B2122=\"\",\"\",VLOOKUP($B2122,_tbl!$A:$E,P$2,0))","v":""},{"$f":"IF($B2122=\"\",\"\",VLOOKUP($B2122,_tbl!$A:$E,Q$2,0))","v":""}]
[null,null,null,2020,2021,2022,2023,2024,2025,2026,2027,2028,2029,{"$f":"IF($B2123=\"\",\"\",VLOOKUP($B2123,_tbl!$A:$E,N$2,0))","v":""},{"$f":"IF($B2123=\"\",\"\",VLOOKUP($B2123,_tbl!$A:$E,O$2,0))","v":""},{"$f":"IF($B2123=\"\",\"\",VLOOKUP($B2123,_tbl!$A:$E,P$2,0))","v":""},{"$f":"IF($B2123=\"\",\"\",VLOOKUP($B2123,_tbl!$A:$E,Q$2,0))","v":""}]
[null,"all_f_East Urban congenital.csv","1-4",2.2815591200828701E-5,2.3165667778034101E-5,2.3219271564117299E-5,2.3328001956136199E-5,2.3361663588224699E-5,2.3463581974693899E-5,2.3572953914633601E-5,2.3766859128455801E-5,2.3994516304945999E-5,2.42532934326646E-5,{"$f":"IF($B2124=\"\",\"\",VLOOKUP($B2124,_tbl!$A:$E,N$2,0))","v":"Female"},{"$f":"IF($B2124=\"\",\"\",VLOOKUP($B2124,_tbl!$A:$E,O$2,0))","v":"East"},{"$f":"IF($B2124=\"\",\"\",VLOOKUP($B2124,_tbl!$A:$E,P$2,0))","v":"Urban"},{"$f":"IF($B2124=\"\",\"\",VLOOKUP($B2124,_tbl!$A:$E,Q$2,0))","v":"Congenital"},null,{"$f":"MAX(D2124:M2124)","v":2.42532934326646E-5},{"$f":"MIN(D2124:M2124)","v":2.2815591200828701E-5}]
[null,"all_f_East Urban congenital.csv","5-9",8.0933246145748802E-6,8.1284344928883903E-6,8.0908600959039295E-6,8.0590476042083105E-6,8.0149117149162805E-6,7.9805300264201296E-6,7.9479729905007392E-6,7.9273846737174999E-6,7.9113500897635103E-6,7.9009279579847593E-6,{"$f":"IF($B2125=\"\",\"\",VLOOKUP($B2125,_tbl!$A:$E,N$2,0))","v":"Female"},{"$f":"IF($B2125=\"\",\"\",VLOOKUP($B2125,_tbl!$A:$E,O$2,0))","v":"East"},{"$f":"IF($B2125=\"\",\"\",VLOOKUP($B2125,_tbl!$A:$E,P$2,0))","v":"Urban"},{"$f":"IF($B2125=\"\",\"\",VLOOKUP($B2125,_tbl!$A:$E,Q$2,0))","v":"Congenital"},null,8.1284344928883903E-6,7.9009279579847593E-6]
[null,"all_f_East Urban congenital.csv","10-14",4.6393763944620401E-6,4.6267580403315098E-6,4.6208028030974003E-6,4.6129620446421997E-6,4.6170355628387804E-6,4.6135981509602597E-6,4.6078434254264104E-6,4.5931784545433999E-6,4.5751849539986796E-6,4.5529691429521196E-6,{"$f":"IF($B2126=\"\",\"\",VLOOKUP($B2126,_tbl!$A:$E,N$2,0))","v":"Female"},{"$f":"IF($B2126=\"\",\"\",VLOOKUP($B2126,_tbl!$A:$E,O$2,0))","v":"East"},{"$f":"IF($B2126=\"\",\"\",VLOOKUP($B2126,_tbl!$A:$E,P$2,0))","v":"Urban"},{"$f":"IF($B2126=\"\",\"\",VLOOKUP($B2126,_tbl!$A:$E,Q$2,0))","v":"Congenital"},null,4.6393763944620401E-6,4.5529691429521196E-6]
[null,"all_f_East Urban congenital.csv","15-19",4.9715296485970902E-6,4.9444127094696398E-6,4.9870724149953596E-6,5.0187853444270599E-6,5.0733801309301202E-6,5.1083697225413203E-6,5.1375455425036396E-6,5.1497132490438502E-6,5.15622979964853E-6,5.15551740797622E-6,{"$f":"IF($B2127=\"\",\"\",VLOOKUP($B2127,_tbl!$A:$E,N$2,0))","v":"Female"},{"$f":"IF($B2127=\"\",\"\",VLOOKUP($B2127,_tbl!$A:$E,O$2,0))","v":"East"},{"$f":"IF($B2127=\"\",\"\",VLOOKUP($B2127,_tbl!$A:$E,P$2,0))","v":"Urban"},{"$f":"IF($B2127=\"\",\"\",VLOOKUP($B2127,_tbl!$A:$E,Q$2,0))","v":"Congenital"},null,5.15622979964853E-6,4.9444127094696398E-6]
[null,"all_f_East Urban congenital.csv","20-24",4.9286064770261498E-6,4.92864591706223E-6,4.9633949334896502E-6,4.99196704795344E-6,5.0300204237142599E-6,5.0588033841032797E-6,5.0843644526016901E-6,5.10283014667443E-6,5.1190332667289699E-6,5.1324265022159603E-6,{"$f":"IF($B2128=\"\",\"\",VLOOKUP($B2128,_tbl!$A:$E,N$2,0))","v":"Female"},{"$f":"IF($B2128=\"\",\"\",VLOOKUP($B2128,_tbl!$A:$E,O$2,0))","v":"East"},{"$f":"IF($B2128=\"\",\"\",VLOOKUP($B2128,_tbl!$A:$E,P$2,0))","v":"Urban"},{"$f":"IF($B2128=\"\",\"\",VLOOKUP($B2128,_tbl!$A:$E,Q$2,0))","v":"Congenital"},null,5.1324265022159603E-6,4.9286064770261498E-6]
[null,"all_f_East Urban congenital.csv","25-29",3.42824411165051E-6,3.3859547995876201E-6,3.3844610350614702E-6,3.3796513825577899E-6,3.38442350571213E-6,3.3805521342694701E-6,3.3732463212045601E-6,3.3581649434334E-6,3.3403041449214001E-6,3.31966434307195E-6,{"$f":"IF($B2129=\"\",\"\",VLOOKUP($B2129,_tbl!$A:$E,N$2,0))","v":"Female"},{"$f":"IF($B2129=\"\",\"\",VLOOKUP($B2129,_tbl!$A:$E,O$2,0))","v":"East"},{"$f":"IF($B2129=\"\",\"\",VLOOKUP($B2129,_tbl!$A:$E,P$2,0))","v":"Urban"},{"$f":"IF($B2129=\"\",\"\",VLOOKUP($B2129,_tbl!$A:$E,Q$2,0))","v":"Congenital"},null,3.42824411165051E-6,3.31966434307195E-6]
[null,"all_f_East Urban congenital.csv",null,null,null,null,null,null,null,null,null,null,null,{"$f":"IF($B2130=\"\",\"\",VLOOKUP($B2130,_tbl!$A:$E,N$2,0))","v":"Female"},{"$f":"IF($B2130=\"\",\"\",VLOOKUP($B2130,_tbl!$A:$E,O$2,0))","v":"East"},{"$f":"IF($B2130=\"\",\"\",VLOOKUP($B2130,_tbl!$A:$E,P$2,0))","v":"Urban"},{"$f":"IF($B2130=\"\",\"\",VLOOKUP($B2130,_tbl!$A:$E,Q$2,0))","v":"Congenital"},null,0,0]
[null,"all_f_East Urban congenital.csv",null,null,null,null,null,null,null,null,null,null,null,{"$f":"IF($B2131=\"\",\"\",VLOOKUP($B2131,_tbl!$A:$E,N$2,0))","v":"Female"},{"$f":"IF($B2131=\"\",\"\",VLOOKUP($B2131,_tbl!$A:$E,O$2,0))","v":"East"},{"$f":"IF($B2131=\"\",\"\",VLOOKUP($B2131,_tbl!$A:$E,P$2,0))","v":"Urban"},{"$f":"IF($B2131=\"\",\"\",VLOOKUP($B2131,_tbl!$A:$E,Q$2,0))","v":"Congenital"},null,0,0]
[null,"all_f_East Urban congenital.csv",null,null,null,null,null,null,null,null,null,null,null,{"$f":"IF($B2132=\"\",\"\",VLOOKUP($B2132,_tbl!$A:$E,N$2,0))","v":"Female"},{"$f":"IF($B2132=\"\",\"\",VLOOKUP($B2132,_tbl!$A:$E,O$2,0))","v":"East"},{"$f":"IF($B2132=\"\",\"\",VLOOKUP($B2132,_tbl!$A:$E,P$2,0))","v":"Urban"},{"$f":"IF($B2132=\"\",\"\",VLOOKUP($B2132,_tbl!$A:$E,Q$2,0))","v":"Congenital"},null,0,0]
[null,"all_f_East Urban congenital.csv",null,null,null,null,null,null,null,null,null,null,null,{"$f":"IF($B2133=\"\",\"\",VLOOKUP($B2133,_tbl!$A:$E,N$2,0))","v":"Female"},{"$f":"IF($B2133=\"\",\"\",VLOOKUP($B2133,_tbl!$A:$E,O$2,0))","v":"East"},{"$f":"IF($B2133=\"\",\"\",VLOOKUP($B2133,_tbl!$A:$E,P$2,0))","v":"Urban"},{"$f":"IF($B2133=\"\",\"\",VLOOKUP($B2133,_tbl!$A:$E,Q$2,0))","v":"Congenital"},null,0,0]
[null,"all_f_East Urban congenital.csv",null,null,null,null,null,null,null,null,null,null,null,{"$f":"IF($B2134=\"\",\"\",VLOOKUP($B2134,_tbl!$A:$E,N$2,0))","v":"Female"},{"$f":"IF($B2134=\"\",\"\",VLOOKUP($B2134,_tbl!$A:$E,O$2,0))","v":"East"},{"$f":"IF($B2134=\"\",\"\",VLOOKUP($B2134,_tbl!$A:$E,P$2,0))","v":"Urban"},{"$f":"IF($B2134=\"\",\"\",VLOOKUP($B2134,_tbl!$A:$E,Q$2,0))","v":"Congenital"},null,0,0]
[null,"all_f_East Urban congenital.csv",null,null,null,null,null,null,null,null,null,null,null,{"$f":"IF($B2135=\"\",\"\",VLOOKUP($B2135,_tbl!$A:$E,N$2,0))","v":"Female"},{"$f":"IF($B2135=\"\",\"\",VLOOKUP($B2135,_tbl!$A:$E,O$2,0))","v":"East"},{"$f":"IF($B2135=\"\",\"\",VLOOKUP($B2135,_tbl!$A:$E,P$2,0))","v":"Urban"},{"$f":"IF($B2135=\"\",\"\",VLOOKUP($B2135,_tbl!$A:$E,Q$2,0))","v":"Congenital"},null,0,0]
[null,"all_f_East Urban congenital.csv",null,null,null,null,null,null,null,null,null,null,null,{"$f":"IF($B2136=\"\",\"\",VLOOKUP($B2136,_tbl!$A:$E,N$2,0))","v":"Female"},{"$f":"IF($B2136=\"\",\"\",VLOOKUP($B2136,_tbl!$A:$E,O$2,0))","v":"East"},{"$f":"IF($B2136=\"\",\"\",VLOOKUP($B2136,_tbl!$A:$E,P$2,0))","v":"Urban"},{"$f":"IF($B2136=\"\",\"\",VLOOKUP($B2136,_tbl!$A:$E,Q$2,0))","v":"Congenital"},null,0,0]
[null,"all_f_East Urban congenital.csv",null,null,null,null,null,null,null,null,null,null,null,{"$f":"IF($B2137=\"\",\"\",VLOOKUP($B2137,_tbl!$A:$E,N$2,0))","v":"Female"},{"$f":"IF($B2137=\"\",\"\",VLOOKUP($B2137,_tbl!$A:$E,O$2,0))","v":"East"},{"$f":"IF($B2137=\"\",\"\",VLOOKUP($B2137,_tbl!$A:$E,P$2,0))","v":"Urban"},{"$f":"IF($B2137=\"\",\"\",VLOOKUP($B2137,_tbl!$A:$E,Q$2,0))","v":"Congenital"},null,0,0]
[null,"all_f_East Urban congenital.csv",null,null,null,null,null,null,null,null,null,null,null,{"$f":"IF($B2138=\"\",\"\",VLOOKUP($B2138,_tbl!$A:$E,N$2,0))","v":"Female"},{"$f":"IF($B2138=\"\",\"\",VLOOKUP($B2138,_tbl!$A:$E,O$2,0))","v":"East"},{"$f":"IF($B2138=\"\",\"\",VLOOKUP($B2138,_tbl!$A:$E,P$2,0))","v":"Urban"},{"$f":"IF($B2138=\"\",\"\",VLOOKUP($B2138,_tbl!$A:$E,Q$2,0))","v":"Congenital"},null,0,0]
[null,"all_f_East Urban congenital.csv",null,null,null,null,null,null,null,null,null,null,null,{"$f":"IF($B2139=\"\",\"\",VLOOKUP($B2139,_tbl!$A:$E,N$2,0))","v":"Female"},{"$f":"IF($B2139=\"\",\"\",VLOOKUP($B2139,_tbl!$A:$E,O$2,0))","v":"East"},{"$f":"IF($B2139=\"\",\"\",VLOOKUP($B2139,_tbl!$A:$E,P$2,0))","v":"Urban"},{"$f":"IF($B2139=\"\",\"\",VLOOKUP($B2139,_tbl!$A:$E,Q$2,0))","v":"Congenital"},null,0,0]
[null,"all_f_East Urban congenital.csv",null,null,null,null,null,null,null,null,null,null,null,{"$f":"IF($B2140=\"\",\"\",VLOOKUP($B2140,_tbl!$A:$E,N$2,0))","v":"Female"},{"$f":"IF($B2140=\"\",\"\",VLOOKUP($B2140,_tbl!$A:$E,O$2,0))","v":"East"},{"$f":"IF($B2140=\"\",\"\",VLOOKUP($B2140,_tbl!$A:$E,P$2,0))","v":"Urban"},{"$f":"IF($B2140=\"\",\"\",VLOOKUP($B2140,_tbl!$A:$E,Q$2,0))","v":"Congenital"},null,0,0]
[null,"all_f_East Urban congenital.csv",null,null,null,null,null,null,null,null,null,null,null,{"$f":"IF($B2141=\"\",\"\",VLOOKUP($B2141,_tbl!$A:$E,N$2,0))","v":"Female"},{"$f":"IF($B2141=\"\",\"\",VLOOKUP($B2141,_tbl!$A:$E,O$2,0))","v":"East"},{"$f":"IF($B2141=\"\",\"\",VLOOKUP($B2141,_tbl!$A:$E,P$2,0))","v":"Urban"},{"$f":"IF($B2141=\"\",\"\",VLOOKUP($B2141,_tbl!$A:$E,Q$2,0))","v":"Congenital"},null,0,0]
[null,null,null,null,null,null,null,null,null,null,null,null,null,{"$f":"IF($B2142=\"\",\"\",VLOOKUP($B2142,_tbl!$A:$E,N$2,0))","v":""},{"$f":"IF($B2142=\"\",\"\",VLOOKUP($B2142,_tbl!$A:$E,O$2,0))","v":""},{"$f":"IF($B2142=\"\",\"\",VLOOKUP($B2142,_tbl!$A:$E,P$2,0))","v":""},{"$f":"IF($B2142=\"\",\"\",VLOOKUP($B2142,_tbl!$A:$E,Q$2,0))","v":""}]
[null,null,null,2020,2021,2022,2023,2024,2025,2026,2027,2028,2029,{"$f":"IF($B2143=\"\",\"\",VLOOKUP($B2143,_tbl!$A:$E,N$2,0))","v":""},{"$f":"IF($B2143=\"\",\"\",VLOOKUP($B2143,_tbl!$A:$E,O$2,0))","v":""},{"$f":"IF($B2143=\"\",\"\",VLOOKUP($B2143,_tbl!$A:$E,P$2,0))","v":""},{"$f":"IF($B2143=\"\",\"\",VLOOKUP($B2143,_tbl!$A:$E,Q$2,0))","v":""}]
[null,"all_f_East Urban diabetes.csv","30-34",5.1271489004919503E-6,5.3596647516804998E-6,5.5160871927226798E-6,5.6880449382309602E-6,5.8464109748149201E-6,6.0096846107823197E-6,6.1595036678939704E-6,6.3126379487487699E-6,6.4636529003698996E-6,6.6119330492144604E-6,{"$f":"IF($B2144=\"\",\"\",VLOOKUP($B2144,_tbl!$A:$E,N$2,0))","v":"Female"},{"$f":"IF($B2144=\"\",\"\",VLOOKUP($B2144,_tbl!$A:$E,O$2,0))","v":"East"},{"$f":"IF($B2144=\"\",\"\",VLOOKUP($B2144,_tbl!$A:$E,P$2,0))","v":"Urban"},{"$f":"IF($B2144=\"\",\"\",VLOOKUP($B2144,_tbl!$A:$E,Q$2,0))","v":"Diabetes"},null,{"$f":"MAX(D2144:M2144)","v":6.6119330492144604E-6},{"$f":"MIN(D2144:M2144)","v":5.1271489004919503E-6}]
[null,"all_f_East Urban diabetes.csv","35-39",6.5962766893651401E-6,6.69136445076722E-6,6.7500945284161799E-6,6.8252510124192198E-6,6.8934850737660402E-6,6.9681681088532404E-6,7.0379217186453004E-6,7.1119517124118096E-6,7.1864874322045897E-6,7.2614102366129502E-6,{"$f":"IF($B2145=\"\",\"\",VLOOKUP($B2145,_tbl!$A:$E,N$2,0))","v":"Female"},{"$f":"IF($B2145=\"\",\"\",VLOOKUP($B2145,_tbl!$A:$E,O$2,0))","v":"East"},{"$f":"IF($B2145=\"\",\"\",VLOOKUP($B2145,_tbl!$A:$E,P$2,0))","v":"Urban"},{"$f":"IF($B2145=\"\",\"\",VLOOKUP($B2145,_tbl!$A:$E,Q$2,0))","v":"Diabetes"},null,7.2614102366129502E-6,6.5962766893651401E-6]
[null,"all_f_East Urban diabetes.csv","40-44",1.03774552362769E-5,1.03996184858259E-5,1.04584126064673E-5,1.0528643969728499E-5,1.0596849466893199E-5,1.06694157760427E-5,1.07401018965683E-5,1.08133000919553E-5,1.0887009227086999E-5,1.09610743223956E-5,{"$f":"IF($B2146=\"\",\"\",VLOOKUP($B2146,_tbl!$A:$E,N$2,0))","v":"Female"},{"$f":"IF($B2146=\"\",\"\",VLOOKUP($B2146,_tbl!$A:$E,O$2,0))","v":"East"},{"$f":"IF($B2146=\"\",\"\",VLOOKUP($B2146,_tbl!$A:$E,P$2,0))","v":"Urban"},{"$f":"IF($B2146=\"\",\"\",VLOOKUP($B2146,_tbl!$A:$E,Q$2,0))","v":"Diabetes"},null,1.09610743223956E-5,1.03774552362769E-5]
[null,"all_f_East Urban diabetes.csv","45-49",1.9908072390336201E-5,1.9985514973224999E-5,1.9833875532447399E-5,1.9888637398961601E-5,1.9894531028845801E-5,1.9976656107017799E-5,2.0003498072248001E-5,2.0070461230618601E-5,2.0139620492103399E-5,2.0214033509043102E-5,{"$f":"IF($B2147=\"\",\"\",VLOOKUP($B2147,_tbl!$A:$E,N$2,0))","v":"Female"},{"$f":"IF($B2147=\"\",\"\",VLOOKUP($B2147,_tbl!$A:$E,O$2,0))","v":"East"},{"$f":"IF($B2147=\"\",\"\",VLOOKUP($B2147,_tbl!$A:$E,P$2,0))","v":"Urban"},{"$f":"IF($B2147=\"\",\"\",VLOOKUP($B2147,_tbl!$A:$E,Q$2,0))","v":"Diabetes"},null,2.0214033509043102E-5,1.9833875532447399E-5]
[null,"all_f_East Urban diabetes.csv","50-54",3.77768181901886E-5,3.7216455442610597E-5,3.6216002905007703E-5,3.5155975793662003E-5,3.3984155496115399E-5,3.2853751420790898E-5,3.1740436158265901E-5,3.0694867648909603E-5,2.96838866889585E-5,2.87208038450767E-5,{"$f":"IF($B2148=\"\",\"\",VLOOKUP($B2148,_tbl!$A:$E,N$2,0))","v":"Female"},{"$f":"IF($B2148=\"\",\"\",VLOOKUP($B2148,_tbl!$A:$E,O$2,0))","v":"East"},{"$f":"IF($B2148=\"\",\"\",VLOOKUP($B2148,_tbl!$A:$E,P$2,0))","v":"Urban"},{"$f":"IF($B2148=\"\",\"\",VLOOKUP($B2148,_tbl!$A:$E,Q$2,0))","v":"Diabetes"},null,3.77768181901886E-5,2.87208038450767E-5]
[null,"all_f_East Urban diabetes.csv","55-59",8.5253562444784599E-5,8.4729694203699796E-5,8.3935264343926402E-5,8.2936626635042704E-5,8.1888758646070402E-5,8.0784284674725895E-5,7.9711921144413401E-5,7.8601496168764307E-5,7.7483103101551903E-5,7.6372317056660799E-5,{"$f":"IF($B2149=\"\",\"\",VLOOKUP($B2149,_tbl!$A:$E,N$2,0))","v":"Female"},{"$f":"IF($B2149=\"\",\"\",VLOOKUP($B2149,_tbl!$A:$E,O$2,0))","v":"East"},{"$f":"IF($B2149=\"\",\"\",VLOOKUP($B2149,_tbl!$A:$E,P$2,0))","v":"Urban"},{"$f":"IF($B2149=\"\",\"\",VLOOKUP($B2149,_tbl!$A:$E,Q$2,0))","v":"Diabetes"},null,8.5253562444784599E-5,7.6372317056660799E-5]
[null,"all_f_East Urban diabetes.csv","60-64",1.78394895495047E-4,1.7636587305515399E-4,1.7434752376427001E-4,1.7204596597203601E-4,1.696276769653E-4,1.6715868333316199E-4,1.6475661571871899E-4,1.6231294852835199E-4,1.5986950395156501E-4,1.5746335848556699E-4,{"$f":"IF($B2150=\"\",\"\",VLOOKUP($B2150,_tbl!$A:$E,N$2,0))","v":"Female"},{"$f":"IF($B2150=\"\",\"\",VLOOKUP($B2150,_tbl!$A:$E,O$2,0))","v":"East"},{"$f":"IF($B2150=\"\",\"\",VLOOKUP($B2150,_tbl!$A:$E,P$2,0))","v":"Urban"},{"$f":"IF($B2150=\"\",\"\",VLOOKUP($B2150,_tbl!$A:$E,Q$2,0))","v":"Diabetes"},null,1.78394895495047E-4,1.5746335848556699E-4]
[null,"all_f_East Urban diabetes.csv","65-69",3.5060336980512901E-4,3.4536933772508698E-4,3.39245393693366E-4,3.3296835530189099E-4,3.2648687023337101E-4,3.2010705300702903E-4,3.1371339890566699E-4,3.07447810315677E-4,3.0129397325404198E-4,2.9527133058173598E-4,{"$f":"IF($B2151=\"\",\"\",VLOOKUP($B2151,_tbl!$A:$E,N$2,0))","v":"Female"},{"$f":"IF($B2151=\"\",\"\",VLOOKUP($B2151,_tbl!$A:$E,O$2,0))","v":"East"},{"$f":"IF($B2151=\"\",\"\",VLOOKUP($B2151,_tbl!$A:$E,P$2,0))","v":"Urban"},{"$f":"IF($B2151=\"\",\"\",VLOOKUP($B2151,_tbl!$A:$E,Q$2,0))","v":"Diabetes"},null,3.5060336980512901E-4,2.9527133058173598E-4]
[null,"all_f_East Urban diabetes.csv","70-74",6.6624604936303602E-4,6.5959079872116098E-4,6.5031918308688301E-4,6.4134924631447895E-4,6.3225767171758498E-4,6.2350839789819296E-4,6.14502684815529E-4,6.0589336463466798E-4,5.9755871743531199E-4,5.8942303484259902E-4,{"$f":"IF($B2152=\"\",\"\",VLOOKUP($B2152,_tbl!$A:$E,N$2,0))","v":"Female"},{"$f":"IF($B2152=\"\",\"\",VLOOKUP($B2152,_tbl!$A:$E,O$2,0))","v":"East"},{"$f":"IF($B2152=\"\",\"\",VLOOKUP($B2152,_tbl!$A:$E,P$2,0))","v":"Urban"},{"$f":"IF($B2152=\"\",\"\",VLOOKUP($B2152,_tbl!$A:$E,Q$2,0))","v":"Diabetes"},null,6.6624604936303602E-4,5.8942303484259902E-4]
[null,"all_f_East Urban diabetes.csv","75-79",1.25000213420006E-3,1.2541646892225799E-3,1.2528510157173E-3,1.2532272517389201E-3,1.25409973950794E-3,1.25572853013422E-3,1.25488243588735E-3,1.25547095390216E-3,1.2567160764126301E-3,1.2577550911578399E-3,{"$f":"IF($B2153=\"\",\"\",VLOOKUP($B2153,_tbl!$A:$E,N$2,0))","v":"Female"},{"$f":"IF($B2153=\"\",\"\",VLOOKUP($B2153,_tbl!$A:$E,O$2,0))","v":"East"},{"$f":"IF($B2153=\"\",\"\",VLOOKUP($B2153,_tbl!$A:$E,P$2,0))","v":"Urban"},{"$f":"IF($B2153=\"\",\"\",VLOOKUP($B2153,_tbl!$A:$E,Q$2,0))","v":"Diabetes"},null,1.2577550911578399E-3,1.25000213420006E-3]
[null,"all_f_East Urban diabetes.csv","80-84",2.3466408815151999E-3,2.3466449449045098E-3,2.3552945641094002E-3,2.36160592487742E-3,2.3691964641286501E-3,2.37659238006353E-3,2.3862678548367002E-3,2.3946077890270698E-3,2.4023519308767499E-3,2.41019133645089E-3,{"$f":"IF($B2154=\"\",\"\",VLOOKUP($B2154,_tbl!$A:$E,N$2,0))","v":"Female"},{"$f":"IF($B2154=\"\",\"\",VLOOKUP($B2154,_tbl!$A:$E,O$2,0))","v":"East"},{"$f":"IF($B2154=\"\",\"\",VLOOKUP($B2154,_tbl!$A:$E,P$2,0))","v":"Urban"},{"$f":"IF($B2154=\"\",\"\",VLOOKUP($B2154,_tbl!$A:$E,Q$2,0))","v":"Diabetes"},null,2.41019133645089E-3,2.3466408815151999E-3]
[null,"all_f_East Urban diabetes.csv","85+",4.9107546956309199E-3,4.8576023554717197E-3,4.8496786075575603E-3,4.8489375235983402E-3,4.8535627113386898E-3,4.8597087655670298E-3,4.8769405085432697E-3,4.8890134310804701E-3,4.89848234618668E-3,4.9089463197462303E-3,{"$f":"IF($B2155=\"\",\"\",VLOOKUP($B2155,_tbl!$A:$E,N$2,0))","v":"Female"},{"$f":"IF($B2155=\"\",\"\",VLOOKUP($B2155,_tbl!$A:$E,O$2,0))","v":"East"},{"$f":"IF($B2155=\"\",\"\",VLOOKUP($B2155,_tbl!$A:$E,P$2,0))","v":"Urban"},{"$f":"IF($B2155=\"\",\"\",VLOOKUP($B2155,_tbl!$A:$E,Q$2,0))","v":"Diabetes"},null,4.9107546956309199E-3,4.8489375235983402E-3]
[null,"all_f_East Urban diabetes.csv",null,null,null,null,null,null,null,null,null,null,null,{"$f":"IF($B2156=\"\",\"\",VLOOKUP($B2156,_tbl!$A:$E,N$2,0))","v":"Female"},{"$f":"IF($B2156=\"\",\"\",VLOOKUP($B2156,_tbl!$A:$E,O$2,0))","v":"East"},{"$f":"IF($B2156=\"\",\"\",VLOOKUP($B2156,_tbl!$A:$E,P$2,0))","v":"Urban"},{"$f":"IF($B2156=\"\",\"\",VLOOKUP($B2156,_tbl!$A:$E,Q$2,0))","v":"Diabetes"},null,0,0]
[null,"all_f_East Urban diabetes.csv",null,null,null,null,null,null,null,null,null,null,null,{"$f":"IF($B2157=\"\",\"\",VLOOKUP($B2157,_tbl!$A:$E,N$2,0))","v":"Female"},{"$f":"IF($B2157=\"\",\"\",VLOOKUP($B2157,_tbl!$A:$E,O$2,0))","v":"East"},{"$f":"IF($B2157=\"\",\"\",VLOOKUP($B2157,_tbl!$A:$E,P$2,0))","v":"Urban"},{"$f":"IF($B2157=\"\",\"\",VLOOKUP($B2157,_tbl!$A:$E,Q$2,0))","v":"Diabetes"},null,0,0]
[null,"all_f_East Urban diabetes.csv",null,null,null,null,null,null,null,null,null,null,null,{"$f":"IF($B2158=\"\",\"\",VLOOKUP($B2158,_tbl!$A:$E,N$2,0))","v":"Female"},{"$f":"IF($B2158=\"\",\"\",VLOOKUP($B2158,_tbl!$A:$E,O$2,0))","v":"East"},{"$f":"IF($B2158=\"\",\"\",VLOOKUP($B2158,_tbl!$A:$E,P$2,0))","v":"Urban"},{"$f":"IF($B2158=\"\",\"\",VLOOKUP($B2158,_tbl!$A:$E,Q$2,0))","v":"Diabetes"},null,0,0]
[null,"all_f_East Urban diabetes.csv",null,null,null,null,null,null,null,null,null,null,null,{"$f":"IF($B2159=\"\",\"\",VLOOKUP($B2159,_tbl!$A:$E,N$2,0))","v":"Female"},{"$f":"IF($B2159=\"\",\"\",VLOOKUP($B2159,_tbl!$A:$E,O$2,0))","v":"East"},{"$f":"IF($B2159=\"\",\"\",VLOOKUP($B2159,_tbl!$A:$E,P$2,0))","v":"Urban"},{"$f":"IF($B2159=\"\",\"\",VLOOKUP($B2159,_tbl!$A:$E,Q$2,0))","v":"Diabetes"},null,0,0]
[null,"all_f_East Urban diabetes.csv",null,null,null,null,null,null,null,null,null,null,null,{"$f":"IF($B2160=\"\",\"\",VLOOKUP($B2160,_tbl!$A:$E,N$2,0))","v":"Female"},{"$f":"IF($B2160=\"\",\"\",VLOOKUP($B2160,_tbl!$A:$E,O$2,0))","v":"East"},{"$f":"IF($B2160=\"\",\"\",VLOOKUP($B2160,_tbl!$A:$E,P$2,0))","v":"Urban"},{"$f":"IF($B2160=\"\",\"\",VLOOKUP($B2160,_tbl!$A:$E,Q$2,0))","v":"Diabetes"},null,0,0]
[null,"all_f_East Urban diabetes.csv",null,null,null,null,null,null,null,null,null,null,null,{"$f":"IF($B2161=\"\",\"\",VLOOKUP($B2161,_tbl!$A:$E,N$2,0))","v":"Female"},{"$f":"IF($B2161=\"\",\"\",VLOOKUP($B2161,_tbl!$A:$E,O$2,0))","v":"East"},{"$f":"IF($B2161=\"\",\"\",VLOOKUP($B2161,_tbl!$A:$E,P$2,0))","v":"Urban"},{"$f":"IF($B2161=\"\",\"\",VLOOKUP($B2161,_tbl!$A:$E,Q$2,0))","v":"Diabetes"},null,0,0]
[null,null,null,null,null,null,null,null,null,null,null,null,null,{"$f":"IF($B2162=\"\",\"\",VLOOKUP($B2162,_tbl!$A:$E,N$2,0))","v":""},{"$f":"IF($B2162=\"\",\"\",VLOOKUP($B2162,_tbl!$A:$E,O$2,0))","v":""},{"$f":"IF($B2162=\"\",\"\",VLOOKUP($B2162,_tbl!$A:$E,P$2,0))","v":""},{"$f":"IF($B2162=\"\",\"\",VLOOKUP($B2162,_tbl!$A:$E,Q$2,0))","v":""}]
[null,null,null,2020,2021,2022,2023,2024,2025,2026,2027,2028,2029,{"$f":"IF($B2163=\"\",\"\",VLOOKUP($B2163,_tbl!$A:$E,N$2,0))","v":""},{"$f":"IF($B2163=\"\",\"\",VLOOKUP($B2163,_tbl!$A:$E,O$2,0))","v":""},{"$f":"IF($B2163=\"\",\"\",VLOOKUP($B2163,_tbl!$A:$E,P$2,0))","v":""},{"$f":"IF($B2163=\"\",\"\",VLOOKUP($B2163,_tbl!$A:$E,Q$2,0))","v":""}]
[null,"all_f_East Urban digestive.csv","1-4",7.3018010013175999E-6,7.2994273176044103E-6,7.2688640467273499E-6,7.2418637768930802E-6,7.2017736331756498E-6,7.1705148811801998E-6,7.1422906364349698E-6,7.1257025706500504E-6,7.1126089804340496E-6,7.1033783881044201E-6,{"$f":"IF($B2164=\"\",\"\",VLOOKUP($B2164,_tbl!$A:$E,N$2,0))","v":"Female"},{"$f":"IF($B2164=\"\",\"\",VLOOKUP($B2164,_tbl!$A:$E,O$2,0))","v":"East"},{"$f":"IF($B2164=\"\",\"\",VLOOKUP($B2164,_tbl!$A:$E,P$2,0))","v":"Urban"},{"$f":"IF($B2164=\"\",\"\",VLOOKUP($B2164,_tbl!$A:$E,Q$2,0))","v":"Digestive"},null,{"$f":"MAX(D2164:M2164)","v":7.3018010013175999E-6},{"$f":"MIN(D2164:M2164)","v":7.1033783881044201E-6}]
[null,"all_f_East Urban digestive.csv","5-9",3.2158214464687102E-6,3.21563985985236E-6,3.2056503051811199E-6,3.1966967043220298E-6,3.1826321982417101E-6,3.1716997286043999E-6,3.16149656399238E-6,3.1553895575972002E-6,3.1506424782982099E-6,3.1477324955205299E-6,{"$f":"IF($B2165=\"\",\"\",VLOOKUP($B2165,_tbl!$A:$E,N$2,0))","v":"Female"},{"$f":"IF($B2165=\"\",\"\",VLOOKUP($B2165,_tbl!$A:$E,O$2,0))","v":"East"},{"$f":"IF($B2165=\"\",\"\",VLOOKUP($B2165,_tbl!$A:$E,P$2,0))","v":"Urban"},{"$f":"IF($B2165=\"\",\"\",VLOOKUP($B2165,_tbl!$A:$E,Q$2,0))","v":"Digestive"},null,3.2158214464687102E-6,3.1477324955205299E-6]
[null,"all_f_East Urban digestive.csv","10-14",2.37549350895453E-6,2.3824426557064298E-6,2.3893963241122799E-6,2.39372923970568E-6,2.3983311495489199E-6,2.40154162525698E-6,2.4042878109923902E-6,2.4062557887225101E-6,2.4081313305587701E-6,2.4096417567539199E-6,{"$f":"IF($B2166=\"\",\"\",VLOOKUP($B2166,_tbl!$A:$E,N$2,0))","v":"Female"},{"$f":"IF($B2166=\"\",\"\",VLOOKUP($B2166,_tbl!$A:$E,O$2,0))","v":"East"},{"$f":"IF($B2166=\"\",\"\",VLOOKUP($B2166,_tbl!$A:$E,P$2,0))","v":"Urban"},{"$f":"IF($B2166=\"\",\"\",VLOOKUP($B2166,_tbl!$A:$E,Q$2,0))","v":"Digestive"},null,2.4096417567539199E-6,2.37549350895453E-6]
[null,"all_f_East Urban digestive.csv","15-19",2.4716330908829299E-6,2.4938255278400298E-6,2.4983150586305001E-6,2.5052096033880999E-6,2.5073516521387701E-6,2.5133202125686498E-6,2.5197644390227401E-6,2.5299331295588799E-6,2.5414749380621702E-6,2.5543749725037702E-6,{"$f":"IF($B2167=\"\",\"\",VLOOKUP($B2167,_tbl!$A:$E,N$2,0))","v":"Female"},{"$f":"IF($B2167=\"\",\"\",VLOOKUP($B2167,_tbl!$A:$E,O$2,0))","v":"East"},{"$f":"IF($B2167=\"\",\"\",VLOOKUP($B2167,_tbl!$A:$E,P$2,0))","v":"Urban"},{"$f":"IF($B2167=\"\",\"\",VLOOKUP($B2167,_tbl!$A:$E,Q$2,0))","v":"Digestive"},null,2.5543749725037702E-6,2.4716330908829299E-6]
[null,"all_f_East Urban digestive.csv","20-24",2.6533609763429499E-6,2.6651103052751101E-6,2.6679742806789498E-6,2.6724534867204001E-6,2.6747691897551199E-6,2.67898398638049E-6,2.6831426717020498E-6,2.68890828779111E-6,2.69513350249167E-6,2.70176292546373E-6,{"$f":"IF($B2168=\"\",\"\",VLOOKUP($B2168,_tbl!$A:$E,N$2,0))","v":"Female"},{"$f":"IF($B2168=\"\",\"\",VLOOKUP($B2168,_tbl!$A:$E,O$2,0))","v":"East"},{"$f":"IF($B2168=\"\",\"\",VLOOKUP($B2168,_tbl!$A:$E,P$2,0))","v":"Urban"},{"$f":"IF($B2168=\"\",\"\",VLOOKUP($B2168,_tbl!$A:$E,Q$2,0))","v":"Digestive"},null,2.70176292546373E-6,2.6533609763429499E-6]
[null,"all_f_East Urban digestive.csv","25-29",3.4801828521790901E-6,3.4914146189707099E-6,3.5039056341997599E-6,3.5158613630509001E-6,3.52768878238211E-6,3.53879611976174E-6,3.54895938627843E-6,3.5586166395270502E-6,3.56791575671785E-6,3.5767648886802402E-6,{"$f":"IF($B2169=\"\",\"\",VLOOKUP($B2169,_tbl!$A:$E,N$2,0))","v":"Female"},{"$f":"IF($B2169=\"\",\"\",VLOOKUP($B2169,_tbl!$A:$E,O$2,0))","v":"East"},{"$f":"IF($B2169=\"\",\"\",VLOOKUP($B2169,_tbl!$A:$E,P$2,0))","v":"Urban"},{"$f":"IF($B2169=\"\",\"\",VLOOKUP($B2169,_tbl!$A:$E,Q$2,0))","v":"Digestive"},null,3.5767648886802402E-6,3.4801828521790901E-6]
[null,"all_f_East Urban digestive.csv","30-34",5.2783399199817099E-6,5.3311256963242498E-6,5.3718754713209804E-6,5.4163098208293204E-6,5.4569430254082003E-6,5.4995712785690402E-6,5.5398633816706901E-6,5.5817809587808401E-6,5.6235748912502503E-6,5.6650612318864402E-6,{"$f":"IF($B2170=\"\",\"\",VLOOKUP($B2170,_tbl!$A:$E,N$2,0))","v":"Female"},{"$f":"IF($B2170=\"\",\"\",VLOOKUP($B2170,_tbl!$A:$E,O$2,0))","v":"East"},{"$f":"IF($B2170=\"\",\"\",VLOOKUP($B2170,_tbl!$A:$E,P$2,0))","v":"Urban"},{"$f":"IF($B2170=\"\",\"\",VLOOKUP($B2170,_tbl!$A:$E,Q$2,0))","v":"Digestive"},null,5.6650612318864402E-6,5.2783399199817099E-6]
[null,"all_f_East Urban digestive.csv","35-39",8.3481011210515605E-6,8.5078578351897607E-6,8.6126978470825002E-6,8.7439623065682108E-6,8.8635131535731106E-6,8.9917845757623895E-6,9.1092816629533508E-6,9.2314160204421795E-6,9.3522900310641096E-6,9.4720374382969407E-6,{"$f":"IF($B2171=\"\",\"\",VLOOKUP($B2171,_tbl!$A:$E,N$2,0))","v":"Female"},{"$f":"IF($B2171=\"\",\"\",VLOOKUP($B2171,_tbl!$A:$E,O$2,0))","v":"East"},{"$f":"IF($B2171=\"\",\"\",VLOOKUP($B2171,_tbl!$A:$E,P$2,0))","v":"Urban"},{"$f":"IF($B2171=\"\",\"\",VLOOKUP($B2171,_tbl!$A:$E,Q$2,0))","v":"Digestive"},null,9.4720374382969407E-6,8.3481011210515605E-6]
[null,"all_f_East Urban digestive.csv","40-44",1.25151621969502E-5,1.24790464850095E-5,1.23485777686543E-5,1.2308483925081E-5,1.22501593721893E-5,1.2226680533487599E-5,1.21829005632364E-5,1.21582300411819E-5,1.21371634652737E-5,1.21212915514359E-5,{"$f":"IF($B2172=\"\",\"\",VLOOKUP($B2172,_tbl!$A:$E,N$2,0))","v":"Female"},{"$f":"IF($B2172=\"\",\"\",VLOOKUP($B2172,_tbl!$A:$E,O$2,0))","v":"East"},{"$f":"IF($B2172=\"\",\"\",VLOOKUP($B2172,_tbl!$A:$E,P$2,0))","v":"Urban"},{"$f":"IF($B2172=\"\",\"\",VLOOKUP($B2172,_tbl!$A:$E,Q$2,0))","v":"Digestive"},null,1.25151621969502E-5,1.21212915514359E-5]
[null,"all_f_East Urban digestive.csv","45-49",1.9132896858428099E-5,1.8702539027379299E-5,1.8067813580028198E-5,1.7606261007854399E-5,1.7115602660092601E-5,1.6702946874626599E-5,1.6264973633581699E-5,1.5875720465450001E-5,1.5503459537316701E-5,1.51516975893423E-5,{"$f":"IF($B2173=\"\",\"\",VLOOKUP($B2173,_tbl!$A:$E,N$2,0))","v":"Female"},{"$f":"IF($B2173=\"\",\"\",VLOOKUP($B2173,_tbl!$A:$E,O$2,0))","v":"East"},{"$f":"IF($B2173=\"\",\"\",VLOOKUP($B2173,_tbl!$A:$E,P$2,0))","v":"Urban"},{"$f":"IF($B2173=\"\",\"\",VLOOKUP($B2173,_tbl!$A:$E,Q$2,0))","v":"Digestive"},null,1.9132896858428099E-5,1.51516975893423E-5]
[null,"all_f_East Urban digestive.csv","50-54",3.2022581948218699E-5,3.1104711581698498E-5,3.0280874694644299E-5,2.9241268093494999E-5,2.8183203882887601E-5,2.7092654676109701E-5,2.6080264777404E-5,2.5077748900845001E-5,2.41016419985927E-5,2.3161239859704798E-5,{"$f":"IF($B2174=\"\",\"\",VLOOKUP($B2174,_tbl!$A:$E,N$2,0))","v":"Female"},{"$f":"IF($B2174=\"\",\"\",VLOOKUP($B2174,_tbl!$A:$E,O$2,0))","v":"East"},{"$f":"IF($B2174=\"\",\"\",VLOOKUP($B2174,_tbl!$A:$E,P$2,0))","v":"Urban"},{"$f":"IF($B2174=\"\",\"\",VLOOKUP($B2174,_tbl!$A:$E,Q$2,0))","v":"Digestive"},null,3.2022581948218699E-5,2.3161239859704798E-5]
[null,"all_f_East Urban digestive.csv","55-59",6.1192973481324597E-5,6.0306920286537597E-5,5.9676184751402601E-5,5.8740370981743497E-5,5.7809187374177001E-5,5.6788053124393901E-5,5.5866441527037198E-5,5.4886950222222199E-5,5.3905419746844697E-5,5.2938917950324701E-5,{"$f":"IF($B2175=\"\",\"\",VLOOKUP($B2175,_tbl!$A:$E,N$2,0))","v":"Female"},{"$f":"IF($B2175=\"\",\"\",VLOOKUP($B2175,_tbl!$A:$E,O$2,0))","v":"East"},{"$f":"IF($B2175=\"\",\"\",VLOOKUP($B2175,_tbl!$A:$E,P$2,0))","v":"Urban"},{"$f":"IF($B2175=\"\",\"\",VLOOKUP($B2175,_tbl!$A:$E,Q$2,0))","v":"Digestive"},null,6.1192973481324597E-5,5.2938917950324701E-5]
[null,"all_f_East Urban digestive.csv","60-64",1.06420173281772E-4,1.05021101382089E-4,1.0439923125223701E-4,1.0322068058270801E-4,1.01998052583925E-4,1.00603086333659E-4,9.9446690120945805E-5,9.8153671362333694E-5,9.6840073800618395E-5,9.5561872831776706E-5,{"$f":"IF($B2176=\"\",\"\",VLOOKUP($B2176,_tbl!$A:$E,N$2,0))","v":"Female"},{"$f":"IF($B2176=\"\",\"\",VLOOKUP($B2176,_tbl!$A:$E,O$2,0))","v":"East"},{"$f":"IF($B2176=\"\",\"\",VLOOKUP($B2176,_tbl!$A:$E,P$2,0))","v":"Urban"},{"$f":"IF($B2176=\"\",\"\",VLOOKUP($B2176,_tbl!$A:$E,Q$2,0))","v":"Digestive"},null,1.06420173281772E-4,9.5561872831776706E-5]
[null,"all_f_East Urban digestive.csv","65-69",1.8676746090361501E-4,1.84522112490999E-4,1.8099646929660001E-4,1.7777319820748099E-4,1.7450835875667799E-4,1.71429463788012E-4,1.6816895754613001E-4,1.6510644606791301E-4,1.6215219193709701E-4,1.5926030178763499E-4,{"$f":"IF($B2177=\"\",\"\",VLOOKUP($B2177,_tbl!$A:$E,N$2,0))","v":"Female"},{"$f":"IF($B2177=\"\",\"\",VLOOKUP($B2177,_tbl!$A:$E,O$2,0))","v":"East"},{"$f":"IF($B2177=\"\",\"\",VLOOKUP($B2177,_tbl!$A:$E,P$2,0))","v":"Urban"},{"$f":"IF($B2177=\"\",\"\",VLOOKUP($B2177,_tbl!$A:$E,Q$2,0))","v":"Digestive"},null,1.8676746090361501E-4,1.5926030178763499E-4]
[null,"all_f_East Urban digestive.csv","70-74",3.4135470578050602E-4,3.4057721436476401E-4,3.3654473245150698E-4,3.33364032514878E-4,3.3034204559719601E-4,3.27756156181826E-4,3.2439616563367801E-4,3.2158017345784501E-4,3.19020344197958E-4,3.1647450960084602E-4,{"$f":"IF($B2178=\"\",\"\",VLOOKUP($B2178,_tbl!$A:$E,N$2,0))","v":"Female"},{"$f":"IF($B2178=\"\",\"\",VLOOKUP($B2178,_tbl!$A:$E,O$2,0))","v":"East"},{"$f":"IF($B2178=\"\",\"\",VLOOKUP($B2178,_tbl!$A:$E,P$2,0))","v":"Urban"},{"$f":"IF($B2178=\"\",\"\",VLOOKUP($B2178,_tbl!$A:$E,Q$2,0))","v":"Digestive"},null,3.4135470578050602E-4,3.1647450960084602E-4]
[null,"all_f_East Urban digestive.csv","75-79",6.7684936710310604E-4,6.8261489200128404E-4,6.8336009998821805E-4,6.8576248943454901E-4,6.8878369393073297E-4,6.9259842960105004E-4,6.94046954974912E-4,6.9689119060796403E-4,7.0036599476542497E-4,7.0364056128675899E-4,{"$f":"IF($B2179=\"\",\"\",VLOOKUP($B2179,_tbl!$A:$E,N$2,0))","v":"Female"},{"$f":"IF($B2179=\"\",\"\",VLOOKUP($B2179,_tbl!$A:$E,O$2,0))","v":"East"},{"$f":"IF($B2179=\"\",\"\",VLOOKUP($B2179,_tbl!$A:$E,P$2,0))","v":"Urban"},{"$f":"IF($B2179=\"\",\"\",VLOOKUP($B2179,_tbl!$A:$E,Q$2,0))","v":"Digestive"},null,7.0364056128675899E-4,6.7684936710310604E-4]
[null,"all_f_East Urban digestive.csv","80-84",1.5587666751589401E-3,1.5550892398823199E-3,1.5540184521361099E-3,1.5540919580948899E-3,1.5555246159403399E-3,1.5576511234843199E-3,1.55881782602448E-3,1.56056110733871E-3,1.562540627555E-3,1.56429280173222E-3,{"$f":"IF($B2180=\"\",\"\",VLOOKUP($B2180,_tbl!$A:$E,N$2,0))","v":"Female"},{"$f":"IF($B2180=\"\",\"\",VLOOKUP($B2180,_tbl!$A:$E,O$2,0))","v":"East"},{"$f":"IF($B2180=\"\",\"\",VLOOKUP($B2180,_tbl!$A:$E,P$2,0))","v":"Urban"},{"$f":"IF($B2180=\"\",\"\",VLOOKUP($B2180,_tbl!$A:$E,Q$2,0))","v":"Digestive"},null,1.56429280173222E-3,1.5540184521361099E-3]
[null,"all_f_East Urban digestive.csv","85+",4.1267152156153697E-3,4.0732921229392899E-3,4.05303787046867E-3,4.0518809506290797E-3,4.0603951490634799E-3,4.0729939744926598E-3,4.0986116286531099E-3,4.1206199520719697E-3,4.1409171360568204E-3,4.1626353305855004E-3,{"$f":"IF($B2181=\"\",\"\",VLOOKUP($B2181,_tbl!$A:$E,N$2,0))","v":"Female"},{"$f":"IF($B2181=\"\",\"\",VLOOKUP($B2181,_tbl!$A:$E,O$2,0))","v":"East"},{"$f":"IF($B2181=\"\",\"\",VLOOKUP($B2181,_tbl!$A:$E,P$2,0))","v":"Urban"},{"$f":"IF($B2181=\"\",\"\",VLOOKUP($B2181,_tbl!$A:$E,Q$2,0))","v":"Digestive"},null,4.1626353305855004E-3,4.0518809506290797E-3]
[null,null,null,null,null,null,null,null,null,null,null,null,null,{"$f":"IF($B2182=\"\",\"\",VLOOKUP($B2182,_tbl!$A:$E,N$2,0))","v":""},{"$f":"IF($B2182=\"\",\"\",VLOOKUP($B2182,_tbl!$A:$E,O$2,0))","v":""},{"$f":"IF($B2182=\"\",\"\",VLOOKUP($B2182,_tbl!$A:$E,P$2,0))","v":""},{"$f":"IF($B2182=\"\",\"\",VLOOKUP($B2182,_tbl!$A:$E,Q$2,0))","v":""}]
[null,null,null,2020,2021,2022,2023,2024,2025,2026,2027,2028,2029,{"$f":"IF($B2183=\"\",\"\",VLOOKUP($B2183,_tbl!$A:$E,N$2,0))","v":""},{"$f":"IF($B2183=\"\",\"\",VLOOKUP($B2183,_tbl!$A:$E,O$2,0))","v":""},{"$f":"IF($B2183=\"\",\"\",VLOOKUP($B2183,_tbl!$A:$E,P$2,0))","v":""},{"$f":"IF($B2183=\"\",\"\",VLOOKUP($B2183,_tbl!$A:$E,Q$2,0))","v":""}]
[null,"all_f_East Urban external.csv","1-4",5.77929520711279E-5,5.20098317014812E-5,5.14458529117458E-5,5.0482000539538699E-5,5.1890127250258697E-5,5.18920229146917E-5,5.1704011719305998E-5,4.9425027740328198E-5,4.64472247638694E-5,4.2680932965087901E-5,{"$f":"IF($B2184=\"\",\"\",VLOOKUP($B2184,_tbl!$A:$E,N$2,0))","v":"Female"},{"$f":"IF($B2184=\"\",\"\",VLOOKUP($B2184,_tbl!$A:$E,O$2,0))","v":"East"},{"$f":"IF($B2184=\"\",\"\",VLOOKUP($B2184,_tbl!$A:$E,P$2,0))","v":"Urban"},{"$f":"IF($B2184=\"\",\"\",VLOOKUP($B2184,_tbl!$A:$E,Q$2,0))","v":"External"},null,{"$f":"MAX(D2184:M2184)","v":5.77929520711279E-5},{"$f":"MIN(D2184:M2184)","v":4.2680932965087901E-5}]
[null,"all_f_East Urban external.csv","5-9",3.7032742374011799E-5,3.4678143083877302E-5,3.3377071650374303E-5,3.2063692432031398E-5,3.1323093372604602E-5,3.02725164860868E-5,2.9189568778739901E-5,2.7658822361881502E-5,2.5986250794629799E-5,2.4140972109036601E-5,{"$f":"IF($B2185=\"\",\"\",VLOOKUP($B2185,_tbl!$A:$E,N$2,0))","v":"Female"},{"$f":"IF($B2185=\"\",\"\",VLOOKUP($B2185,_tbl!$A:$E,O$2,0))","v":"East"},{"$f":"IF($B2185=\"\",\"\",VLOOKUP($B2185,_tbl!$A:$E,P$2,0))","v":"Urban"},{"$f":"IF($B2185=\"\",\"\",VLOOKUP($B2185,_tbl!$A:$E,Q$2,0))","v":"External"},null,3.7032742374011799E-5,2.4140972109036601E-5]
[null,"all_f_East Urban external.csv","10-14",3.6372273377486003E-5,3.5425233211770798E-5,3.3241744907329399E-5,3.13556520615332E-5,2.9124602807511899E-5,2.72245727339784E-5,2.5405970425594E-5,2.3924568765635101E-5,2.2588177706082899E-5,2.1425882378586101E-5,{"$f":"IF($B2186=\"\",\"\",VLOOKUP($B2186,_tbl!$A:$E,N$2,0))","v":"Female"},{"$f":"IF($B2186=\"\",\"\",VLOOKUP($B2186,_tbl!$A:$E,O$2,0))","v":"East"},{"$f":"IF($B2186=\"\",\"\",VLOOKUP($B2186,_tbl!$A:$E,P$2,0))","v":"Urban"},{"$f":"IF($B2186=\"\",\"\",VLOOKUP($B2186,_tbl!$A:$E,Q$2,0))","v":"External"},null,3.6372273377486003E-5,2.1425882378586101E-5]
[null,"all_f_East Urban external.csv","15-19",3.8005675813980203E-5,3.7884623500449301E-5,3.3935517840495202E-5,3.0857296212398203E-5,2.67462670783191E-5,2.3758348209865502E-5,2.1093599041701199E-5,1.93993224505776E-5,1.8087801679763201E-5,1.7219150611504699E-5,{"$f":"IF($B2187=\"\",\"\",VLOOKUP($B2187,_tbl!$A:$E,N$2,0))","v":"Female"},{"$f":"IF($B2187=\"\",\"\",VLOOKUP($B2187,_tbl!$A:$E,O$2,0))","v":"East"},{"$f":"IF($B2187=\"\",\"\",VLOOKUP($B2187,_tbl!$A:$E,P$2,0))","v":"Urban"},{"$f":"IF($B2187=\"\",\"\",VLOOKUP($B2187,_tbl!$A:$E,Q$2,0))","v":"External"},null,3.8005675813980203E-5,1.7219150611504699E-5]
[null,"all_f_East Urban external.csv","20-24",3.7668170393160599E-5,3.7134560746184797E-5,3.2203542057294202E-5,2.8436648876019099E-5,2.3657168812343899E-5,2.0236630730329901E-5,1.7259220424839699E-5,1.53495250650869E-5,1.3864892625272E-5,1.28409509768101E-5,{"$f":"IF($B2188=\"\",\"\",VLOOKUP($B2188,_tbl!$A:$E,N$2,0))","v":"Female"},{"$f":"IF($B2188=\"\",\"\",VLOOKUP($B2188,_tbl!$A:$E,O$2,0))","v":"East"},{"$f":"IF($B2188=\"\",\"\",VLOOKUP($B2188,_tbl!$A:$E,P$2,0))","v":"Urban"},{"$f":"IF($B2188=\"\",\"\",VLOOKUP($B2188,_tbl!$A:$E,Q$2,0))","v":"External"},null,3.7668170393160599E-5,1.28409509768101E-5]
[null,"all_f_East Urban external.csv","25-29",4.5414192395186299E-5,4.3764768372102398E-5,3.8824011554064698E-5,3.4921329153038802E-5,3.0299317404825099E-5,2.6758417895725501E-5,2.3601318611285399E-5,2.1332525521368699E-5,1.9448806740650599E-5,1.7970124375596599E-5,{"$f":"IF($B2189=\"\",\"\",VLOOKUP($B2189,_tbl!$A:$E,N$2,0))","v":"Female"},{"$f":"IF($B2189=\"\",\"\",VLOOKUP($B2189,_tbl!$A:$E,O$2,0))","v":"East"},{"$f":"IF($B2189=\"\",\"\",VLOOKUP($B2189,_tbl!$A:$E,P$2,0))","v":"Urban"},{"$f":"IF($B2189=\"\",\"\",VLOOKUP($B2189,_tbl!$A:$E,Q$2,0))","v":"External"},null,4.5414192395186299E-5,1.7970124375596599E-5]
[null,"all_f_East Urban external.csv","30-34",5.8379341170392797E-5,5.5539826878227501E-5,5.0791498835041398E-5,4.6886364745253699E-5,4.2657066116745503E-5,3.9122281325956599E-5,3.5883554603744103E-5,3.32345948613134E-5,3.08921435068026E-5,2.88636822705518E-5,{"$f":"IF($B2190=\"\",\"\",VLOOKUP($B2190,_tbl!$A:$E,N$2,0))","v":"Female"},{"$f":"IF($B2190=\"\",\"\",VLOOKUP($B2190,_tbl!$A:$E,O$2,0))","v":"East"},{"$f":"IF($B2190=\"\",\"\",VLOOKUP($B2190,_tbl!$A:$E,P$2,0))","v":"Urban"},{"$f":"IF($B2190=\"\",\"\",VLOOKUP($B2190,_tbl!$A:$E,Q$2,0))","v":"External"},null,5.8379341170392797E-5,2.88636822705518E-5]
[null,"all_f_East Urban external.csv","35-39",6.7059731238852899E-5,6.3375270521543096E-5,5.8569239635506501E-5,5.45203617434471E-5,5.0422523555830403E-5,4.6818165030929397E-5,4.3492566935120801E-5,4.0569899143820899E-5,3.7912177985463599E-5,3.5516908230617602E-5,{"$f":"IF($B2191=\"\",\"\",VLOOKUP($B2191,_tbl!$A:$E,N$2,0))","v":"Female"},{"$f":"IF($B2191=\"\",\"\",VLOOKUP($B2191,_tbl!$A:$E,O$2,0))","v":"East"},{"$f":"IF($B2191=\"\",\"\",VLOOKUP($B2191,_tbl!$A:$E,P$2,0))","v":"Urban"},{"$f":"IF($B2191=\"\",\"\",VLOOKUP($B2191,_tbl!$A:$E,Q$2,0))","v":"External"},null,6.7059731238852899E-5,3.5516908230617602E-5]
[null,"all_f_East Urban external.csv","40-44",7.5528402392210995E-5,7.0933313152241504E-5,6.5498886026502996E-5,6.0721584339120497E-5,5.5993906816797302E-5,5.1667041287066402E-5,4.7639026929722303E-5,4.3942147545490102E-5,4.05037543241525E-5,3.7317812967251598E-5,{"$f":"IF($B2192=\"\",\"\",VLOOKUP($B2192,_tbl!$A:$E,N$2,0))","v":"Female"},{"$f":"IF($B2192=\"\",\"\",VLOOKUP($B2192,_tbl!$A:$E,O$2,0))","v":"East"},{"$f":"IF($B2192=\"\",\"\",VLOOKUP($B2192,_tbl!$A:$E,P$2,0))","v":"Urban"},{"$f":"IF($B2192=\"\",\"\",VLOOKUP($B2192,_tbl!$A:$E,Q$2,0))","v":"External"},null,7.5528402392210995E-5,3.7317812967251598E-5]
[null,"all_f_East Urban external.csv","45-49",9.5630178977542101E-5,8.9079350094470604E-5,8.3387868506426993E-5,7.7961281693377603E-5,7.3254812002542896E-5,6.8357566362607606E-5,6.3645588967400801E-5,5.8639593692909198E-5,5.3677748253402402E-5,4.872662940898E-5,{"$f":"IF($B2193=\"\",\"\",VLOOKUP($B2193,_tbl!$A:$E,N$2,0))","v":"Female"},{"$f":"IF($B2193=\"\",\"\",VLOOKUP($B2193,_tbl!$A:$E,O$2,0))","v":"East"},{"$f":"IF($B2193=\"\",\"\",VLOOKUP($B2193,_tbl!$A:$E,P$2,0))","v":"Urban"},{"$f":"IF($B2193=\"\",\"\",VLOOKUP($B2193,_tbl!$A:$E,Q$2,0))","v":"External"},null,9.5630178977542101E-5,4.872662940898E-5]
[null,"all_f_East Urban external.csv","50-54",1.36468986203288E-4,1.2493679153879899E-4,1.21256459947663E-4,1.1674505368936701E-4,1.1589657305982E-4,1.12872772114178E-4,1.09729257540097E-4,1.03550749439765E-4,9.6331008582179993E-5,8.7816239015534199E-5,{"$f":"IF($B2194=\"\",\"\",VLOOKUP($B2194,_tbl!$A:$E,N$2,0))","v":"Female"},{"$f":"IF($B2194=\"\",\"\",VLOOKUP($B2194,_tbl!$A:$E,O$2,0))","v":"East"},{"$f":"IF($B2194=\"\",\"\",VLOOKUP($B2194,_tbl!$A:$E,P$2,0))","v":"Urban"},{"$f":"IF($B2194=\"\",\"\",VLOOKUP($B2194,_tbl!$A:$E,Q$2,0))","v":"External"},null,1.36468986203288E-4,8.7816239015534199E-5]
[null,"all_f_East Urban external.csv","55-59",1.9405345428536E-4,1.9229268691268599E-4,1.9076714255312899E-4,1.89079334193603E-4,1.8746122977753599E-4,1.8581967881932699E-4,1.8429759085275901E-4,1.8276350437478701E-4,1.81257655190542E-4,1.7979114711241901E-4,{"$f":"IF($B2195=\"\",\"\",VLOOKUP($B2195,_tbl!$A:$E,N$2,0))","v":"Female"},{"$f":"IF($B2195=\"\",\"\",VLOOKUP($B2195,_tbl!$A:$E,O$2,0))","v":"East"},{"$f":"IF($B2195=\"\",\"\",VLOOKUP($B2195,_tbl!$A:$E,P$2,0))","v":"Urban"},{"$f":"IF($B2195=\"\",\"\",VLOOKUP($B2195,_tbl!$A:$E,Q$2,0))","v":"External"},null,1.9405345428536E-4,1.7979114711241901E-4]
[null,"all_f_East Urban external.csv","60-64",2.3865080879426599E-4,2.3864495209970299E-4,2.3890396970939999E-4,2.3912864264125899E-4,2.39360422689009E-4,2.3959276082900701E-4,2.39836535605058E-4,2.4006398545005101E-4,2.4028225231315E-4,2.4049891577326699E-4,{"$f":"IF($B2196=\"\",\"\",VLOOKUP($B2196,_tbl!$A:$E,N$2,0))","v":"Female"},{"$f":"IF($B2196=\"\",\"\",VLOOKUP($B2196,_tbl!$A:$E,O$2,0))","v":"East"},{"$f":"IF($B2196=\"\",\"\",VLOOKUP($B2196,_tbl!$A:$E,P$2,0))","v":"Urban"},{"$f":"IF($B2196=\"\",\"\",VLOOKUP($B2196,_tbl!$A:$E,Q$2,0))","v":"External"},null,2.4049891577326699E-4,2.3864495209970299E-4]
[null,"all_f_East Urban external.csv","65-69",2.5975002152424902E-4,2.6086909985508199E-4,2.6192184934511402E-4,2.6296714175570301E-4,2.6401439324031002E-4,2.6506761414767099E-4,2.6603941711922201E-4,2.6701540281445698E-4,2.6797925967959901E-4,2.6891652589398403E-4,{"$f":"IF($B2197=\"\",\"\",VLOOKUP($B2197,_tbl!$A:$E,N$2,0))","v":"Female"},{"$f":"IF($B2197=\"\",\"\",VLOOKUP($B2197,_tbl!$A:$E,O$2,0))","v":"East"},{"$f":"IF($B2197=\"\",\"\",VLOOKUP($B2197,_tbl!$A:$E,P$2,0))","v":"Urban"},{"$f":"IF($B2197=\"\",\"\",VLOOKUP($B2197,_tbl!$A:$E,Q$2,0))","v":"External"},null,2.6891652589398403E-4,2.5975002152424902E-4]
[null,"all_f_East Urban external.csv","70-74",3.44891543006328E-4,3.4965965764090402E-4,3.53385906859513E-4,3.5726983283207599E-4,3.6123205611756298E-4,3.6525096367284802E-4,3.68723515118943E-4,3.7235714602782701E-4,3.7600925057215603E-4,3.7952492314928201E-4,{"$f":"IF($B2198=\"\",\"\",VLOOKUP($B2198,_tbl!$A:$E,N$2,0))","v":"Female"},{"$f":"IF($B2198=\"\",\"\",VLOOKUP($B2198,_tbl!$A:$E,O$2,0))","v":"East"},{"$f":"IF($B2198=\"\",\"\",VLOOKUP($B2198,_tbl!$A:$E,P$2,0))","v":"Urban"},{"$f":"IF($B2198=\"\",\"\",VLOOKUP($B2198,_tbl!$A:$E,Q$2,0))","v":"External"},null,3.7952492314928201E-4,3.44891543006328E-4]
[null,"all_f_East Urban external.csv","75-79",6.5275236824350301E-4,6.6090420484262195E-4,6.6757318502698199E-4,6.7429457627985899E-4,6.8111749659932098E-4,6.8794618029130504E-4,6.9391513963999501E-4,7.0015476159241005E-4,7.0645805958388804E-4,7.1255515237199395E-4,{"$f":"IF($B2199=\"\",\"\",VLOOKUP($B2199,_tbl!$A:$E,N$2,0))","v":"Female"},{"$f":"IF($B2199=\"\",\"\",VLOOKUP($B2199,_tbl!$A:$E,O$2,0))","v":"East"},{"$f":"IF($B2199=\"\",\"\",VLOOKUP($B2199,_tbl!$A:$E,P$2,0))","v":"Urban"},{"$f":"IF($B2199=\"\",\"\",VLOOKUP($B2199,_tbl!$A:$E,Q$2,0))","v":"External"},null,7.1255515237199395E-4,6.5275236824350301E-4]
[null,"all_f_East Urban external.csv","80-84",1.8997210945490401E-3,1.88017971398401E-3,1.8806136550633501E-3,1.8797064246304401E-3,1.8779639841653201E-3,1.8743849336059701E-3,1.87736428013957E-3,1.87727070950382E-3,1.8760086464198499E-3,1.87554517647573E-3,{"$f":"IF($B2200=\"\",\"\",VLOOKUP($B2200,_tbl!$A:$E,N$2,0))","v":"Female"},{"$f":"IF($B2200=\"\",\"\",VLOOKUP($B2200,_tbl!$A:$E,O$2,0))","v":"East"},{"$f":"IF($B2200=\"\",\"\",VLOOKUP($B2200,_tbl!$A:$E,P$2,0))","v":"Urban"},{"$f":"IF($B2200=\"\",\"\",VLOOKUP($B2200,_tbl!$A:$E,Q$2,0))","v":"External"},null,1.8997210945490401E-3,1.8743849336059701E-3]
[null,"all_f_East Urban external.csv","85+",6.2617671545535901E-3,6.0104192813215801E-3,6.1206253470714699E-3,6.2156667782369496E-3,6.4492684787946196E-3,6.6147413312401104E-3,6.7998924057992398E-3,6.86349377563511E-3,6.8751574604210596E-3,6.8258626413778799E-3,{"$f":"IF($B2201=\"\",\"\",VLOOKUP($B2201,_tbl!$A:$E,N$2,0))","v":"Female"},{"$f":"IF($B2201=\"\",\"\",VLOOKUP($B2201,_tbl!$A:$E,O$2,0))","v":"East"},{"$f":"IF($B2201=\"\",\"\",VLOOKUP($B2201,_tbl!$A:$E,P$2,0))","v":"Urban"},{"$f":"IF($B2201=\"\",\"\",VLOOKUP($B2201,_tbl!$A:$E,Q$2,0))","v":"External"},null,6.8751574604210596E-3,6.0104192813215801E-3]
[null,null,null,null,null,null,null,null,null,null,null,null,null,{"$f":"IF($B2202=\"\",\"\",VLOOKUP($B2202,_tbl!$A:$E,N$2,0))","v":""},{"$f":"IF($B2202=\"\",\"\",VLOOKUP($B2202,_tbl!$A:$E,O$2,0))","v":""},{"$f":"IF($B2202=\"\",\"\",VLOOKUP($B2202,_tbl!$A:$E,P$2,0))","v":""},{"$f":"IF($B2202=\"\",\"\",VLOOKUP($B2202,_tbl!$A:$E,Q$2,0))","v":""}]
[null,null,null,2020,2021,2022,2023,2024,2025,2026,2027,2028,2029,{"$f":"IF($B2203=\"\",\"\",VLOOKUP($B2203,_tbl!$A:$E,N$2,0))","v":""},{"$f":"IF($B2203=\"\",\"\",VLOOKUP($B2203,_tbl!$A:$E,O$2,0))","v":""},{"$f":"IF($B2203=\"\",\"\",VLOOKUP($B2203,_tbl!$A:$E,P$2,0))","v":""},{"$f":"IF($B2203=\"\",\"\",VLOOKUP($B2203,_tbl!$A:$E,Q$2,0))","v":""}]
[null,"all_f_East Urban infectious.csv","1-4",2.95459979387459E-5,2.94778137694021E-5,2.9291714876982E-5,2.9118633853528798E-5,2.8890716919014601E-5,2.8699344232468899E-5,2.8516373144532301E-5,2.83846712370102E-5,2.82707536611308E-5,2.8178561112799301E-5,{"$f":"IF($B2204=\"\",\"\",VLOOKUP($B2204,_tbl!$A:$E,N$2,0))","v":"Female"},{"$f":"IF($B2204=\"\",\"\",VLOOKUP($B2204,_tbl!$A:$E,O$2,0))","v":"East"},{"$f":"IF($B2204=\"\",\"\",VLOOKUP($B2204,_tbl!$A:$E,P$2,0))","v":"Urban"},{"$f":"IF($B2204=\"\",\"\",VLOOKUP($B2204,_tbl!$A:$E,Q$2,0))","v":"Infectious"},null,{"$f":"MAX(D2204:M2204)","v":2.95459979387459E-5},{"$f":"MIN(D2204:M2204)","v":2.8178561112799301E-5}]
[null,"all_f_East Urban infectious.csv","5-9",8.4081015087302593E-6,8.4126408538213293E-6,8.3802453551221999E-6,8.3509497976988895E-6,8.3087133366719401E-6,8.2744972955634499E-6,8.2420674062064202E-6,8.2193930561090604E-6,8.1995080854004302E-6,8.1842759262135301E-6,{"$f":"IF($B2205=\"\",\"\",VLOOKUP($B2205,_tbl!$A:$E,N$2,0))","v":"Female"},{"$f":"IF($B2205=\"\",\"\",VLOOKUP($B2205,_tbl!$A:$E,O$2,0))","v":"East"},{"$f":"IF($B2205=\"\",\"\",VLOOKUP($B2205,_tbl!$A:$E,P$2,0))","v":"Urban"},{"$f":"IF($B2205=\"\",\"\",VLOOKUP($B2205,_tbl!$A:$E,Q$2,0))","v":"Infectious"},null,8.4126408538213293E-6,8.1842759262135301E-6]
[null,"all_f_East Urban infectious.csv","10-14",6.0732729515437204E-6,6.0244070959825297E-6,6.0162730561200398E-6,6.0053316198724697E-6,6.0010742220380097E-6,5.9914096414586104E-6,5.9807119986786003E-6,5.96371771240575E-6,5.9439675293815896E-6,5.9214031625623799E-6,{"$f":"IF($B2206=\"\",\"\",VLOOKUP($B2206,_tbl!$A:$E,N$2,0))","v":"Female"},{"$f":"IF($B2206=\"\",\"\",VLOOKUP($B2206,_tbl!$A:$E,O$2,0))","v":"East"},{"$f":"IF($B2206=\"\",\"\",VLOOKUP($B2206,_tbl!$A:$E,P$2,0))","v":"Urban"},{"$f":"IF($B2206=\"\",\"\",VLOOKUP($B2206,_tbl!$A:$E,Q$2,0))","v":"Infectious"},null,6.0732729515437204E-6,5.9214031625623799E-6]
[null,"all_f_East Urban infectious.csv","15-19",4.1623918169893998E-6,4.10117770336047E-6,4.1002487065554397E-6,4.0890025067506496E-6,4.0953670567385498E-6,4.0857211148014802E-6,4.0722497313598499E-6,4.0445904004391003E-6,4.01213971982388E-6,3.9742422948095199E-6,{"$f":"IF($B2207=\"\",\"\",VLOOKUP($B2207,_tbl!$A:$E,N$2,0))","v":"Female"},{"$f":"IF($B2207=\"\",\"\",VLOOKUP($B2207,_tbl!$A:$E,O$2,0))","v":"East"},{"$f":"IF($B2207=\"\",\"\",VLOOKUP($B2207,_tbl!$A:$E,P$2,0))","v":"Urban"},{"$f":"IF($B2207=\"\",\"\",VLOOKUP($B2207,_tbl!$A:$E,Q$2,0))","v":"Infectious"},null,4.1623918169893998E-6,3.9742422948095199E-6]
[null,"all_f_East Urban infectious.csv","20-24",3.47309874786037E-6,3.4354656502426098E-6,3.4222884206265801E-6,3.4056755922047599E-6,3.3950770037569502E-6,3.3790780443295999E-6,3.36208497245091E-6,3.34072188695868E-6,3.3181689749592599E-6,3.2944178083133501E-6,{"$f":"IF($B2208=\"\",\"\",VLOOKUP($B2208,_tbl!$A:$E,N$2,0))","v":"Female"},{"$f":"IF($B2208=\"\",\"\",VLOOKUP($B2208,_tbl!$A:$E,O$2,0))","v":"East"},{"$f":"IF($B2208=\"\",\"\",VLOOKUP($B2208,_tbl!$A:$E,P$2,0))","v":"Urban"},{"$f":"IF($B2208=\"\",\"\",VLOOKUP($B2208,_tbl!$A:$E,Q$2,0))","v":"Infectious"},null,3.47309874786037E-6,3.2944178083133501E-6]
[null,"all_f_East Urban infectious.csv","25-29",4.3443882437376303E-6,4.2942889040491102E-6,4.26575599282519E-6,4.2350405317273598E-6,4.20919734308715E-6,4.1797808906456103E-6,4.1503587273867103E-6,4.1178306528881399E-6,4.0846718550430904E-6,4.0510147180966601E-6,{"$f":"IF($B2209=\"\",\"\",VLOOKUP($B2209,_tbl!$A:$E,N$2,0))","v":"Female"},{"$f":"IF($B2209=\"\",\"\",VLOOKUP($B2209,_tbl!$A:$E,O$2,0))","v":"East"},{"$f":"IF($B2209=\"\",\"\",VLOOKUP($B2209,_tbl!$A:$E,P$2,0))","v":"Urban"},{"$f":"IF($B2209=\"\",\"\",VLOOKUP($B2209,_tbl!$A:$E,Q$2,0))","v":"Infectious"},null,4.3443882437376303E-6,4.0510147180966601E-6]
[null,"all_f_East Urban infectious.csv","30-34",6.8855533756748504E-6,6.8146363846362096E-6,6.7602472618431301E-6,6.7047434608396096E-6,6.6515094958957899E-6,6.5986372826587004E-6,6.5484528522376102E-6,6.4988747352349399E-6,6.4505440711678004E-6,6.4035574218996002E-6,{"$f":"IF($B2210=\"\",\"\",VLOOKUP($B2210,_tbl!$A:$E,N$2,0))","v":"Female"},{"$f":"IF($B2210=\"\",\"\",VLOOKUP($B2210,_tbl!$A:$E,O$2,0))","v":"East"},{"$f":"IF($B2210=\"\",\"\",VLOOKUP($B2210,_tbl!$A:$E,P$2,0))","v":"Urban"},{"$f":"IF($B2210=\"\",\"\",VLOOKUP($B2210,_tbl!$A:$E,Q$2,0))","v":"Infectious"},null,6.8855533756748504E-6,6.4035574218996002E-6]
[null,"all_f_East Urban infectious.csv","35-39",9.9743008632882604E-6,9.9507657011302606E-6,9.9325302064499107E-6,9.9128224805963396E-6,9.8949589726960798E-6,9.8772849166179599E-6,9.8612499403243298E-6,9.8455257284725692E-6,9.8305510581508308E-6,9.8163559695000506E-6,{"$f":"IF($B2211=\"\",\"\",VLOOKUP($B2211,_tbl!$A:$E,N$2,0))","v":"Female"},{"$f":"IF($B2211=\"\",\"\",VLOOKUP($B2211,_tbl!$A:$E,O$2,0))","v":"East"},{"$f":"IF($B2211=\"\",\"\",VLOOKUP($B2211,_tbl!$A:$E,P$2,0))","v":"Urban"},{"$f":"IF($B2211=\"\",\"\",VLOOKUP($B2211,_tbl!$A:$E,Q$2,0))","v":"Infectious"},null,9.9743008632882604E-6,9.8163559695000506E-6]
[null,"all_f_East Urban infectious.csv","40-44",1.3397442987922E-5,1.34891409655553E-5,1.3545458486870101E-5,1.3620175539567E-5,1.3687995892213E-5,1.3760884618272799E-5,1.3825253278997001E-5,1.38905925041544E-5,1.3953346540452199E-5,1.4014171065292901E-5,{"$f":"IF($B2212=\"\",\"\",VLOOKUP($B2212,_tbl!$A:$E,N$2,0))","v":"Female"},{"$f":"IF($B2212=\"\",\"\",VLOOKUP($B2212,_tbl!$A:$E,O$2,0))","v":"East"},{"$f":"IF($B2212=\"\",\"\",VLOOKUP($B2212,_tbl!$A:$E,P$2,0))","v":"Urban"},{"$f":"IF($B2212=\"\",\"\",VLOOKUP($B2212,_tbl!$A:$E,Q$2,0))","v":"Infectious"},null,1.4014171065292901E-5,1.3397442987922E-5]
[null,"all_f_East Urban infectious.csv","45-49",1.9700563550640799E-5,1.9915192481898501E-5,2.00222331174324E-5,2.0176990923966201E-5,2.0310592530098599E-5,2.04578710925095E-5,2.0583980180124199E-5,2.0715903384417901E-5,2.0843604332073201E-5,2.0967847814284398E-5,{"$f":"IF($B2213=\"\",\"\",VLOOKUP($B2213,_tbl!$A:$E,N$2,0))","v":"Female"},{"$f":"IF($B2213=\"\",\"\",VLOOKUP($B2213,_tbl!$A:$E,O$2,0))","v":"East"},{"$f":"IF($B2213=\"\",\"\",VLOOKUP($B2213,_tbl!$A:$E,P$2,0))","v":"Urban"},{"$f":"IF($B2213=\"\",\"\",VLOOKUP($B2213,_tbl!$A:$E,Q$2,0))","v":"Infectious"},null,2.0967847814284398E-5,1.9700563550640799E-5]
[null,"all_f_East Urban infectious.csv","50-54",3.3783104233802198E-5,3.4033230689740901E-5,3.4246762331480003E-5,3.4447521897141901E-5,3.4647837228836798E-5,3.4838948670114701E-5,3.5022954777707902E-5,3.5196192474286997E-5,3.5362258709538199E-5,3.5521062679292299E-5,{"$f":"IF($B2214=\"\",\"\",VLOOKUP($B2214,_tbl!$A:$E,N$2,0))","v":"Female"},{"$f":"IF($B2214=\"\",\"\",VLOOKUP($B2214,_tbl!$A:$E,O$2,0))","v":"East"},{"$f":"IF($B2214=\"\",\"\",VLOOKUP($B2214,_tbl!$A:$E,P$2,0))","v":"Urban"},{"$f":"IF($B2214=\"\",\"\",VLOOKUP($B2214,_tbl!$A:$E,Q$2,0))","v":"Infectious"},null,3.5521062679292299E-5,3.3783104233802198E-5]
[null,"all_f_East Urban infectious.csv","55-59",6.2240773517612295E-5,6.2863124059798104E-5,6.2880128964751199E-5,6.32580455603065E-5,6.3438690357292299E-5,6.3732649218863896E-5,6.3971961004985402E-5,6.4238297808204005E-5,6.4480577022339299E-5,6.4732156902022302E-5,{"$f":"IF($B2215=\"\",\"\",VLOOKUP($B2215,_tbl!$A:$E,N$2,0))","v":"Female"},{"$f":"IF($B2215=\"\",\"\",VLOOKUP($B2215,_tbl!$A:$E,O$2,0))","v":"East"},{"$f":"IF($B2215=\"\",\"\",VLOOKUP($B2215,_tbl!$A:$E,P$2,0))","v":"Urban"},{"$f":"IF($B2215=\"\",\"\",VLOOKUP($B2215,_tbl!$A:$E,Q$2,0))","v":"Infectious"},null,6.4732156902022302E-5,6.2240773517612295E-5]
[null,"all_f_East Urban infectious.csv","60-64",1.08011111718749E-4,1.0762117633023099E-4,1.07541308892051E-4,1.0746191694074E-4,1.07398599280797E-4,1.07345740084016E-4,1.07313286349393E-4,1.07272163949402E-4,1.07226826981422E-4,1.07185195300062E-4,{"$f":"IF($B2216=\"\",\"\",VLOOKUP($B2216,_tbl!$A:$E,N$2,0))","v":"Female"},{"$f":"IF($B2216=\"\",\"\",VLOOKUP($B2216,_tbl!$A:$E,O$2,0))","v":"East"},{"$f":"IF($B2216=\"\",\"\",VLOOKUP($B2216,_tbl!$A:$E,P$2,0))","v":"Urban"},{"$f":"IF($B2216=\"\",\"\",VLOOKUP($B2216,_tbl!$A:$E,Q$2,0))","v":"Infectious"},null,1.08011111718749E-4,1.07185195300062E-4]
[null,"all_f_East Urban infectious.csv","65-69",1.6041965961838199E-4,1.5752615413031201E-4,1.55713464295301E-4,1.53004091735287E-4,1.5015173905138799E-4,1.4699751126910101E-4,1.4442944258495001E-4,1.41565439263203E-4,1.3863777382394101E-4,1.35803422947189E-4,{"$f":"IF($B2217=\"\",\"\",VLOOKUP($B2217,_tbl!$A:$E,N$2,0))","v":"Female"},{"$f":"IF($B2217=\"\",\"\",VLOOKUP($B2217,_tbl!$A:$E,O$2,0))","v":"East"},{"$f":"IF($B2217=\"\",\"\",VLOOKUP($B2217,_tbl!$A:$E,P$2,0))","v":"Urban"},{"$f":"IF($B2217=\"\",\"\",VLOOKUP($B2217,_tbl!$A:$E,Q$2,0))","v":"Infectious"},null,1.6041965961838199E-4,1.35803422947189E-4]
[null,"all_f_East Urban infectious.csv","70-74",3.2016017088611602E-4,3.1876475413717699E-4,3.1845157429617201E-4,3.1667383483050199E-4,3.1453384417933698E-4,3.1182099582926002E-4,3.1004904627415401E-4,3.07692167392635E-4,3.0513876018243999E-4,3.0267494637556001E-4,{"$f":"IF($B2218=\"\",\"\",VLOOKUP($B2218,_tbl!$A:$E,N$2,0))","v":"Female"},{"$f":"IF($B2218=\"\",\"\",VLOOKUP($B2218,_tbl!$A:$E,O$2,0))","v":"East"},{"$f":"IF($B2218=\"\",\"\",VLOOKUP($B2218,_tbl!$A:$E,P$2,0))","v":"Urban"},{"$f":"IF($B2218=\"\",\"\",VLOOKUP($B2218,_tbl!$A:$E,Q$2,0))","v":"Infectious"},null,3.2016017088611602E-4,3.0267494637556001E-4]
[null,"all_f_East Urban infectious.csv","75-79",7.9775851966992805E-4,8.0006272379634495E-4,8.0523887036094098E-4,8.0902614469606298E-4,8.1258009143277002E-4,8.1550700805658799E-4,8.19294419900103E-4,8.2244359230214197E-4,8.2533367644631902E-4,8.2823334393139904E-4,{"$f":"IF($B2219=\"\",\"\",VLOOKUP($B2219,_tbl!$A:$E,N$2,0))","v":"Female"},{"$f":"IF($B2219=\"\",\"\",VLOOKUP($B2219,_tbl!$A:$E,O$2,0))","v":"East"},{"$f":"IF($B2219=\"\",\"\",VLOOKUP($B2219,_tbl!$A:$E,P$2,0))","v":"Urban"},{"$f":"IF($B2219=\"\",\"\",VLOOKUP($B2219,_tbl!$A:$E,Q$2,0))","v":"Infectious"},null,8.2823334393139904E-4,7.9775851966992805E-4]
[null,"all_f_East Urban infectious.csv","80-84",2.4898375795604998E-3,2.4432581347563201E-3,2.4377821688507701E-3,2.42735391497621E-3,2.4158037445714802E-3,2.40121655663485E-3,2.3981388984190802E-3,2.3887157941633701E-3,2.37643598618006E-3,2.3651304519828101E-3,{"$f":"IF($B2220=\"\",\"\",VLOOKUP($B2220,_tbl!$A:$E,N$2,0))","v":"Female"},{"$f":"IF($B2220=\"\",\"\",VLOOKUP($B2220,_tbl!$A:$E,O$2,0))","v":"East"},{"$f":"IF($B2220=\"\",\"\",VLOOKUP($B2220,_tbl!$A:$E,P$2,0))","v":"Urban"},{"$f":"IF($B2220=\"\",\"\",VLOOKUP($B2220,_tbl!$A:$E,Q$2,0))","v":"Infectious"},null,2.4898375795604998E-3,2.3651304519828101E-3]
[null,"all_f_East Urban infectious.csv","85+",8.8697208669452406E-3,8.7268240584496698E-3,8.6436346547556896E-3,8.6123400803637899E-3,8.6025925198981706E-3,8.6019434386002108E-3,8.62836933063936E-3,8.6509505765092996E-3,8.6725292450330407E-3,8.6977034275642403E-3,{"$f":"IF($B2221=\"\",\"\",VLOOKUP($B2221,_tbl!$A:$E,N$2,0))","v":"Female"},{"$f":"IF($B2221=\"\",\"\",VLOOKUP($B2221,_tbl!$A:$E,O$2,0))","v":"East"},{"$f":"IF($B2221=\"\",\"\",VLOOKUP($B2221,_tbl!$A:$E,P$2,0))","v":"Urban"},{"$f":"IF($B2221=\"\",\"\",VLOOKUP($B2221,_tbl!$A:$E,Q$2,0))","v":"Infectious"},null,8.8697208669452406E-3,8.6019434386002108E-3]
[null,null,null,null,null,null,null,null,null,null,null,null,null,{"$f":"IF($B2222=\"\",\"\",VLOOKUP($B2222,_tbl!$A:$E,N$2,0))","v":""},{"$f":"IF($B2222=\"\",\"\",VLOOKUP($B2222,_tbl!$A:$E,O$2,0))","v":""},{"$f":"IF($B2222=\"\",\"\",VLOOKUP($B2222,_tbl!$A:$E,P$2,0))","v":""},{"$f":"IF($B2222=\"\",\"\",VLOOKUP($B2222,_tbl!$A:$E,Q$2,0))","v":""}]
[null,null,null,2020,2021,2022,2023,2024,2025,2026,2027,2028,2029,{"$f":"IF($B2223=\"\",\"\",VLOOKUP($B2223,_tbl!$A:$E,N$2,0))","v":""},{"$f":"IF($B2223=\"\",\"\",VLOOKUP($B2223,_tbl!$A:$E,O$2,0))","v":""},{"$f":"IF($B2223=\"\",\"\",VLOOKUP($B2223,_tbl!$A:$E,P$2,0))","v":""},{"$f":"IF($B2223=\"\",\"\",VLOOKUP($B2223,_tbl!$A:$E,Q$2,0))","v":""}]
[null,"all_f_East Urban mental.csv","1-4",1.8362408534680801E-5,1.83667783406039E-5,1.8304452741465299E-5,1.8253959671471199E-5,1.81833333976856E-5,1.81298209025816E-5,1.80785788260313E-5,1.8049296403876001E-5,1.8028734747121801E-5,1.8017241616037501E-5,{"$f":"IF($B2224=\"\",\"\",VLOOKUP($B2224,_tbl!$A:$E,N$2,0))","v":"Female"},{"$f":"IF($B2224=\"\",\"\",VLOOKUP($B2224,_tbl!$A:$E,O$2,0))","v":"East"},{"$f":"IF($B2224=\"\",\"\",VLOOKUP($B2224,_tbl!$A:$E,P$2,0))","v":"Urban"},{"$f":"IF($B2224=\"\",\"\",VLOOKUP($B2224,_tbl!$A:$E,Q$2,0))","v":"Mental"},null,{"$f":"MAX(D2224:M2224)","v":1.83667783406039E-5},{"$f":"MIN(D2224:M2224)","v":1.8017241616037501E-5}]
[null,"all_f_East Urban mental.csv","5-9",1.1425835125489201E-5,1.1450009169488299E-5,1.14258599422919E-5,1.1405159426958301E-5,1.1375327664195E-5,1.13526337838383E-5,1.1331942367379999E-5,1.1319643985859E-5,1.13102559797069E-5,1.1304985327220999E-5,{"$f":"IF($B2225=\"\",\"\",VLOOKUP($B2225,_tbl!$A:$E,N$2,0))","v":"Female"},{"$f":"IF($B2225=\"\",\"\",VLOOKUP($B2225,_tbl!$A:$E,O$2,0))","v":"East"},{"$f":"IF($B2225=\"\",\"\",VLOOKUP($B2225,_tbl!$A:$E,P$2,0))","v":"Urban"},{"$f":"IF($B2225=\"\",\"\",VLOOKUP($B2225,_tbl!$A:$E,Q$2,0))","v":"Mental"},null,1.1450009169488299E-5,1.1304985327220999E-5]
[null,"all_f_East Urban mental.csv","10-14",9.7407789386591301E-6,9.6806643757478797E-6,9.6596647369132193E-6,9.6372298662526796E-6,9.6262129605867607E-6,9.6080910834888298E-6,9.58902197123391E-6,9.5604389240112199E-6,9.5275411966959297E-6,9.4905458768458098E-6,{"$f":"IF($B2226=\"\",\"\",VLOOKUP($B2226,_tbl!$A:$E,N$2,0))","v":"Female"},{"$f":"IF($B2226=\"\",\"\",VLOOKUP($B2226,_tbl!$A:$E,O$2,0))","v":"East"},{"$f":"IF($B2226=\"\",\"\",VLOOKUP($B2226,_tbl!$A:$E,P$2,0))","v":"Urban"},{"$f":"IF($B2226=\"\",\"\",VLOOKUP($B2226,_tbl!$A:$E,Q$2,0))","v":"Mental"},null,9.7407789386591301E-6,9.4905458768458098E-6]
[null,"all_f_East Urban mental.csv","15-19",8.8146216822726192E-6,8.83587144508537E-6,8.8614458243993402E-6,8.8831762260325607E-6,8.9099970745980692E-6,8.9312180671423597E-6,8.9506577989438506E-6,8.9655600782700608E-6,8.9789275553765102E-6,8.9903135942884496E-6,{"$f":"IF($B2227=\"\",\"\",VLOOKUP($B2227,_tbl!$A:$E,N$2,0))","v":"Female"},{"$f":"IF($B2227=\"\",\"\",VLOOKUP($B2227,_tbl!$A:$E,O$2,0))","v":"East"},{"$f":"IF($B2227=\"\",\"\",VLOOKUP($B2227,_tbl!$A:$E,P$2,0))","v":"Urban"},{"$f":"IF($B2227=\"\",\"\",VLOOKUP($B2227,_tbl!$A:$E,Q$2,0))","v":"Mental"},null,8.9903135942884496E-6,8.8146216822726192E-6]
[null,"all_f_East Urban mental.csv","20-24",8.5803865622325607E-6,8.5822375996836397E-6,8.6067708448643108E-6,8.6256709658430899E-6,8.6519896614980503E-6,8.6702404974015498E-6,8.6855320769878793E-6,8.6948952365234694E-6,8.7024703076841096E-6,8.7077655690563199E-6,{"$f":"IF($B2228=\"\",\"\",VLOOKUP($B2228,_tbl!$A:$E,N$2,0))","v":"Female"},{"$f":"IF($B2228=\"\",\"\",VLOOKUP($B2228,_tbl!$A:$E,O$2,0))","v":"East"},{"$f":"IF($B2228=\"\",\"\",VLOOKUP($B2228,_tbl!$A:$E,P$2,0))","v":"Urban"},{"$f":"IF($B2228=\"\",\"\",VLOOKUP($B2228,_tbl!$A:$E,Q$2,0))","v":"Mental"},null,8.7077655690563199E-6,8.5803865622325607E-6]
[null,"all_f_East Urban mental.csv","25-29",9.6595168597040299E-6,9.6305815864017499E-6,9.6332484429277608E-6,9.6285017441921196E-6,9.6299894786426103E-6,9.6239923596275392E-6,9.6163463595656104E-6,9.6027858177358305E-6,9.5873418211778808E-6,9.5699487770268305E-6,{"$f":"IF($B2229=\"\",\"\",VLOOKUP($B2229,_tbl!$A:$E,N$2,0))","v":"Female"},{"$f":"IF($B2229=\"\",\"\",VLOOKUP($B2229,_tbl!$A:$E,O$2,0))","v":"East"},{"$f":"IF($B2229=\"\",\"\",VLOOKUP($B2229,_tbl!$A:$E,P$2,0))","v":"Urban"},{"$f":"IF($B2229=\"\",\"\",VLOOKUP($B2229,_tbl!$A:$E,Q$2,0))","v":"Mental"},null,9.6595168597040299E-6,9.5699487770268305E-6]
[null,"all_f_East Urban mental.csv","30-34",1.1386362523297E-5,1.1247123550764801E-5,1.1174035257570199E-5,1.1086926893401599E-5,1.10056211668188E-5,1.0916928502929701E-5,1.0830765684002201E-5,1.07393507279605E-5,1.06469236945927E-5,1.05538561802101E-5,{"$f":"IF($B2230=\"\",\"\",VLOOKUP($B2230,_tbl!$A:$E,N$2,0))","v":"Female"},{"$f":"IF($B2230=\"\",\"\",VLOOKUP($B2230,_tbl!$A:$E,O$2,0))","v":"East"},{"$f":"IF($B2230=\"\",\"\",VLOOKUP($B2230,_tbl!$A:$E,P$2,0))","v":"Urban"},{"$f":"IF($B2230=\"\",\"\",VLOOKUP($B2230,_tbl!$A:$E,Q$2,0))","v":"Mental"},null,1.1386362523297E-5,1.05538561802101E-5]
[null,"all_f_East Urban mental.csv","35-39",1.3366823297669301E-5,1.32957761454402E-5,1.3238080119911899E-5,1.31725570646469E-5,1.3110125065986299E-5,1.3045513519953E-5,1.2983861610837699E-5,1.2921210228793401E-5,1.28592514087036E-5,1.27981373210231E-5,{"$f":"IF($B2231=\"\",\"\",VLOOKUP($B2231,_tbl!$A:$E,N$2,0))","v":"Female"},{"$f":"IF($B2231=\"\",\"\",VLOOKUP($B2231,_tbl!$A:$E,O$2,0))","v":"East"},{"$f":"IF($B2231=\"\",\"\",VLOOKUP($B2231,_tbl!$A:$E,P$2,0))","v":"Urban"},{"$f":"IF($B2231=\"\",\"\",VLOOKUP($B2231,_tbl!$A:$E,Q$2,0))","v":"Mental"},null,1.3366823297669301E-5,1.27981373210231E-5]
[null,"all_f_East Urban mental.csv","40-44",1.6330390330886399E-5,1.6334631436244098E-5,1.6296870796900998E-5,1.6289252748224201E-5,1.62750511468488E-5,1.62722569746011E-5,1.6262923002698501E-5,1.6260657529433499E-5,1.6260217147873701E-5,1.6261697974366301E-5,{"$f":"IF($B2232=\"\",\"\",VLOOKUP($B2232,_tbl!$A:$E,N$2,0))","v":"Female"},{"$f":"IF($B2232=\"\",\"\",VLOOKUP($B2232,_tbl!$A:$E,O$2,0))","v":"East"},{"$f":"IF($B2232=\"\",\"\",VLOOKUP($B2232,_tbl!$A:$E,P$2,0))","v":"Urban"},{"$f":"IF($B2232=\"\",\"\",VLOOKUP($B2232,_tbl!$A:$E,Q$2,0))","v":"Mental"},null,1.6334631436244098E-5,1.6260217147873701E-5]
[null,"all_f_East Urban mental.csv","45-49",2.15902032241172E-5,2.1473614170006399E-5,2.12948858870723E-5,2.1195192720290399E-5,2.1080921488881899E-5,2.0996882453078299E-5,2.0896108769792999E-5,2.0813639709148801E-5,2.0736106257333799E-5,2.06637276546199E-5,{"$f":"IF($B2233=\"\",\"\",VLOOKUP($B2233,_tbl!$A:$E,N$2,0))","v":"Female"},{"$f":"IF($B2233=\"\",\"\",VLOOKUP($B2233,_tbl!$A:$E,O$2,0))","v":"East"},{"$f":"IF($B2233=\"\",\"\",VLOOKUP($B2233,_tbl!$A:$E,P$2,0))","v":"Urban"},{"$f":"IF($B2233=\"\",\"\",VLOOKUP($B2233,_tbl!$A:$E,Q$2,0))","v":"Mental"},null,2.15902032241172E-5,2.06637276546199E-5]
[null,"all_f_East Urban mental.csv","50-54",3.2548820271892301E-5,3.2515461482596199E-5,3.2557346203795998E-5,3.2581465547179398E-5,3.2597102960105197E-5,3.26123913375094E-5,3.2631698101231797E-5,3.2654085408252203E-5,3.26778688291664E-5,3.2704371223143199E-5,{"$f":"IF($B2234=\"\",\"\",VLOOKUP($B2234,_tbl!$A:$E,N$2,0))","v":"Female"},{"$f":"IF($B2234=\"\",\"\",VLOOKUP($B2234,_tbl!$A:$E,O$2,0))","v":"East"},{"$f":"IF($B2234=\"\",\"\",VLOOKUP($B2234,_tbl!$A:$E,P$2,0))","v":"Urban"},{"$f":"IF($B2234=\"\",\"\",VLOOKUP($B2234,_tbl!$A:$E,Q$2,0))","v":"Mental"},null,3.2704371223143199E-5,3.2515461482596199E-5]
[null,"all_f_East Urban mental.csv","55-59",5.1757432351389702E-5,5.1807395463592998E-5,5.2105982149225301E-5,5.2452093557807299E-5,5.2810749432011997E-5,5.3185810941845901E-5,5.3553408801188302E-5,5.3925543690278802E-5,5.42949096507953E-5,5.4660963183551399E-5,{"$f":"IF($B2235=\"\",\"\",VLOOKUP($B2235,_tbl!$A:$E,N$2,0))","v":"Female"},{"$f":"IF($B2235=\"\",\"\",VLOOKUP($B2235,_tbl!$A:$E,O$2,0))","v":"East"},{"$f":"IF($B2235=\"\",\"\",VLOOKUP($B2235,_tbl!$A:$E,P$2,0))","v":"Urban"},{"$f":"IF($B2235=\"\",\"\",VLOOKUP($B2235,_tbl!$A:$E,Q$2,0))","v":"Mental"},null,5.4660963183551399E-5,5.1757432351389702E-5]
[null,"all_f_East Urban mental.csv","60-64",8.2892700839794895E-5,8.2934458482716205E-5,8.3058437955631697E-5,8.3411528845505397E-5,8.3780394347977695E-5,8.4229698728188694E-5,8.4588233462462304E-5,8.4999752005268797E-5,8.5416348856675694E-5,8.5821825600510094E-5,{"$f":"IF($B2236=\"\",\"\",VLOOKUP($B2236,_tbl!$A:$E,N$2,0))","v":"Female"},{"$f":"IF($B2236=\"\",\"\",VLOOKUP($B2236,_tbl!$A:$E,O$2,0))","v":"East"},{"$f":"IF($B2236=\"\",\"\",VLOOKUP($B2236,_tbl!$A:$E,P$2,0))","v":"Urban"},{"$f":"IF($B2236=\"\",\"\",VLOOKUP($B2236,_tbl!$A:$E,Q$2,0))","v":"Mental"},null,8.5821825600510094E-5,8.2892700839794895E-5]
[null,"all_f_East Urban mental.csv","65-69",1.2413535051624999E-4,1.22878430737627E-4,1.21640373508778E-4,1.20272962508485E-4,1.1884703147135101E-4,1.17379088043854E-4,1.16002111955196E-4,1.14588579280104E-4,1.13170000139711E-4,1.11776626865106E-4,{"$f":"IF($B2237=\"\",\"\",VLOOKUP($B2237,_tbl!$A:$E,N$2,0))","v":"Female"},{"$f":"IF($B2237=\"\",\"\",VLOOKUP($B2237,_tbl!$A:$E,O$2,0))","v":"East"},{"$f":"IF($B2237=\"\",\"\",VLOOKUP($B2237,_tbl!$A:$E,P$2,0))","v":"Urban"},{"$f":"IF($B2237=\"\",\"\",VLOOKUP($B2237,_tbl!$A:$E,Q$2,0))","v":"Mental"},null,1.2413535051624999E-4,1.11776626865106E-4]
[null,"all_f_East Urban mental.csv","70-74",2.3557352552913E-4,2.34269064378262E-4,2.3307873773740099E-4,2.3149893924982401E-4,2.2982624813608501E-4,2.2801565144438699E-4,2.2646422550305601E-4,2.24794544735468E-4,2.2310664124199401E-4,2.21466117062288E-4,{"$f":"IF($B2238=\"\",\"\",VLOOKUP($B2238,_tbl!$A:$E,N$2,0))","v":"Female"},{"$f":"IF($B2238=\"\",\"\",VLOOKUP($B2238,_tbl!$A:$E,O$2,0))","v":"East"},{"$f":"IF($B2238=\"\",\"\",VLOOKUP($B2238,_tbl!$A:$E,P$2,0))","v":"Urban"},{"$f":"IF($B2238=\"\",\"\",VLOOKUP($B2238,_tbl!$A:$E,Q$2,0))","v":"Mental"},null,2.3557352552913E-4,2.21466117062288E-4]
[null,"all_f_East Urban mental.csv","75-79",5.3472555101231499E-4,5.3621813104903597E-4,5.3721861431103401E-4,5.3832482967602999E-4,5.3960355415587997E-4,5.40950221720112E-4,5.4199653777212099E-4,5.4319052548748104E-4,5.4445161218001495E-4,5.4565767998495805E-4,{"$f":"IF($B2239=\"\",\"\",VLOOKUP($B2239,_tbl!$A:$E,N$2,0))","v":"Female"},{"$f":"IF($B2239=\"\",\"\",VLOOKUP($B2239,_tbl!$A:$E,O$2,0))","v":"East"},{"$f":"IF($B2239=\"\",\"\",VLOOKUP($B2239,_tbl!$A:$E,P$2,0))","v":"Urban"},{"$f":"IF($B2239=\"\",\"\",VLOOKUP($B2239,_tbl!$A:$E,Q$2,0))","v":"Mental"},null,5.4565767998495805E-4,5.3472555101231499E-4]
[null,"all_f_East Urban mental.csv","80-84",1.3913552612211499E-3,1.38136391907688E-3,1.38072974005223E-3,1.38051238232703E-3,1.3821188351610899E-3,1.38410534133161E-3,1.3892789212326001E-3,1.39260905581601E-3,1.39494437925706E-3,1.3973925419782901E-3,{"$f":"IF($B2240=\"\",\"\",VLOOKUP($B2240,_tbl!$A:$E,N$2,0))","v":"Female"},{"$f":"IF($B2240=\"\",\"\",VLOOKUP($B2240,_tbl!$A:$E,O$2,0))","v":"East"},{"$f":"IF($B2240=\"\",\"\",VLOOKUP($B2240,_tbl!$A:$E,P$2,0))","v":"Urban"},{"$f":"IF($B2240=\"\",\"\",VLOOKUP($B2240,_tbl!$A:$E,Q$2,0))","v":"Mental"},null,1.3973925419782901E-3,1.38051238232703E-3]
[null,"all_f_East Urban mental.csv","85+",3.8525942843350399E-3,3.7701853172050401E-3,3.7441397354349999E-3,3.7328781931878501E-3,3.7333328122842999E-3,3.7385481634124701E-3,3.7548025891889002E-3,3.766289329626E-3,3.7753050678917301E-3,3.78516725402419E-3,{"$f":"IF($B2241=\"\",\"\",VLOOKUP($B2241,_tbl!$A:$E,N$2,0))","v":"Female"},{"$f":"IF($B2241=\"\",\"\",VLOOKUP($B2241,_tbl!$A:$E,O$2,0))","v":"East"},{"$f":"IF($B2241=\"\",\"\",VLOOKUP($B2241,_tbl!$A:$E,P$2,0))","v":"Urban"},{"$f":"IF($B2241=\"\",\"\",VLOOKUP($B2241,_tbl!$A:$E,Q$2,0))","v":"Mental"},null,3.8525942843350399E-3,3.7328781931878501E-3]
[null,null,null,null,null,null,null,null,null,null,null,null,null,{"$f":"IF($B2242=\"\",\"\",VLOOKUP($B2242,_tbl!$A:$E,N$2,0))","v":""},{"$f":"IF($B2242=\"\",\"\",VLOOKUP($B2242,_tbl!$A:$E,O$2,0))","v":""},{"$f":"IF($B2242=\"\",\"\",VLOOKUP($B2242,_tbl!$A:$E,P$2,0))","v":""},{"$f":"IF($B2242=\"\",\"\",VLOOKUP($B2242,_tbl!$A:$E,Q$2,0))","v":""}]
[null,null,null,2020,2021,2022,2023,2024,2025,2026,2027,2028,2029,{"$f":"IF($B2243=\"\",\"\",VLOOKUP($B2243,_tbl!$A:$E,N$2,0))","v":""},{"$f":"IF($B2243=\"\",\"\",VLOOKUP($B2243,_tbl!$A:$E,O$2,0))","v":""},{"$f":"IF($B2243=\"\",\"\",VLOOKUP($B2243,_tbl!$A:$E,P$2,0))","v":""},{"$f":"IF($B2243=\"\",\"\",VLOOKUP($B2243,_tbl!$A:$E,Q$2,0))","v":""}]
[null,"all_f_East Urban other.csv","1-4",2.28058739475672E-5,2.21345634631085E-5,2.14830135792556E-5,2.0850642625760099E-5,2.0236886054336599E-5,1.96411959346637E-5,1.9063040465219199E-5,1.8501903498515601E-5,1.7957284080309899E-5,1.7428696002377402E-5,{"$f":"IF($B2244=\"\",\"\",VLOOKUP($B2244,_tbl!$A:$E,N$2,0))","v":"Female"},{"$f":"IF($B2244=\"\",\"\",VLOOKUP($B2244,_tbl!$A:$E,O$2,0))","v":"East"},{"$f":"IF($B2244=\"\",\"\",VLOOKUP($B2244,_tbl!$A:$E,P$2,0))","v":"Urban"},{"$f":"IF($B2244=\"\",\"\",VLOOKUP($B2244,_tbl!$A:$E,Q$2,0))","v":"Other"},null,{"$f":"MAX(D2244:M2244)","v":2.28058739475672E-5},{"$f":"MIN(D2244:M2244)","v":1.7428696002377402E-5}]
[null,"all_f_East Urban other.csv","5-9",1.1022898640587E-5,1.0754062488775601E-5,1.04917829496009E-5,1.02359001146245E-5,9.9862579753953697E-6,9.7427043283341295E-6,9.5050906819360996E-6,9.2732721662381101E-6,9.0471074444931405E-6,8.82645862699912E-6,{"$f":"IF($B2245=\"\",\"\",VLOOKUP($B2245,_tbl!$A:$E,N$2,0))","v":"Female"},{"$f":"IF($B2245=\"\",\"\",VLOOKUP($B2245,_tbl!$A:$E,O$2,0))","v":"East"},{"$f":"IF($B2245=\"\",\"\",VLOOKUP($B2245,_tbl!$A:$E,P$2,0))","v":"Urban"},{"$f":"IF($B2245=\"\",\"\",VLOOKUP($B2245,_tbl!$A:$E,Q$2,0))","v":"Other"},null,1.1022898640587E-5,8.82645862699912E-6]
[null,"all_f_East Urban other.csv","10-14",1.31025235955038E-5,1.2776047559417201E-5,1.24577063380754E-5,1.21472972360166E-5,1.1844622608348601E-5,1.15494897349041E-5,1.12617106975309E-5,1.09811022604397E-5,1.0707485753534201E-5,1.0440686958646501E-5,{"$f":"IF($B2246=\"\",\"\",VLOOKUP($B2246,_tbl!$A:$E,N$2,0))","v":"Female"},{"$f":"IF($B2246=\"\",\"\",VLOOKUP($B2246,_tbl!$A:$E,O$2,0))","v":"East"},{"$f":"IF($B2246=\"\",\"\",VLOOKUP($B2246,_tbl!$A:$E,P$2,0))","v":"Urban"},{"$f":"IF($B2246=\"\",\"\",VLOOKUP($B2246,_tbl!$A:$E,Q$2,0))","v":"Other"},null,1.31025235955038E-5,1.0440686958646501E-5]
[null,"all_f_East Urban other.csv","15-19",1.33786069799464E-5,1.28427947300766E-5,1.2328441722379101E-5,1.18346885157442E-5,1.1360710089617001E-5,1.09057144654567E-5,1.04689413834062E-5,1.0049661031961101E-5,9.6471728285155092E-6,9.2608042487465008E-6,{"$f":"IF($B2247=\"\",\"\",VLOOKUP($B2247,_tbl!$A:$E,N$2,0))","v":"Female"},{"$f":"IF($B2247=\"\",\"\",VLOOKUP($B2247,_tbl!$A:$E,O$2,0))","v":"East"},{"$f":"IF($B2247=\"\",\"\",VLOOKUP($B2247,_tbl!$A:$E,P$2,0))","v":"Urban"},{"$f":"IF($B2247=\"\",\"\",VLOOKUP($B2247,_tbl!$A:$E,Q$2,0))","v":"Other"},null,1.33786069799464E-5,9.2608042487465008E-6]
[null,"all_f_East Urban other.csv","20-24",1.3819528302525E-5,1.30806558123593E-5,1.23812877498972E-5,1.17193119782963E-5,1.10927292878545E-5,1.0499647358267E-5,9.93827504369622E-6,9.4069169633957705E-6,8.9039683815504606E-6,8.4279103608703608E-6,{"$f":"IF($B2248=\"\",\"\",VLOOKUP($B2248,_tbl!$A:$E,N$2,0))","v":"Female"},{"$f":"IF($B2248=\"\",\"\",VLOOKUP($B2248,_tbl!$A:$E,O$2,0))","v":"East"},{"$f":"IF($B2248=\"\",\"\",VLOOKUP($B2248,_tbl!$A:$E,P$2,0))","v":"Urban"},{"$f":"IF($B2248=\"\",\"\",VLOOKUP($B2248,_tbl!$A:$E,Q$2,0))","v":"Other"},null,1.3819528302525E-5,8.4279103608703608E-6]
[null,"all_f_East Urban other.csv","25-29",1.9781261260420401E-5,1.8754645364473301E-5,1.7781309195432198E-5,1.6858487620485101E-5,1.5983559012800899E-5,1.5154037803797799E-5,1.43675674219375E-5,1.36219135979841E-5,1.2914958017710299E-5,1.2244692304016901E-5,{"$f":"IF($B2249=\"\",\"\",VLOOKUP($B2249,_tbl!$A:$E,N$2,0))","v":"Female"},{"$f":"IF($B2249=\"\",\"\",VLOOKUP($B2249,_tbl!$A:$E,O$2,0))","v":"East"},{"$f":"IF($B2249=\"\",\"\",VLOOKUP($B2249,_tbl!$A:$E,P$2,0))","v":"Urban"},{"$f":"IF($B2249=\"\",\"\",VLOOKUP($B2249,_tbl!$A:$E,Q$2,0))","v":"Other"},null,1.9781261260420401E-5,1.2244692304016901E-5]
[null,"all_f_East Urban other.csv","30-34",2.9013785610604499E-5,2.76906821207258E-5,2.642791556407E-5,2.5222734420791001E-5,2.40725126474478E-5,2.2974743954956102E-5,2.1927036347481399E-5,2.0927106910371199E-5,1.9972776835771899E-5,1.9061966675090201E-5,{"$f":"IF($B2250=\"\",\"\",VLOOKUP($B2250,_tbl!$A:$E,N$2,0))","v":"Female"},{"$f":"IF($B2250=\"\",\"\",VLOOKUP($B2250,_tbl!$A:$E,O$2,0))","v":"East"},{"$f":"IF($B2250=\"\",\"\",VLOOKUP($B2250,_tbl!$A:$E,P$2,0))","v":"Urban"},{"$f":"IF($B2250=\"\",\"\",VLOOKUP($B2250,_tbl!$A:$E,Q$2,0))","v":"Other"},null,2.9013785610604499E-5,1.9061966675090201E-5]
[null,"all_f_East Urban other.csv","35-39",3.3059672217580201E-5,3.1566353647724002E-5,3.01404888728238E-5,2.8779030978077999E-5,2.7479070679041002E-5,2.6237830104804999E-5,2.5052656861998299E-5,2.3921018366914699E-5,2.28404964336637E-5,2.1808782106774901E-5,{"$f":"IF($B2251=\"\",\"\",VLOOKUP($B2251,_tbl!$A:$E,N$2,0))","v":"Female"},{"$f":"IF($B2251=\"\",\"\",VLOOKUP($B2251,_tbl!$A:$E,O$2,0))","v":"East"},{"$f":"IF($B2251=\"\",\"\",VLOOKUP($B2251,_tbl!$A:$E,P$2,0))","v":"Urban"},{"$f":"IF($B2251=\"\",\"\",VLOOKUP($B2251,_tbl!$A:$E,Q$2,0))","v":"Other"},null,3.3059672217580201E-5,2.1808782106774901E-5]
[null,"all_f_East Urban other.csv","40-44",3.4985403030872E-5,3.3359483870441297E-5,3.1809128027486799E-5,3.0330823756107E-5,2.8921222516035999E-5,2.75771313877901E-5,2.6295505840313699E-5,2.5073442834743801E-5,2.3908174248670901E-5,2.2797060606003301E-5,{"$f":"IF($B2252=\"\",\"\",VLOOKUP($B2252,_tbl!$A:$E,N$2,0))","v":"Female"},{"$f":"IF($B2252=\"\",\"\",VLOOKUP($B2252,_tbl!$A:$E,O$2,0))","v":"East"},{"$f":"IF($B2252=\"\",\"\",VLOOKUP($B2252,_tbl!$A:$E,P$2,0))","v":"Urban"},{"$f":"IF($B2252=\"\",\"\",VLOOKUP($B2252,_tbl!$A:$E,Q$2,0))","v":"Other"},null,3.4985403030872E-5,2.2797060606003301E-5]
[null,"all_f_East Urban other.csv","45-49",4.6414841373147097E-5,4.4485693907524802E-5,4.2636727906149997E-5,4.08646107740173E-5,3.9166148429299502E-5,3.75382795463029E-5,3.59780700377022E-5,3.4482707766112698E-5,3.30494974754647E-5,3.1675855933046903E-5,{"$f":"IF($B2253=\"\",\"\",VLOOKUP($B2253,_tbl!$A:$E,N$2,0))","v":"Female"},{"$f":"IF($B2253=\"\",\"\",VLOOKUP($B2253,_tbl!$A:$E,O$2,0))","v":"East"},{"$f":"IF($B2253=\"\",\"\",VLOOKUP($B2253,_tbl!$A:$E,P$2,0))","v":"Urban"},{"$f":"IF($B2253=\"\",\"\",VLOOKUP($B2253,_tbl!$A:$E,Q$2,0))","v":"Other"},null,4.6414841373147097E-5,3.1675855933046903E-5]
[null,"all_f_East Urban other.csv","50-54",7.7765532471650903E-5,7.52675727102305E-5,7.2849851619739904E-5,7.0509791799049001E-5,6.8244898637488498E-5,6.6052757655481997E-5,6.3931031930600194E-5,6.1877459606293905E-5,5.9889851480653098E-5,5.7966088672616599E-5,{"$f":"IF($B2254=\"\",\"\",VLOOKUP($B2254,_tbl!$A:$E,N$2,0))","v":"Female"},{"$f":"IF($B2254=\"\",\"\",VLOOKUP($B2254,_tbl!$A:$E,O$2,0))","v":"East"},{"$f":"IF($B2254=\"\",\"\",VLOOKUP($B2254,_tbl!$A:$E,P$2,0))","v":"Urban"},{"$f":"IF($B2254=\"\",\"\",VLOOKUP($B2254,_tbl!$A:$E,Q$2,0))","v":"Other"},null,7.7765532471650903E-5,5.7966088672616599E-5]
[null,"all_f_East Urban other.csv","55-59",1.2790476301931299E-4,1.2432991128429201E-4,1.20854974240685E-4,1.17477159340351E-4,1.14193752084987E-4,1.1100211384468201E-4,1.07899679737449E-4,1.0488395656802101E-4,1.01952520824252E-4,9.9103016729527204E-5,{"$f":"IF($B2255=\"\",\"\",VLOOKUP($B2255,_tbl!$A:$E,N$2,0))","v":"Female"},{"$f":"IF($B2255=\"\",\"\",VLOOKUP($B2255,_tbl!$A:$E,O$2,0))","v":"East"},{"$f":"IF($B2255=\"\",\"\",VLOOKUP($B2255,_tbl!$A:$E,P$2,0))","v":"Urban"},{"$f":"IF($B2255=\"\",\"\",VLOOKUP($B2255,_tbl!$A:$E,Q$2,0))","v":"Other"},null,1.2790476301931299E-4,9.9103016729527204E-5]
[null,"all_f_East Urban other.csv","60-64",1.72530807810818E-4,1.66441373607921E-4,1.60566864550173E-4,1.5489969490522601E-4,1.4943254667736501E-4,1.44158360157814E-4,1.3907032480854999E-4,1.34161870467886E-4,1.2942665886644499E-4,1.24858575442572E-4,{"$f":"IF($B2256=\"\",\"\",VLOOKUP($B2256,_tbl!$A:$E,N$2,0))","v":"Female"},{"$f":"IF($B2256=\"\",\"\",VLOOKUP($B2256,_tbl!$A:$E,O$2,0))","v":"East"},{"$f":"IF($B2256=\"\",\"\",VLOOKUP($B2256,_tbl!$A:$E,P$2,0))","v":"Urban"},{"$f":"IF($B2256=\"\",\"\",VLOOKUP($B2256,_tbl!$A:$E,Q$2,0))","v":"Other"},null,1.72530807810818E-4,1.24858575442572E-4]
[null,"all_f_East Urban other.csv","65-69",2.1211136687245699E-4,2.0164332075146401E-4,1.9169188998780499E-4,1.8223157876073501E-4,1.7323814951035501E-4,1.6468856084036099E-4,1.5656090848539101E-4,1.4883436919174199E-4,1.4148914736765699E-4,1.3450642436651201E-4,{"$f":"IF($B2257=\"\",\"\",VLOOKUP($B2257,_tbl!$A:$E,N$2,0))","v":"Female"},{"$f":"IF($B2257=\"\",\"\",VLOOKUP($B2257,_tbl!$A:$E,O$2,0))","v":"East"},{"$f":"IF($B2257=\"\",\"\",VLOOKUP($B2257,_tbl!$A:$E,P$2,0))","v":"Urban"},{"$f":"IF($B2257=\"\",\"\",VLOOKUP($B2257,_tbl!$A:$E,Q$2,0))","v":"Other"},null,2.1211136687245699E-4,1.3450642436651201E-4]
[null,"all_f_East Urban other.csv","70-74",3.2087545442111497E-4,3.0213462641572898E-4,2.8448836214056298E-4,2.6787273326976403E-4,2.52227545230691E-4,2.37496119132933E-4,2.2362508643382299E-4,2.1056419559657699E-4,1.9826613004062099E-4,1.86686336724588E-4,{"$f":"IF($B2258=\"\",\"\",VLOOKUP($B2258,_tbl!$A:$E,N$2,0))","v":"Female"},{"$f":"IF($B2258=\"\",\"\",VLOOKUP($B2258,_tbl!$A:$E,O$2,0))","v":"East"},{"$f":"IF($B2258=\"\",\"\",VLOOKUP($B2258,_tbl!$A:$E,P$2,0))","v":"Urban"},{"$f":"IF($B2258=\"\",\"\",VLOOKUP($B2258,_tbl!$A:$E,Q$2,0))","v":"Other"},null,3.2087545442111497E-4,1.86686336724588E-4]
[null,"all_f_East Urban other.csv","75-79",7.5597641718516597E-4,7.1564120791932102E-4,6.7745808841386502E-4,6.4131223367046297E-4,6.0709494519186203E-4,5.7470332410171202E-4,5.4403996170512901E-4,5.1501264655941898E-4,4.8753408717409002E-4,4.6152164950623298E-4,{"$f":"IF($B2259=\"\",\"\",VLOOKUP($B2259,_tbl!$A:$E,N$2,0))","v":"Female"},{"$f":"IF($B2259=\"\",\"\",VLOOKUP($B2259,_tbl!$A:$E,O$2,0))","v":"East"},{"$f":"IF($B2259=\"\",\"\",VLOOKUP($B2259,_tbl!$A:$E,P$2,0))","v":"Urban"},{"$f":"IF($B2259=\"\",\"\",VLOOKUP($B2259,_tbl!$A:$E,Q$2,0))","v":"Other"},null,7.5597641718516597E-4,4.6152164950623298E-4]
[null,"all_f_East Urban other.csv","80-84",2.7477345235128099E-3,2.6560854076228299E-3,2.5674931956555201E-3,2.4818559263262599E-3,2.39907503921082E-3,2.3190552613116398E-3,2.2417044974076001E-3,2.16693372406107E-3,2.0946568871603598E-3,2.0247908028795301E-3,{"$f":"IF($B2260=\"\",\"\",VLOOKUP($B2260,_tbl!$A:$E,N$2,0))","v":"Female"},{"$f":"IF($B2260=\"\",\"\",VLOOKUP($B2260,_tbl!$A:$E,O$2,0))","v":"East"},{"$f":"IF($B2260=\"\",\"\",VLOOKUP($B2260,_tbl!$A:$E,P$2,0))","v":"Urban"},{"$f":"IF($B2260=\"\",\"\",VLOOKUP($B2260,_tbl!$A:$E,Q$2,0))","v":"Other"},null,2.7477345235128099E-3,2.0247908028795301E-3]
[null,"all_f_East Urban other.csv","85+",1.2366262549630601E-2,1.2306999547647799E-2,1.2248020552525499E-2,1.21893242032141E-2,1.2130909145186299E-2,1.2072774030406099E-2,1.2014917517297901E-2,1.1957338270715301E-2,1.1900034961910199E-2,1.1843006268502401E-2,{"$f":"IF($B2261=\"\",\"\",VLOOKUP($B2261,_tbl!$A:$E,N$2,0))","v":"Female"},{"$f":"IF($B2261=\"\",\"\",VLOOKUP($B2261,_tbl!$A:$E,O$2,0))","v":"East"},{"$f":"IF($B2261=\"\",\"\",VLOOKUP($B2261,_tbl!$A:$E,P$2,0))","v":"Urban"},{"$f":"IF($B2261=\"\",\"\",VLOOKUP($B2261,_tbl!$A:$E,Q$2,0))","v":"Other"},null,1.2366262549630601E-2,1.1843006268502401E-2]
[null,null,null,null,null,null,null,null,null,null,null,null,null,{"$f":"IF($B2262=\"\",\"\",VLOOKUP($B2262,_tbl!$A:$E,N$2,0))","v":""},{"$f":"IF($B2262=\"\",\"\",VLOOKUP($B2262,_tbl!$A:$E,O$2,0))","v":""},{"$f":"IF($B2262=\"\",\"\",VLOOKUP($B2262,_tbl!$A:$E,P$2,0))","v":""},{"$f":"IF($B2262=\"\",\"\",VLOOKUP($B2262,_tbl!$A:$E,Q$2,0))","v":""}]
[null,null,null,2020,2021,2022,2023,2024,2025,2026,2027,2028,2029,{"$f":"IF($B2263=\"\",\"\",VLOOKUP($B2263,_tbl!$A:$E,N$2,0))","v":""},{"$f":"IF($B2263=\"\",\"\",VLOOKUP($B2263,_tbl!$A:$E,O$2,0))","v":""},{"$f":"IF($B2263=\"\",\"\",VLOOKUP($B2263,_tbl!$A:$E,P$2,0))","v":""},{"$f":"IF($B2263=\"\",\"\",VLOOKUP($B2263,_tbl!$A:$E,Q$2,0))","v":""}]
[null,"all_f_East Urban respiratory.csv","1-4",5.3597720218330899E-6,5.4457354631133599E-6,5.5267787356624897E-6,5.6119338308351403E-6,5.6970592295449999E-6,5.7840951496244999E-6,5.8721748573109103E-6,5.96172780291889E-6,6.0525855465095303E-6,6.1448560986559601E-6,{"$f":"IF($B2264=\"\",\"\",VLOOKUP($B2264,_tbl!$A:$E,N$2,0))","v":"Female"},{"$f":"IF($B2264=\"\",\"\",VLOOKUP($B2264,_tbl!$A:$E,O$2,0))","v":"East"},{"$f":"IF($B2264=\"\",\"\",VLOOKUP($B2264,_tbl!$A:$E,P$2,0))","v":"Urban"},{"$f":"IF($B2264=\"\",\"\",VLOOKUP($B2264,_tbl!$A:$E,Q$2,0))","v":"Respiratory"},null,{"$f":"MAX(D2264:M2264)","v":6.1448560986559601E-6},{"$f":"MIN(D2264:M2264)","v":5.3597720218330899E-6}]
[null,"all_f_East Urban respiratory.csv","5-9",2.3178834076190002E-6,2.2439558447257501E-6,2.17743292638188E-6,2.1106540323856902E-6,2.0469048757069399E-6,1.9846482190717099E-6,1.9244759564562602E-6,1.86604389714371E-6,1.80942308598405E-6,1.7545039460928001E-6,{"$f":"IF($B2265=\"\",\"\",VLOOKUP($B2265,_tbl!$A:$E,N$2,0))","v":"Female"},{"$f":"IF($B2265=\"\",\"\",VLOOKUP($B2265,_tbl!$A:$E,O$2,0))","v":"East"},{"$f":"IF($B2265=\"\",\"\",VLOOKUP($B2265,_tbl!$A:$E,P$2,0))","v":"Urban"},{"$f":"IF($B2265=\"\",\"\",VLOOKUP($B2265,_tbl!$A:$E,Q$2,0))","v":"Respiratory"},null,2.3178834076190002E-6,1.7545039460928001E-6]
[null,"all_f_East Urban respiratory.csv","10-14",1.4837592278238999E-6,1.3908370112184801E-6,1.30978417885046E-6,1.2308609905445701E-6,1.15780111660085E-6,1.08860396753046E-6,1.0237450160152299E-6,9.6266373801410593E-7,9.0526387991996003E-7,8.5127071523858999E-7,{"$f":"IF($B2266=\"\",\"\",VLOOKUP($B2266,_tbl!$A:$E,N$2,0))","v":"Female"},{"$f":"IF($B2266=\"\",\"\",VLOOKUP($B2266,_tbl!$A:$E,O$2,0))","v":"East"},{"$f":"IF($B2266=\"\",\"\",VLOOKUP($B2266,_tbl!$A:$E,P$2,0))","v":"Urban"},{"$f":"IF($B2266=\"\",\"\",VLOOKUP($B2266,_tbl!$A:$E,Q$2,0))","v":"Respiratory"},null,1.4837592278238999E-6,8.5127071523858999E-7]
[null,"all_f_East Urban respiratory.csv","15-19",1.3264842032673199E-6,1.22429234972367E-6,1.1364769999089499E-6,1.0522111032185999E-6,9.7534979728369094E-7,9.0361539569997602E-7,8.3736224506077998E-7,7.7588024039937197E-7,7.1894891346340399E-7,6.6617964349673795E-7,{"$f":"IF($B2267=\"\",\"\",VLOOKUP($B2267,_tbl!$A:$E,N$2,0))","v":"Female"},{"$f":"IF($B2267=\"\",\"\",VLOOKUP($B2267,_tbl!$A:$E,O$2,0))","v":"East"},{"$f":"IF($B2267=\"\",\"\",VLOOKUP($B2267,_tbl!$A:$E,P$2,0))","v":"Urban"},{"$f":"IF($B2267=\"\",\"\",VLOOKUP($B2267,_tbl!$A:$E,Q$2,0))","v":"Respiratory"},null,1.3264842032673199E-6,6.6617964349673795E-7]
[null,"all_f_East Urban respiratory.csv","20-24",1.3925052084025201E-6,1.2716830885855701E-6,1.1689146427320001E-6,1.0712816230444201E-6,9.8312308420173005E-7,9.0166845653430299E-7,8.2719227077994996E-7,7.5877186689027298E-7,6.9605075158874101E-7,6.3849758085343897E-7,{"$f":"IF($B2268=\"\",\"\",VLOOKUP($B2268,_tbl!$A:$E,N$2,0))","v":"Female"},{"$f":"IF($B2268=\"\",\"\",VLOOKUP($B2268,_tbl!$A:$E,O$2,0))","v":"East"},{"$f":"IF($B2268=\"\",\"\",VLOOKUP($B2268,_tbl!$A:$E,P$2,0))","v":"Urban"},{"$f":"IF($B2268=\"\",\"\",VLOOKUP($B2268,_tbl!$A:$E,Q$2,0))","v":"Respiratory"},null,1.3925052084025201E-6,6.3849758085343897E-7]
[null,"all_f_East Urban respiratory.csv","25-29",1.5762959288545901E-6,1.42090942433178E-6,1.29039177564433E-6,1.1679109032105799E-6,1.05868044753866E-6,9.5899594885224005E-7,8.6897355195655404E-7,7.8728801602425797E-7,7.1332793735605202E-7,6.4629658751350204E-7,{"$f":"IF($B2269=\"\",\"\",VLOOKUP($B2269,_tbl!$A:$E,N$2,0))","v":"Female"},{"$f":"IF($B2269=\"\",\"\",VLOOKUP($B2269,_tbl!$A:$E,O$2,0))","v":"East"},{"$f":"IF($B2269=\"\",\"\",VLOOKUP($B2269,_tbl!$A:$E,P$2,0))","v":"Urban"},{"$f":"IF($B2269=\"\",\"\",VLOOKUP($B2269,_tbl!$A:$E,Q$2,0))","v":"Respiratory"},null,1.5762959288545901E-6,6.4629658751350204E-7]
[null,"all_f_East Urban respiratory.csv","30-34",2.18712596018204E-6,1.9681525461546399E-6,1.7845285739907601E-6,1.6124898307192201E-6,1.4593132370563999E-6,1.3197502584105601E-6,1.1939198441511201E-6,1.07992811384941E-6,9.7688514346713202E-7,8.8364736192999205E-7,{"$f":"IF($B2270=\"\",\"\",VLOOKUP($B2270,_tbl!$A:$E,N$2,0))","v":"Female"},{"$f":"IF($B2270=\"\",\"\",VLOOKUP($B2270,_tbl!$A:$E,O$2,0))","v":"East"},{"$f":"IF($B2270=\"\",\"\",VLOOKUP($B2270,_tbl!$A:$E,P$2,0))","v":"Urban"},{"$f":"IF($B2270=\"\",\"\",VLOOKUP($B2270,_tbl!$A:$E,Q$2,0))","v":"Respiratory"},null,2.18712596018204E-6,8.8364736192999205E-7]
[null,"all_f_East Urban respiratory.csv","35-39",3.6178830849826401E-6,3.2771043537021098E-6,2.9895217822952701E-6,2.7184083402337898E-6,2.4755034377787002E-6,2.25280319701737E-6,2.0507580845249202E-6,1.86657669242457E-6,1.6990432039023199E-6,1.54650258050397E-6,{"$f":"IF($B2271=\"\",\"\",VLOOKUP($B2271,_tbl!$A:$E,N$2,0))","v":"Female"},{"$f":"IF($B2271=\"\",\"\",VLOOKUP($B2271,_tbl!$A:$E,O$2,0))","v":"East"},{"$f":"IF($B2271=\"\",\"\",VLOOKUP($B2271,_tbl!$A:$E,P$2,0))","v":"Urban"},{"$f":"IF($B2271=\"\",\"\",VLOOKUP($B2271,_tbl!$A:$E,Q$2,0))","v":"Respiratory"},null,3.6178830849826401E-6,1.54650258050397E-6]
[null,"all_f_East Urban respiratory.csv","40-44",6.0322568007704796E-6,5.4606078219737797E-6,4.9784885966993303E-6,4.5242503615588298E-6,4.1175195942055602E-6,3.74484418016138E-6,3.4069371950895198E-6,3.0990911463373601E-6,2.81923917928336E-6,2.5645847703019702E-6,{"$f":"IF($B2272=\"\",\"\",VLOOKUP($B2272,_tbl!$A:$E,N$2,0))","v":"Female"},{"$f":"IF($B2272=\"\",\"\",VLOOKUP($B2272,_tbl!$A:$E,O$2,0))","v":"East"},{"$f":"IF($B2272=\"\",\"\",VLOOKUP($B2272,_tbl!$A:$E,P$2,0))","v":"Urban"},{"$f":"IF($B2272=\"\",\"\",VLOOKUP($B2272,_tbl!$A:$E,Q$2,0))","v":"Respiratory"},null,6.0322568007704796E-6,2.5645847703019702E-6]
[null,"all_f_East Urban respiratory.csv","45-49",9.9889616472575301E-6,8.9771244678304708E-6,8.1297015570161697E-6,7.3367242576114898E-6,6.6315684634490196E-6,5.9898809665315198E-6,5.4120530578108702E-6,4.88924016310888E-6,4.41723023231717E-6,3.9906658132865497E-6,{"$f":"IF($B2273=\"\",\"\",VLOOKUP($B2273,_tbl!$A:$E,N$2,0))","v":"Female"},{"$f":"IF($B2273=\"\",\"\",VLOOKUP($B2273,_tbl!$A:$E,O$2,0))","v":"East"},{"$f":"IF($B2273=\"\",\"\",VLOOKUP($B2273,_tbl!$A:$E,P$2,0))","v":"Urban"},{"$f":"IF($B2273=\"\",\"\",VLOOKUP($B2273,_tbl!$A:$E,Q$2,0))","v":"Respiratory"},null,9.9889616472575301E-6,3.9906658132865497E-6]
[null,"all_f_East Urban respiratory.csv","50-54",1.89998016002092E-5,1.7074876247028701E-5,1.54627637344224E-5,1.3954254512620799E-5,1.2612836051188601E-5,1.13921758067723E-5,1.0293013711914401E-5,9.2985211642383094E-6,8.4006823245769892E-6,7.5893030854134101E-6,{"$f":"IF($B2274=\"\",\"\",VLOOKUP($B2274,_tbl!$A:$E,N$2,0))","v":"Female"},{"$f":"IF($B2274=\"\",\"\",VLOOKUP($B2274,_tbl!$A:$E,O$2,0))","v":"East"},{"$f":"IF($B2274=\"\",\"\",VLOOKUP($B2274,_tbl!$A:$E,P$2,0))","v":"Urban"},{"$f":"IF($B2274=\"\",\"\",VLOOKUP($B2274,_tbl!$A:$E,Q$2,0))","v":"Respiratory"},null,1.89998016002092E-5,7.5893030854134101E-6]
[null,"all_f_East Urban respiratory.csv","55-59",4.3791258393118901E-5,3.9775348174559602E-5,3.6377346334276302E-5,3.3165635350273002E-5,3.0280557861413E-5,2.7628564196322101E-5,2.5216254271286701E-5,2.30114888505094E-5,2.1000773276667198E-5,1.9165221342543398E-5,{"$f":"IF($B2275=\"\",\"\",VLOOKUP($B2275,_tbl!$A:$E,N$2,0))","v":"Female"},{"$f":"IF($B2275=\"\",\"\",VLOOKUP($B2275,_tbl!$A:$E,O$2,0))","v":"East"},{"$f":"IF($B2275=\"\",\"\",VLOOKUP($B2275,_tbl!$A:$E,P$2,0))","v":"Urban"},{"$f":"IF($B2275=\"\",\"\",VLOOKUP($B2275,_tbl!$A:$E,Q$2,0))","v":"Respiratory"},null,4.3791258393118901E-5,1.9165221342543398E-5]
[null,"all_f_East Urban respiratory.csv","60-64",1.0580258158350199E-4,9.6893168493466597E-5,8.9294543277563604E-5,8.2056535729889502E-5,7.5503457378928594E-5,6.9432598548165399E-5,6.3867054951594399E-5,5.8740442388744401E-5,5.40283496071683E-5,4.9692998381742199E-5,{"$f":"IF($B2276=\"\",\"\",VLOOKUP($B2276,_tbl!$A:$E,N$2,0))","v":"Female"},{"$f":"IF($B2276=\"\",\"\",VLOOKUP($B2276,_tbl!$A:$E,O$2,0))","v":"East"},{"$f":"IF($B2276=\"\",\"\",VLOOKUP($B2276,_tbl!$A:$E,P$2,0))","v":"Urban"},{"$f":"IF($B2276=\"\",\"\",VLOOKUP($B2276,_tbl!$A:$E,Q$2,0))","v":"Respiratory"},null,1.0580258158350199E-4,4.9692998381742199E-5]
[null,"all_f_East Urban respiratory.csv","65-69",2.30625386698161E-4,2.10075458629991E-4,1.9263939381171599E-4,1.7611468997318601E-4,1.6123002817205001E-4,1.4751070075753699E-4,1.3499731734012901E-4,1.2352940860951901E-4,1.13042362432488E-4,1.03442838767952E-4,{"$f":"IF($B2277=\"\",\"\",VLOOKUP($B2277,_tbl!$A:$E,N$2,0))","v":"Female"},{"$f":"IF($B2277=\"\",\"\",VLOOKUP($B2277,_tbl!$A:$E,O$2,0))","v":"East"},{"$f":"IF($B2277=\"\",\"\",VLOOKUP($B2277,_tbl!$A:$E,P$2,0))","v":"Urban"},{"$f":"IF($B2277=\"\",\"\",VLOOKUP($B2277,_tbl!$A:$E,Q$2,0))","v":"Respiratory"},null,2.30625386698161E-4,1.03442838767952E-4]
[null,"all_f_East Urban respiratory.csv","70-74",4.79910603409661E-4,4.3190346864143699E-4,3.9164254545025402E-4,3.5391837602840101E-4,3.2032719243853502E-4,2.8971866609374701E-4,2.6211942171104201E-4,2.3711457199982499E-4,2.1450935782005401E-4,1.94053319212176E-4,{"$f":"IF($B2278=\"\",\"\",VLOOKUP($B2278,_tbl!$A:$E,N$2,0))","v":"Female"},{"$f":"IF($B2278=\"\",\"\",VLOOKUP($B2278,_tbl!$A:$E,O$2,0))","v":"East"},{"$f":"IF($B2278=\"\",\"\",VLOOKUP($B2278,_tbl!$A:$E,P$2,0))","v":"Urban"},{"$f":"IF($B2278=\"\",\"\",VLOOKUP($B2278,_tbl!$A:$E,Q$2,0))","v":"Respiratory"},null,4.79910603409661E-4,1.94053319212176E-4]
[null,"all_f_East Urban respiratory.csv","75-79",1.1721901898268301E-3,1.0545168492704299E-3,9.5586822579182297E-4,8.6346957548289198E-4,7.8122481579304202E-4,7.0631079791555397E-4,6.3878724901319801E-4,5.7763395289253401E-4,5.22370027329409E-4,4.7237898930893802E-4,{"$f":"IF($B2279=\"\",\"\",VLOOKUP($B2279,_tbl!$A:$E,N$2,0))","v":"Female"},{"$f":"IF($B2279=\"\",\"\",VLOOKUP($B2279,_tbl!$A:$E,O$2,0))","v":"East"},{"$f":"IF($B2279=\"\",\"\",VLOOKUP($B2279,_tbl!$A:$E,P$2,0))","v":"Urban"},{"$f":"IF($B2279=\"\",\"\",VLOOKUP($B2279,_tbl!$A:$E,Q$2,0))","v":"Respiratory"},null,1.1721901898268301E-3,4.7237898930893802E-4]
[null,"all_f_East Urban respiratory.csv","80-84",3.7633245571034998E-3,3.4588616316537802E-3,3.1982879718754401E-3,2.9492348977051002E-3,2.7229734735606799E-3,2.5126436796855901E-3,2.3191588866635E-3,2.1403220697816601E-3,1.9753812725577802E-3,1.82310716028307E-3,{"$f":"IF($B2280=\"\",\"\",VLOOKUP($B2280,_tbl!$A:$E,N$2,0))","v":"Female"},{"$f":"IF($B2280=\"\",\"\",VLOOKUP($B2280,_tbl!$A:$E,O$2,0))","v":"East"},{"$f":"IF($B2280=\"\",\"\",VLOOKUP($B2280,_tbl!$A:$E,P$2,0))","v":"Urban"},{"$f":"IF($B2280=\"\",\"\",VLOOKUP($B2280,_tbl!$A:$E,Q$2,0))","v":"Respiratory"},null,3.7633245571034998E-3,1.82310716028307E-3]
[null,"all_f_East Urban respiratory.csv","85+",1.4310236916340899E-2,1.36347988309627E-2,1.30362850607296E-2,1.2444443435195501E-2,1.18879748537112E-2,1.1352695119120799E-2,1.08431214008057E-2,1.0355723658793401E-2,9.8905369105262604E-3,9.4461153334273098E-3,{"$f":"IF($B2281=\"\",\"\",VLOOKUP($B2281,_tbl!$A:$E,N$2,0))","v":"Female"},{"$f":"IF($B2281=\"\",\"\",VLOOKUP($B2281,_tbl!$A:$E,O$2,0))","v":"East"},{"$f":"IF($B2281=\"\",\"\",VLOOKUP($B2281,_tbl!$A:$E,P$2,0))","v":"Urban"},{"$f":"IF($B2281=\"\",\"\",VLOOKUP($B2281,_tbl!$A:$E,Q$2,0))","v":"Respiratory"},null,1.4310236916340899E-2,9.4461153334273098E-3]
[null,null,null,null,null,null,null,null,null,null,null,null,null,{"$f":"IF($B2282=\"\",\"\",VLOOKUP($B2282,_tbl!$A:$E,N$2,0))","v":""},{"$f":"IF($B2282=\"\",\"\",VLOOKUP($B2282,_tbl!$A:$E,O$2,0))","v":""},{"$f":"IF($B2282=\"\",\"\",VLOOKUP($B2282,_tbl!$A:$E,P$2,0))","v":""},{"$f":"IF($B2282=\"\",\"\",VLOOKUP($B2282,_tbl!$A:$E,Q$2,0))","v":""}]
[null,null,null,2020,2021,2022,2023,2024,2025,2026,2027,2028,2029,{"$f":"IF($B2283=\"\",\"\",VLOOKUP($B2283,_tbl!$A:$E,N$2,0))","v":""},{"$f":"IF($B2283=\"\",\"\",VLOOKUP($B2283,_tbl!$A:$E,O$2,0))","v":""},{"$f":"IF($B2283=\"\",\"\",VLOOKUP($B2283,_tbl!$A:$E,P$2,0))","v":""},{"$f":"IF($B2283=\"\",\"\",VLOOKUP($B2283,_tbl!$A:$E,Q$2,0))","v":""}]
[null,"all_f_East Urban.csv","1-4",2.00930831620176E-4,1.9464156295619699E-4,1.93035409710277E-4,1.91147308231766E-4,1.9147667830011499E-4,1.9056748114131599E-4,1.8951644726713401E-4,1.8658234799076001E-4,1.8304091614548099E-4,1.7880468988527601E-4,{"$f":"IF($B2284=\"\",\"\",VLOOKUP($B2284,_tbl!$A:$E,N$2,0))","v":"Female"},{"$f":"IF($B2284=\"\",\"\",VLOOKUP($B2284,_tbl!$A:$E,O$2,0))","v":"East"},{"$f":"IF($B2284=\"\",\"\",VLOOKUP($B2284,_tbl!$A:$E,P$2,0))","v":"Urban"},{"$f":"IF($B2284=\"\",\"\",VLOOKUP($B2284,_tbl!$A:$E,Q$2,0))","v":"Total"},null,{"$f":"MAX(D2284:M2284)","v":2.00930831620176E-4},{"$f":"MIN(D2284:M2284)","v":1.7880468988527601E-4}]
[null,"all_f_East Urban.csv","5-9",1.12923498100075E-4,1.10278259114022E-4,1.0839554565411799E-4,1.06534493330565E-4,1.0517544612091799E-4,1.0357188418745801E-4,1.01955237909584E-4,9.9970644534328205E-5,9.78778624662706E-5,9.5652943017176105E-5,{"$f":"IF($B2285=\"\",\"\",VLOOKUP($B2285,_tbl!$A:$E,N$2,0))","v":"Female"},{"$f":"IF($B2285=\"\",\"\",VLOOKUP($B2285,_tbl!$A:$E,O$2,0))","v":"East"},{"$f":"IF($B2285=\"\",\"\",VLOOKUP($B2285,_tbl!$A:$E,P$2,0))","v":"Urban"},{"$f":"IF($B2285=\"\",\"\",VLOOKUP($B2285,_tbl!$A:$E,Q$2,0))","v":"Total"},null,1.12923498100075E-4,9.5652943017176105E-5]
[null,"all_f_East Urban.csv","10-14",1.0786002362219499E-4,1.06356724696428E-4,1.03795897558569E-4,1.0151095849001201E-4,9.8976909251414296E-5,9.6725124901128604E-5,9.4551645409555305E-5,9.2660101586116401E-5,9.0899720184794598E-5,8.9293096553664302E-5,{"$f":"IF($B2286=\"\",\"\",VLOOKUP($B2286,_tbl!$A:$E,N$2,0))","v":"Female"},{"$f":"IF($B2286=\"\",\"\",VLOOKUP($B2286,_tbl!$A:$E,O$2,0))","v":"East"},{"$f":"IF($B2286=\"\",\"\",VLOOKUP($B2286,_tbl!$A:$E,P$2,0))","v":"Urban"},{"$f":"IF($B2286=\"\",\"\",VLOOKUP($B2286,_tbl!$A:$E,Q$2,0))","v":"Total"},null,1.0786002362219499E-4,8.9293096553664302E-5]
[null,"all_f_East Urban.csv","15-19",1.10457701162973E-4,1.0918833132273499E-4,1.04606095163539E-4,1.00831967540631E-4,9.6215603761207099E-5,9.2604177991507895E-5,8.9304556358794102E-5,8.6875745378785696E-5,8.4813274294080101E-5,8.31669274031777E-5,{"$f":"IF($B2287=\"\",\"\",VLOOKUP($B2287,_tbl!$A:$E,N$2,0))","v":"Female"},{"$f":"IF($B2287=\"\",\"\",VLOOKUP($B2287,_tbl!$A:$E,O$2,0))","v":"East"},{"$f":"IF($B2287=\"\",\"\",VLOOKUP($B2287,_tbl!$A:$E,P$2,0))","v":"Urban"},{"$f":"IF($B2287=\"\",\"\",VLOOKUP($B2287,_tbl!$A:$E,Q$2,0))","v":"Total"},null,1.10457701162973E-4,8.31669274031777E-5]
[null,"all_f_East Urban.csv","20-24",1.19564498770601E-4,1.17202784595036E-4,1.11043520918302E-4,1.0602247827234899E-4,1.0019479335637E-4,9.5651373874780605E-5,9.1572757100671202E-5,8.8511055189654299E-5,8.5895270140393497E-5,8.3754009548211896E-5,{"$f":"IF($B2288=\"\",\"\",VLOOKUP($B2288,_tbl!$A:$E,N$2,0))","v":"Female"},{"$f":"IF($B2288=\"\",\"\",VLOOKUP($B2288,_tbl!$A:$E,O$2,0))","v":"East"},{"$f":"IF($B2288=\"\",\"\",VLOOKUP($B2288,_tbl!$A:$E,P$2,0))","v":"Urban"},{"$f":"IF($B2288=\"\",\"\",VLOOKUP($B2288,_tbl!$A:$E,Q$2,0))","v":"Total"},null,1.19564498770601E-4,8.3754009548211896E-5]
[null,"all_f_East Urban.csv","25-29",1.64689268751898E-4,1.6045819260906199E-4,1.53499877843232E-4,1.47589186944407E-4,1.4116557343746199E-4,1.3579729410881499E-4,1.3086527977728199E-4,1.26805618773046E-4,1.2317557049740599E-4,1.1999078475701499E-4,{"$f":"IF($B2289=\"\",\"\",VLOOKUP($B2289,_tbl!$A:$E,N$2,0))","v":"Female"},{"$f":"IF($B2289=\"\",\"\",VLOOKUP($B2289,_tbl!$A:$E,O$2,0))","v":"East"},{"$f":"IF($B2289=\"\",\"\",VLOOKUP($B2289,_tbl!$A:$E,P$2,0))","v":"Urban"},{"$f":"IF($B2289=\"\",\"\",VLOOKUP($B2289,_tbl!$A:$E,Q$2,0))","v":"Total"},null,1.64689268751898E-4,1.1999078475701499E-4]
[null,"all_f_East Urban.csv","30-34",2.60844595608422E-4,2.5531032750705302E-4,2.48067716687183E-4,2.4175416017417999E-4,2.3521703531390999E-4,2.29451495151548E-4,2.24051094350744E-4,2.19313237510945E-4,2.1495672751983499E-4,2.10985342525602E-4,{"$f":"IF($B2290=\"\",\"\",VLOOKUP($B2290,_tbl!$A:$E,N$2,0))","v":"Female"},{"$f":"IF($B2290=\"\",\"\",VLOOKUP($B2290,_tbl!$A:$E,O$2,0))","v":"East"},{"$f":"IF($B2290=\"\",\"\",VLOOKUP($B2290,_tbl!$A:$E,P$2,0))","v":"Urban"},{"$f":"IF($B2290=\"\",\"\",VLOOKUP($B2290,_tbl!$A:$E,Q$2,0))","v":"Total"},null,2.60844595608422E-4,2.10985342525602E-4]
[null,"all_f_East Urban.csv","35-39",3.8800364013377698E-4,3.81190003035118E-4,3.7306823369388298E-4,3.6609116187350898E-4,3.5912884752535698E-4,3.5287605333440402E-4,3.4692794922591301E-4,3.4154399481815898E-4,3.3653456296827198E-4,3.3190092548247699E-4,{"$f":"IF($B2291=\"\",\"\",VLOOKUP($B2291,_tbl!$A:$E,N$2,0))","v":"Female"},{"$f":"IF($B2291=\"\",\"\",VLOOKUP($B2291,_tbl!$A:$E,O$2,0))","v":"East"},{"$f":"IF($B2291=\"\",\"\",VLOOKUP($B2291,_tbl!$A:$E,P$2,0))","v":"Urban"},{"$f":"IF($B2291=\"\",\"\",VLOOKUP($B2291,_tbl!$A:$E,Q$2,0))","v":"Total"},null,3.8800364013377698E-4,3.3190092548247699E-4]
[null,"all_f_East Urban.csv","40-44",5.55058954239393E-4,5.4125440230918002E-4,5.2679893842816198E-4,5.1445906839801803E-4,5.0231221148734303E-4,4.9132361764797497E-4,4.8069158599727002E-4,4.7088705113960998E-4,4.61637406539351E-4,4.5297145513635703E-4,{"$f":"IF($B2292=\"\",\"\",VLOOKUP($B2292,_tbl!$A:$E,N$2,0))","v":"Female"},{"$f":"IF($B2292=\"\",\"\",VLOOKUP($B2292,_tbl!$A:$E,O$2,0))","v":"East"},{"$f":"IF($B2292=\"\",\"\",VLOOKUP($B2292,_tbl!$A:$E,P$2,0))","v":"Urban"},{"$f":"IF($B2292=\"\",\"\",VLOOKUP($B2292,_tbl!$A:$E,Q$2,0))","v":"Total"},null,5.55058954239393E-4,4.5297145513635703E-4]
[null,"all_f_East Urban.csv","45-49",8.5950186011164102E-4,8.3204992991219799E-4,8.0333386517076504E-4,7.7834268862176205E-4,7.5395036820473003E-4,7.3146652081465795E-4,7.0946192344292596E-4,6.8869945751095596E-4,6.6881052106128899E-4,6.4986504618492797E-4,{"$f":"IF($B2293=\"\",\"\",VLOOKUP($B2293,_tbl!$A:$E,N$2,0))","v":"Female"},{"$f":"IF($B2293=\"\",\"\",VLOOKUP($B2293,_tbl!$A:$E,O$2,0))","v":"East"},{"$f":"IF($B2293=\"\",\"\",VLOOKUP($B2293,_tbl!$A:$E,P$2,0))","v":"Urban"},{"$f":"IF($B2293=\"\",\"\",VLOOKUP($B2293,_tbl!$A:$E,Q$2,0))","v":"Total"},null,8.5950186011164102E-4,6.4986504618492797E-4]
[null,"all_f_East Urban.csv","50-54",1.5059952651772701E-3,1.4556244807676199E-3,1.409050920799E-3,1.36276830468662E-3,1.31853891170555E-3,1.27493803324392E-3,1.2330088759085599E-3,1.1913320850892E-3,1.15054463486665E-3,1.11072656979263E-3,{"$f":"IF($B2294=\"\",\"\",VLOOKUP($B2294,_tbl!$A:$E,N$2,0))","v":"Female"},{"$f":"IF($B2294=\"\",\"\",VLOOKUP($B2294,_tbl!$A:$E,O$2,0))","v":"East"},{"$f":"IF($B2294=\"\",\"\",VLOOKUP($B2294,_tbl!$A:$E,P$2,0))","v":"Urban"},{"$f":"IF($B2294=\"\",\"\",VLOOKUP($B2294,_tbl!$A:$E,Q$2,0))","v":"Total"},null,1.5059952651772701E-3,1.11072656979263E-3]
[null,"all_f_East Urban.csv","55-59",2.7879456623826401E-3,2.74052783111455E-3,2.6950639605127602E-3,2.6509499321241701E-3,2.6074115945845799E-3,2.56537750577797E-3,2.5245038737213899E-3,2.4848113625950902E-3,2.4461688135382601E-3,2.4087446104645899E-3,{"$f":"IF($B2295=\"\",\"\",VLOOKUP($B2295,_tbl!$A:$E,N$2,0))","v":"Female"},{"$f":"IF($B2295=\"\",\"\",VLOOKUP($B2295,_tbl!$A:$E,O$2,0))","v":"East"},{"$f":"IF($B2295=\"\",\"\",VLOOKUP($B2295,_tbl!$A:$E,P$2,0))","v":"Urban"},{"$f":"IF($B2295=\"\",\"\",VLOOKUP($B2295,_tbl!$A:$E,Q$2,0))","v":"Total"},null,2.7879456623826401E-3,2.4087446104645899E-3]
[null,"all_f_East Urban.csv","60-64",4.6463447498503504E-3,4.5665288717036696E-3,4.4937366066193198E-3,4.4218098479771803E-3,4.35065267611957E-3,4.2815602151247802E-3,4.2145213495563202E-3,4.1492062648918002E-3,4.0855735149595502E-3,4.02393360779537E-3,{"$f":"IF($B2296=\"\",\"\",VLOOKUP($B2296,_tbl!$A:$E,N$2,0))","v":"Female"},{"$f":"IF($B2296=\"\",\"\",VLOOKUP($B2296,_tbl!$A:$E,O$2,0))","v":"East"},{"$f":"IF($B2296=\"\",\"\",VLOOKUP($B2296,_tbl!$A:$E,P$2,0))","v":"Urban"},{"$f":"IF($B2296=\"\",\"\",VLOOKUP($B2296,_tbl!$A:$E,Q$2,0))","v":"Total"},null,4.6463447498503504E-3,4.02393360779537E-3]
[null,"all_f_East Urban.csv","65-69",7.1021178190563902E-3,6.8955508600849896E-3,6.6976801303772204E-3,6.4991250117231603E-3,6.3029643108049802E-3,6.1112724434001101E-3,5.9292992757526003E-3,5.7511942400428097E-3,5.5781044962864602E-3,5.41144303204709E-3,{"$f":"IF($B2297=\"\",\"\",VLOOKUP($B2297,_tbl!$A:$E,N$2,0))","v":"Female"},{"$f":"IF($B2297=\"\",\"\",VLOOKUP($B2297,_tbl!$A:$E,O$2,0))","v":"East"},{"$f":"IF($B2297=\"\",\"\",VLOOKUP($B2297,_tbl!$A:$E,P$2,0))","v":"Urban"},{"$f":"IF($B2297=\"\",\"\",VLOOKUP($B2297,_tbl!$A:$E,Q$2,0))","v":"Total"},null,7.1021178190563902E-3,5.41144303204709E-3]
[null,"all_f_East Urban.csv","70-74",1.21802439320715E-2,1.1813588126096499E-2,1.1458605966089301E-2,1.11148152661243E-2,1.0784186678669001E-2,1.046779136616E-2,1.01677254326477E-2,9.8806646377641808E-3,9.6066033060340696E-3,9.3456885449354696E-3,{"$f":"IF($B2298=\"\",\"\",VLOOKUP($B2298,_tbl!$A:$E,N$2,0))","v":"Female"},{"$f":"IF($B2298=\"\",\"\",VLOOKUP($B2298,_tbl!$A:$E,O$2,0))","v":"East"},{"$f":"IF($B2298=\"\",\"\",VLOOKUP($B2298,_tbl!$A:$E,P$2,0))","v":"Urban"},{"$f":"IF($B2298=\"\",\"\",VLOOKUP($B2298,_tbl!$A:$E,Q$2,0))","v":"Total"},null,1.21802439320715E-2,9.3456885449354696E-3]
[null,"all_f_East Urban.csv","75-79",2.4408919453012001E-2,2.3825333384645798E-2,2.3257224725603199E-2,2.2723582672759101E-2,2.2223910227020301E-2,2.1754427675008299E-2,2.1297819494136401E-2,2.08724188859052E-2,2.0472995364575201E-2,2.0093589518033798E-2,{"$f":"IF($B2299=\"\",\"\",VLOOKUP($B2299,_tbl!$A:$E,N$2,0))","v":"Female"},{"$f":"IF($B2299=\"\",\"\",VLOOKUP($B2299,_tbl!$A:$E,O$2,0))","v":"East"},{"$f":"IF($B2299=\"\",\"\",VLOOKUP($B2299,_tbl!$A:$E,P$2,0))","v":"Urban"},{"$f":"IF($B2299=\"\",\"\",VLOOKUP($B2299,_tbl!$A:$E,Q$2,0))","v":"Total"},null,2.4408919453012001E-2,2.0093589518033798E-2]
[null,"all_f_East Urban.csv","80-84",6.0820373828483799E-2,5.9731270516500901E-2,5.8910702510454299E-2,5.8086906482065E-2,5.72961373948805E-2,5.6517286432544701E-2,5.5828148109900902E-2,5.5127842769138298E-2,5.4434479177285E-2,5.3767784585353397E-2,{"$f":"IF($B2300=\"\",\"\",VLOOKUP($B2300,_tbl!$A:$E,N$2,0))","v":"Female"},{"$f":"IF($B2300=\"\",\"\",VLOOKUP($B2300,_tbl!$A:$E,O$2,0))","v":"East"},{"$f":"IF($B2300=\"\",\"\",VLOOKUP($B2300,_tbl!$A:$E,P$2,0))","v":"Urban"},{"$f":"IF($B2300=\"\",\"\",VLOOKUP($B2300,_tbl!$A:$E,Q$2,0))","v":"Total"},null,6.0820373828483799E-2,5.3767784585353397E-2]
[null,"all_f_East Urban.csv","85+",0.18215566274179601,0.18332119360448501,0.18541134799755199,0.18768764566653401,0.190268746150838,0.192893359129853,0.195777744652081,0.19859265362925499,0.20143603809277499,0.204337213889111,{"$f":"IF($B2301=\"\",\"\",VLOOKUP($B2301,_tbl!$A:$E,N$2,0))","v":"Female"},{"$f":"IF($B2301=\"\",\"\",VLOOKUP($B2301,_tbl!$A:$E,O$2,0))","v":"East"},{"$f":"IF($B2301=\"\",\"\",VLOOKUP($B2301,_tbl!$A:$E,P$2,0))","v":"Urban"},{"$f":"IF($B2301=\"\",\"\",VLOOKUP($B2301,_tbl!$A:$E,Q$2,0))","v":"Total"},null,0.204337213889111,0.18215566274179601]
[null,null,null,null,null,null,null,null,null,null,null,null,null,{"$f":"IF($B2302=\"\",\"\",VLOOKUP($B2302,_tbl!$A:$E,N$2,0))","v":""},{"$f":"IF($B2302=\"\",\"\",VLOOKUP($B2302,_tbl!$A:$E,O$2,0))","v":""},{"$f":"IF($B2302=\"\",\"\",VLOOKUP($B2302,_tbl!$A:$E,P$2,0))","v":""},{"$f":"IF($B2302=\"\",\"\",VLOOKUP($B2302,_tbl!$A:$E,Q$2,0))","v":""}]
[null,null,null,2020,2021,2022,2023,2024,2025,2026,2027,2028,2029,{"$f":"IF($B2303=\"\",\"\",VLOOKUP($B2303,_tbl!$A:$E,N$2,0))","v":""},{"$f":"IF($B2303=\"\",\"\",VLOOKUP($B2303,_tbl!$A:$E,O$2,0))","v":""},{"$f":"IF($B2303=\"\",\"\",VLOOKUP($B2303,_tbl!$A:$E,P$2,0))","v":""},{"$f":"IF($B2303=\"\",\"\",VLOOKUP($B2303,_tbl!$A:$E,Q$2,0))","v":""}]
[null,"all_f_East.csv","1-4",2.4624263962514298E-4,2.37775983399761E-4,2.3156176054046299E-4,2.2562162960824801E-4,2.2064527495614601E-4,2.1562828827365301E-4,2.1086328480318599E-4,2.05844742948274E-4,2.0092557965906699E-4,1.9606021930519899E-4,{"$f":"IF($B2304=\"\",\"\",VLOOKUP($B2304,_tbl!$A:$E,N$2,0))","v":"Female"},{"$f":"IF($B2304=\"\",\"\",VLOOKUP($B2304,_tbl!$A:$E,O$2,0))","v":"East"},{"$f":"IF($B2304=\"\",\"\",VLOOKUP($B2304,_tbl!$A:$E,P$2,0))","v":"Total"},{"$f":"IF($B2304=\"\",\"\",VLOOKUP($B2304,_tbl!$A:$E,Q$2,0))","v":"Total"},null,{"$f":"MAX(D2304:M2304)","v":2.4624263962514298E-4},{"$f":"MIN(D2304:M2304)","v":1.9606021930519899E-4}]
[null,"all_f_East.csv","5-9",1.44054483579079E-4,1.4043156244295199E-4,1.38030958203518E-4,1.35703006125726E-4,1.3354556328303501E-4,1.3138361555648401E-4,1.29267877576521E-4,1.2711315391705501E-4,1.2497763770214201E-4,1.22855080035403E-4,{"$f":"IF($B2305=\"\",\"\",VLOOKUP($B2305,_tbl!$A:$E,N$2,0))","v":"Female"},{"$f":"IF($B2305=\"\",\"\",VLOOKUP($B2305,_tbl!$A:$E,O$2,0))","v":"East"},{"$f":"IF($B2305=\"\",\"\",VLOOKUP($B2305,_tbl!$A:$E,P$2,0))","v":"Total"},{"$f":"IF($B2305=\"\",\"\",VLOOKUP($B2305,_tbl!$A:$E,Q$2,0))","v":"Total"},null,1.44054483579079E-4,1.22855080035403E-4]
[null,"all_f_East.csv","10-14",1.32785612055034E-4,1.2968143263345199E-4,1.2700958551454001E-4,1.24479318166437E-4,1.21946569152587E-4,1.19545037915072E-4,1.17220424649732E-4,1.15025898524724E-4,1.1292063339527E-4,1.1090653334725101E-4,{"$f":"IF($B2306=\"\",\"\",VLOOKUP($B2306,_tbl!$A:$E,N$2,0))","v":"Female"},{"$f":"IF($B2306=\"\",\"\",VLOOKUP($B2306,_tbl!$A:$E,O$2,0))","v":"East"},{"$f":"IF($B2306=\"\",\"\",VLOOKUP($B2306,_tbl!$A:$E,P$2,0))","v":"Total"},{"$f":"IF($B2306=\"\",\"\",VLOOKUP($B2306,_tbl!$A:$E,Q$2,0))","v":"Total"},null,1.32785612055034E-4,1.1090653334725101E-4]
[null,"all_f_East.csv","15-19",1.3901228479038701E-4,1.3531518339588201E-4,1.3105901155345101E-4,1.2720859525306E-4,1.2320739425242399E-4,1.19668248810005E-4,1.1635488123979499E-4,1.1345550129980199E-4,1.10793605285629E-4,1.0837490957201E-4,{"$f":"IF($B2307=\"\",\"\",VLOOKUP($B2307,_tbl!$A:$E,N$2,0))","v":"Female"},{"$f":"IF($B2307=\"\",\"\",VLOOKUP($B2307,_tbl!$A:$E,O$2,0))","v":"East"},{"$f":"IF($B2307=\"\",\"\",VLOOKUP($B2307,_tbl!$A:$E,P$2,0))","v":"Total"},{"$f":"IF($B2307=\"\",\"\",VLOOKUP($B2307,_tbl!$A:$E,Q$2,0))","v":"Total"},null,1.3901228479038701E-4,1.0837490957201E-4]
[null,"all_f_East.csv","20-24",1.62275422546241E-4,1.5834658661194E-4,1.52963738751916E-4,1.4825287457428E-4,1.43319947732155E-4,1.39127462817867E-4,1.35280476286696E-4,1.32042009146693E-4,1.2913458834200799E-4,1.2655634091436599E-4,{"$f":"IF($B2308=\"\",\"\",VLOOKUP($B2308,_tbl!$A:$E,N$2,0))","v":"Female"},{"$f":"IF($B2308=\"\",\"\",VLOOKUP($B2308,_tbl!$A:$E,O$2,0))","v":"East"},{"$f":"IF($B2308=\"\",\"\",VLOOKUP($B2308,_tbl!$A:$E,P$2,0))","v":"Total"},{"$f":"IF($B2308=\"\",\"\",VLOOKUP($B2308,_tbl!$A:$E,Q$2,0))","v":"Total"},null,1.62275422546241E-4,1.2655634091436599E-4]
[null,"all_f_East.csv","25-29",2.22474450479664E-4,2.1650475305242899E-4,2.0997030420168199E-4,2.0406226315489799E-4,1.9812032917815E-4,1.92794045106621E-4,1.8779982136473E-4,1.83333346086785E-4,1.7919549914678E-4,1.7537749376981101E-4,{"$f":"IF($B2309=\"\",\"\",VLOOKUP($B2309,_tbl!$A:$E,N$2,0))","v":"Female"},{"$f":"IF($B2309=\"\",\"\",VLOOKUP($B2309,_tbl!$A:$E,O$2,0))","v":"East"},{"$f":"IF($B2309=\"\",\"\",VLOOKUP($B2309,_tbl!$A:$E,P$2,0))","v":"Total"},{"$f":"IF($B2309=\"\",\"\",VLOOKUP($B2309,_tbl!$A:$E,Q$2,0))","v":"Total"},null,2.22474450479664E-4,1.7537749376981101E-4]
[null,"all_f_East.csv","30-34",3.2749036323733702E-4,3.2005745880337501E-4,3.1243051874534799E-4,3.0544418686615199E-4,2.9857608445439698E-4,2.9224517390236701E-4,2.8624628959138498E-4,2.8071780543203101E-4,2.7552549686095899E-4,2.7065679674508699E-4,{"$f":"IF($B2310=\"\",\"\",VLOOKUP($B2310,_tbl!$A:$E,N$2,0))","v":"Female"},{"$f":"IF($B2310=\"\",\"\",VLOOKUP($B2310,_tbl!$A:$E,O$2,0))","v":"East"},{"$f":"IF($B2310=\"\",\"\",VLOOKUP($B2310,_tbl!$A:$E,P$2,0))","v":"Total"},{"$f":"IF($B2310=\"\",\"\",VLOOKUP($B2310,_tbl!$A:$E,Q$2,0))","v":"Total"},null,3.2749036323733702E-4,2.7065679674508699E-4]
[null,"all_f_East.csv","35-39",4.7074762370220201E-4,4.6053053414098601E-4,4.4951048580264201E-4,4.39662679629985E-4,4.3005333222552802E-4,4.2117735958955199E-4,4.1261743969515599E-4,4.0465240113926501E-4,3.97123546671007E-4,3.9001645484125703E-4,{"$f":"IF($B2311=\"\",\"\",VLOOKUP($B2311,_tbl!$A:$E,N$2,0))","v":"Female"},{"$f":"IF($B2311=\"\",\"\",VLOOKUP($B2311,_tbl!$A:$E,O$2,0))","v":"East"},{"$f":"IF($B2311=\"\",\"\",VLOOKUP($B2311,_tbl!$A:$E,P$2,0))","v":"Total"},{"$f":"IF($B2311=\"\",\"\",VLOOKUP($B2311,_tbl!$A:$E,Q$2,0))","v":"Total"},null,4.7074762370220201E-4,3.9001645484125703E-4]
[null,"all_f_East.csv","40-44",6.7835956366396795E-4,6.6010732575367799E-4,6.3912664635612504E-4,6.20474625584374E-4,6.0226630576318101E-4,5.8540864749364403E-4,5.6900472044600604E-4,5.53632991025116E-4,5.3900499759290601E-4,5.2511692541244704E-4,{"$f":"IF($B2312=\"\",\"\",VLOOKUP($B2312,_tbl!$A:$E,N$2,0))","v":"Female"},{"$f":"IF($B2312=\"\",\"\",VLOOKUP($B2312,_tbl!$A:$E,O$2,0))","v":"East"},{"$f":"IF($B2312=\"\",\"\",VLOOKUP($B2312,_tbl!$A:$E,P$2,0))","v":"Total"},{"$f":"IF($B2312=\"\",\"\",VLOOKUP($B2312,_tbl!$A:$E,Q$2,0))","v":"Total"},null,6.7835956366396795E-4,5.2511692541244704E-4]
[null,"all_f_East.csv","45-49",1.0714367414658399E-3,1.0416286269395701E-3,1.0055838012693601E-3,9.7367261108393896E-4,9.4233324806582499E-4,9.1327954831378199E-4,8.8472216677134197E-4,8.5781518865040297E-4,8.3202941210398199E-4,8.0739187014994404E-4,{"$f":"IF($B2313=\"\",\"\",VLOOKUP($B2313,_tbl!$A:$E,N$2,0))","v":"Female"},{"$f":"IF($B2313=\"\",\"\",VLOOKUP($B2313,_tbl!$A:$E,O$2,0))","v":"East"},{"$f":"IF($B2313=\"\",\"\",VLOOKUP($B2313,_tbl!$A:$E,P$2,0))","v":"Total"},{"$f":"IF($B2313=\"\",\"\",VLOOKUP($B2313,_tbl!$A:$E,Q$2,0))","v":"Total"},null,1.0714367414658399E-3,8.0739187014994404E-4]
[null,"all_f_East.csv","50-54",1.81657352612998E-3,1.76164291005415E-3,1.7093664105004101E-3,1.65166875224106E-3,1.5962096396816201E-3,1.5400094847214699E-3,1.4871571351242801E-3,1.4344087098989401E-3,1.3829794439399301E-3,1.3329584756544099E-3,{"$f":"IF($B2314=\"\",\"\",VLOOKUP($B2314,_tbl!$A:$E,N$2,0))","v":"Female"},{"$f":"IF($B2314=\"\",\"\",VLOOKUP($B2314,_tbl!$A:$E,O$2,0))","v":"East"},{"$f":"IF($B2314=\"\",\"\",VLOOKUP($B2314,_tbl!$A:$E,P$2,0))","v":"Total"},{"$f":"IF($B2314=\"\",\"\",VLOOKUP($B2314,_tbl!$A:$E,Q$2,0))","v":"Total"},null,1.81657352612998E-3,1.3329584756544099E-3]
[null,"all_f_East.csv","55-59",3.1847712329398001E-3,3.1176630810071898E-3,3.0515830111074701E-3,2.9789227212341099E-3,2.9078229270887899E-3,2.8358015287625101E-3,2.7679669441270098E-3,2.7000688607831699E-3,2.6335244064037001E-3,2.56871362841756E-3,{"$f":"IF($B2315=\"\",\"\",VLOOKUP($B2315,_tbl!$A:$E,N$2,0))","v":"Female"},{"$f":"IF($B2315=\"\",\"\",VLOOKUP($B2315,_tbl!$A:$E,O$2,0))","v":"East"},{"$f":"IF($B2315=\"\",\"\",VLOOKUP($B2315,_tbl!$A:$E,P$2,0))","v":"Total"},{"$f":"IF($B2315=\"\",\"\",VLOOKUP($B2315,_tbl!$A:$E,Q$2,0))","v":"Total"},null,3.1847712329398001E-3,2.56871362841756E-3]
[null,"all_f_East.csv","60-64",5.1689921043757197E-3,5.0728219919573296E-3,4.9767541323309803E-3,4.8694256370563904E-3,4.7627859960832604E-3,4.6542885172676804E-3,4.5534244544765904E-3,4.4515737183406503E-3,4.3512937293630899E-3,4.2538398058678704E-3,{"$f":"IF($B2316=\"\",\"\",VLOOKUP($B2316,_tbl!$A:$E,N$2,0))","v":"Female"},{"$f":"IF($B2316=\"\",\"\",VLOOKUP($B2316,_tbl!$A:$E,O$2,0))","v":"East"},{"$f":"IF($B2316=\"\",\"\",VLOOKUP($B2316,_tbl!$A:$E,P$2,0))","v":"Total"},{"$f":"IF($B2316=\"\",\"\",VLOOKUP($B2316,_tbl!$A:$E,Q$2,0))","v":"Total"},null,5.1689921043757197E-3,4.2538398058678704E-3]
[null,"all_f_East.csv","65-69",7.9420720489998507E-3,7.73965662735214E-3,7.5481358801621299E-3,7.3303646959222198E-3,7.1096834748054696E-3,6.8839029188216098E-3,6.6794649831585498E-3,6.4703270906094502E-3,6.2632624200527499E-3,6.0631127132498496E-3,{"$f":"IF($B2317=\"\",\"\",VLOOKUP($B2317,_tbl!$A:$E,N$2,0))","v":"Female"},{"$f":"IF($B2317=\"\",\"\",VLOOKUP($B2317,_tbl!$A:$E,O$2,0))","v":"East"},{"$f":"IF($B2317=\"\",\"\",VLOOKUP($B2317,_tbl!$A:$E,P$2,0))","v":"Total"},{"$f":"IF($B2317=\"\",\"\",VLOOKUP($B2317,_tbl!$A:$E,Q$2,0))","v":"Total"},null,7.9420720489998507E-3,6.0631127132498496E-3]
[null,"all_f_East.csv","70-74",1.3459428237413499E-2,1.3023841660849999E-2,1.26276963895378E-2,1.2192224967792299E-2,1.1748519154014999E-2,1.1298107104927501E-2,1.0896385559177799E-2,1.0484298462169301E-2,1.00753729236157E-2,9.6818535498659208E-3,{"$f":"IF($B2318=\"\",\"\",VLOOKUP($B2318,_tbl!$A:$E,N$2,0))","v":"Female"},{"$f":"IF($B2318=\"\",\"\",VLOOKUP($B2318,_tbl!$A:$E,O$2,0))","v":"East"},{"$f":"IF($B2318=\"\",\"\",VLOOKUP($B2318,_tbl!$A:$E,P$2,0))","v":"Total"},{"$f":"IF($B2318=\"\",\"\",VLOOKUP($B2318,_tbl!$A:$E,Q$2,0))","v":"Total"},null,1.3459428237413499E-2,9.6818535498659208E-3]
[null,"all_f_East.csv","75-79",2.81269150477917E-2,2.71745067950457E-2,2.6398153484730302E-2,2.56004776508236E-2,2.48004451467327E-2,2.3998141972992298E-2,2.3289924279946798E-2,2.2561928853552501E-2,2.1836672040438199E-2,2.1138195392383902E-2,{"$f":"IF($B2319=\"\",\"\",VLOOKUP($B2319,_tbl!$A:$E,N$2,0))","v":"Female"},{"$f":"IF($B2319=\"\",\"\",VLOOKUP($B2319,_tbl!$A:$E,O$2,0))","v":"East"},{"$f":"IF($B2319=\"\",\"\",VLOOKUP($B2319,_tbl!$A:$E,P$2,0))","v":"Total"},{"$f":"IF($B2319=\"\",\"\",VLOOKUP($B2319,_tbl!$A:$E,Q$2,0))","v":"Total"},null,2.81269150477917E-2,2.1138195392383902E-2]
[null,"all_f_East.csv","80-84",6.8810587582900401E-2,6.6859717230276894E-2,6.5530525985566093E-2,6.4388082767272106E-2,6.3313190952179493E-2,6.2282982446616099E-2,6.1330644117988602E-2,6.0399543730685998E-2,5.9491857235989501E-2,5.8612471694710302E-2,{"$f":"IF($B2320=\"\",\"\",VLOOKUP($B2320,_tbl!$A:$E,N$2,0))","v":"Female"},{"$f":"IF($B2320=\"\",\"\",VLOOKUP($B2320,_tbl!$A:$E,O$2,0))","v":"East"},{"$f":"IF($B2320=\"\",\"\",VLOOKUP($B2320,_tbl!$A:$E,P$2,0))","v":"Total"},{"$f":"IF($B2320=\"\",\"\",VLOOKUP($B2320,_tbl!$A:$E,Q$2,0))","v":"Total"},null,6.8810587582900401E-2,5.8612471694710302E-2]
[null,"all_f_East.csv","85+",0.17879322739710299,0.17366401013662999,0.17224230107178401,0.17162851384591499,0.171342526876541,0.17120385275404801,0.17130099992105799,0.171460275293606,0.17168768331614001,0.17197940844086401,{"$f":"IF($B2321=\"\",\"\",VLOOKUP($B2321,_tbl!$A:$E,N$2,0))","v":"Female"},{"$f":"IF($B2321=\"\",\"\",VLOOKUP($B2321,_tbl!$A:$E,O$2,0))","v":"East"},{"$f":"IF($B2321=\"\",\"\",VLOOKUP($B2321,_tbl!$A:$E,P$2,0))","v":"Total"},{"$f":"IF($B2321=\"\",\"\",VLOOKUP($B2321,_tbl!$A:$E,Q$2,0))","v":"Total"},null,0.17879322739710299,0.17120385275404801]
[null,null,null,null,null,null,null,null,null,null,null,null,null,{"$f":"IF($B2322=\"\",\"\",VLOOKUP($B2322,_tbl!$A:$E,N$2,0))","v":""},{"$f":"IF($B2322=\"\",\"\",VLOOKUP($B2322,_tbl!$A:$E,O$2,0))","v":""},{"$f":"IF($B2322=\"\",\"\",VLOOKUP($B2322,_tbl!$A:$E,P$2,0))","v":""},{"$f":"IF($B2322=\"\",\"\",VLOOKUP($B2322,_tbl!$A:$E,Q$2,0))","v":""}]
[null,null,null,2020,2021,2022,2023,2024,2025,2026,2027,2028,2029,{"$f":"IF($B2323=\"\",\"\",VLOOKUP($B2323,_tbl!$A:$E,N$2,0))","v":""},{"$f":"IF($B2323=\"\",\"\",VLOOKUP($B2323,_tbl!$A:$E,O$2,0))","v":""},{"$f":"IF($B2323=\"\",\"\",VLOOKUP($B2323,_tbl!$A:$E,P$2,0))","v":""},{"$f":"IF($B2323=\"\",\"\",VLOOKUP($B2323,_tbl!$A:$E,Q$2,0))","v":""}]
[null,"all_f_Total.csv","1-4",3.1467403549539599E-4,3.0384139785158198E-4,2.9364249910566602E-4,2.8419699459079998E-4,2.7560537156671501E-4,2.6757395570379102E-4,2.6005924435285201E-4,2.5291168510497501E-4,2.4617739088427101E-4,2.39766650503283E-4,{"$f":"IF($B2324=\"\",\"\",VLOOKUP($B2324,_tbl!$A:$E,N$2,0))","v":"Female"},{"$f":"IF($B2324=\"\",\"\",VLOOKUP($B2324,_tbl!$A:$E,O$2,0))","v":"Total"},{"$f":"IF($B2324=\"\",\"\",VLOOKUP($B2324,_tbl!$A:$E,P$2,0))","v":"Total"},{"$f":"IF($B2324=\"\",\"\",VLOOKUP($B2324,_tbl!$A:$E,Q$2,0))","v":"Total"},null,{"$f":"MAX(D2324:M2324)","v":3.1467403549539599E-4},{"$f":"MIN(D2324:M2324)","v":2.39766650503283E-4}]
[null,"all_f_Total.csv","5-9",1.9292774368769101E-4,1.8948232697130399E-4,1.86454634599989E-4,1.8356780348694E-4,1.8084571636961601E-4,1.78208937219907E-4,1.7563431083501E-4,1.7311695679259699E-4,1.70672312510612E-4,1.6827920782646499E-4,{"$f":"IF($B2325=\"\",\"\",VLOOKUP($B2325,_tbl!$A:$E,N$2,0))","v":"Female"},{"$f":"IF($B2325=\"\",\"\",VLOOKUP($B2325,_tbl!$A:$E,O$2,0))","v":"Total"},{"$f":"IF($B2325=\"\",\"\",VLOOKUP($B2325,_tbl!$A:$E,P$2,0))","v":"Total"},{"$f":"IF($B2325=\"\",\"\",VLOOKUP($B2325,_tbl!$A:$E,Q$2,0))","v":"Total"},null,1.9292774368769101E-4,1.6827920782646499E-4]
[null,"all_f_Total.csv","10-14",1.6622633943907299E-4,1.6294091470240701E-4,1.5976032237123E-4,1.56726819902287E-4,1.5382267127661201E-4,1.5105833918198101E-4,1.48372184852997E-4,1.4579634142668999E-4,1.4331259072343101E-4,1.4090711404849001E-4,{"$f":"IF($B2326=\"\",\"\",VLOOKUP($B2326,_tbl!$A:$E,N$2,0))","v":"Female"},{"$f":"IF($B2326=\"\",\"\",VLOOKUP($B2326,_tbl!$A:$E,O$2,0))","v":"Total"},{"$f":"IF($B2326=\"\",\"\",VLOOKUP($B2326,_tbl!$A:$E,P$2,0))","v":"Total"},{"$f":"IF($B2326=\"\",\"\",VLOOKUP($B2326,_tbl!$A:$E,Q$2,0))","v":"Total"},null,1.6622633943907299E-4,1.4090711404849001E-4]
[null,"all_f_Total.csv","15-19",1.7314717244751901E-4,1.68940839840648E-4,1.64355894154869E-4,1.6010670533308399E-4,1.5591308326196599E-4,1.5206601920927899E-4,1.4840264415523599E-4,1.45047144168686E-4,1.41898844665778E-4,1.3894492719648699E-4,{"$f":"IF($B2327=\"\",\"\",VLOOKUP($B2327,_tbl!$A:$E,N$2,0))","v":"Female"},{"$f":"IF($B2327=\"\",\"\",VLOOKUP($B2327,_tbl!$A:$E,O$2,0))","v":"Total"},{"$f":"IF($B2327=\"\",\"\",VLOOKUP($B2327,_tbl!$A:$E,P$2,0))","v":"Total"},{"$f":"IF($B2327=\"\",\"\",VLOOKUP($B2327,_tbl!$A:$E,Q$2,0))","v":"Total"},null,1.7314717244751901E-4,1.3894492719648699E-4]
[null,"all_f_Total.csv","20-24",1.9967047004091601E-4,1.9473406851248999E-4,1.8889481668414801E-4,1.8357298271887699E-4,1.7827166042491099E-4,1.73533583592077E-4,1.6905795800307099E-4,1.6505970122994001E-4,1.61357820295095E-4,1.5793103542760599E-4,{"$f":"IF($B2328=\"\",\"\",VLOOKUP($B2328,_tbl!$A:$E,N$2,0))","v":"Female"},{"$f":"IF($B2328=\"\",\"\",VLOOKUP($B2328,_tbl!$A:$E,O$2,0))","v":"Total"},{"$f":"IF($B2328=\"\",\"\",VLOOKUP($B2328,_tbl!$A:$E,P$2,0))","v":"Total"},{"$f":"IF($B2328=\"\",\"\",VLOOKUP($B2328,_tbl!$A:$E,Q$2,0))","v":"Total"},null,1.9967047004091601E-4,1.5793103542760599E-4]
[null,"all_f_Total.csv","25-29",2.6469753975154499E-4,2.58017614308383E-4,2.50759559811801E-4,2.4404902095577201E-4,2.3748198384803201E-4,2.3148522573262099E-4,2.25759775968639E-4,2.2052755059118401E-4,2.15627906085178E-4,2.11032680033155E-4,{"$f":"IF($B2329=\"\",\"\",VLOOKUP($B2329,_tbl!$A:$E,N$2,0))","v":"Female"},{"$f":"IF($B2329=\"\",\"\",VLOOKUP($B2329,_tbl!$A:$E,O$2,0))","v":"Total"},{"$f":"IF($B2329=\"\",\"\",VLOOKUP($B2329,_tbl!$A:$E,P$2,0))","v":"Total"},{"$f":"IF($B2329=\"\",\"\",VLOOKUP($B2329,_tbl!$A:$E,Q$2,0))","v":"Total"},null,2.6469753975154499E-4,2.11032680033155E-4]
[null,"all_f_Total.csv","30-34",3.7397303380285802E-4,3.6611275251056198E-4,3.5733664904509201E-4,3.4947746144791103E-4,3.41787372892171E-4,3.3478487258916501E-4,3.2799765527732699E-4,3.2178916922001902E-4,3.1596580068231898E-4,3.1049721197550498E-4,{"$f":"IF($B2330=\"\",\"\",VLOOKUP($B2330,_tbl!$A:$E,N$2,0))","v":"Female"},{"$f":"IF($B2330=\"\",\"\",VLOOKUP($B2330,_tbl!$A:$E,O$2,0))","v":"Total"},{"$f":"IF($B2330=\"\",\"\",VLOOKUP($B2330,_tbl!$A:$E,P$2,0))","v":"Total"},{"$f":"IF($B2330=\"\",\"\",VLOOKUP($B2330,_tbl!$A:$E,Q$2,0))","v":"Total"},null,3.7397303380285802E-4,3.1049721197550498E-4]
[null,"all_f_Total.csv","35-39",5.4743250690085597E-4,5.3736251273358605E-4,5.2498058869346602E-4,5.1479425652876899E-4,5.04582101612148E-4,4.9550201675196298E-4,4.8638294756442302E-4,4.7812847976390398E-4,4.7036620929993898E-4,4.6308184602440901E-4,{"$f":"IF($B2331=\"\",\"\",VLOOKUP($B2331,_tbl!$A:$E,N$2,0))","v":"Female"},{"$f":"IF($B2331=\"\",\"\",VLOOKUP($B2331,_tbl!$A:$E,O$2,0))","v":"Total"},{"$f":"IF($B2331=\"\",\"\",VLOOKUP($B2331,_tbl!$A:$E,P$2,0))","v":"Total"},{"$f":"IF($B2331=\"\",\"\",VLOOKUP($B2331,_tbl!$A:$E,Q$2,0))","v":"Total"},null,5.4743250690085597E-4,4.6308184602440901E-4]
[null,"all_f_Total.csv","40-44",8.0917224246120003E-4,7.9126873720380996E-4,7.6815255880104203E-4,7.4960572885951102E-4,7.3063251406309195E-4,7.1376982025007799E-4,6.9649001844235899E-4,6.8072584311305601E-4,6.65717971392334E-4,6.5149035642656601E-4,{"$f":"IF($B2332=\"\",\"\",VLOOKUP($B2332,_tbl!$A:$E,N$2,0))","v":"Female"},{"$f":"IF($B2332=\"\",\"\",VLOOKUP($B2332,_tbl!$A:$E,O$2,0))","v":"Total"},{"$f":"IF($B2332=\"\",\"\",VLOOKUP($B2332,_tbl!$A:$E,P$2,0))","v":"Total"},{"$f":"IF($B2332=\"\",\"\",VLOOKUP($B2332,_tbl!$A:$E,Q$2,0))","v":"Total"},null,8.0917224246120003E-4,6.5149035642656601E-4]
[null,"all_f_Total.csv","45-49",1.2925542290995299E-3,1.2642592854363499E-3,1.2252510560413199E-3,1.19438513144273E-3,1.1624053352774801E-3,1.1340811754942601E-3,1.1046266879770901E-3,1.07772067054383E-3,1.05193789666486E-3,1.0273344731319999E-3,{"$f":"IF($B2333=\"\",\"\",VLOOKUP($B2333,_tbl!$A:$E,N$2,0))","v":"Female"},{"$f":"IF($B2333=\"\",\"\",VLOOKUP($B2333,_tbl!$A:$E,O$2,0))","v":"Total"},{"$f":"IF($B2333=\"\",\"\",VLOOKUP($B2333,_tbl!$A:$E,P$2,0))","v":"Total"},{"$f":"IF($B2333=\"\",\"\",VLOOKUP($B2333,_tbl!$A:$E,Q$2,0))","v":"Total"},null,1.2925542290995299E-3,1.0273344731319999E-3]
[null,"all_f_Total.csv","50-54",2.0885598455345701E-3,2.0370617562907802E-3,1.98208135770118E-3,1.9259838068731801E-3,1.8700510023796999E-3,1.8149643475129701E-3,1.76107487191958E-3,1.7085528129376899E-3,1.6574699662615499E-3,1.60784487037547E-3,{"$f":"IF($B2334=\"\",\"\",VLOOKUP($B2334,_tbl!$A:$E,N$2,0))","v":"Female"},{"$f":"IF($B2334=\"\",\"\",VLOOKUP($B2334,_tbl!$A:$E,O$2,0))","v":"Total"},{"$f":"IF($B2334=\"\",\"\",VLOOKUP($B2334,_tbl!$A:$E,P$2,0))","v":"Total"},{"$f":"IF($B2334=\"\",\"\",VLOOKUP($B2334,_tbl!$A:$E,Q$2,0))","v":"Total"},null,2.0885598455345701E-3,1.60784487037547E-3]
[null,"all_f_Total.csv","55-59",3.5385743235524102E-3,3.4603193307233999E-3,3.3764489484774301E-3,3.2905784856189402E-3,3.2046789172567101E-3,3.1198077345617301E-3,3.0365183668883298E-3,2.9550873746216001E-3,2.8756398533323199E-3,2.7982184424437798E-3,{"$f":"IF($B2335=\"\",\"\",VLOOKUP($B2335,_tbl!$A:$E,N$2,0))","v":"Female"},{"$f":"IF($B2335=\"\",\"\",VLOOKUP($B2335,_tbl!$A:$E,O$2,0))","v":"Total"},{"$f":"IF($B2335=\"\",\"\",VLOOKUP($B2335,_tbl!$A:$E,P$2,0))","v":"Total"},{"$f":"IF($B2335=\"\",\"\",VLOOKUP($B2335,_tbl!$A:$E,Q$2,0))","v":"Total"},null,3.5385743235524102E-3,2.7982184424437798E-3]
[null,"all_f_Total.csv","60-64",5.7823595221728899E-3,5.6610131934802096E-3,5.5281455616690602E-3,5.3906694020895499E-3,5.2523702455082302E-3,5.1152913582075696E-3,4.9805127737885101E-3,4.84858462313934E-3,4.7197666776753796E-3,4.59416030070719E-3,{"$f":"IF($B2336=\"\",\"\",VLOOKUP($B2336,_tbl!$A:$E,N$2,0))","v":"Female"},{"$f":"IF($B2336=\"\",\"\",VLOOKUP($B2336,_tbl!$A:$E,O$2,0))","v":"Total"},{"$f":"IF($B2336=\"\",\"\",VLOOKUP($B2336,_tbl!$A:$E,P$2,0))","v":"Total"},{"$f":"IF($B2336=\"\",\"\",VLOOKUP($B2336,_tbl!$A:$E,Q$2,0))","v":"Total"},null,5.7823595221728899E-3,4.59416030070719E-3]
[null,"all_f_Total.csv","65-69",9.4480046427116004E-3,9.2507221051498795E-3,9.03000486034225E-3,8.7994311893350892E-3,8.5664508524611709E-3,8.3350917810101708E-3,8.10748862940271E-3,7.8847344761745104E-3,7.6673518688023497E-3,7.4555522465835503E-3,{"$f":"IF($B2337=\"\",\"\",VLOOKUP($B2337,_tbl!$A:$E,N$2,0))","v":"Female"},{"$f":"IF($B2337=\"\",\"\",VLOOKUP($B2337,_tbl!$A:$E,O$2,0))","v":"Total"},{"$f":"IF($B2337=\"\",\"\",VLOOKUP($B2337,_tbl!$A:$E,P$2,0))","v":"Total"},{"$f":"IF($B2337=\"\",\"\",VLOOKUP($B2337,_tbl!$A:$E,Q$2,0))","v":"Total"},null,9.4480046427116004E-3,7.4555522465835503E-3]
[null,"all_f_Total.csv","70-74",1.66457411059114E-2,1.6292626552788E-2,1.5907516718268799E-2,1.55098239244076E-2,1.51101702427258E-2,1.47142830508599E-2,1.4325184621373801E-2,1.39444095190561E-2,1.35726773774212E-2,1.32102634171516E-2,{"$f":"IF($B2338=\"\",\"\",VLOOKUP($B2338,_tbl!$A:$E,N$2,0))","v":"Female"},{"$f":"IF($B2338=\"\",\"\",VLOOKUP($B2338,_tbl!$A:$E,O$2,0))","v":"Total"},{"$f":"IF($B2338=\"\",\"\",VLOOKUP($B2338,_tbl!$A:$E,P$2,0))","v":"Total"},{"$f":"IF($B2338=\"\",\"\",VLOOKUP($B2338,_tbl!$A:$E,Q$2,0))","v":"Total"},null,1.66457411059114E-2,1.32102634171516E-2]
[null,"all_f_Total.csv","75-79",3.3255843334327302E-2,3.2539849699644803E-2,3.1841715006094E-2,3.1159906399506301E-2,3.04934403254075E-2,2.9841639004204501E-2,2.9203996152548001E-2,2.8580102891345601E-2,2.7969606829514101E-2,2.7372189440439901E-2,{"$f":"IF($B2339=\"\",\"\",VLOOKUP($B2339,_tbl!$A:$E,N$2,0))","v":"Female"},{"$f":"IF($B2339=\"\",\"\",VLOOKUP($B2339,_tbl!$A:$E,O$2,0))","v":"Total"},{"$f":"IF($B2339=\"\",\"\",VLOOKUP($B2339,_tbl!$A:$E,P$2,0))","v":"Total"},{"$f":"IF($B2339=\"\",\"\",VLOOKUP($B2339,_tbl!$A:$E,Q$2,0))","v":"Total"},null,3.3255843334327302E-2,2.7372189440439901E-2]
[null,"all_f_Total.csv","80-84",7.42458149044571E-2,7.2637842526830296E-2,7.1386749072423206E-2,7.0336215758139697E-2,6.9400744700835196E-2,6.8533165909156202E-2,6.7707312876272796E-2,6.6908611839533602E-2,6.6128913956025798E-2,6.5363639664234502E-2,{"$f":"IF($B2340=\"\",\"\",VLOOKUP($B2340,_tbl!$A:$E,N$2,0))","v":"Female"},{"$f":"IF($B2340=\"\",\"\",VLOOKUP($B2340,_tbl!$A:$E,O$2,0))","v":"Total"},{"$f":"IF($B2340=\"\",\"\",VLOOKUP($B2340,_tbl!$A:$E,P$2,0))","v":"Total"},{"$f":"IF($B2340=\"\",\"\",VLOOKUP($B2340,_tbl!$A:$E,Q$2,0))","v":"Total"},null,7.42458149044571E-2,6.5363639664234502E-2]
[null,"all_f_Total.csv","85+",0.17346264399938,0.16970692082316899,0.16768471276566199,0.166613813585684,0.16607125278045101,0.16582413399495499,0.165742877918443,0.165754959935631,0.16581965169472401,0.16591403740517,{"$f":"IF($B2341=\"\",\"\",VLOOKUP($B2341,_tbl!$A:$E,N$2,0))","v":"Female"},{"$f":"IF($B2341=\"\",\"\",VLOOKUP($B2341,_tbl!$A:$E,O$2,0))","v":"Total"},{"$f":"IF($B2341=\"\",\"\",VLOOKUP($B2341,_tbl!$A:$E,P$2,0))","v":"Total"},{"$f":"IF($B2341=\"\",\"\",VLOOKUP($B2341,_tbl!$A:$E,Q$2,0))","v":"Total"},null,0.17346264399938,0.165742877918443]
[null,null,null,null,null,null,null,null,null,null,null,null,null,{"$f":"IF($B2342=\"\",\"\",VLOOKUP($B2342,_tbl!$A:$E,N$2,0))","v":""},{"$f":"IF($B2342=\"\",\"\",VLOOKUP($B2342,_tbl!$A:$E,O$2,0))","v":""},{"$f":"IF($B2342=\"\",\"\",VLOOKUP($B2342,_tbl!$A:$E,P$2,0))","v":""},{"$f":"IF($B2342=\"\",\"\",VLOOKUP($B2342,_tbl!$A:$E,Q$2,0))","v":""}]
[null,null,null,2020,2021,2022,2023,2024,2025,2026,2027,2028,2029,{"$f":"IF($B2343=\"\",\"\",VLOOKUP($B2343,_tbl!$A:$E,N$2,0))","v":""},{"$f":"IF($B2343=\"\",\"\",VLOOKUP($B2343,_tbl!$A:$E,O$2,0))","v":""},{"$f":"IF($B2343=\"\",\"\",VLOOKUP($B2343,_tbl!$A:$E,P$2,0))","v":""},{"$f":"IF($B2343=\"\",\"\",VLOOKUP($B2343,_tbl!$A:$E,Q$2,0))","v":""}]
[null,"all_f_West Rural cancer.csv","1-4",2.9120311751564999E-5,2.9152590109647899E-5,2.91723297836938E-5,2.9193521262266E-5,2.9211855916925499E-5,2.9234171887010401E-5,2.9259444036942902E-5,2.92892109573281E-5,2.93207245151564E-5,2.9353889044374501E-5,{"$f":"IF($B2344=\"\",\"\",VLOOKUP($B2344,_tbl!$A:$E,N$2,0))","v":"Female"},{"$f":"IF($B2344=\"\",\"\",VLOOKUP($B2344,_tbl!$A:$E,O$2,0))","v":"West"},{"$f":"IF($B2344=\"\",\"\",VLOOKUP($B2344,_tbl!$A:$E,P$2,0))","v":"Rural"},{"$f":"IF($B2344=\"\",\"\",VLOOKUP($B2344,_tbl!$A:$E,Q$2,0))","v":"Cancer"},null,{"$f":"MAX(D2344:M2344)","v":2.9353889044374501E-5},{"$f":"MIN(D2344:M2344)","v":2.9120311751564999E-5}]
[null,"all_f_West Rural cancer.csv","5-9",3.2118903905135799E-5,3.2079447177006499E-5,3.2056422327793897E-5,3.2034573512988401E-5,3.2009013252756597E-5,3.19844894638849E-5,3.1958865843752003E-5,3.19348409144009E-5,3.1910785266141098E-5,3.1887093663913297E-5,{"$f":"IF($B2345=\"\",\"\",VLOOKUP($B2345,_tbl!$A:$E,N$2,0))","v":"Female"},{"$f":"IF($B2345=\"\",\"\",VLOOKUP($B2345,_tbl!$A:$E,O$2,0))","v":"West"},{"$f":"IF($B2345=\"\",\"\",VLOOKUP($B2345,_tbl!$A:$E,P$2,0))","v":"Rural"},{"$f":"IF($B2345=\"\",\"\",VLOOKUP($B2345,_tbl!$A:$E,Q$2,0))","v":"Cancer"},null,3.2118903905135799E-5,3.1887093663913297E-5]
[null,"all_f_West Rural cancer.csv","10-14",3.68826003412276E-5,3.6884268192787702E-5,3.6863856818472803E-5,3.68570186515541E-5,3.6853490157818997E-5,3.68531911197761E-5,3.6851451826776998E-5,3.6850829676005498E-5,3.6850591864643099E-5,3.6850069265385502E-5,{"$f":"IF($B2346=\"\",\"\",VLOOKUP($B2346,_tbl!$A:$E,N$2,0))","v":"Female"},{"$f":"IF($B2346=\"\",\"\",VLOOKUP($B2346,_tbl!$A:$E,O$2,0))","v":"West"},{"$f":"IF($B2346=\"\",\"\",VLOOKUP($B2346,_tbl!$A:$E,P$2,0))","v":"Rural"},{"$f":"IF($B2346=\"\",\"\",VLOOKUP($B2346,_tbl!$A:$E,Q$2,0))","v":"Cancer"},null,3.6884268192787702E-5,3.6850069265385502E-5]
[null,"all_f_West Rural cancer.csv","15-19",4.7963773894656002E-5,4.8020560012418699E-5,4.8013606790985198E-5,4.8013007724031398E-5,4.8006286695424102E-5,4.80058384228649E-5,4.8005199844106201E-5,4.8009163832696901E-5,4.80142709609843E-5,4.80208738301487E-5,{"$f":"IF($B2347=\"\",\"\",VLOOKUP($B2347,_tbl!$A:$E,N$2,0))","v":"Female"},{"$f":"IF($B2347=\"\",\"\",VLOOKUP($B2347,_tbl!$A:$E,O$2,0))","v":"West"},{"$f":"IF($B2347=\"\",\"\",VLOOKUP($B2347,_tbl!$A:$E,P$2,0))","v":"Rural"},{"$f":"IF($B2347=\"\",\"\",VLOOKUP($B2347,_tbl!$A:$E,Q$2,0))","v":"Cancer"},null,4.80208738301487E-5,4.7963773894656002E-5]
[null,"all_f_West Rural cancer.csv","20-24",6.8354821732523894E-5,6.8372424075271903E-5,6.8345596984612295E-5,6.8328933327042795E-5,6.8305970158876294E-5,6.8291080433776E-5,6.8276376557082399E-5,6.8267709038544202E-5,6.8260958271519102E-5,6.8256161214340195E-5,{"$f":"IF($B2348=\"\",\"\",VLOOKUP($B2348,_tbl!$A:$E,N$2,0))","v":"Female"},{"$f":"IF($B2348=\"\",\"\",VLOOKUP($B2348,_tbl!$A:$E,O$2,0))","v":"West"},{"$f":"IF($B2348=\"\",\"\",VLOOKUP($B2348,_tbl!$A:$E,P$2,0))","v":"Rural"},{"$f":"IF($B2348=\"\",\"\",VLOOKUP($B2348,_tbl!$A:$E,Q$2,0))","v":"Cancer"},null,6.8372424075271903E-5,6.8256161214340195E-5]
[null,"all_f_West Rural cancer.csv","25-29",1.0342790808805301E-4,1.03434614494142E-4,1.03399213048129E-4,1.0338932533428999E-4,1.0338024466851399E-4,1.03378973149771E-4,1.03372254779304E-4,1.033707211323E-4,1.03371182665944E-4,1.03372873818654E-4,{"$f":"IF($B2349=\"\",\"\",VLOOKUP($B2349,_tbl!$A:$E,N$2,0))","v":"Female"},{"$f":"IF($B2349=\"\",\"\",VLOOKUP($B2349,_tbl!$A:$E,O$2,0))","v":"West"},{"$f":"IF($B2349=\"\",\"\",VLOOKUP($B2349,_tbl!$A:$E,P$2,0))","v":"Rural"},{"$f":"IF($B2349=\"\",\"\",VLOOKUP($B2349,_tbl!$A:$E,Q$2,0))","v":"Cancer"},null,1.03434614494142E-4,1.033707211323E-4]
[null,"all_f_West Rural cancer.csv","30-34",1.6285610360886201E-4,1.6311283076069801E-4,1.63012655775635E-4,1.63057588262237E-4,1.63079704306489E-4,1.6315415740292499E-4,1.63195149020322E-4,1.63269153264093E-4,1.6335125840311E-4,1.63440319546918E-4,{"$f":"IF($B2350=\"\",\"\",VLOOKUP($B2350,_tbl!$A:$E,N$2,0))","v":"Female"},{"$f":"IF($B2350=\"\",\"\",VLOOKUP($B2350,_tbl!$A:$E,O$2,0))","v":"West"},{"$f":"IF($B2350=\"\",\"\",VLOOKUP($B2350,_tbl!$A:$E,P$2,0))","v":"Rural"},{"$f":"IF($B2350=\"\",\"\",VLOOKUP($B2350,_tbl!$A:$E,Q$2,0))","v":"Cancer"},null,1.63440319546918E-4,1.6285610360886201E-4]
[null,"all_f_West Rural cancer.csv","35-39",2.6333919182453599E-4,2.6339766514106198E-4,2.6245682108718798E-4,2.6205272234733102E-4,2.6148304026945099E-4,2.61122832810836E-4,2.6062948066096401E-4,2.60278277944583E-4,2.59962175771141E-4,2.5968021965655801E-4,{"$f":"IF($B2351=\"\",\"\",VLOOKUP($B2351,_tbl!$A:$E,N$2,0))","v":"Female"},{"$f":"IF($B2351=\"\",\"\",VLOOKUP($B2351,_tbl!$A:$E,O$2,0))","v":"West"},{"$f":"IF($B2351=\"\",\"\",VLOOKUP($B2351,_tbl!$A:$E,P$2,0))","v":"Rural"},{"$f":"IF($B2351=\"\",\"\",VLOOKUP($B2351,_tbl!$A:$E,Q$2,0))","v":"Cancer"},null,2.6339766514106198E-4,2.5968021965655801E-4]
[null,"all_f_West Rural cancer.csv","40-44",4.2699234225615398E-4,4.2512694938559098E-4,4.2164588324920701E-4,4.1931172473733201E-4,4.1663058386274101E-4,4.1441088216175601E-4,4.1194315464463202E-4,4.0979482118512598E-4,4.07744684411885E-4,4.0579873071837401E-4,{"$f":"IF($B2352=\"\",\"\",VLOOKUP($B2352,_tbl!$A:$E,N$2,0))","v":"Female"},{"$f":"IF($B2352=\"\",\"\",VLOOKUP($B2352,_tbl!$A:$E,O$2,0))","v":"West"},{"$f":"IF($B2352=\"\",\"\",VLOOKUP($B2352,_tbl!$A:$E,P$2,0))","v":"Rural"},{"$f":"IF($B2352=\"\",\"\",VLOOKUP($B2352,_tbl!$A:$E,Q$2,0))","v":"Cancer"},null,4.2699234225615398E-4,4.0579873071837401E-4]
[null,"all_f_West Rural cancer.csv","45-49",6.9361587589036996E-4,6.9235286749170805E-4,6.8848572721000995E-4,6.8672078873649705E-4,6.8429378775011697E-4,6.8265939778585001E-4,6.8046062931011403E-4,6.7876353629759897E-4,6.7715484357924304E-4,6.7564931043917302E-4,{"$f":"IF($B2353=\"\",\"\",VLOOKUP($B2353,_tbl!$A:$E,N$2,0))","v":"Female"},{"$f":"IF($B2353=\"\",\"\",VLOOKUP($B2353,_tbl!$A:$E,O$2,0))","v":"West"},{"$f":"IF($B2353=\"\",\"\",VLOOKUP($B2353,_tbl!$A:$E,P$2,0))","v":"Rural"},{"$f":"IF($B2353=\"\",\"\",VLOOKUP($B2353,_tbl!$A:$E,Q$2,0))","v":"Cancer"},null,6.9361587589036996E-4,6.7564931043917302E-4]
[null,"all_f_West Rural cancer.csv","50-54",1.0482543513585399E-3,1.0474307681187301E-3,1.04807886416722E-3,1.04713947929492E-3,1.04620177618655E-3,1.0446396939984301E-3,1.04323650190297E-3,1.04143939224441E-3,1.03955685428263E-3,1.0375759976973401E-3,{"$f":"IF($B2354=\"\",\"\",VLOOKUP($B2354,_tbl!$A:$E,N$2,0))","v":"Female"},{"$f":"IF($B2354=\"\",\"\",VLOOKUP($B2354,_tbl!$A:$E,O$2,0))","v":"West"},{"$f":"IF($B2354=\"\",\"\",VLOOKUP($B2354,_tbl!$A:$E,P$2,0))","v":"Rural"},{"$f":"IF($B2354=\"\",\"\",VLOOKUP($B2354,_tbl!$A:$E,Q$2,0))","v":"Cancer"},null,1.0482543513585399E-3,1.0375759976973401E-3]
[null,"all_f_West Rural cancer.csv","55-59",1.51741171859486E-3,1.51243068072438E-3,1.5086013795800599E-3,1.50321388181112E-3,1.4977977077012101E-3,1.4919909686371201E-3,1.4866650906456801E-3,1.48118499110686E-3,1.4757975072479299E-3,1.4705474081459201E-3,{"$f":"IF($B2355=\"\",\"\",VLOOKUP($B2355,_tbl!$A:$E,N$2,0))","v":"Female"},{"$f":"IF($B2355=\"\",\"\",VLOOKUP($B2355,_tbl!$A:$E,O$2,0))","v":"West"},{"$f":"IF($B2355=\"\",\"\",VLOOKUP($B2355,_tbl!$A:$E,P$2,0))","v":"Rural"},{"$f":"IF($B2355=\"\",\"\",VLOOKUP($B2355,_tbl!$A:$E,Q$2,0))","v":"Cancer"},null,1.51741171859486E-3,1.4705474081459201E-3]
[null,"all_f_West Rural cancer.csv","60-64",2.1240732888294801E-3,2.11445184522025E-3,2.1073660743436699E-3,2.0973738757168502E-3,2.0870589601098902E-3,2.0759399522584298E-3,2.0659321746481301E-3,2.0554189564010801E-3,2.04492264682418E-3,2.0346728947736501E-3,{"$f":"IF($B2356=\"\",\"\",VLOOKUP($B2356,_tbl!$A:$E,N$2,0))","v":"Female"},{"$f":"IF($B2356=\"\",\"\",VLOOKUP($B2356,_tbl!$A:$E,O$2,0))","v":"West"},{"$f":"IF($B2356=\"\",\"\",VLOOKUP($B2356,_tbl!$A:$E,P$2,0))","v":"Rural"},{"$f":"IF($B2356=\"\",\"\",VLOOKUP($B2356,_tbl!$A:$E,Q$2,0))","v":"Cancer"},null,2.1240732888294801E-3,2.0346728947736501E-3]
[null,"all_f_West Rural cancer.csv","65-69",2.8715570615424199E-3,2.8583102917291098E-3,2.8537063202371499E-3,2.83973277127885E-3,2.82355123021431E-3,2.8040475801693302E-3,2.7888944729959602E-3,2.77093930689308E-3,2.7521628604389001E-3,2.7338377105577899E-3,{"$f":"IF($B2357=\"\",\"\",VLOOKUP($B2357,_tbl!$A:$E,N$2,0))","v":"Female"},{"$f":"IF($B2357=\"\",\"\",VLOOKUP($B2357,_tbl!$A:$E,O$2,0))","v":"West"},{"$f":"IF($B2357=\"\",\"\",VLOOKUP($B2357,_tbl!$A:$E,P$2,0))","v":"Rural"},{"$f":"IF($B2357=\"\",\"\",VLOOKUP($B2357,_tbl!$A:$E,Q$2,0))","v":"Cancer"},null,2.8715570615424199E-3,2.7338377105577899E-3]
[null,"all_f_West Rural cancer.csv","70-74",3.9199421603151301E-3,3.9040879748040002E-3,3.90342035487138E-3,3.8889633113773502E-3,3.8695145419905298E-3,3.8443851841364501E-3,3.8274868377692799E-3,3.80483115756634E-3,3.7798544077558898E-3,3.75540242873188E-3,{"$f":"IF($B2358=\"\",\"\",VLOOKUP($B2358,_tbl!$A:$E,N$2,0))","v":"Female"},{"$f":"IF($B2358=\"\",\"\",VLOOKUP($B2358,_tbl!$A:$E,O$2,0))","v":"West"},{"$f":"IF($B2358=\"\",\"\",VLOOKUP($B2358,_tbl!$A:$E,P$2,0))","v":"Rural"},{"$f":"IF($B2358=\"\",\"\",VLOOKUP($B2358,_tbl!$A:$E,Q$2,0))","v":"Cancer"},null,3.9199421603151301E-3,3.75540242873188E-3]
[null,"all_f_West Rural cancer.csv","75-79",5.3957801920510801E-3,5.3318025437447802E-3,5.3089026678384797E-3,5.2711394963121296E-3,5.2279342993900996E-3,5.1773637755936196E-3,5.1467375459551901E-3,5.1034683508837698E-3,5.0543187092633697E-3,5.0064205926149503E-3,{"$f":"IF($B2359=\"\",\"\",VLOOKUP($B2359,_tbl!$A:$E,N$2,0))","v":"Female"},{"$f":"IF($B2359=\"\",\"\",VLOOKUP($B2359,_tbl!$A:$E,O$2,0))","v":"West"},{"$f":"IF($B2359=\"\",\"\",VLOOKUP($B2359,_tbl!$A:$E,P$2,0))","v":"Rural"},{"$f":"IF($B2359=\"\",\"\",VLOOKUP($B2359,_tbl!$A:$E,Q$2,0))","v":"Cancer"},null,5.3957801920510801E-3,5.0064205926149503E-3]
[null,"all_f_West Rural cancer.csv","80-84",7.3572200714117804E-3,7.18256127983476E-3,7.12669241297591E-3,7.0741428912292599E-3,7.0300858606911097E-3,6.9845512981490101E-3,6.9822939222271303E-3,6.95457768715773E-3,6.9132876424836598E-3,6.87443140270511E-3,{"$f":"IF($B2360=\"\",\"\",VLOOKUP($B2360,_tbl!$A:$E,N$2,0))","v":"Female"},{"$f":"IF($B2360=\"\",\"\",VLOOKUP($B2360,_tbl!$A:$E,O$2,0))","v":"West"},{"$f":"IF($B2360=\"\",\"\",VLOOKUP($B2360,_tbl!$A:$E,P$2,0))","v":"Rural"},{"$f":"IF($B2360=\"\",\"\",VLOOKUP($B2360,_tbl!$A:$E,Q$2,0))","v":"Cancer"},null,7.3572200714117804E-3,6.87443140270511E-3]
[null,"all_f_West Rural cancer.csv","85+",8.6061937771306999E-3,8.3753912688065302E-3,8.3011055322216604E-3,8.2721303781017001E-3,8.2654621210953693E-3,8.2682443680529103E-3,8.3070584197592907E-3,8.3310427754791708E-3,8.3459394588909306E-3,8.3632677750163694E-3,{"$f":"IF($B2361=\"\",\"\",VLOOKUP($B2361,_tbl!$A:$E,N$2,0))","v":"Female"},{"$f":"IF($B2361=\"\",\"\",VLOOKUP($B2361,_tbl!$A:$E,O$2,0))","v":"West"},{"$f":"IF($B2361=\"\",\"\",VLOOKUP($B2361,_tbl!$A:$E,P$2,0))","v":"Rural"},{"$f":"IF($B2361=\"\",\"\",VLOOKUP($B2361,_tbl!$A:$E,Q$2,0))","v":"Cancer"},null,8.6061937771306999E-3,8.2654621210953693E-3]
[null,null,null,null,null,null,null,null,null,null,null,null,null,{"$f":"IF($B2362=\"\",\"\",VLOOKUP($B2362,_tbl!$A:$E,N$2,0))","v":""},{"$f":"IF($B2362=\"\",\"\",VLOOKUP($B2362,_tbl!$A:$E,O$2,0))","v":""},{"$f":"IF($B2362=\"\",\"\",VLOOKUP($B2362,_tbl!$A:$E,P$2,0))","v":""},{"$f":"IF($B2362=\"\",\"\",VLOOKUP($B2362,_tbl!$A:$E,Q$2,0))","v":""}]
[null,null,null,2020,2021,2022,2023,2024,2025,2026,2027,2028,2029,{"$f":"IF($B2363=\"\",\"\",VLOOKUP($B2363,_tbl!$A:$E,N$2,0))","v":""},{"$f":"IF($B2363=\"\",\"\",VLOOKUP($B2363,_tbl!$A:$E,O$2,0))","v":""},{"$f":"IF($B2363=\"\",\"\",VLOOKUP($B2363,_tbl!$A:$E,P$2,0))","v":""},{"$f":"IF($B2363=\"\",\"\",VLOOKUP($B2363,_tbl!$A:$E,Q$2,0))","v":""}]
[null,"all_f_West Rural circulatory.csv","1-4",9.0177714981004497E-6,9.1152018696447897E-6,9.1146967439602998E-6,9.1386014400541807E-6,9.1536213559726797E-6,9.1874482832013197E-6,9.2230138710962404E-6,9.2776358921689103E-6,9.3420283934362902E-6,9.4128183855364802E-6,{"$f":"IF($B2364=\"\",\"\",VLOOKUP($B2364,_tbl!$A:$E,N$2,0))","v":"Female"},{"$f":"IF($B2364=\"\",\"\",VLOOKUP($B2364,_tbl!$A:$E,O$2,0))","v":"West"},{"$f":"IF($B2364=\"\",\"\",VLOOKUP($B2364,_tbl!$A:$E,P$2,0))","v":"Rural"},{"$f":"IF($B2364=\"\",\"\",VLOOKUP($B2364,_tbl!$A:$E,Q$2,0))","v":"Circulatory"},null,{"$f":"MAX(D2364:M2364)","v":9.4128183855364802E-6},{"$f":"MIN(D2364:M2364)","v":9.0177714981004497E-6}]
[null,"all_f_West Rural circulatory.csv","5-9",1.43220072511101E-5,1.43408899455083E-5,1.4305605524471801E-5,1.42736362257129E-5,1.42401919525696E-5,1.42082704479153E-5,1.4177001843284501E-5,1.41458447201223E-5,1.41136094168814E-5,1.40820116258536E-5,{"$f":"IF($B2365=\"\",\"\",VLOOKUP($B2365,_tbl!$A:$E,N$2,0))","v":"Female"},{"$f":"IF($B2365=\"\",\"\",VLOOKUP($B2365,_tbl!$A:$E,O$2,0))","v":"West"},{"$f":"IF($B2365=\"\",\"\",VLOOKUP($B2365,_tbl!$A:$E,P$2,0))","v":"Rural"},{"$f":"IF($B2365=\"\",\"\",VLOOKUP($B2365,_tbl!$A:$E,Q$2,0))","v":"Circulatory"},null,1.43408899455083E-5,1.40820116258536E-5]
[null,"all_f_West Rural circulatory.csv","10-14",1.87445909578733E-5,1.8759479849022599E-5,1.87234388890264E-5,1.87014951571249E-5,1.8681183129608001E-5,1.86662418034134E-5,1.8651658200164099E-5,1.8639157213486301E-5,1.8626895842064698E-5,1.8615487410557499E-5,{"$f":"IF($B2366=\"\",\"\",VLOOKUP($B2366,_tbl!$A:$E,N$2,0))","v":"Female"},{"$f":"IF($B2366=\"\",\"\",VLOOKUP($B2366,_tbl!$A:$E,O$2,0))","v":"West"},{"$f":"IF($B2366=\"\",\"\",VLOOKUP($B2366,_tbl!$A:$E,P$2,0))","v":"Rural"},{"$f":"IF($B2366=\"\",\"\",VLOOKUP($B2366,_tbl!$A:$E,Q$2,0))","v":"Circulatory"},null,1.8759479849022599E-5,1.8615487410557499E-5]
[null,"all_f_West Rural circulatory.csv","15-19",2.72911264122833E-5,2.7409530994455099E-5,2.73469127546151E-5,2.7318577251970801E-5,2.7252937901319501E-5,2.7228637900995099E-5,2.7210056506756399E-5,2.7226508222638602E-5,2.7255322623100001E-5,2.7297244903910898E-5,{"$f":"IF($B2367=\"\",\"\",VLOOKUP($B2367,_tbl!$A:$E,N$2,0))","v":"Female"},{"$f":"IF($B2367=\"\",\"\",VLOOKUP($B2367,_tbl!$A:$E,O$2,0))","v":"West"},{"$f":"IF($B2367=\"\",\"\",VLOOKUP($B2367,_tbl!$A:$E,P$2,0))","v":"Rural"},{"$f":"IF($B2367=\"\",\"\",VLOOKUP($B2367,_tbl!$A:$E,Q$2,0))","v":"Circulatory"},null,2.7409530994455099E-5,2.7210056506756399E-5]
[null,"all_f_West Rural circulatory.csv","20-24",4.14196706634081E-5,4.1699951758298003E-5,4.1727328177590201E-5,4.1802945471530098E-5,4.1826887876440598E-5,4.1903548448340401E-5,4.19849438036119E-5,4.2107357873261497E-5,4.2241200407317502E-5,4.2386515538133197E-5,{"$f":"IF($B2368=\"\",\"\",VLOOKUP($B2368,_tbl!$A:$E,N$2,0))","v":"Female"},{"$f":"IF($B2368=\"\",\"\",VLOOKUP($B2368,_tbl!$A:$E,O$2,0))","v":"West"},{"$f":"IF($B2368=\"\",\"\",VLOOKUP($B2368,_tbl!$A:$E,P$2,0))","v":"Rural"},{"$f":"IF($B2368=\"\",\"\",VLOOKUP($B2368,_tbl!$A:$E,Q$2,0))","v":"Circulatory"},null,4.2386515538133197E-5,4.14196706634081E-5]
[null,"all_f_West Rural circulatory.csv","25-29",6.5191774854343401E-5,6.5435576837496307E-5,6.5511580495318606E-5,6.5651120140384198E-5,6.5774114604328303E-5,6.59236783353739E-5,6.6061521564432204E-5,6.6217159068190199E-5,6.6375730798959393E-5,6.6536376140475498E-5,{"$f":"IF($B2369=\"\",\"\",VLOOKUP($B2369,_tbl!$A:$E,N$2,0))","v":"Female"},{"$f":"IF($B2369=\"\",\"\",VLOOKUP($B2369,_tbl!$A:$E,O$2,0))","v":"West"},{"$f":"IF($B2369=\"\",\"\",VLOOKUP($B2369,_tbl!$A:$E,P$2,0))","v":"Rural"},{"$f":"IF($B2369=\"\",\"\",VLOOKUP($B2369,_tbl!$A:$E,Q$2,0))","v":"Circulatory"},null,6.6536376140475498E-5,6.5191774854343401E-5]
[null,"all_f_West Rural circulatory.csv","30-34",1.07086787516769E-4,1.0760949524191699E-4,1.07681290359397E-4,1.0792550363496E-4,1.08150878830865E-4,1.08429704670419E-4,1.08666751424672E-4,1.08931471037206E-4,1.09197582283222E-4,1.09464223431836E-4,{"$f":"IF($B2370=\"\",\"\",VLOOKUP($B2370,_tbl!$A:$E,N$2,0))","v":"Female"},{"$f":"IF($B2370=\"\",\"\",VLOOKUP($B2370,_tbl!$A:$E,O$2,0))","v":"West"},{"$f":"IF($B2370=\"\",\"\",VLOOKUP($B2370,_tbl!$A:$E,P$2,0))","v":"Rural"},{"$f":"IF($B2370=\"\",\"\",VLOOKUP($B2370,_tbl!$A:$E,Q$2,0))","v":"Circulatory"},null,1.09464223431836E-4,1.07086787516769E-4]
[null,"all_f_West Rural circulatory.csv","35-39",1.7807312258798599E-4,1.7785953088233001E-4,1.76775400576254E-4,1.76173224607215E-4,1.7543002368191899E-4,1.7487356452521301E-4,1.7420543114593501E-4,1.73666192805819E-4,1.7316116001464801E-4,1.7268765041067899E-4,{"$f":"IF($B2371=\"\",\"\",VLOOKUP($B2371,_tbl!$A:$E,N$2,0))","v":"Female"},{"$f":"IF($B2371=\"\",\"\",VLOOKUP($B2371,_tbl!$A:$E,O$2,0))","v":"West"},{"$f":"IF($B2371=\"\",\"\",VLOOKUP($B2371,_tbl!$A:$E,P$2,0))","v":"Rural"},{"$f":"IF($B2371=\"\",\"\",VLOOKUP($B2371,_tbl!$A:$E,Q$2,0))","v":"Circulatory"},null,1.7807312258798599E-4,1.7268765041067899E-4]
[null,"all_f_West Rural circulatory.csv","40-44",2.9008359834909299E-4,2.8490938987137701E-4,2.7741597946754297E-4,2.7127762584014598E-4,2.6468154685865098E-4,2.5868184781083897E-4,2.5246483111713701E-4,2.4673963912860301E-4,2.4122867003944601E-4,2.3592344542204099E-4,{"$f":"IF($B2372=\"\",\"\",VLOOKUP($B2372,_tbl!$A:$E,N$2,0))","v":"Female"},{"$f":"IF($B2372=\"\",\"\",VLOOKUP($B2372,_tbl!$A:$E,O$2,0))","v":"West"},{"$f":"IF($B2372=\"\",\"\",VLOOKUP($B2372,_tbl!$A:$E,P$2,0))","v":"Rural"},{"$f":"IF($B2372=\"\",\"\",VLOOKUP($B2372,_tbl!$A:$E,Q$2,0))","v":"Circulatory"},null,2.9008359834909299E-4,2.3592344542204099E-4]
[null,"all_f_West Rural circulatory.csv","45-49",5.02693919400374E-4,4.8919855946905598E-4,4.6903464390091101E-4,4.52438416277954E-4,4.3467960847099401E-4,4.1846962284235899E-4,4.0163709520635402E-4,3.8607554776316398E-4,3.7105432857016999E-4,3.5654690467962701E-4,{"$f":"IF($B2373=\"\",\"\",VLOOKUP($B2373,_tbl!$A:$E,N$2,0))","v":"Female"},{"$f":"IF($B2373=\"\",\"\",VLOOKUP($B2373,_tbl!$A:$E,O$2,0))","v":"West"},{"$f":"IF($B2373=\"\",\"\",VLOOKUP($B2373,_tbl!$A:$E,P$2,0))","v":"Rural"},{"$f":"IF($B2373=\"\",\"\",VLOOKUP($B2373,_tbl!$A:$E,Q$2,0))","v":"Circulatory"},null,5.02693919400374E-4,3.5654690467962701E-4]
[null,"all_f_West Rural circulatory.csv","50-54",8.6988122074192395E-4,8.4589118408313001E-4,8.2258397847208796E-4,7.9335293067594201E-4,7.6387864273794203E-4,7.3255188211528003E-4,7.0263997455467602E-4,6.7222321980505795E-4,6.4224189794060901E-4,6.12621540854693E-4,{"$f":"IF($B2374=\"\",\"\",VLOOKUP($B2374,_tbl!$A:$E,N$2,0))","v":"Female"},{"$f":"IF($B2374=\"\",\"\",VLOOKUP($B2374,_tbl!$A:$E,O$2,0))","v":"West"},{"$f":"IF($B2374=\"\",\"\",VLOOKUP($B2374,_tbl!$A:$E,P$2,0))","v":"Rural"},{"$f":"IF($B2374=\"\",\"\",VLOOKUP($B2374,_tbl!$A:$E,Q$2,0))","v":"Circulatory"},null,8.6988122074192395E-4,6.12621540854693E-4]
[null,"all_f_West Rural circulatory.csv","55-59",1.52347538092729E-3,1.4720402300034299E-3,1.42317568138607E-3,1.36156557328958E-3,1.2991276448247101E-3,1.2328967241060299E-3,1.1707943248460599E-3,1.1073463876797899E-3,1.0446121754267199E-3,9.8294102508449197E-4,{"$f":"IF($B2375=\"\",\"\",VLOOKUP($B2375,_tbl!$A:$E,N$2,0))","v":"Female"},{"$f":"IF($B2375=\"\",\"\",VLOOKUP($B2375,_tbl!$A:$E,O$2,0))","v":"West"},{"$f":"IF($B2375=\"\",\"\",VLOOKUP($B2375,_tbl!$A:$E,P$2,0))","v":"Rural"},{"$f":"IF($B2375=\"\",\"\",VLOOKUP($B2375,_tbl!$A:$E,Q$2,0))","v":"Circulatory"},null,1.52347538092729E-3,9.8294102508449197E-4]
[null,"all_f_West Rural circulatory.csv","60-64",2.6316073235572498E-3,2.5503110539997599E-3,2.4750211422250199E-3,2.37620510187122E-3,2.2736076261478302E-3,2.1634635881327699E-3,2.0626285771687199E-3,1.9578562815699002E-3,1.85347051068115E-3,1.75116224602192E-3,{"$f":"IF($B2376=\"\",\"\",VLOOKUP($B2376,_tbl!$A:$E,N$2,0))","v":"Female"},{"$f":"IF($B2376=\"\",\"\",VLOOKUP($B2376,_tbl!$A:$E,O$2,0))","v":"West"},{"$f":"IF($B2376=\"\",\"\",VLOOKUP($B2376,_tbl!$A:$E,P$2,0))","v":"Rural"},{"$f":"IF($B2376=\"\",\"\",VLOOKUP($B2376,_tbl!$A:$E,Q$2,0))","v":"Circulatory"},null,2.6316073235572498E-3,1.75116224602192E-3]
[null,"all_f_West Rural circulatory.csv","65-69",5.0177844245049997E-3,4.9409712489289596E-3,4.8678405345115999E-3,4.7651328471899797E-3,4.6530297577827198E-3,4.5308615298740099E-3,4.4211338904914504E-3,4.3049216914837199E-3,4.1878222007480301E-3,4.0731804123297303E-3,{"$f":"IF($B2377=\"\",\"\",VLOOKUP($B2377,_tbl!$A:$E,N$2,0))","v":"Female"},{"$f":"IF($B2377=\"\",\"\",VLOOKUP($B2377,_tbl!$A:$E,O$2,0))","v":"West"},{"$f":"IF($B2377=\"\",\"\",VLOOKUP($B2377,_tbl!$A:$E,P$2,0))","v":"Rural"},{"$f":"IF($B2377=\"\",\"\",VLOOKUP($B2377,_tbl!$A:$E,Q$2,0))","v":"Circulatory"},null,5.0177844245049997E-3,4.0731804123297303E-3]
[null,"all_f_West Rural circulatory.csv","70-74",9.8571689059899908E-3,9.7484214046637402E-3,9.6589142454765499E-3,9.5274360639242897E-3,9.3777455352090904E-3,9.2117653120834201E-3,9.0683471082854492E-3,8.9104825535658103E-3,8.7476537999014205E-3,8.5876210399339903E-3,{"$f":"IF($B2378=\"\",\"\",VLOOKUP($B2378,_tbl!$A:$E,N$2,0))","v":"Female"},{"$f":"IF($B2378=\"\",\"\",VLOOKUP($B2378,_tbl!$A:$E,O$2,0))","v":"West"},{"$f":"IF($B2378=\"\",\"\",VLOOKUP($B2378,_tbl!$A:$E,P$2,0))","v":"Rural"},{"$f":"IF($B2378=\"\",\"\",VLOOKUP($B2378,_tbl!$A:$E,Q$2,0))","v":"Circulatory"},null,9.8571689059899908E-3,8.5876210399339903E-3]
[null,"all_f_West Rural circulatory.csv","75-79",2.0804104107989201E-2,2.05670081101741E-2,2.04282353833205E-2,2.0255120431955601E-2,2.0069270712161E-2,1.98655038382522E-2,1.9714399734780799E-2,1.9528515938411099E-2,1.9325604007189402E-2,1.9124901018571401E-2,{"$f":"IF($B2379=\"\",\"\",VLOOKUP($B2379,_tbl!$A:$E,N$2,0))","v":"Female"},{"$f":"IF($B2379=\"\",\"\",VLOOKUP($B2379,_tbl!$A:$E,O$2,0))","v":"West"},{"$f":"IF($B2379=\"\",\"\",VLOOKUP($B2379,_tbl!$A:$E,P$2,0))","v":"Rural"},{"$f":"IF($B2379=\"\",\"\",VLOOKUP($B2379,_tbl!$A:$E,Q$2,0))","v":"Circulatory"},null,2.0804104107989201E-2,1.9124901018571401E-2]
[null,"all_f_West Rural circulatory.csv","80-84",4.66927999234069E-2,4.5811241217292097E-2,4.54865263795321E-2,4.5343883558797898E-2,4.5408090910830402E-2,4.5555672342324403E-2,4.5903842757905301E-2,4.61262081538584E-2,4.6268080500315903E-2,4.6406167388261199E-2,{"$f":"IF($B2380=\"\",\"\",VLOOKUP($B2380,_tbl!$A:$E,N$2,0))","v":"Female"},{"$f":"IF($B2380=\"\",\"\",VLOOKUP($B2380,_tbl!$A:$E,O$2,0))","v":"West"},{"$f":"IF($B2380=\"\",\"\",VLOOKUP($B2380,_tbl!$A:$E,P$2,0))","v":"Rural"},{"$f":"IF($B2380=\"\",\"\",VLOOKUP($B2380,_tbl!$A:$E,Q$2,0))","v":"Circulatory"},null,4.66927999234069E-2,4.5343883558797898E-2]
[null,"all_f_West Rural circulatory.csv","85+",9.2841608713401802E-2,9.0511195349184698E-2,8.9200934555885597E-2,8.9237388180190697E-2,9.0464660187785206E-2,9.2323789353229602E-2,9.4623552350888596E-2,9.6723208143766601E-2,9.8647183435770405E-2,0.100561432872457,{"$f":"IF($B2381=\"\",\"\",VLOOKUP($B2381,_tbl!$A:$E,N$2,0))","v":"Female"},{"$f":"IF($B2381=\"\",\"\",VLOOKUP($B2381,_tbl!$A:$E,O$2,0))","v":"West"},{"$f":"IF($B2381=\"\",\"\",VLOOKUP($B2381,_tbl!$A:$E,P$2,0))","v":"Rural"},{"$f":"IF($B2381=\"\",\"\",VLOOKUP($B2381,_tbl!$A:$E,Q$2,0))","v":"Circulatory"},null,0.100561432872457,8.9200934555885597E-2]
[null,null,null,null,null,null,null,null,null,null,null,null,null,{"$f":"IF($B2382=\"\",\"\",VLOOKUP($B2382,_tbl!$A:$E,N$2,0))","v":""},{"$f":"IF($B2382=\"\",\"\",VLOOKUP($B2382,_tbl!$A:$E,O$2,0))","v":""},{"$f":"IF($B2382=\"\",\"\",VLOOKUP($B2382,_tbl!$A:$E,P$2,0))","v":""},{"$f":"IF($B2382=\"\",\"\",VLOOKUP($B2382,_tbl!$A:$E,Q$2,0))","v":""}]
[null,null,null,2020,2021,2022,2023,2024,2025,2026,2027,2028,2029,{"$f":"IF($B2383=\"\",\"\",VLOOKUP($B2383,_tbl!$A:$E,N$2,0))","v":""},{"$f":"IF($B2383=\"\",\"\",VLOOKUP($B2383,_tbl!$A:$E,O$2,0))","v":""},{"$f":"IF($B2383=\"\",\"\",VLOOKUP($B2383,_tbl!$A:$E,P$2,0))","v":""},{"$f":"IF($B2383=\"\",\"\",VLOOKUP($B2383,_tbl!$A:$E,Q$2,0))","v":""}]
[null,"all_f_West Rural congenital.csv","1-4",6.2264039019956197E-5,6.2385616703159602E-5,6.2341597340989096E-5,6.2328862759731404E-5,6.2264746568226699E-5,6.2245913542513295E-5,6.2236095579471805E-5,6.2282672671437904E-5,6.2350870965050906E-5,6.2439604709534403E-5,{"$f":"IF($B2384=\"\",\"\",VLOOKUP($B2384,_tbl!$A:$E,N$2,0))","v":"Female"},{"$f":"IF($B2384=\"\",\"\",VLOOKUP($B2384,_tbl!$A:$E,O$2,0))","v":"West"},{"$f":"IF($B2384=\"\",\"\",VLOOKUP($B2384,_tbl!$A:$E,P$2,0))","v":"Rural"},{"$f":"IF($B2384=\"\",\"\",VLOOKUP($B2384,_tbl!$A:$E,Q$2,0))","v":"Congenital"},null,{"$f":"MAX(D2384:M2384)","v":6.2439604709534403E-5},{"$f":"MIN(D2384:M2384)","v":6.2236095579471805E-5}]
[null,"all_f_West Rural congenital.csv","5-9",1.8200488531851801E-5,1.8171242557345099E-5,1.8149044692995698E-5,1.81276396336577E-5,1.81068289455862E-5,1.8084495353605301E-5,1.8060826405963999E-5,1.8034786155524699E-5,1.8007033488579499E-5,1.7978127484245501E-5,{"$f":"IF($B2385=\"\",\"\",VLOOKUP($B2385,_tbl!$A:$E,N$2,0))","v":"Female"},{"$f":"IF($B2385=\"\",\"\",VLOOKUP($B2385,_tbl!$A:$E,O$2,0))","v":"West"},{"$f":"IF($B2385=\"\",\"\",VLOOKUP($B2385,_tbl!$A:$E,P$2,0))","v":"Rural"},{"$f":"IF($B2385=\"\",\"\",VLOOKUP($B2385,_tbl!$A:$E,Q$2,0))","v":"Congenital"},null,1.8200488531851801E-5,1.7978127484245501E-5]
[null,"all_f_West Rural congenital.csv","10-14",1.2954018816334601E-5,1.28589579572098E-5,1.27782194377798E-5,1.27159846531907E-5,1.2668600131770601E-5,1.2621727063353399E-5,1.25736291850757E-5,1.25194845608832E-5,1.2462000929659001E-5,1.24013466099959E-5,{"$f":"IF($B2386=\"\",\"\",VLOOKUP($B2386,_tbl!$A:$E,N$2,0))","v":"Female"},{"$f":"IF($B2386=\"\",\"\",VLOOKUP($B2386,_tbl!$A:$E,O$2,0))","v":"West"},{"$f":"IF($B2386=\"\",\"\",VLOOKUP($B2386,_tbl!$A:$E,P$2,0))","v":"Rural"},{"$f":"IF($B2386=\"\",\"\",VLOOKUP($B2386,_tbl!$A:$E,Q$2,0))","v":"Congenital"},null,1.2954018816334601E-5,1.24013466099959E-5]
[null,"all_f_West Rural congenital.csv","15-19",1.1008522003307099E-5,1.10263764491648E-5,1.1043592914344901E-5,1.1060185396754E-5,1.1083002254301099E-5,1.11020500804828E-5,1.11193845392725E-5,1.11331729981808E-5,1.11458270072816E-5,1.11567558107418E-5,{"$f":"IF($B2387=\"\",\"\",VLOOKUP($B2387,_tbl!$A:$E,N$2,0))","v":"Female"},{"$f":"IF($B2387=\"\",\"\",VLOOKUP($B2387,_tbl!$A:$E,O$2,0))","v":"West"},{"$f":"IF($B2387=\"\",\"\",VLOOKUP($B2387,_tbl!$A:$E,P$2,0))","v":"Rural"},{"$f":"IF($B2387=\"\",\"\",VLOOKUP($B2387,_tbl!$A:$E,Q$2,0))","v":"Congenital"},null,1.11567558107418E-5,1.1008522003307099E-5]
[null,"all_f_West Rural congenital.csv","20-24",9.5253462427024401E-6,9.5882827738183298E-6,9.6179366102924698E-6,9.6526858676991592E-6,9.6813463103124302E-6,9.7155575493513694E-6,9.7489258636725004E-6,9.7871487906121499E-6,9.8267390677595292E-6,9.8672628125401603E-6,{"$f":"IF($B2388=\"\",\"\",VLOOKUP($B2388,_tbl!$A:$E,N$2,0))","v":"Female"},{"$f":"IF($B2388=\"\",\"\",VLOOKUP($B2388,_tbl!$A:$E,O$2,0))","v":"West"},{"$f":"IF($B2388=\"\",\"\",VLOOKUP($B2388,_tbl!$A:$E,P$2,0))","v":"Rural"},{"$f":"IF($B2388=\"\",\"\",VLOOKUP($B2388,_tbl!$A:$E,Q$2,0))","v":"Congenital"},null,9.8672628125401603E-6,9.5253462427024401E-6]
[null,"all_f_West Rural congenital.csv","25-29",8.0306402267940204E-6,8.0418708616704504E-6,7.9920031870280805E-6,7.9631208231452796E-6,7.9266002677748207E-6,7.9044787540080893E-6,7.88412698312831E-6,7.8746225786351395E-6,7.8691661471014704E-6,7.8678241356821303E-6,{"$f":"IF($B2389=\"\",\"\",VLOOKUP($B2389,_tbl!$A:$E,N$2,0))","v":"Female"},{"$f":"IF($B2389=\"\",\"\",VLOOKUP($B2389,_tbl!$A:$E,O$2,0))","v":"West"},{"$f":"IF($B2389=\"\",\"\",VLOOKUP($B2389,_tbl!$A:$E,P$2,0))","v":"Rural"},{"$f":"IF($B2389=\"\",\"\",VLOOKUP($B2389,_tbl!$A:$E,Q$2,0))","v":"Congenital"},null,8.0418708616704504E-6,7.8678241356821303E-6]
[null,"all_f_West Rural congenital.csv",null,null,null,null,null,null,null,null,null,null,null,{"$f":"IF($B2390=\"\",\"\",VLOOKUP($B2390,_tbl!$A:$E,N$2,0))","v":"Female"},{"$f":"IF($B2390=\"\",\"\",VLOOKUP($B2390,_tbl!$A:$E,O$2,0))","v":"West"},{"$f":"IF($B2390=\"\",\"\",VLOOKUP($B2390,_tbl!$A:$E,P$2,0))","v":"Rural"},{"$f":"IF($B2390=\"\",\"\",VLOOKUP($B2390,_tbl!$A:$E,Q$2,0))","v":"Congenital"},null,0,0]
[null,"all_f_West Rural congenital.csv",null,null,null,null,null,null,null,null,null,null,null,{"$f":"IF($B2391=\"\",\"\",VLOOKUP($B2391,_tbl!$A:$E,N$2,0))","v":"Female"},{"$f":"IF($B2391=\"\",\"\",VLOOKUP($B2391,_tbl!$A:$E,O$2,0))","v":"West"},{"$f":"IF($B2391=\"\",\"\",VLOOKUP($B2391,_tbl!$A:$E,P$2,0))","v":"Rural"},{"$f":"IF($B2391=\"\",\"\",VLOOKUP($B2391,_tbl!$A:$E,Q$2,0))","v":"Congenital"},null,0,0]
[null,"all_f_West Rural congenital.csv",null,null,null,null,null,null,null,null,null,null,null,{"$f":"IF($B2392=\"\",\"\",VLOOKUP($B2392,_tbl!$A:$E,N$2,0))","v":"Female"},{"$f":"IF($B2392=\"\",\"\",VLOOKUP($B2392,_tbl!$A:$E,O$2,0))","v":"West"},{"$f":"IF($B2392=\"\",\"\",VLOOKUP($B2392,_tbl!$A:$E,P$2,0))","v":"Rural"},{"$f":"IF($B2392=\"\",\"\",VLOOKUP($B2392,_tbl!$A:$E,Q$2,0))","v":"Congenital"},null,0,0]
[null,"all_f_West Rural congenital.csv",null,null,null,null,null,null,null,null,null,null,null,{"$f":"IF($B2393=\"\",\"\",VLOOKUP($B2393,_tbl!$A:$E,N$2,0))","v":"Female"},{"$f":"IF($B2393=\"\",\"\",VLOOKUP($B2393,_tbl!$A:$E,O$2,0))","v":"West"},{"$f":"IF($B2393=\"\",\"\",VLOOKUP($B2393,_tbl!$A:$E,P$2,0))","v":"Rural"},{"$f":"IF($B2393=\"\",\"\",VLOOKUP($B2393,_tbl!$A:$E,Q$2,0))","v":"Congenital"},null,0,0]
[null,"all_f_West Rural congenital.csv",null,null,null,null,null,null,null,null,null,null,null,{"$f":"IF($B2394=\"\",\"\",VLOOKUP($B2394,_tbl!$A:$E,N$2,0))","v":"Female"},{"$f":"IF($B2394=\"\",\"\",VLOOKUP($B2394,_tbl!$A:$E,O$2,0))","v":"West"},{"$f":"IF($B2394=\"\",\"\",VLOOKUP($B2394,_tbl!$A:$E,P$2,0))","v":"Rural"},{"$f":"IF($B2394=\"\",\"\",VLOOKUP($B2394,_tbl!$A:$E,Q$2,0))","v":"Congenital"},null,0,0]
[null,"all_f_West Rural congenital.csv",null,null,null,null,null,null,null,null,null,null,null,{"$f":"IF($B2395=\"\",\"\",VLOOKUP($B2395,_tbl!$A:$E,N$2,0))","v":"Female"},{"$f":"IF($B2395=\"\",\"\",VLOOKUP($B2395,_tbl!$A:$E,O$2,0))","v":"West"},{"$f":"IF($B2395=\"\",\"\",VLOOKUP($B2395,_tbl!$A:$E,P$2,0))","v":"Rural"},{"$f":"IF($B2395=\"\",\"\",VLOOKUP($B2395,_tbl!$A:$E,Q$2,0))","v":"Congenital"},null,0,0]
[null,"all_f_West Rural congenital.csv",null,null,null,null,null,null,null,null,null,null,null,{"$f":"IF($B2396=\"\",\"\",VLOOKUP($B2396,_tbl!$A:$E,N$2,0))","v":"Female"},{"$f":"IF($B2396=\"\",\"\",VLOOKUP($B2396,_tbl!$A:$E,O$2,0))","v":"West"},{"$f":"IF($B2396=\"\",\"\",VLOOKUP($B2396,_tbl!$A:$E,P$2,0))","v":"Rural"},{"$f":"IF($B2396=\"\",\"\",VLOOKUP($B2396,_tbl!$A:$E,Q$2,0))","v":"Congenital"},null,0,0]
[null,"all_f_West Rural congenital.csv",null,null,null,null,null,null,null,null,null,null,null,{"$f":"IF($B2397=\"\",\"\",VLOOKUP($B2397,_tbl!$A:$E,N$2,0))","v":"Female"},{"$f":"IF($B2397=\"\",\"\",VLOOKUP($B2397,_tbl!$A:$E,O$2,0))","v":"West"},{"$f":"IF($B2397=\"\",\"\",VLOOKUP($B2397,_tbl!$A:$E,P$2,0))","v":"Rural"},{"$f":"IF($B2397=\"\",\"\",VLOOKUP($B2397,_tbl!$A:$E,Q$2,0))","v":"Congenital"},null,0,0]
[null,"all_f_West Rural congenital.csv",null,null,null,null,null,null,null,null,null,null,null,{"$f":"IF($B2398=\"\",\"\",VLOOKUP($B2398,_tbl!$A:$E,N$2,0))","v":"Female"},{"$f":"IF($B2398=\"\",\"\",VLOOKUP($B2398,_tbl!$A:$E,O$2,0))","v":"West"},{"$f":"IF($B2398=\"\",\"\",VLOOKUP($B2398,_tbl!$A:$E,P$2,0))","v":"Rural"},{"$f":"IF($B2398=\"\",\"\",VLOOKUP($B2398,_tbl!$A:$E,Q$2,0))","v":"Congenital"},null,0,0]
[null,"all_f_West Rural congenital.csv",null,null,null,null,null,null,null,null,null,null,null,{"$f":"IF($B2399=\"\",\"\",VLOOKUP($B2399,_tbl!$A:$E,N$2,0))","v":"Female"},{"$f":"IF($B2399=\"\",\"\",VLOOKUP($B2399,_tbl!$A:$E,O$2,0))","v":"West"},{"$f":"IF($B2399=\"\",\"\",VLOOKUP($B2399,_tbl!$A:$E,P$2,0))","v":"Rural"},{"$f":"IF($B2399=\"\",\"\",VLOOKUP($B2399,_tbl!$A:$E,Q$2,0))","v":"Congenital"},null,0,0]
[null,"all_f_West Rural congenital.csv",null,null,null,null,null,null,null,null,null,null,null,{"$f":"IF($B2400=\"\",\"\",VLOOKUP($B2400,_tbl!$A:$E,N$2,0))","v":"Female"},{"$f":"IF($B2400=\"\",\"\",VLOOKUP($B2400,_tbl!$A:$E,O$2,0))","v":"West"},{"$f":"IF($B2400=\"\",\"\",VLOOKUP($B2400,_tbl!$A:$E,P$2,0))","v":"Rural"},{"$f":"IF($B2400=\"\",\"\",VLOOKUP($B2400,_tbl!$A:$E,Q$2,0))","v":"Congenital"},null,0,0]
[null,"all_f_West Rural congenital.csv",null,null,null,null,null,null,null,null,null,null,null,{"$f":"IF($B2401=\"\",\"\",VLOOKUP($B2401,_tbl!$A:$E,N$2,0))","v":"Female"},{"$f":"IF($B2401=\"\",\"\",VLOOKUP($B2401,_tbl!$A:$E,O$2,0))","v":"West"},{"$f":"IF($B2401=\"\",\"\",VLOOKUP($B2401,_tbl!$A:$E,P$2,0))","v":"Rural"},{"$f":"IF($B2401=\"\",\"\",VLOOKUP($B2401,_tbl!$A:$E,Q$2,0))","v":"Congenital"},null,0,0]
[null,null,null,null,null,null,null,null,null,null,null,null,null,{"$f":"IF($B2402=\"\",\"\",VLOOKUP($B2402,_tbl!$A:$E,N$2,0))","v":""},{"$f":"IF($B2402=\"\",\"\",VLOOKUP($B2402,_tbl!$A:$E,O$2,0))","v":""},{"$f":"IF($B2402=\"\",\"\",VLOOKUP($B2402,_tbl!$A:$E,P$2,0))","v":""},{"$f":"IF($B2402=\"\",\"\",VLOOKUP($B2402,_tbl!$A:$E,Q$2,0))","v":""}]
[null,null,null,2020,2021,2022,2023,2024,2025,2026,2027,2028,2029,{"$f":"IF($B2403=\"\",\"\",VLOOKUP($B2403,_tbl!$A:$E,N$2,0))","v":""},{"$f":"IF($B2403=\"\",\"\",VLOOKUP($B2403,_tbl!$A:$E,O$2,0))","v":""},{"$f":"IF($B2403=\"\",\"\",VLOOKUP($B2403,_tbl!$A:$E,P$2,0))","v":""},{"$f":"IF($B2403=\"\",\"\",VLOOKUP($B2403,_tbl!$A:$E,Q$2,0))","v":""}]
[null,"all_f_West Rural diabetes.csv","30-34",2.4231986717756398E-6,2.4261785035577701E-6,2.4301742467245198E-6,2.4320703779391401E-6,2.4326742872473701E-6,2.43283147331278E-6,2.43282833474309E-6,2.4329420493863999E-6,2.4331318097873901E-6,2.4333683861411798E-6,{"$f":"IF($B2404=\"\",\"\",VLOOKUP($B2404,_tbl!$A:$E,N$2,0))","v":"Female"},{"$f":"IF($B2404=\"\",\"\",VLOOKUP($B2404,_tbl!$A:$E,O$2,0))","v":"West"},{"$f":"IF($B2404=\"\",\"\",VLOOKUP($B2404,_tbl!$A:$E,P$2,0))","v":"Rural"},{"$f":"IF($B2404=\"\",\"\",VLOOKUP($B2404,_tbl!$A:$E,Q$2,0))","v":"Diabetes"},null,{"$f":"MAX(D2404:M2404)","v":2.4333683861411798E-6},{"$f":"MIN(D2404:M2404)","v":2.4231986717756398E-6}]
[null,"all_f_West Rural diabetes.csv","35-39",7.3733706527418097E-6,7.4889928982683299E-6,7.5681767379383097E-6,7.6619106042901192E-6,7.7471239846496197E-6,7.8366601351235404E-6,7.9184784723416604E-6,8.0022943717895792E-6,8.0845559882302503E-6,8.1654572159574406E-6,{"$f":"IF($B2405=\"\",\"\",VLOOKUP($B2405,_tbl!$A:$E,N$2,0))","v":"Female"},{"$f":"IF($B2405=\"\",\"\",VLOOKUP($B2405,_tbl!$A:$E,O$2,0))","v":"West"},{"$f":"IF($B2405=\"\",\"\",VLOOKUP($B2405,_tbl!$A:$E,P$2,0))","v":"Rural"},{"$f":"IF($B2405=\"\",\"\",VLOOKUP($B2405,_tbl!$A:$E,Q$2,0))","v":"Diabetes"},null,8.1654572159574406E-6,7.3733706527418097E-6]
[null,"all_f_West Rural diabetes.csv","40-44",1.8733031272932999E-5,1.8838761159011699E-5,1.8924477266113298E-5,1.9082716429705601E-5,1.9219291488739999E-5,1.9380328488781099E-5,1.95184149043788E-5,1.96679493083405E-5,1.9815533181342599E-5,1.99626162245596E-5,{"$f":"IF($B2406=\"\",\"\",VLOOKUP($B2406,_tbl!$A:$E,N$2,0))","v":"Female"},{"$f":"IF($B2406=\"\",\"\",VLOOKUP($B2406,_tbl!$A:$E,O$2,0))","v":"West"},{"$f":"IF($B2406=\"\",\"\",VLOOKUP($B2406,_tbl!$A:$E,P$2,0))","v":"Rural"},{"$f":"IF($B2406=\"\",\"\",VLOOKUP($B2406,_tbl!$A:$E,Q$2,0))","v":"Diabetes"},null,1.99626162245596E-5,1.8733031272932999E-5]
[null,"all_f_West Rural diabetes.csv","45-49",4.0282763929395902E-5,4.0298113180627603E-5,4.01208894044393E-5,4.0158697726651301E-5,4.01326053201172E-5,4.0189748781678803E-5,4.0187870971428897E-5,4.0232627099793497E-5,4.0280134630348001E-5,4.0334680068710097E-5,{"$f":"IF($B2407=\"\",\"\",VLOOKUP($B2407,_tbl!$A:$E,N$2,0))","v":"Female"},{"$f":"IF($B2407=\"\",\"\",VLOOKUP($B2407,_tbl!$A:$E,O$2,0))","v":"West"},{"$f":"IF($B2407=\"\",\"\",VLOOKUP($B2407,_tbl!$A:$E,P$2,0))","v":"Rural"},{"$f":"IF($B2407=\"\",\"\",VLOOKUP($B2407,_tbl!$A:$E,Q$2,0))","v":"Diabetes"},null,4.0334680068710097E-5,4.01208894044393E-5]
[null,"all_f_West Rural diabetes.csv","50-54",7.5560999874447603E-5,7.52313907111222E-5,7.4772153014891402E-5,7.4198419795545897E-5,7.3561356594251302E-5,7.2924694523703504E-5,7.2313494792658394E-5,7.1729881445585904E-5,7.1164487062044801E-5,7.0625996244125006E-5,{"$f":"IF($B2408=\"\",\"\",VLOOKUP($B2408,_tbl!$A:$E,N$2,0))","v":"Female"},{"$f":"IF($B2408=\"\",\"\",VLOOKUP($B2408,_tbl!$A:$E,O$2,0))","v":"West"},{"$f":"IF($B2408=\"\",\"\",VLOOKUP($B2408,_tbl!$A:$E,P$2,0))","v":"Rural"},{"$f":"IF($B2408=\"\",\"\",VLOOKUP($B2408,_tbl!$A:$E,Q$2,0))","v":"Diabetes"},null,7.5560999874447603E-5,7.0625996244125006E-5]
[null,"all_f_West Rural diabetes.csv","55-59",1.4642997823083301E-4,1.4658508225496301E-4,1.4695516282743301E-4,1.4697688415397001E-4,1.4695212627906899E-4,1.46806288346321E-4,1.46717230291005E-4,1.4655715886749201E-4,1.4637776179804099E-4,1.4619146371007299E-4,{"$f":"IF($B2409=\"\",\"\",VLOOKUP($B2409,_tbl!$A:$E,N$2,0))","v":"Female"},{"$f":"IF($B2409=\"\",\"\",VLOOKUP($B2409,_tbl!$A:$E,O$2,0))","v":"West"},{"$f":"IF($B2409=\"\",\"\",VLOOKUP($B2409,_tbl!$A:$E,P$2,0))","v":"Rural"},{"$f":"IF($B2409=\"\",\"\",VLOOKUP($B2409,_tbl!$A:$E,Q$2,0))","v":"Diabetes"},null,1.4697688415397001E-4,1.4619146371007299E-4]
[null,"all_f_West Rural diabetes.csv","60-64",2.6090948029022299E-4,2.6013515576738699E-4,2.6000442486318401E-4,2.5927555788956202E-4,2.58511609205073E-4,2.5752700005774598E-4,2.56799720718975E-4,2.5594039512826297E-4,2.5507236245827603E-4,2.5423538169473897E-4,{"$f":"IF($B2410=\"\",\"\",VLOOKUP($B2410,_tbl!$A:$E,N$2,0))","v":"Female"},{"$f":"IF($B2410=\"\",\"\",VLOOKUP($B2410,_tbl!$A:$E,O$2,0))","v":"West"},{"$f":"IF($B2410=\"\",\"\",VLOOKUP($B2410,_tbl!$A:$E,P$2,0))","v":"Rural"},{"$f":"IF($B2410=\"\",\"\",VLOOKUP($B2410,_tbl!$A:$E,Q$2,0))","v":"Diabetes"},null,2.6090948029022299E-4,2.5423538169473897E-4]
[null,"all_f_West Rural diabetes.csv","65-69",4.6316653972135403E-4,4.6529520923821802E-4,4.6749273169659699E-4,4.6936387770988197E-4,4.7113010070991599E-4,4.7272783476674302E-4,4.7434352082687599E-4,4.7585391728505497E-4,4.7730267691847102E-4,4.7870158981987702E-4,{"$f":"IF($B2411=\"\",\"\",VLOOKUP($B2411,_tbl!$A:$E,N$2,0))","v":"Female"},{"$f":"IF($B2411=\"\",\"\",VLOOKUP($B2411,_tbl!$A:$E,O$2,0))","v":"West"},{"$f":"IF($B2411=\"\",\"\",VLOOKUP($B2411,_tbl!$A:$E,P$2,0))","v":"Rural"},{"$f":"IF($B2411=\"\",\"\",VLOOKUP($B2411,_tbl!$A:$E,Q$2,0))","v":"Diabetes"},null,4.7870158981987702E-4,4.6316653972135403E-4]
[null,"all_f_West Rural diabetes.csv","70-74",7.1807306255944998E-4,7.2184721991583702E-4,7.2748438567046597E-4,7.3165005917454301E-4,7.35340989980381E-4,7.3835536965593401E-4,7.4196827165849005E-4,7.4494893935454895E-4,7.4760987386890399E-4,7.5018201400347596E-4,{"$f":"IF($B2412=\"\",\"\",VLOOKUP($B2412,_tbl!$A:$E,N$2,0))","v":"Female"},{"$f":"IF($B2412=\"\",\"\",VLOOKUP($B2412,_tbl!$A:$E,O$2,0))","v":"West"},{"$f":"IF($B2412=\"\",\"\",VLOOKUP($B2412,_tbl!$A:$E,P$2,0))","v":"Rural"},{"$f":"IF($B2412=\"\",\"\",VLOOKUP($B2412,_tbl!$A:$E,Q$2,0))","v":"Diabetes"},null,7.5018201400347596E-4,7.1807306255944998E-4]
[null,"all_f_West Rural diabetes.csv","75-79",1.0469486279980501E-3,1.0512927471343901E-3,1.05508104937594E-3,1.0590832385915399E-3,1.0634521552065599E-3,1.0679575815461099E-3,1.0721106352391801E-3,1.0763182073054199E-3,1.0804661975292399E-3,1.0844465366916299E-3,{"$f":"IF($B2413=\"\",\"\",VLOOKUP($B2413,_tbl!$A:$E,N$2,0))","v":"Female"},{"$f":"IF($B2413=\"\",\"\",VLOOKUP($B2413,_tbl!$A:$E,O$2,0))","v":"West"},{"$f":"IF($B2413=\"\",\"\",VLOOKUP($B2413,_tbl!$A:$E,P$2,0))","v":"Rural"},{"$f":"IF($B2413=\"\",\"\",VLOOKUP($B2413,_tbl!$A:$E,Q$2,0))","v":"Diabetes"},null,1.0844465366916299E-3,1.0469486279980501E-3]
[null,"all_f_West Rural diabetes.csv","80-84",1.53725283796812E-3,1.5280584477256401E-3,1.5282791034392099E-3,1.5264675460259199E-3,1.5246879930817601E-3,1.5224440467066799E-3,1.5241643962955701E-3,1.5232324375977801E-3,1.5208877013229501E-3,1.5188033293801299E-3,{"$f":"IF($B2414=\"\",\"\",VLOOKUP($B2414,_tbl!$A:$E,N$2,0))","v":"Female"},{"$f":"IF($B2414=\"\",\"\",VLOOKUP($B2414,_tbl!$A:$E,O$2,0))","v":"West"},{"$f":"IF($B2414=\"\",\"\",VLOOKUP($B2414,_tbl!$A:$E,P$2,0))","v":"Rural"},{"$f":"IF($B2414=\"\",\"\",VLOOKUP($B2414,_tbl!$A:$E,Q$2,0))","v":"Diabetes"},null,1.53725283796812E-3,1.5188033293801299E-3]
[null,"all_f_West Rural diabetes.csv","85+",2.2622424701039799E-3,2.23607921037985E-3,2.2346128520315E-3,2.2336267319742501E-3,2.2333049175910199E-3,2.2325651732247099E-3,2.2380266308313899E-3,2.2400338353234499E-3,2.24023044448165E-3,2.24092349668386E-3,{"$f":"IF($B2415=\"\",\"\",VLOOKUP($B2415,_tbl!$A:$E,N$2,0))","v":"Female"},{"$f":"IF($B2415=\"\",\"\",VLOOKUP($B2415,_tbl!$A:$E,O$2,0))","v":"West"},{"$f":"IF($B2415=\"\",\"\",VLOOKUP($B2415,_tbl!$A:$E,P$2,0))","v":"Rural"},{"$f":"IF($B2415=\"\",\"\",VLOOKUP($B2415,_tbl!$A:$E,Q$2,0))","v":"Diabetes"},null,2.2622424701039799E-3,2.2325651732247099E-3]
[null,"all_f_West Rural diabetes.csv",null,null,null,null,null,null,null,null,null,null,null,{"$f":"IF($B2416=\"\",\"\",VLOOKUP($B2416,_tbl!$A:$E,N$2,0))","v":"Female"},{"$f":"IF($B2416=\"\",\"\",VLOOKUP($B2416,_tbl!$A:$E,O$2,0))","v":"West"},{"$f":"IF($B2416=\"\",\"\",VLOOKUP($B2416,_tbl!$A:$E,P$2,0))","v":"Rural"},{"$f":"IF($B2416=\"\",\"\",VLOOKUP($B2416,_tbl!$A:$E,Q$2,0))","v":"Diabetes"},null,0,0]
[null,"all_f_West Rural diabetes.csv",null,null,null,null,null,null,null,null,null,null,null,{"$f":"IF($B2417=\"\",\"\",VLOOKUP($B2417,_tbl!$A:$E,N$2,0))","v":"Female"},{"$f":"IF($B2417=\"\",\"\",VLOOKUP($B2417,_tbl!$A:$E,O$2,0))","v":"West"},{"$f":"IF($B2417=\"\",\"\",VLOOKUP($B2417,_tbl!$A:$E,P$2,0))","v":"Rural"},{"$f":"IF($B2417=\"\",\"\",VLOOKUP($B2417,_tbl!$A:$E,Q$2,0))","v":"Diabetes"},null,0,0]
[null,"all_f_West Rural diabetes.csv",null,null,null,null,null,null,null,null,null,null,null,{"$f":"IF($B2418=\"\",\"\",VLOOKUP($B2418,_tbl!$A:$E,N$2,0))","v":"Female"},{"$f":"IF($B2418=\"\",\"\",VLOOKUP($B2418,_tbl!$A:$E,O$2,0))","v":"West"},{"$f":"IF($B2418=\"\",\"\",VLOOKUP($B2418,_tbl!$A:$E,P$2,0))","v":"Rural"},{"$f":"IF($B2418=\"\",\"\",VLOOKUP($B2418,_tbl!$A:$E,Q$2,0))","v":"Diabetes"},null,0,0]
[null,"all_f_West Rural diabetes.csv",null,null,null,null,null,null,null,null,null,null,null,{"$f":"IF($B2419=\"\",\"\",VLOOKUP($B2419,_tbl!$A:$E,N$2,0))","v":"Female"},{"$f":"IF($B2419=\"\",\"\",VLOOKUP($B2419,_tbl!$A:$E,O$2,0))","v":"West"},{"$f":"IF($B2419=\"\",\"\",VLOOKUP($B2419,_tbl!$A:$E,P$2,0))","v":"Rural"},{"$f":"IF($B2419=\"\",\"\",VLOOKUP($B2419,_tbl!$A:$E,Q$2,0))","v":"Diabetes"},null,0,0]
[null,"all_f_West Rural diabetes.csv",null,null,null,null,null,null,null,null,null,null,null,{"$f":"IF($B2420=\"\",\"\",VLOOKUP($B2420,_tbl!$A:$E,N$2,0))","v":"Female"},{"$f":"IF($B2420=\"\",\"\",VLOOKUP($B2420,_tbl!$A:$E,O$2,0))","v":"West"},{"$f":"IF($B2420=\"\",\"\",VLOOKUP($B2420,_tbl!$A:$E,P$2,0))","v":"Rural"},{"$f":"IF($B2420=\"\",\"\",VLOOKUP($B2420,_tbl!$A:$E,Q$2,0))","v":"Diabetes"},null,0,0]
[null,"all_f_West Rural diabetes.csv",null,null,null,null,null,null,null,null,null,null,null,{"$f":"IF($B2421=\"\",\"\",VLOOKUP($B2421,_tbl!$A:$E,N$2,0))","v":"Female"},{"$f":"IF($B2421=\"\",\"\",VLOOKUP($B2421,_tbl!$A:$E,O$2,0))","v":"West"},{"$f":"IF($B2421=\"\",\"\",VLOOKUP($B2421,_tbl!$A:$E,P$2,0))","v":"Rural"},{"$f":"IF($B2421=\"\",\"\",VLOOKUP($B2421,_tbl!$A:$E,Q$2,0))","v":"Diabetes"},null,0,0]
[null,null,null,null,null,null,null,null,null,null,null,null,null,{"$f":"IF($B2422=\"\",\"\",VLOOKUP($B2422,_tbl!$A:$E,N$2,0))","v":""},{"$f":"IF($B2422=\"\",\"\",VLOOKUP($B2422,_tbl!$A:$E,O$2,0))","v":""},{"$f":"IF($B2422=\"\",\"\",VLOOKUP($B2422,_tbl!$A:$E,P$2,0))","v":""},{"$f":"IF($B2422=\"\",\"\",VLOOKUP($B2422,_tbl!$A:$E,Q$2,0))","v":""}]
[null,null,null,2020,2021,2022,2023,2024,2025,2026,2027,2028,2029,{"$f":"IF($B2423=\"\",\"\",VLOOKUP($B2423,_tbl!$A:$E,N$2,0))","v":""},{"$f":"IF($B2423=\"\",\"\",VLOOKUP($B2423,_tbl!$A:$E,O$2,0))","v":""},{"$f":"IF($B2423=\"\",\"\",VLOOKUP($B2423,_tbl!$A:$E,P$2,0))","v":""},{"$f":"IF($B2423=\"\",\"\",VLOOKUP($B2423,_tbl!$A:$E,Q$2,0))","v":""}]
[null,"all_f_West Rural digestive.csv","1-4",2.7743985140224302E-5,2.7348125455753401E-5,2.69570573998624E-5,2.6558631453457301E-5,2.6150086048991898E-5,2.5740368890246801E-5,2.5327597970519299E-5,2.4922138102141101E-5,2.4522211840786402E-5,2.4134099303746801E-5,{"$f":"IF($B2424=\"\",\"\",VLOOKUP($B2424,_tbl!$A:$E,N$2,0))","v":"Female"},{"$f":"IF($B2424=\"\",\"\",VLOOKUP($B2424,_tbl!$A:$E,O$2,0))","v":"West"},{"$f":"IF($B2424=\"\",\"\",VLOOKUP($B2424,_tbl!$A:$E,P$2,0))","v":"Rural"},{"$f":"IF($B2424=\"\",\"\",VLOOKUP($B2424,_tbl!$A:$E,Q$2,0))","v":"Digestive"},null,{"$f":"MAX(D2424:M2424)","v":2.7743985140224302E-5},{"$f":"MIN(D2424:M2424)","v":2.4134099303746801E-5}]
[null,"all_f_West Rural digestive.csv","5-9",7.50778413265647E-6,7.5056313271603497E-6,7.5097406554482702E-6,7.5133772932748203E-6,7.5190941648035396E-6,7.5233487994658699E-6,7.5270823037927603E-6,7.5289325516949999E-6,7.5301278217071303E-6,7.5304828222698798E-6,{"$f":"IF($B2425=\"\",\"\",VLOOKUP($B2425,_tbl!$A:$E,N$2,0))","v":"Female"},{"$f":"IF($B2425=\"\",\"\",VLOOKUP($B2425,_tbl!$A:$E,O$2,0))","v":"West"},{"$f":"IF($B2425=\"\",\"\",VLOOKUP($B2425,_tbl!$A:$E,P$2,0))","v":"Rural"},{"$f":"IF($B2425=\"\",\"\",VLOOKUP($B2425,_tbl!$A:$E,Q$2,0))","v":"Digestive"},null,7.5304828222698798E-6,7.5056313271603497E-6]
[null,"all_f_West Rural digestive.csv","10-14",5.4366590297217596E-6,5.4292982197784803E-6,5.4270691380666002E-6,5.4250716532755198E-6,5.4222130006333402E-6,5.4202667721253098E-6,5.4185700425698597E-6,5.4179424932678099E-6,5.4178395285769398E-6,5.41824074631763E-6,{"$f":"IF($B2426=\"\",\"\",VLOOKUP($B2426,_tbl!$A:$E,N$2,0))","v":"Female"},{"$f":"IF($B2426=\"\",\"\",VLOOKUP($B2426,_tbl!$A:$E,O$2,0))","v":"West"},{"$f":"IF($B2426=\"\",\"\",VLOOKUP($B2426,_tbl!$A:$E,P$2,0))","v":"Rural"},{"$f":"IF($B2426=\"\",\"\",VLOOKUP($B2426,_tbl!$A:$E,Q$2,0))","v":"Digestive"},null,5.4366590297217596E-6,5.4178395285769398E-6]
[null,"all_f_West Rural digestive.csv","15-19",5.6842783977824503E-6,5.6832490498016197E-6,5.6776369551486297E-6,5.6757276647184899E-6,5.6698046132688296E-6,5.6686269808053202E-6,5.6683127644481801E-6,5.6721890178309401E-6,5.6776302639038704E-6,5.6846380064133103E-6,{"$f":"IF($B2427=\"\",\"\",VLOOKUP($B2427,_tbl!$A:$E,N$2,0))","v":"Female"},{"$f":"IF($B2427=\"\",\"\",VLOOKUP($B2427,_tbl!$A:$E,O$2,0))","v":"West"},{"$f":"IF($B2427=\"\",\"\",VLOOKUP($B2427,_tbl!$A:$E,P$2,0))","v":"Rural"},{"$f":"IF($B2427=\"\",\"\",VLOOKUP($B2427,_tbl!$A:$E,Q$2,0))","v":"Digestive"},null,5.6846380064133103E-6,5.6683127644481801E-6]
[null,"all_f_West Rural digestive.csv","20-24",7.5076863734625399E-6,7.5998402057302497E-6,7.6311504691348397E-6,7.6737484045024495E-6,7.7017393937650304E-6,7.7439914170298405E-6,7.7874406886553303E-6,7.8423676452972797E-6,7.9004477414318793E-6,7.9614839249338594E-6,{"$f":"IF($B2428=\"\",\"\",VLOOKUP($B2428,_tbl!$A:$E,N$2,0))","v":"Female"},{"$f":"IF($B2428=\"\",\"\",VLOOKUP($B2428,_tbl!$A:$E,O$2,0))","v":"West"},{"$f":"IF($B2428=\"\",\"\",VLOOKUP($B2428,_tbl!$A:$E,P$2,0))","v":"Rural"},{"$f":"IF($B2428=\"\",\"\",VLOOKUP($B2428,_tbl!$A:$E,Q$2,0))","v":"Digestive"},null,7.9614839249338594E-6,7.5076863734625399E-6]
[null,"all_f_West Rural digestive.csv","25-29",1.0463754497575101E-5,1.0597768811327899E-5,1.0677913632058E-5,1.0766139494697501E-5,1.0840709057769901E-5,1.0925025086387099E-5,1.1007401918119899E-5,1.1098358520716E-5,1.1190912432124799E-5,1.1284564562065401E-5,{"$f":"IF($B2429=\"\",\"\",VLOOKUP($B2429,_tbl!$A:$E,N$2,0))","v":"Female"},{"$f":"IF($B2429=\"\",\"\",VLOOKUP($B2429,_tbl!$A:$E,O$2,0))","v":"West"},{"$f":"IF($B2429=\"\",\"\",VLOOKUP($B2429,_tbl!$A:$E,P$2,0))","v":"Rural"},{"$f":"IF($B2429=\"\",\"\",VLOOKUP($B2429,_tbl!$A:$E,Q$2,0))","v":"Digestive"},null,1.1284564562065401E-5,1.0463754497575101E-5]
[null,"all_f_West Rural digestive.csv","30-34",1.5416002450279599E-5,1.5585062781192999E-5,1.5718510682140799E-5,1.5857375880402901E-5,1.5984734186746498E-5,1.6115697890980199E-5,1.6240565818436199E-5,1.6368864371662601E-5,1.64962616855159E-5,1.6622338416813E-5,{"$f":"IF($B2430=\"\",\"\",VLOOKUP($B2430,_tbl!$A:$E,N$2,0))","v":"Female"},{"$f":"IF($B2430=\"\",\"\",VLOOKUP($B2430,_tbl!$A:$E,O$2,0))","v":"West"},{"$f":"IF($B2430=\"\",\"\",VLOOKUP($B2430,_tbl!$A:$E,P$2,0))","v":"Rural"},{"$f":"IF($B2430=\"\",\"\",VLOOKUP($B2430,_tbl!$A:$E,Q$2,0))","v":"Digestive"},null,1.6622338416813E-5,1.5416002450279599E-5]
[null,"all_f_West Rural digestive.csv","35-39",2.3129576813938602E-5,2.3380916287731199E-5,2.3535010867384901E-5,2.37360855235345E-5,2.39164555018306E-5,2.4112351191159601E-5,2.42887855922465E-5,2.44734136627904E-5,2.4655812577410801E-5,2.4836393935910901E-5,{"$f":"IF($B2431=\"\",\"\",VLOOKUP($B2431,_tbl!$A:$E,N$2,0))","v":"Female"},{"$f":"IF($B2431=\"\",\"\",VLOOKUP($B2431,_tbl!$A:$E,O$2,0))","v":"West"},{"$f":"IF($B2431=\"\",\"\",VLOOKUP($B2431,_tbl!$A:$E,P$2,0))","v":"Rural"},{"$f":"IF($B2431=\"\",\"\",VLOOKUP($B2431,_tbl!$A:$E,Q$2,0))","v":"Digestive"},null,2.4836393935910901E-5,2.3129576813938602E-5]
[null,"all_f_West Rural digestive.csv","40-44",3.4206337843422899E-5,3.4269053616286297E-5,3.41122453447737E-5,3.4111677176772298E-5,3.4070810330187903E-5,3.4087257498697401E-5,3.4060743937855101E-5,3.4063433734050197E-5,3.40672849800933E-5,3.4075771431914999E-5,{"$f":"IF($B2432=\"\",\"\",VLOOKUP($B2432,_tbl!$A:$E,N$2,0))","v":"Female"},{"$f":"IF($B2432=\"\",\"\",VLOOKUP($B2432,_tbl!$A:$E,O$2,0))","v":"West"},{"$f":"IF($B2432=\"\",\"\",VLOOKUP($B2432,_tbl!$A:$E,P$2,0))","v":"Rural"},{"$f":"IF($B2432=\"\",\"\",VLOOKUP($B2432,_tbl!$A:$E,Q$2,0))","v":"Digestive"},null,3.4269053616286297E-5,3.4060743937855101E-5]
[null,"all_f_West Rural digestive.csv","45-49",5.1120129895549E-5,5.0550443544656301E-5,4.9538336576340399E-5,4.8860439097431399E-5,4.8108087861080303E-5,4.7505722631427597E-5,4.6844062963647101E-5,4.62738277048495E-5,4.5728738623490102E-5,4.5217619412287599E-5,{"$f":"IF($B2433=\"\",\"\",VLOOKUP($B2433,_tbl!$A:$E,N$2,0))","v":"Female"},{"$f":"IF($B2433=\"\",\"\",VLOOKUP($B2433,_tbl!$A:$E,O$2,0))","v":"West"},{"$f":"IF($B2433=\"\",\"\",VLOOKUP($B2433,_tbl!$A:$E,P$2,0))","v":"Rural"},{"$f":"IF($B2433=\"\",\"\",VLOOKUP($B2433,_tbl!$A:$E,Q$2,0))","v":"Digestive"},null,5.1120129895549E-5,4.5217619412287599E-5]
[null,"all_f_West Rural digestive.csv","50-54",7.66900868998051E-5,7.4398681054659E-5,7.2275521871898094E-5,6.9799091470302104E-5,6.7262786376445698E-5,6.4713092087333204E-5,6.2325127561835807E-5,6.0004726685236599E-5,5.7758866444483399E-5,5.5609147108159498E-5,{"$f":"IF($B2434=\"\",\"\",VLOOKUP($B2434,_tbl!$A:$E,N$2,0))","v":"Female"},{"$f":"IF($B2434=\"\",\"\",VLOOKUP($B2434,_tbl!$A:$E,O$2,0))","v":"West"},{"$f":"IF($B2434=\"\",\"\",VLOOKUP($B2434,_tbl!$A:$E,P$2,0))","v":"Rural"},{"$f":"IF($B2434=\"\",\"\",VLOOKUP($B2434,_tbl!$A:$E,Q$2,0))","v":"Digestive"},null,7.66900868998051E-5,5.5609147108159498E-5]
[null,"all_f_West Rural digestive.csv","55-59",1.28528258830907E-4,1.2573370702392901E-4,1.2318740527971701E-4,1.2029766543763301E-4,1.17397129636522E-4,1.1441888117101499E-4,1.11576409668078E-4,1.0868989545609E-4,1.05824523685475E-4,1.0300691531578499E-4,{"$f":"IF($B2435=\"\",\"\",VLOOKUP($B2435,_tbl!$A:$E,N$2,0))","v":"Female"},{"$f":"IF($B2435=\"\",\"\",VLOOKUP($B2435,_tbl!$A:$E,O$2,0))","v":"West"},{"$f":"IF($B2435=\"\",\"\",VLOOKUP($B2435,_tbl!$A:$E,P$2,0))","v":"Rural"},{"$f":"IF($B2435=\"\",\"\",VLOOKUP($B2435,_tbl!$A:$E,Q$2,0))","v":"Digestive"},null,1.28528258830907E-4,1.0300691531578499E-4]
[null,"all_f_West Rural digestive.csv","60-64",2.0324960376400799E-4,2.0105779559761601E-4,1.98961263080243E-4,1.9648134526730301E-4,1.9385921066101701E-4,1.91148121082709E-4,1.88532830673611E-4,1.8584285190862901E-4,1.8313958045030601E-4,1.8047142804769999E-4,{"$f":"IF($B2436=\"\",\"\",VLOOKUP($B2436,_tbl!$A:$E,N$2,0))","v":"Female"},{"$f":"IF($B2436=\"\",\"\",VLOOKUP($B2436,_tbl!$A:$E,O$2,0))","v":"West"},{"$f":"IF($B2436=\"\",\"\",VLOOKUP($B2436,_tbl!$A:$E,P$2,0))","v":"Rural"},{"$f":"IF($B2436=\"\",\"\",VLOOKUP($B2436,_tbl!$A:$E,Q$2,0))","v":"Digestive"},null,2.0324960376400799E-4,1.8047142804769999E-4]
[null,"all_f_West Rural digestive.csv","65-69",3.21851375892588E-4,3.1997745845106199E-4,3.1830177768796898E-4,3.1552159114891398E-4,3.1232875944683101E-4,3.0882141440078E-4,3.05604119221121E-4,3.0213766327760202E-4,2.9859819672677502E-4,2.9511770876498302E-4,{"$f":"IF($B2437=\"\",\"\",VLOOKUP($B2437,_tbl!$A:$E,N$2,0))","v":"Female"},{"$f":"IF($B2437=\"\",\"\",VLOOKUP($B2437,_tbl!$A:$E,O$2,0))","v":"West"},{"$f":"IF($B2437=\"\",\"\",VLOOKUP($B2437,_tbl!$A:$E,P$2,0))","v":"Rural"},{"$f":"IF($B2437=\"\",\"\",VLOOKUP($B2437,_tbl!$A:$E,Q$2,0))","v":"Digestive"},null,3.21851375892588E-4,2.9511770876498302E-4]
[null,"all_f_West Rural digestive.csv","70-74",5.8753535375105702E-4,5.90672261785256E-4,5.9222505187064801E-4,5.9293686720881503E-4,5.9320920353948695E-4,5.9325889523343799E-4,5.9290696033012101E-4,5.9250357733420396E-4,5.9203555538132999E-4,5.9146701572675804E-4,{"$f":"IF($B2438=\"\",\"\",VLOOKUP($B2438,_tbl!$A:$E,N$2,0))","v":"Female"},{"$f":"IF($B2438=\"\",\"\",VLOOKUP($B2438,_tbl!$A:$E,O$2,0))","v":"West"},{"$f":"IF($B2438=\"\",\"\",VLOOKUP($B2438,_tbl!$A:$E,P$2,0))","v":"Rural"},{"$f":"IF($B2438=\"\",\"\",VLOOKUP($B2438,_tbl!$A:$E,Q$2,0))","v":"Digestive"},null,5.9325889523343799E-4,5.8753535375105702E-4]
[null,"all_f_West Rural digestive.csv","75-79",1.1100624270723499E-3,1.1183193461759299E-3,1.1240452242442501E-3,1.1299680565795001E-3,1.1358260274116499E-3,1.1416494601526499E-3,1.1461177485089301E-3,1.1510370200557101E-3,1.15608123273617E-3,1.1608365233489099E-3,{"$f":"IF($B2439=\"\",\"\",VLOOKUP($B2439,_tbl!$A:$E,N$2,0))","v":"Female"},{"$f":"IF($B2439=\"\",\"\",VLOOKUP($B2439,_tbl!$A:$E,O$2,0))","v":"West"},{"$f":"IF($B2439=\"\",\"\",VLOOKUP($B2439,_tbl!$A:$E,P$2,0))","v":"Rural"},{"$f":"IF($B2439=\"\",\"\",VLOOKUP($B2439,_tbl!$A:$E,Q$2,0))","v":"Digestive"},null,1.1608365233489099E-3,1.1100624270723499E-3]
[null,"all_f_West Rural digestive.csv","80-84",2.18327924848729E-3,2.1596614447369502E-3,2.1595634823714698E-3,2.15790389437841E-3,2.1544567906289199E-3,2.1484501717788798E-3,2.1494880902170601E-3,2.1473747767321301E-3,2.1441832935864299E-3,2.1419476556575798E-3,{"$f":"IF($B2440=\"\",\"\",VLOOKUP($B2440,_tbl!$A:$E,N$2,0))","v":"Female"},{"$f":"IF($B2440=\"\",\"\",VLOOKUP($B2440,_tbl!$A:$E,O$2,0))","v":"West"},{"$f":"IF($B2440=\"\",\"\",VLOOKUP($B2440,_tbl!$A:$E,P$2,0))","v":"Rural"},{"$f":"IF($B2440=\"\",\"\",VLOOKUP($B2440,_tbl!$A:$E,Q$2,0))","v":"Digestive"},null,2.18327924848729E-3,2.1419476556575798E-3]
[null,"all_f_West Rural digestive.csv","85+",4.3273964434052898E-3,4.2202490213900197E-3,4.1847236773589203E-3,4.1660421219689202E-3,4.1550567683670504E-3,4.1458166146414099E-3,4.15523377612488E-3,4.1572402839150698E-3,4.1557080324277299E-3,4.1561661187036096E-3,{"$f":"IF($B2441=\"\",\"\",VLOOKUP($B2441,_tbl!$A:$E,N$2,0))","v":"Female"},{"$f":"IF($B2441=\"\",\"\",VLOOKUP($B2441,_tbl!$A:$E,O$2,0))","v":"West"},{"$f":"IF($B2441=\"\",\"\",VLOOKUP($B2441,_tbl!$A:$E,P$2,0))","v":"Rural"},{"$f":"IF($B2441=\"\",\"\",VLOOKUP($B2441,_tbl!$A:$E,Q$2,0))","v":"Digestive"},null,4.3273964434052898E-3,4.1458166146414099E-3]
[null,null,null,null,null,null,null,null,null,null,null,null,null,{"$f":"IF($B2442=\"\",\"\",VLOOKUP($B2442,_tbl!$A:$E,N$2,0))","v":""},{"$f":"IF($B2442=\"\",\"\",VLOOKUP($B2442,_tbl!$A:$E,O$2,0))","v":""},{"$f":"IF($B2442=\"\",\"\",VLOOKUP($B2442,_tbl!$A:$E,P$2,0))","v":""},{"$f":"IF($B2442=\"\",\"\",VLOOKUP($B2442,_tbl!$A:$E,Q$2,0))","v":""}]
[null,null,null,2020,2021,2022,2023,2024,2025,2026,2027,2028,2029,{"$f":"IF($B2443=\"\",\"\",VLOOKUP($B2443,_tbl!$A:$E,N$2,0))","v":""},{"$f":"IF($B2443=\"\",\"\",VLOOKUP($B2443,_tbl!$A:$E,O$2,0))","v":""},{"$f":"IF($B2443=\"\",\"\",VLOOKUP($B2443,_tbl!$A:$E,P$2,0))","v":""},{"$f":"IF($B2443=\"\",\"\",VLOOKUP($B2443,_tbl!$A:$E,Q$2,0))","v":""}]
[null,"all_f_West Rural external.csv","1-4",2.2660349372233699E-4,2.1264464231399101E-4,1.99472050661416E-4,1.86970143917569E-4,1.7508258010038701E-4,1.6377887516542001E-4,1.52997637412165E-4,1.4276311429920399E-4,1.3304929703491901E-4,1.2385944565586099E-4,{"$f":"IF($B2444=\"\",\"\",VLOOKUP($B2444,_tbl!$A:$E,N$2,0))","v":"Female"},{"$f":"IF($B2444=\"\",\"\",VLOOKUP($B2444,_tbl!$A:$E,O$2,0))","v":"West"},{"$f":"IF($B2444=\"\",\"\",VLOOKUP($B2444,_tbl!$A:$E,P$2,0))","v":"Rural"},{"$f":"IF($B2444=\"\",\"\",VLOOKUP($B2444,_tbl!$A:$E,Q$2,0))","v":"External"},null,{"$f":"MAX(D2444:M2444)","v":2.2660349372233699E-4},{"$f":"MIN(D2444:M2444)","v":1.2385944565586099E-4}]
[null,"all_f_West Rural external.csv","5-9",1.562270015202E-4,1.50180321115708E-4,1.4468569684167201E-4,1.3942984567297899E-4,1.3432343892849099E-4,1.2933085727567301E-4,1.24402788712733E-4,1.19542123714087E-4,1.14747658921493E-4,1.10038622539973E-4,{"$f":"IF($B2445=\"\",\"\",VLOOKUP($B2445,_tbl!$A:$E,N$2,0))","v":"Female"},{"$f":"IF($B2445=\"\",\"\",VLOOKUP($B2445,_tbl!$A:$E,O$2,0))","v":"West"},{"$f":"IF($B2445=\"\",\"\",VLOOKUP($B2445,_tbl!$A:$E,P$2,0))","v":"Rural"},{"$f":"IF($B2445=\"\",\"\",VLOOKUP($B2445,_tbl!$A:$E,Q$2,0))","v":"External"},null,1.562270015202E-4,1.10038622539973E-4]
[null,"all_f_West Rural external.csv","10-14",1.0520885918457499E-4,1.00065488645425E-4,9.5286894020341097E-5,9.0994184558667302E-5,8.6996571897230505E-5,8.3188529575883597E-5,7.94964095496452E-5,7.5881780298942201E-5,7.2344721138648197E-5,6.8891523864907198E-5,{"$f":"IF($B2446=\"\",\"\",VLOOKUP($B2446,_tbl!$A:$E,N$2,0))","v":"Female"},{"$f":"IF($B2446=\"\",\"\",VLOOKUP($B2446,_tbl!$A:$E,O$2,0))","v":"West"},{"$f":"IF($B2446=\"\",\"\",VLOOKUP($B2446,_tbl!$A:$E,P$2,0))","v":"Rural"},{"$f":"IF($B2446=\"\",\"\",VLOOKUP($B2446,_tbl!$A:$E,Q$2,0))","v":"External"},null,1.0520885918457499E-4,6.8891523864907198E-5]
[null,"all_f_West Rural external.csv","15-19",1.01555141006918E-4,9.6795244124701801E-5,9.1818856308398004E-5,8.71828613025278E-5,8.2702871584046196E-5,7.8537203173731999E-5,7.4579476809866199E-5,7.0879668133772006E-5,6.7375470056228802E-5,6.4064792823097295E-5,{"$f":"IF($B2447=\"\",\"\",VLOOKUP($B2447,_tbl!$A:$E,N$2,0))","v":"Female"},{"$f":"IF($B2447=\"\",\"\",VLOOKUP($B2447,_tbl!$A:$E,O$2,0))","v":"West"},{"$f":"IF($B2447=\"\",\"\",VLOOKUP($B2447,_tbl!$A:$E,P$2,0))","v":"Rural"},{"$f":"IF($B2447=\"\",\"\",VLOOKUP($B2447,_tbl!$A:$E,Q$2,0))","v":"External"},null,1.01555141006918E-4,6.4064792823097295E-5]
[null,"all_f_West Rural external.csv","20-24",1.15288898716902E-4,1.09860357041652E-4,1.04078903914055E-4,9.8748910165614003E-5,9.3550605035790603E-5,8.8768372126515503E-5,8.4246224754780304E-5,8.0069994878286004E-5,7.6142451361771801E-5,7.2456696731861806E-5,{"$f":"IF($B2448=\"\",\"\",VLOOKUP($B2448,_tbl!$A:$E,N$2,0))","v":"Female"},{"$f":"IF($B2448=\"\",\"\",VLOOKUP($B2448,_tbl!$A:$E,O$2,0))","v":"West"},{"$f":"IF($B2448=\"\",\"\",VLOOKUP($B2448,_tbl!$A:$E,P$2,0))","v":"Rural"},{"$f":"IF($B2448=\"\",\"\",VLOOKUP($B2448,_tbl!$A:$E,Q$2,0))","v":"External"},null,1.15288898716902E-4,7.2456696731861806E-5]
[null,"all_f_West Rural external.csv","25-29",1.28723964721886E-4,1.21806994156738E-4,1.1499807893929701E-4,1.0869228781824499E-4,1.02661558339058E-4,9.7012117457391306E-5,9.1644924683395194E-5,8.6602132652363305E-5,8.1830492834199402E-5,7.73194251314876E-5,{"$f":"IF($B2449=\"\",\"\",VLOOKUP($B2449,_tbl!$A:$E,N$2,0))","v":"Female"},{"$f":"IF($B2449=\"\",\"\",VLOOKUP($B2449,_tbl!$A:$E,O$2,0))","v":"West"},{"$f":"IF($B2449=\"\",\"\",VLOOKUP($B2449,_tbl!$A:$E,P$2,0))","v":"Rural"},{"$f":"IF($B2449=\"\",\"\",VLOOKUP($B2449,_tbl!$A:$E,Q$2,0))","v":"External"},null,1.28723964721886E-4,7.73194251314876E-5]
[null,"all_f_West Rural external.csv","30-34",1.4105524535431299E-4,1.32929552857719E-4,1.24980416489286E-4,1.1760876404922299E-4,1.10609054231934E-4,1.0404496025861E-4,9.7816158611556994E-5,9.1961060017806503E-5,8.6433783915072494E-5,8.1217840543336097E-5,{"$f":"IF($B2450=\"\",\"\",VLOOKUP($B2450,_tbl!$A:$E,N$2,0))","v":"Female"},{"$f":"IF($B2450=\"\",\"\",VLOOKUP($B2450,_tbl!$A:$E,O$2,0))","v":"West"},{"$f":"IF($B2450=\"\",\"\",VLOOKUP($B2450,_tbl!$A:$E,P$2,0))","v":"Rural"},{"$f":"IF($B2450=\"\",\"\",VLOOKUP($B2450,_tbl!$A:$E,Q$2,0))","v":"External"},null,1.4105524535431299E-4,8.1217840543336097E-5]
[null,"all_f_West Rural external.csv","35-39",1.54052814915096E-4,1.4510675280085601E-4,1.36157932752286E-4,1.27921855018496E-4,1.2004453675527801E-4,1.12683192822735E-4,1.05655381038469E-4,9.9068238481064494E-5,9.2850126644431901E-5,8.6981515949906103E-5,{"$f":"IF($B2451=\"\",\"\",VLOOKUP($B2451,_tbl!$A:$E,N$2,0))","v":"Female"},{"$f":"IF($B2451=\"\",\"\",VLOOKUP($B2451,_tbl!$A:$E,O$2,0))","v":"West"},{"$f":"IF($B2451=\"\",\"\",VLOOKUP($B2451,_tbl!$A:$E,P$2,0))","v":"Rural"},{"$f":"IF($B2451=\"\",\"\",VLOOKUP($B2451,_tbl!$A:$E,Q$2,0))","v":"External"},null,1.54052814915096E-4,8.6981515949906103E-5]
[null,"all_f_West Rural external.csv","40-44",1.7650038686705999E-4,1.66826160600938E-4,1.5758050775529299E-4,1.4892374731175899E-4,1.40625486191284E-4,1.3279537574943E-4,1.2531778713358399E-4,1.18251717924048E-4,1.1154470828161201E-4,1.05179597378631E-4,{"$f":"IF($B2452=\"\",\"\",VLOOKUP($B2452,_tbl!$A:$E,N$2,0))","v":"Female"},{"$f":"IF($B2452=\"\",\"\",VLOOKUP($B2452,_tbl!$A:$E,O$2,0))","v":"West"},{"$f":"IF($B2452=\"\",\"\",VLOOKUP($B2452,_tbl!$A:$E,P$2,0))","v":"Rural"},{"$f":"IF($B2452=\"\",\"\",VLOOKUP($B2452,_tbl!$A:$E,Q$2,0))","v":"External"},null,1.7650038686705999E-4,1.05179597378631E-4]
[null,"all_f_West Rural external.csv","45-49",2.1702125806418701E-4,2.0817558182608401E-4,2.0022455086186099E-4,1.9261594383769299E-4,1.85343612690055E-4,1.7841061020344999E-4,1.71808108008405E-4,1.6551108513292501E-4,1.595044757162E-4,1.5378092263264201E-4,{"$f":"IF($B2453=\"\",\"\",VLOOKUP($B2453,_tbl!$A:$E,N$2,0))","v":"Female"},{"$f":"IF($B2453=\"\",\"\",VLOOKUP($B2453,_tbl!$A:$E,O$2,0))","v":"West"},{"$f":"IF($B2453=\"\",\"\",VLOOKUP($B2453,_tbl!$A:$E,P$2,0))","v":"Rural"},{"$f":"IF($B2453=\"\",\"\",VLOOKUP($B2453,_tbl!$A:$E,Q$2,0))","v":"External"},null,2.1702125806418701E-4,1.5378092263264201E-4]
[null,"all_f_West Rural external.csv","50-54",2.62255494825034E-4,2.5333135730822601E-4,2.4614854083655199E-4,2.38365375421631E-4,2.31019423972879E-4,2.23636989351148E-4,2.1675768378108699E-4,2.0994603667376499E-4,2.03363151533324E-4,1.97006486781645E-4,{"$f":"IF($B2454=\"\",\"\",VLOOKUP($B2454,_tbl!$A:$E,N$2,0))","v":"Female"},{"$f":"IF($B2454=\"\",\"\",VLOOKUP($B2454,_tbl!$A:$E,O$2,0))","v":"West"},{"$f":"IF($B2454=\"\",\"\",VLOOKUP($B2454,_tbl!$A:$E,P$2,0))","v":"Rural"},{"$f":"IF($B2454=\"\",\"\",VLOOKUP($B2454,_tbl!$A:$E,Q$2,0))","v":"External"},null,2.62255494825034E-4,1.97006486781645E-4]
[null,"all_f_West Rural external.csv","55-59",3.1348298193609501E-4,3.0297119466982E-4,2.9359131764906298E-4,2.8385188675196499E-4,2.7447319437824501E-4,2.6517473002097598E-4,2.5639350759578501E-4,2.47760073363282E-4,2.3939063179023501E-4,2.31301442090094E-4,{"$f":"IF($B2455=\"\",\"\",VLOOKUP($B2455,_tbl!$A:$E,N$2,0))","v":"Female"},{"$f":"IF($B2455=\"\",\"\",VLOOKUP($B2455,_tbl!$A:$E,O$2,0))","v":"West"},{"$f":"IF($B2455=\"\",\"\",VLOOKUP($B2455,_tbl!$A:$E,P$2,0))","v":"Rural"},{"$f":"IF($B2455=\"\",\"\",VLOOKUP($B2455,_tbl!$A:$E,Q$2,0))","v":"External"},null,3.1348298193609501E-4,2.31301442090094E-4]
[null,"all_f_West Rural external.csv","60-64",3.8682166303995999E-4,3.74524325068332E-4,3.6221740434974099E-4,3.5002273673879499E-4,3.3808369991115099E-4,3.2641518419106001E-4,3.1509980816031401E-4,3.0406956569210998E-4,2.9334208181993601E-4,2.82923777271852E-4,{"$f":"IF($B2456=\"\",\"\",VLOOKUP($B2456,_tbl!$A:$E,N$2,0))","v":"Female"},{"$f":"IF($B2456=\"\",\"\",VLOOKUP($B2456,_tbl!$A:$E,O$2,0))","v":"West"},{"$f":"IF($B2456=\"\",\"\",VLOOKUP($B2456,_tbl!$A:$E,P$2,0))","v":"Rural"},{"$f":"IF($B2456=\"\",\"\",VLOOKUP($B2456,_tbl!$A:$E,Q$2,0))","v":"External"},null,3.8682166303995999E-4,2.82923777271852E-4]
[null,"all_f_West Rural external.csv","65-69",4.9870041387379204E-4,4.8281302937688299E-4,4.6703073450490401E-4,4.5068022476944298E-4,4.34345005410059E-4,4.1804456023558602E-4,4.02406981712186E-4,3.8685403150353498E-4,3.71548606274103E-4,3.56607025732066E-4,{"$f":"IF($B2457=\"\",\"\",VLOOKUP($B2457,_tbl!$A:$E,N$2,0))","v":"Female"},{"$f":"IF($B2457=\"\",\"\",VLOOKUP($B2457,_tbl!$A:$E,O$2,0))","v":"West"},{"$f":"IF($B2457=\"\",\"\",VLOOKUP($B2457,_tbl!$A:$E,P$2,0))","v":"Rural"},{"$f":"IF($B2457=\"\",\"\",VLOOKUP($B2457,_tbl!$A:$E,Q$2,0))","v":"External"},null,4.9870041387379204E-4,3.56607025732066E-4]
[null,"all_f_West Rural external.csv","70-74",7.7726195462549802E-4,7.6096058954742095E-4,7.4533084564111203E-4,7.2882404662547202E-4,7.1216669074097795E-4,6.9534145381872103E-4,6.7932598560947299E-4,6.6316676361697204E-4,6.4711382656092403E-4,6.3135875775270005E-4,{"$f":"IF($B2458=\"\",\"\",VLOOKUP($B2458,_tbl!$A:$E,N$2,0))","v":"Female"},{"$f":"IF($B2458=\"\",\"\",VLOOKUP($B2458,_tbl!$A:$E,O$2,0))","v":"West"},{"$f":"IF($B2458=\"\",\"\",VLOOKUP($B2458,_tbl!$A:$E,P$2,0))","v":"Rural"},{"$f":"IF($B2458=\"\",\"\",VLOOKUP($B2458,_tbl!$A:$E,Q$2,0))","v":"External"},null,7.7726195462549802E-4,6.3135875775270005E-4]
[null,"all_f_West Rural external.csv","75-79",1.40273051190731E-3,1.38925772776329E-3,1.38000739905413E-3,1.3692505128037201E-3,1.3579215888684601E-3,1.3458640273178999E-3,1.3357386367733599E-3,1.32453271369013E-3,1.31289888624415E-3,1.3014826401980201E-3,{"$f":"IF($B2459=\"\",\"\",VLOOKUP($B2459,_tbl!$A:$E,N$2,0))","v":"Female"},{"$f":"IF($B2459=\"\",\"\",VLOOKUP($B2459,_tbl!$A:$E,O$2,0))","v":"West"},{"$f":"IF($B2459=\"\",\"\",VLOOKUP($B2459,_tbl!$A:$E,P$2,0))","v":"Rural"},{"$f":"IF($B2459=\"\",\"\",VLOOKUP($B2459,_tbl!$A:$E,Q$2,0))","v":"External"},null,1.40273051190731E-3,1.3014826401980201E-3]
[null,"all_f_West Rural external.csv","80-84",2.9352067457053699E-3,2.9089385809174398E-3,2.9165868711078201E-3,2.92438341689118E-3,2.93101752678377E-3,2.93528215868124E-3,2.9521083442345E-3,2.96279341896118E-3,2.97078266741326E-3,2.9802120065540701E-3,{"$f":"IF($B2460=\"\",\"\",VLOOKUP($B2460,_tbl!$A:$E,N$2,0))","v":"Female"},{"$f":"IF($B2460=\"\",\"\",VLOOKUP($B2460,_tbl!$A:$E,O$2,0))","v":"West"},{"$f":"IF($B2460=\"\",\"\",VLOOKUP($B2460,_tbl!$A:$E,P$2,0))","v":"Rural"},{"$f":"IF($B2460=\"\",\"\",VLOOKUP($B2460,_tbl!$A:$E,Q$2,0))","v":"External"},null,2.9802120065540701E-3,2.9089385809174398E-3]
[null,"all_f_West Rural external.csv","85+",5.8341791431523E-3,5.8347386405424801E-3,5.9101290629319497E-3,6.0202954508057401E-3,6.1432408566782304E-3,6.2729615334401701E-3,6.4305760927791302E-3,6.5839194346963299E-3,6.7366976450525E-3,6.8959628603137502E-3,{"$f":"IF($B2461=\"\",\"\",VLOOKUP($B2461,_tbl!$A:$E,N$2,0))","v":"Female"},{"$f":"IF($B2461=\"\",\"\",VLOOKUP($B2461,_tbl!$A:$E,O$2,0))","v":"West"},{"$f":"IF($B2461=\"\",\"\",VLOOKUP($B2461,_tbl!$A:$E,P$2,0))","v":"Rural"},{"$f":"IF($B2461=\"\",\"\",VLOOKUP($B2461,_tbl!$A:$E,Q$2,0))","v":"External"},null,6.8959628603137502E-3,5.8341791431523E-3]
[null,null,null,null,null,null,null,null,null,null,null,null,null,{"$f":"IF($B2462=\"\",\"\",VLOOKUP($B2462,_tbl!$A:$E,N$2,0))","v":""},{"$f":"IF($B2462=\"\",\"\",VLOOKUP($B2462,_tbl!$A:$E,O$2,0))","v":""},{"$f":"IF($B2462=\"\",\"\",VLOOKUP($B2462,_tbl!$A:$E,P$2,0))","v":""},{"$f":"IF($B2462=\"\",\"\",VLOOKUP($B2462,_tbl!$A:$E,Q$2,0))","v":""}]
[null,null,null,2020,2021,2022,2023,2024,2025,2026,2027,2028,2029,{"$f":"IF($B2463=\"\",\"\",VLOOKUP($B2463,_tbl!$A:$E,N$2,0))","v":""},{"$f":"IF($B2463=\"\",\"\",VLOOKUP($B2463,_tbl!$A:$E,O$2,0))","v":""},{"$f":"IF($B2463=\"\",\"\",VLOOKUP($B2463,_tbl!$A:$E,P$2,0))","v":""},{"$f":"IF($B2463=\"\",\"\",VLOOKUP($B2463,_tbl!$A:$E,Q$2,0))","v":""}]
[null,"all_f_West Rural infectious.csv","1-4",7.4000853810509405E-5,6.6185247251435205E-5,5.7423181963702998E-5,4.9030680070786499E-5,4.1827992462064203E-5,3.5979530739831602E-5,3.1262344454167398E-5,2.73509907533038E-5,2.39795294122354E-5,2.0991147111283299E-5,{"$f":"IF($B2464=\"\",\"\",VLOOKUP($B2464,_tbl!$A:$E,N$2,0))","v":"Female"},{"$f":"IF($B2464=\"\",\"\",VLOOKUP($B2464,_tbl!$A:$E,O$2,0))","v":"West"},{"$f":"IF($B2464=\"\",\"\",VLOOKUP($B2464,_tbl!$A:$E,P$2,0))","v":"Rural"},{"$f":"IF($B2464=\"\",\"\",VLOOKUP($B2464,_tbl!$A:$E,Q$2,0))","v":"Infectious"},null,{"$f":"MAX(D2464:M2464)","v":7.4000853810509405E-5},{"$f":"MIN(D2464:M2464)","v":2.0991147111283299E-5}]
[null,"all_f_West Rural infectious.csv","5-9",2.4309115832721701E-5,2.23224075687316E-5,2.0308758759107501E-5,1.8386762779291702E-5,1.6642197581238599E-5,1.51012161064558E-5,1.37451556309046E-5,1.25371515465832E-5,1.14426804661374E-5,1.04388216570488E-5,{"$f":"IF($B2465=\"\",\"\",VLOOKUP($B2465,_tbl!$A:$E,N$2,0))","v":"Female"},{"$f":"IF($B2465=\"\",\"\",VLOOKUP($B2465,_tbl!$A:$E,O$2,0))","v":"West"},{"$f":"IF($B2465=\"\",\"\",VLOOKUP($B2465,_tbl!$A:$E,P$2,0))","v":"Rural"},{"$f":"IF($B2465=\"\",\"\",VLOOKUP($B2465,_tbl!$A:$E,Q$2,0))","v":"Infectious"},null,2.4309115832721701E-5,1.04388216570488E-5]
[null,"all_f_West Rural infectious.csv","10-14",1.5501388612955302E-5,1.4384822127531E-5,1.3286497570672199E-5,1.22419161370349E-5,1.1277936963621201E-5,1.04030674931442E-5,9.6109377460101204E-6,8.8885069466848601E-6,8.2230440911844904E-6,7.6055943809309401E-6,{"$f":"IF($B2466=\"\",\"\",VLOOKUP($B2466,_tbl!$A:$E,N$2,0))","v":"Female"},{"$f":"IF($B2466=\"\",\"\",VLOOKUP($B2466,_tbl!$A:$E,O$2,0))","v":"West"},{"$f":"IF($B2466=\"\",\"\",VLOOKUP($B2466,_tbl!$A:$E,P$2,0))","v":"Rural"},{"$f":"IF($B2466=\"\",\"\",VLOOKUP($B2466,_tbl!$A:$E,Q$2,0))","v":"Infectious"},null,1.5501388612955302E-5,7.6055943809309401E-6]
[null,"all_f_West Rural infectious.csv","15-19",1.40518480252679E-5,1.30217736872795E-5,1.1981931980201E-5,1.09840568597798E-5,1.00672221931397E-5,9.2447283514586097E-6,8.5094248987007196E-6,7.8451808055904993E-6,7.2363486056507497E-6,6.6723553483137199E-6,{"$f":"IF($B2467=\"\",\"\",VLOOKUP($B2467,_tbl!$A:$E,N$2,0))","v":"Female"},{"$f":"IF($B2467=\"\",\"\",VLOOKUP($B2467,_tbl!$A:$E,O$2,0))","v":"West"},{"$f":"IF($B2467=\"\",\"\",VLOOKUP($B2467,_tbl!$A:$E,P$2,0))","v":"Rural"},{"$f":"IF($B2467=\"\",\"\",VLOOKUP($B2467,_tbl!$A:$E,Q$2,0))","v":"Infectious"},null,1.40518480252679E-5,6.6723553483137199E-6]
[null,"all_f_West Rural infectious.csv","20-24",1.6543629836989299E-5,1.54310130176282E-5,1.42233509718194E-5,1.3028550438746899E-5,1.1930021028297501E-5,1.0959444907178799E-5,1.0107553953715699E-5,9.3469494660977899E-6,8.6507069191886599E-6,8.0014877769332805E-6,{"$f":"IF($B2468=\"\",\"\",VLOOKUP($B2468,_tbl!$A:$E,N$2,0))","v":"Female"},{"$f":"IF($B2468=\"\",\"\",VLOOKUP($B2468,_tbl!$A:$E,O$2,0))","v":"West"},{"$f":"IF($B2468=\"\",\"\",VLOOKUP($B2468,_tbl!$A:$E,P$2,0))","v":"Rural"},{"$f":"IF($B2468=\"\",\"\",VLOOKUP($B2468,_tbl!$A:$E,Q$2,0))","v":"Infectious"},null,1.6543629836989299E-5,8.0014877769332805E-6]
[null,"all_f_West Rural infectious.csv","25-29",2.2402215679025902E-5,2.1161794607603901E-5,1.96931352495653E-5,1.8182650222846099E-5,1.6780759689375401E-5,1.5550112211100599E-5,1.4481416343621099E-5,1.3531896132649201E-5,1.2657774789919E-5,1.18311001121035E-5,{"$f":"IF($B2469=\"\",\"\",VLOOKUP($B2469,_tbl!$A:$E,N$2,0))","v":"Female"},{"$f":"IF($B2469=\"\",\"\",VLOOKUP($B2469,_tbl!$A:$E,O$2,0))","v":"West"},{"$f":"IF($B2469=\"\",\"\",VLOOKUP($B2469,_tbl!$A:$E,P$2,0))","v":"Rural"},{"$f":"IF($B2469=\"\",\"\",VLOOKUP($B2469,_tbl!$A:$E,Q$2,0))","v":"Infectious"},null,2.2402215679025902E-5,1.18311001121035E-5]
[null,"all_f_West Rural infectious.csv","30-34",2.8381390790284401E-5,2.6832832006139301E-5,2.5180244903878999E-5,2.35368705556116E-5,2.1996006466267501E-5,2.0597756927656299E-5,1.9336169540464302E-5,1.8182504835034101E-5,1.7106525861364001E-5,1.6088107928911999E-5,{"$f":"IF($B2470=\"\",\"\",VLOOKUP($B2470,_tbl!$A:$E,N$2,0))","v":"Female"},{"$f":"IF($B2470=\"\",\"\",VLOOKUP($B2470,_tbl!$A:$E,O$2,0))","v":"West"},{"$f":"IF($B2470=\"\",\"\",VLOOKUP($B2470,_tbl!$A:$E,P$2,0))","v":"Rural"},{"$f":"IF($B2470=\"\",\"\",VLOOKUP($B2470,_tbl!$A:$E,Q$2,0))","v":"Infectious"},null,2.8381390790284401E-5,1.6088107928911999E-5]
[null,"all_f_West Rural infectious.csv","35-39",3.1707138524734997E-5,2.9506339271034401E-5,2.7738108522849999E-5,2.6215338213318699E-5,2.4783428294661499E-5,2.3365217065602899E-5,2.1954210234889498E-5,2.0581158164852998E-5,1.9280406336902499E-5,1.8071190825474698E-5,{"$f":"IF($B2471=\"\",\"\",VLOOKUP($B2471,_tbl!$A:$E,N$2,0))","v":"Female"},{"$f":"IF($B2471=\"\",\"\",VLOOKUP($B2471,_tbl!$A:$E,O$2,0))","v":"West"},{"$f":"IF($B2471=\"\",\"\",VLOOKUP($B2471,_tbl!$A:$E,P$2,0))","v":"Rural"},{"$f":"IF($B2471=\"\",\"\",VLOOKUP($B2471,_tbl!$A:$E,Q$2,0))","v":"Infectious"},null,3.1707138524734997E-5,1.8071190825474698E-5]
[null,"all_f_West Rural infectious.csv","40-44",3.5694897300644202E-5,3.2589693521609799E-5,3.0526209057245601E-5,2.8981198185409001E-5,2.75347557344317E-5,2.59789983067493E-5,2.4303894178031499E-5,2.26055117179048E-5,2.0988485903772801E-5,1.9512550553492799E-5,{"$f":"IF($B2472=\"\",\"\",VLOOKUP($B2472,_tbl!$A:$E,N$2,0))","v":"Female"},{"$f":"IF($B2472=\"\",\"\",VLOOKUP($B2472,_tbl!$A:$E,O$2,0))","v":"West"},{"$f":"IF($B2472=\"\",\"\",VLOOKUP($B2472,_tbl!$A:$E,P$2,0))","v":"Rural"},{"$f":"IF($B2472=\"\",\"\",VLOOKUP($B2472,_tbl!$A:$E,Q$2,0))","v":"Infectious"},null,3.5694897300644202E-5,1.9512550553492799E-5]
[null,"all_f_West Rural infectious.csv","45-49",4.6495963996210901E-5,4.2081225696887502E-5,3.92042133739934E-5,3.7084503479252301E-5,3.5108770504635101E-5,3.2977669767405998E-5,3.0679957156347503E-5,2.83560627074134E-5,2.6155592548241102E-5,2.4161469219277E-5,{"$f":"IF($B2473=\"\",\"\",VLOOKUP($B2473,_tbl!$A:$E,N$2,0))","v":"Female"},{"$f":"IF($B2473=\"\",\"\",VLOOKUP($B2473,_tbl!$A:$E,O$2,0))","v":"West"},{"$f":"IF($B2473=\"\",\"\",VLOOKUP($B2473,_tbl!$A:$E,P$2,0))","v":"Rural"},{"$f":"IF($B2473=\"\",\"\",VLOOKUP($B2473,_tbl!$A:$E,Q$2,0))","v":"Infectious"},null,4.6495963996210901E-5,2.4161469219277E-5]
[null,"all_f_West Rural infectious.csv","50-54",6.9902984590493902E-5,6.3374431602114501E-5,5.8763155067477101E-5,5.5136450558636402E-5,5.1767241860224801E-5,4.83073844888964E-5,4.47435744457119E-5,4.1232271116339198E-5,3.7937222945353001E-5,3.4945515516774802E-5,{"$f":"IF($B2474=\"\",\"\",VLOOKUP($B2474,_tbl!$A:$E,N$2,0))","v":"Female"},{"$f":"IF($B2474=\"\",\"\",VLOOKUP($B2474,_tbl!$A:$E,O$2,0))","v":"West"},{"$f":"IF($B2474=\"\",\"\",VLOOKUP($B2474,_tbl!$A:$E,P$2,0))","v":"Rural"},{"$f":"IF($B2474=\"\",\"\",VLOOKUP($B2474,_tbl!$A:$E,Q$2,0))","v":"Infectious"},null,6.9902984590493902E-5,3.4945515516774802E-5]
[null,"all_f_West Rural infectious.csv","55-59",1.09552197090432E-4,9.9629493898826206E-5,9.2105567243104999E-5,8.5888783166757806E-5,8.0129636991285299E-5,7.4423580007688202E-5,6.8748420763401998E-5,6.3270583606879995E-5,5.8162892674513203E-5,5.3512258309934598E-5,{"$f":"IF($B2475=\"\",\"\",VLOOKUP($B2475,_tbl!$A:$E,N$2,0))","v":"Female"},{"$f":"IF($B2475=\"\",\"\",VLOOKUP($B2475,_tbl!$A:$E,O$2,0))","v":"West"},{"$f":"IF($B2475=\"\",\"\",VLOOKUP($B2475,_tbl!$A:$E,P$2,0))","v":"Rural"},{"$f":"IF($B2475=\"\",\"\",VLOOKUP($B2475,_tbl!$A:$E,Q$2,0))","v":"Infectious"},null,1.09552197090432E-4,5.3512258309934598E-5]
[null,"all_f_West Rural infectious.csv","60-64",1.67615031888189E-4,1.5226696843169399E-4,1.4072075674258599E-4,1.3123091349463701E-4,1.2244182625899199E-4,1.13708973192783E-4,1.0499907584922699E-4,9.6580362601464601E-5,8.8730805138705394E-5,8.1590551774641395E-5,{"$f":"IF($B2476=\"\",\"\",VLOOKUP($B2476,_tbl!$A:$E,N$2,0))","v":"Female"},{"$f":"IF($B2476=\"\",\"\",VLOOKUP($B2476,_tbl!$A:$E,O$2,0))","v":"West"},{"$f":"IF($B2476=\"\",\"\",VLOOKUP($B2476,_tbl!$A:$E,P$2,0))","v":"Rural"},{"$f":"IF($B2476=\"\",\"\",VLOOKUP($B2476,_tbl!$A:$E,Q$2,0))","v":"Infectious"},null,1.67615031888189E-4,8.1590551774641395E-5]
[null,"all_f_West Rural infectious.csv","65-69",2.6163370679355797E-4,2.37519683868942E-4,2.2030816529529899E-4,2.0666584772279401E-4,1.93988692949763E-4,1.81028987013818E-4,1.6773625238860799E-4,1.5466655957001001E-4,1.4240284963880701E-4,1.31254976306425E-4,{"$f":"IF($B2477=\"\",\"\",VLOOKUP($B2477,_tbl!$A:$E,N$2,0))","v":"Female"},{"$f":"IF($B2477=\"\",\"\",VLOOKUP($B2477,_tbl!$A:$E,O$2,0))","v":"West"},{"$f":"IF($B2477=\"\",\"\",VLOOKUP($B2477,_tbl!$A:$E,P$2,0))","v":"Rural"},{"$f":"IF($B2477=\"\",\"\",VLOOKUP($B2477,_tbl!$A:$E,Q$2,0))","v":"Infectious"},null,2.6163370679355797E-4,1.31254976306425E-4]
[null,"all_f_West Rural infectious.csv","70-74",4.6492424093683003E-4,4.2651964019516098E-4,3.9910897043219398E-4,3.7736986079648001E-4,3.5701908177054902E-4,3.3595261667685101E-4,3.1406076338479999E-4,2.9228398171463098E-4,2.7164376683375298E-4,2.5271566952857601E-4,{"$f":"IF($B2478=\"\",\"\",VLOOKUP($B2478,_tbl!$A:$E,N$2,0))","v":"Female"},{"$f":"IF($B2478=\"\",\"\",VLOOKUP($B2478,_tbl!$A:$E,O$2,0))","v":"West"},{"$f":"IF($B2478=\"\",\"\",VLOOKUP($B2478,_tbl!$A:$E,P$2,0))","v":"Rural"},{"$f":"IF($B2478=\"\",\"\",VLOOKUP($B2478,_tbl!$A:$E,Q$2,0))","v":"Infectious"},null,4.6492424093683003E-4,2.5271566952857601E-4]
[null,"all_f_West Rural infectious.csv","75-79",1.01359571753726E-3,9.5735567121121802E-4,9.0849770826554905E-4,8.6426894040692796E-4,8.2230514582712995E-4,7.8137909047749899E-4,7.4133293000735502E-4,7.0259152254700395E-4,6.6565743839907599E-4,6.3081593144349499E-4,{"$f":"IF($B2479=\"\",\"\",VLOOKUP($B2479,_tbl!$A:$E,N$2,0))","v":"Female"},{"$f":"IF($B2479=\"\",\"\",VLOOKUP($B2479,_tbl!$A:$E,O$2,0))","v":"West"},{"$f":"IF($B2479=\"\",\"\",VLOOKUP($B2479,_tbl!$A:$E,P$2,0))","v":"Rural"},{"$f":"IF($B2479=\"\",\"\",VLOOKUP($B2479,_tbl!$A:$E,Q$2,0))","v":"Infectious"},null,1.01359571753726E-3,6.3081593144349499E-4]
[null,"all_f_West Rural infectious.csv","80-84",2.64770110658091E-3,2.61909703624002E-3,2.5302107955813601E-3,2.4140901460816102E-3,2.3017234626349198E-3,2.2087564256486202E-3,2.1362461738591099E-3,2.0772058472505002E-3,2.02311754557645E-3,1.9680646216022999E-3,{"$f":"IF($B2480=\"\",\"\",VLOOKUP($B2480,_tbl!$A:$E,N$2,0))","v":"Female"},{"$f":"IF($B2480=\"\",\"\",VLOOKUP($B2480,_tbl!$A:$E,O$2,0))","v":"West"},{"$f":"IF($B2480=\"\",\"\",VLOOKUP($B2480,_tbl!$A:$E,P$2,0))","v":"Rural"},{"$f":"IF($B2480=\"\",\"\",VLOOKUP($B2480,_tbl!$A:$E,Q$2,0))","v":"Infectious"},null,2.64770110658091E-3,1.9680646216022999E-3]
[null,"all_f_West Rural infectious.csv","85+",7.4847389298381304E-3,7.8182101446612907E-3,7.7005920946293599E-3,7.3538492138796197E-3,7.0108024353627103E-3,6.7914008554358501E-3,6.7083129293499097E-3,6.7148835826165596E-3,6.7489238819743499E-3,6.7628752588518798E-3,{"$f":"IF($B2481=\"\",\"\",VLOOKUP($B2481,_tbl!$A:$E,N$2,0))","v":"Female"},{"$f":"IF($B2481=\"\",\"\",VLOOKUP($B2481,_tbl!$A:$E,O$2,0))","v":"West"},{"$f":"IF($B2481=\"\",\"\",VLOOKUP($B2481,_tbl!$A:$E,P$2,0))","v":"Rural"},{"$f":"IF($B2481=\"\",\"\",VLOOKUP($B2481,_tbl!$A:$E,Q$2,0))","v":"Infectious"},null,7.8182101446612907E-3,6.7083129293499097E-3]
[null,null,null,null,null,null,null,null,null,null,null,null,null,{"$f":"IF($B2482=\"\",\"\",VLOOKUP($B2482,_tbl!$A:$E,N$2,0))","v":""},{"$f":"IF($B2482=\"\",\"\",VLOOKUP($B2482,_tbl!$A:$E,O$2,0))","v":""},{"$f":"IF($B2482=\"\",\"\",VLOOKUP($B2482,_tbl!$A:$E,P$2,0))","v":""},{"$f":"IF($B2482=\"\",\"\",VLOOKUP($B2482,_tbl!$A:$E,Q$2,0))","v":""}]
[null,null,null,2020,2021,2022,2023,2024,2025,2026,2027,2028,2029,{"$f":"IF($B2483=\"\",\"\",VLOOKUP($B2483,_tbl!$A:$E,N$2,0))","v":""},{"$f":"IF($B2483=\"\",\"\",VLOOKUP($B2483,_tbl!$A:$E,O$2,0))","v":""},{"$f":"IF($B2483=\"\",\"\",VLOOKUP($B2483,_tbl!$A:$E,P$2,0))","v":""},{"$f":"IF($B2483=\"\",\"\",VLOOKUP($B2483,_tbl!$A:$E,Q$2,0))","v":""}]
[null,"all_f_West Rural mental.csv","1-4",2.4358021815316399E-5,2.4244073140678999E-5,2.4170751788050399E-5,2.4095263513606601E-5,2.4033795203589298E-5,2.39611536509721E-5,2.3881925129052599E-5,2.37893178246455E-5,2.3693327615854101E-5,2.3594658376636501E-5,{"$f":"IF($B2484=\"\",\"\",VLOOKUP($B2484,_tbl!$A:$E,N$2,0))","v":"Female"},{"$f":"IF($B2484=\"\",\"\",VLOOKUP($B2484,_tbl!$A:$E,O$2,0))","v":"West"},{"$f":"IF($B2484=\"\",\"\",VLOOKUP($B2484,_tbl!$A:$E,P$2,0))","v":"Rural"},{"$f":"IF($B2484=\"\",\"\",VLOOKUP($B2484,_tbl!$A:$E,Q$2,0))","v":"Mental"},null,{"$f":"MAX(D2484:M2484)","v":2.4358021815316399E-5},{"$f":"MIN(D2484:M2484)","v":2.3594658376636501E-5}]
[null,"all_f_West Rural mental.csv","5-9",1.6585758794340699E-5,1.6513709170870098E-5,1.6448108036516002E-5,1.6388542678647699E-5,1.6327108207913598E-5,1.6269035840521898E-5,1.6209238715260399E-5,1.6152439645106E-5,1.6096540891316999E-5,1.6041612130342099E-5,{"$f":"IF($B2485=\"\",\"\",VLOOKUP($B2485,_tbl!$A:$E,N$2,0))","v":"Female"},{"$f":"IF($B2485=\"\",\"\",VLOOKUP($B2485,_tbl!$A:$E,O$2,0))","v":"West"},{"$f":"IF($B2485=\"\",\"\",VLOOKUP($B2485,_tbl!$A:$E,P$2,0))","v":"Rural"},{"$f":"IF($B2485=\"\",\"\",VLOOKUP($B2485,_tbl!$A:$E,Q$2,0))","v":"Mental"},null,1.6585758794340699E-5,1.6041612130342099E-5]
[null,"all_f_West Rural mental.csv","10-14",1.5400162489021799E-5,1.5303684282600098E-5,1.5250894654955499E-5,1.5209742138386199E-5,1.51780404222484E-5,1.5146726075623499E-5,1.51150240923821E-5,1.50790997269288E-5,1.5040535861672301E-5,1.4999830637322901E-5,{"$f":"IF($B2486=\"\",\"\",VLOOKUP($B2486,_tbl!$A:$E,N$2,0))","v":"Female"},{"$f":"IF($B2486=\"\",\"\",VLOOKUP($B2486,_tbl!$A:$E,O$2,0))","v":"West"},{"$f":"IF($B2486=\"\",\"\",VLOOKUP($B2486,_tbl!$A:$E,P$2,0))","v":"Rural"},{"$f":"IF($B2486=\"\",\"\",VLOOKUP($B2486,_tbl!$A:$E,Q$2,0))","v":"Mental"},null,1.5400162489021799E-5,1.4999830637322901E-5]
[null,"all_f_West Rural mental.csv","15-19",1.5091372036732899E-5,1.49851100170154E-5,1.4897237441236599E-5,1.48113016258922E-5,1.47390949199203E-5,1.46631045126213E-5,1.45862301605727E-5,1.4501779788516099E-5,1.4414022868959699E-5,1.4323860797379401E-5,{"$f":"IF($B2487=\"\",\"\",VLOOKUP($B2487,_tbl!$A:$E,N$2,0))","v":"Female"},{"$f":"IF($B2487=\"\",\"\",VLOOKUP($B2487,_tbl!$A:$E,O$2,0))","v":"West"},{"$f":"IF($B2487=\"\",\"\",VLOOKUP($B2487,_tbl!$A:$E,P$2,0))","v":"Rural"},{"$f":"IF($B2487=\"\",\"\",VLOOKUP($B2487,_tbl!$A:$E,Q$2,0))","v":"Mental"},null,1.5091372036732899E-5,1.4323860797379401E-5]
[null,"all_f_West Rural mental.csv","20-24",1.6328228762375701E-5,1.63352363993854E-5,1.62776013507709E-5,1.6235188921744401E-5,1.6178836657551101E-5,1.61390414174283E-5,1.6102171437225099E-5,1.60778092286797E-5,1.6057500867033001E-5,1.6041707799737699E-5,{"$f":"IF($B2488=\"\",\"\",VLOOKUP($B2488,_tbl!$A:$E,N$2,0))","v":"Female"},{"$f":"IF($B2488=\"\",\"\",VLOOKUP($B2488,_tbl!$A:$E,O$2,0))","v":"West"},{"$f":"IF($B2488=\"\",\"\",VLOOKUP($B2488,_tbl!$A:$E,P$2,0))","v":"Rural"},{"$f":"IF($B2488=\"\",\"\",VLOOKUP($B2488,_tbl!$A:$E,Q$2,0))","v":"Mental"},null,1.63352363993854E-5,1.6041707799737699E-5]
[null,"all_f_West Rural mental.csv","25-29",1.7907151960524401E-5,1.79204133001804E-5,1.7916761186210301E-5,1.7920483530450401E-5,1.7919475645095798E-5,1.7923862351141E-5,1.79281889792443E-5,1.79367647863763E-5,1.7946516935667798E-5,1.7957417811176499E-5,{"$f":"IF($B2489=\"\",\"\",VLOOKUP($B2489,_tbl!$A:$E,N$2,0))","v":"Female"},{"$f":"IF($B2489=\"\",\"\",VLOOKUP($B2489,_tbl!$A:$E,O$2,0))","v":"West"},{"$f":"IF($B2489=\"\",\"\",VLOOKUP($B2489,_tbl!$A:$E,P$2,0))","v":"Rural"},{"$f":"IF($B2489=\"\",\"\",VLOOKUP($B2489,_tbl!$A:$E,Q$2,0))","v":"Mental"},null,1.7957417811176499E-5,1.7907151960524401E-5]
[null,"all_f_West Rural mental.csv","30-34",1.8908906387763698E-5,1.89299499068108E-5,1.89450847812828E-5,1.8962691223283702E-5,1.89793872515653E-5,1.8997987784638201E-5,1.9016683355823902E-5,1.9036936885593999E-5,1.9057772423903099E-5,1.9079048007767298E-5,{"$f":"IF($B2490=\"\",\"\",VLOOKUP($B2490,_tbl!$A:$E,N$2,0))","v":"Female"},{"$f":"IF($B2490=\"\",\"\",VLOOKUP($B2490,_tbl!$A:$E,O$2,0))","v":"West"},{"$f":"IF($B2490=\"\",\"\",VLOOKUP($B2490,_tbl!$A:$E,P$2,0))","v":"Rural"},{"$f":"IF($B2490=\"\",\"\",VLOOKUP($B2490,_tbl!$A:$E,Q$2,0))","v":"Mental"},null,1.9079048007767298E-5,1.8908906387763698E-5]
[null,"all_f_West Rural mental.csv","35-39",1.9722807071328901E-5,1.98604280661207E-5,1.9979383970175601E-5,2.0106375350789699E-5,2.02281753833081E-5,2.0351828961491598E-5,2.0470142117700999E-5,2.05886647007769E-5,2.0705229369280601E-5,2.08199064872691E-5,{"$f":"IF($B2491=\"\",\"\",VLOOKUP($B2491,_tbl!$A:$E,N$2,0))","v":"Female"},{"$f":"IF($B2491=\"\",\"\",VLOOKUP($B2491,_tbl!$A:$E,O$2,0))","v":"West"},{"$f":"IF($B2491=\"\",\"\",VLOOKUP($B2491,_tbl!$A:$E,P$2,0))","v":"Rural"},{"$f":"IF($B2491=\"\",\"\",VLOOKUP($B2491,_tbl!$A:$E,Q$2,0))","v":"Mental"},null,2.08199064872691E-5,1.9722807071328901E-5]
[null,"all_f_West Rural mental.csv","40-44",2.1565312935125202E-5,2.1814992287871901E-5,2.2092105843843199E-5,2.2372304494098499E-5,2.2645135216173501E-5,2.2914473617728099E-5,2.31743283848303E-5,2.3428420666346399E-5,2.3675407827098101E-5,2.39155517527272E-5,{"$f":"IF($B2492=\"\",\"\",VLOOKUP($B2492,_tbl!$A:$E,N$2,0))","v":"Female"},{"$f":"IF($B2492=\"\",\"\",VLOOKUP($B2492,_tbl!$A:$E,O$2,0))","v":"West"},{"$f":"IF($B2492=\"\",\"\",VLOOKUP($B2492,_tbl!$A:$E,P$2,0))","v":"Rural"},{"$f":"IF($B2492=\"\",\"\",VLOOKUP($B2492,_tbl!$A:$E,Q$2,0))","v":"Mental"},null,2.39155517527272E-5,2.1565312935125202E-5]
[null,"all_f_West Rural mental.csv","45-49",2.54523366094107E-5,2.5864725178731201E-5,2.6306335569180301E-5,2.6733112290524101E-5,2.7150964750511001E-5,2.7553953567603001E-5,2.79431100548414E-5,2.8316219326851698E-5,2.8675635845529199E-5,2.9021938627511899E-5,{"$f":"IF($B2493=\"\",\"\",VLOOKUP($B2493,_tbl!$A:$E,N$2,0))","v":"Female"},{"$f":"IF($B2493=\"\",\"\",VLOOKUP($B2493,_tbl!$A:$E,O$2,0))","v":"West"},{"$f":"IF($B2493=\"\",\"\",VLOOKUP($B2493,_tbl!$A:$E,P$2,0))","v":"Rural"},{"$f":"IF($B2493=\"\",\"\",VLOOKUP($B2493,_tbl!$A:$E,Q$2,0))","v":"Mental"},null,2.9021938627511899E-5,2.54523366094107E-5]
[null,"all_f_West Rural mental.csv","50-54",3.09831306846317E-5,3.1165171192208003E-5,3.1505931749873502E-5,3.1658533562310702E-5,3.1829865731946597E-5,3.1927357490367103E-5,3.2059534921106399E-5,3.2143122694875798E-5,3.2213523384540397E-5,3.2272287224164102E-5,{"$f":"IF($B2494=\"\",\"\",VLOOKUP($B2494,_tbl!$A:$E,N$2,0))","v":"Female"},{"$f":"IF($B2494=\"\",\"\",VLOOKUP($B2494,_tbl!$A:$E,O$2,0))","v":"West"},{"$f":"IF($B2494=\"\",\"\",VLOOKUP($B2494,_tbl!$A:$E,P$2,0))","v":"Rural"},{"$f":"IF($B2494=\"\",\"\",VLOOKUP($B2494,_tbl!$A:$E,Q$2,0))","v":"Mental"},null,3.2272287224164102E-5,3.09831306846317E-5]
[null,"all_f_West Rural mental.csv","55-59",4.3673669062717399E-5,4.3990648833689403E-5,4.4265323481733598E-5,4.4382550370538602E-5,4.4466818969760203E-5,4.4488226945786401E-5,4.4525387649789003E-5,4.45236296860067E-5,4.4505900055560899E-5,4.44783101637896E-5,{"$f":"IF($B2495=\"\",\"\",VLOOKUP($B2495,_tbl!$A:$E,N$2,0))","v":"Female"},{"$f":"IF($B2495=\"\",\"\",VLOOKUP($B2495,_tbl!$A:$E,O$2,0))","v":"West"},{"$f":"IF($B2495=\"\",\"\",VLOOKUP($B2495,_tbl!$A:$E,P$2,0))","v":"Rural"},{"$f":"IF($B2495=\"\",\"\",VLOOKUP($B2495,_tbl!$A:$E,Q$2,0))","v":"Mental"},null,4.4525387649789003E-5,4.3673669062717399E-5]
[null,"all_f_West Rural mental.csv","60-64",6.4219158181994199E-5,6.4593441862555398E-5,6.4636417923526795E-5,6.4563619586477296E-5,6.4419461496265595E-5,6.4227851072931998E-5,6.4021810535278302E-5,6.3791866070164803E-5,6.3547940202746394E-5,6.3295699467957197E-5,{"$f":"IF($B2496=\"\",\"\",VLOOKUP($B2496,_tbl!$A:$E,N$2,0))","v":"Female"},{"$f":"IF($B2496=\"\",\"\",VLOOKUP($B2496,_tbl!$A:$E,O$2,0))","v":"West"},{"$f":"IF($B2496=\"\",\"\",VLOOKUP($B2496,_tbl!$A:$E,P$2,0))","v":"Rural"},{"$f":"IF($B2496=\"\",\"\",VLOOKUP($B2496,_tbl!$A:$E,Q$2,0))","v":"Mental"},null,6.4636417923526795E-5,6.3295699467957197E-5]
[null,"all_f_West Rural mental.csv","65-69",1.0606635943530601E-4,1.0604837139177301E-4,1.05633230947467E-4,1.05151986090933E-4,1.04599455336642E-4,1.04027659046504E-4,1.03431687302238E-4,1.02830694668508E-4,1.0222538432333E-4,1.01621389908036E-4,{"$f":"IF($B2497=\"\",\"\",VLOOKUP($B2497,_tbl!$A:$E,N$2,0))","v":"Female"},{"$f":"IF($B2497=\"\",\"\",VLOOKUP($B2497,_tbl!$A:$E,O$2,0))","v":"West"},{"$f":"IF($B2497=\"\",\"\",VLOOKUP($B2497,_tbl!$A:$E,P$2,0))","v":"Rural"},{"$f":"IF($B2497=\"\",\"\",VLOOKUP($B2497,_tbl!$A:$E,Q$2,0))","v":"Mental"},null,1.0606635943530601E-4,1.01621389908036E-4]
[null,"all_f_West Rural mental.csv","70-74",2.1019543011153001E-4,2.08475557519638E-4,2.0701622348130499E-4,2.0542551644500299E-4,2.0376939607322301E-4,2.0207562504693499E-4,2.0056977955969799E-4,1.98999453751379E-4,1.9742080197209099E-4,1.9589260396559501E-4,{"$f":"IF($B2498=\"\",\"\",VLOOKUP($B2498,_tbl!$A:$E,N$2,0))","v":"Female"},{"$f":"IF($B2498=\"\",\"\",VLOOKUP($B2498,_tbl!$A:$E,O$2,0))","v":"West"},{"$f":"IF($B2498=\"\",\"\",VLOOKUP($B2498,_tbl!$A:$E,P$2,0))","v":"Rural"},{"$f":"IF($B2498=\"\",\"\",VLOOKUP($B2498,_tbl!$A:$E,Q$2,0))","v":"Mental"},null,2.1019543011153001E-4,1.9589260396559501E-4]
[null,"all_f_West Rural mental.csv","75-79",5.1835731460771303E-4,5.1466620492449902E-4,5.1203754611269599E-4,5.0921202804255102E-4,5.0624217193604099E-4,5.0318103408476399E-4,5.0072406241872798E-4,4.9799120550040297E-4,4.9514849278837201E-4,4.92405716023596E-4,{"$f":"IF($B2499=\"\",\"\",VLOOKUP($B2499,_tbl!$A:$E,N$2,0))","v":"Female"},{"$f":"IF($B2499=\"\",\"\",VLOOKUP($B2499,_tbl!$A:$E,O$2,0))","v":"West"},{"$f":"IF($B2499=\"\",\"\",VLOOKUP($B2499,_tbl!$A:$E,P$2,0))","v":"Rural"},{"$f":"IF($B2499=\"\",\"\",VLOOKUP($B2499,_tbl!$A:$E,Q$2,0))","v":"Mental"},null,5.1835731460771303E-4,4.92405716023596E-4]
[null,"all_f_West Rural mental.csv","80-84",1.508898231965E-3,1.4889080185942201E-3,1.4812758387347099E-3,1.47342279359556E-3,1.46584458331561E-3,1.45783381958375E-3,1.45495656742938E-3,1.4490184388056299E-3,1.4414631664515E-3,1.4342439695149199E-3,{"$f":"IF($B2500=\"\",\"\",VLOOKUP($B2500,_tbl!$A:$E,N$2,0))","v":"Female"},{"$f":"IF($B2500=\"\",\"\",VLOOKUP($B2500,_tbl!$A:$E,O$2,0))","v":"West"},{"$f":"IF($B2500=\"\",\"\",VLOOKUP($B2500,_tbl!$A:$E,P$2,0))","v":"Rural"},{"$f":"IF($B2500=\"\",\"\",VLOOKUP($B2500,_tbl!$A:$E,Q$2,0))","v":"Mental"},null,1.508898231965E-3,1.4342439695149199E-3]
[null,"all_f_West Rural mental.csv","85+",4.2828787579633999E-3,4.2290915011599598E-3,4.2094055415769598E-3,4.2045261388813796E-3,4.2057316979432404E-3,4.2096203445485796E-3,4.2231249636340198E-3,4.23357005594457E-3,4.2422629163576704E-3,4.2517971777914802E-3,{"$f":"IF($B2501=\"\",\"\",VLOOKUP($B2501,_tbl!$A:$E,N$2,0))","v":"Female"},{"$f":"IF($B2501=\"\",\"\",VLOOKUP($B2501,_tbl!$A:$E,O$2,0))","v":"West"},{"$f":"IF($B2501=\"\",\"\",VLOOKUP($B2501,_tbl!$A:$E,P$2,0))","v":"Rural"},{"$f":"IF($B2501=\"\",\"\",VLOOKUP($B2501,_tbl!$A:$E,Q$2,0))","v":"Mental"},null,4.2828787579633999E-3,4.2045261388813796E-3]
[null,null,null,null,null,null,null,null,null,null,null,null,null,{"$f":"IF($B2502=\"\",\"\",VLOOKUP($B2502,_tbl!$A:$E,N$2,0))","v":""},{"$f":"IF($B2502=\"\",\"\",VLOOKUP($B2502,_tbl!$A:$E,O$2,0))","v":""},{"$f":"IF($B2502=\"\",\"\",VLOOKUP($B2502,_tbl!$A:$E,P$2,0))","v":""},{"$f":"IF($B2502=\"\",\"\",VLOOKUP($B2502,_tbl!$A:$E,Q$2,0))","v":""}]
[null,null,null,2020,2021,2022,2023,2024,2025,2026,2027,2028,2029,{"$f":"IF($B2503=\"\",\"\",VLOOKUP($B2503,_tbl!$A:$E,N$2,0))","v":""},{"$f":"IF($B2503=\"\",\"\",VLOOKUP($B2503,_tbl!$A:$E,O$2,0))","v":""},{"$f":"IF($B2503=\"\",\"\",VLOOKUP($B2503,_tbl!$A:$E,P$2,0))","v":""},{"$f":"IF($B2503=\"\",\"\",VLOOKUP($B2503,_tbl!$A:$E,Q$2,0))","v":""}]
[null,"all_f_West Rural other.csv","1-4",4.3160377218320402E-5,3.8509027666528702E-5,3.5088037118344897E-5,3.2959168457891903E-5,3.0950590644011002E-5,2.9069013080679198E-5,2.7299442080878998E-5,2.56388261157943E-5,2.4078586355919801E-5,2.2613625032705201E-5,{"$f":"IF($B2504=\"\",\"\",VLOOKUP($B2504,_tbl!$A:$E,N$2,0))","v":"Female"},{"$f":"IF($B2504=\"\",\"\",VLOOKUP($B2504,_tbl!$A:$E,O$2,0))","v":"West"},{"$f":"IF($B2504=\"\",\"\",VLOOKUP($B2504,_tbl!$A:$E,P$2,0))","v":"Rural"},{"$f":"IF($B2504=\"\",\"\",VLOOKUP($B2504,_tbl!$A:$E,Q$2,0))","v":"Other"},null,{"$f":"MAX(D2504:M2504)","v":4.3160377218320402E-5},{"$f":"MIN(D2504:M2504)","v":2.2613625032705201E-5}]
[null,"all_f_West Rural other.csv","5-9",2.4714678751064801E-5,2.4714678751064801E-5,2.4714678751064801E-5,2.4714678751064801E-5,2.4714678751064801E-5,2.4714678751064801E-5,2.4714678751064801E-5,2.4714678751064801E-5,2.4714678751064801E-5,2.4714678751064801E-5,{"$f":"IF($B2505=\"\",\"\",VLOOKUP($B2505,_tbl!$A:$E,N$2,0))","v":"Female"},{"$f":"IF($B2505=\"\",\"\",VLOOKUP($B2505,_tbl!$A:$E,O$2,0))","v":"West"},{"$f":"IF($B2505=\"\",\"\",VLOOKUP($B2505,_tbl!$A:$E,P$2,0))","v":"Rural"},{"$f":"IF($B2505=\"\",\"\",VLOOKUP($B2505,_tbl!$A:$E,Q$2,0))","v":"Other"},null,2.4714678751064801E-5,2.4714678751064801E-5]
[null,"all_f_West Rural other.csv","10-14",2.0257300529246701E-5,2.0449246563676099E-5,2.03592376579747E-5,1.9903553017475999E-5,1.9456050716798299E-5,1.9019697158006101E-5,1.8592543762400799E-5,1.8175299627578599E-5,1.7767248673981198E-5,1.73684506759939E-5,{"$f":"IF($B2506=\"\",\"\",VLOOKUP($B2506,_tbl!$A:$E,N$2,0))","v":"Female"},{"$f":"IF($B2506=\"\",\"\",VLOOKUP($B2506,_tbl!$A:$E,O$2,0))","v":"West"},{"$f":"IF($B2506=\"\",\"\",VLOOKUP($B2506,_tbl!$A:$E,P$2,0))","v":"Rural"},{"$f":"IF($B2506=\"\",\"\",VLOOKUP($B2506,_tbl!$A:$E,Q$2,0))","v":"Other"},null,2.0449246563676099E-5,1.73684506759939E-5]
[null,"all_f_West Rural other.csv","15-19",2.29399952932144E-5,2.15618802696679E-5,2.0238753591856101E-5,1.8995968662365201E-5,1.7824325077239E-5,1.6727623778595699E-5,1.5697015077207101E-5,1.4730620491374E-5,1.3823351328964999E-5,1.29721535875064E-5,{"$f":"IF($B2507=\"\",\"\",VLOOKUP($B2507,_tbl!$A:$E,N$2,0))","v":"Female"},{"$f":"IF($B2507=\"\",\"\",VLOOKUP($B2507,_tbl!$A:$E,O$2,0))","v":"West"},{"$f":"IF($B2507=\"\",\"\",VLOOKUP($B2507,_tbl!$A:$E,P$2,0))","v":"Rural"},{"$f":"IF($B2507=\"\",\"\",VLOOKUP($B2507,_tbl!$A:$E,Q$2,0))","v":"Other"},null,2.29399952932144E-5,1.29721535875064E-5]
[null,"all_f_West Rural other.csv","20-24",3.0668024027276403E-5,2.8867873314173398E-5,2.7003055551051801E-5,2.5095962856184899E-5,2.3315737330529501E-5,2.16658024896825E-5,2.0130571278708501E-5,1.8705178415574101E-5,1.7380174553981502E-5,1.6149305310106401E-5,{"$f":"IF($B2508=\"\",\"\",VLOOKUP($B2508,_tbl!$A:$E,N$2,0))","v":"Female"},{"$f":"IF($B2508=\"\",\"\",VLOOKUP($B2508,_tbl!$A:$E,O$2,0))","v":"West"},{"$f":"IF($B2508=\"\",\"\",VLOOKUP($B2508,_tbl!$A:$E,P$2,0))","v":"Rural"},{"$f":"IF($B2508=\"\",\"\",VLOOKUP($B2508,_tbl!$A:$E,Q$2,0))","v":"Other"},null,3.0668024027276403E-5,1.6149305310106401E-5]
[null,"all_f_West Rural other.csv","25-29",4.2913412306324899E-5,4.1181507643688998E-5,3.9083239021663402E-5,3.6603693666635601E-5,3.4271169424734798E-5,3.2092594340566302E-5,3.00497650263536E-5,2.8138387172711301E-5,2.6347854826669699E-5,2.46716374159263E-5,{"$f":"IF($B2509=\"\",\"\",VLOOKUP($B2509,_tbl!$A:$E,N$2,0))","v":"Female"},{"$f":"IF($B2509=\"\",\"\",VLOOKUP($B2509,_tbl!$A:$E,O$2,0))","v":"West"},{"$f":"IF($B2509=\"\",\"\",VLOOKUP($B2509,_tbl!$A:$E,P$2,0))","v":"Rural"},{"$f":"IF($B2509=\"\",\"\",VLOOKUP($B2509,_tbl!$A:$E,Q$2,0))","v":"Other"},null,4.2913412306324899E-5,2.46716374159263E-5]
[null,"all_f_West Rural other.csv","30-34",5.3795268983080197E-5,5.15584770638177E-5,4.90203888700224E-5,4.6180192033374399E-5,4.3492664810147399E-5,4.0967717243463897E-5,3.85861464655961E-5,3.6344689559435298E-5,3.4232572535000502E-5,3.22436476800498E-5,{"$f":"IF($B2510=\"\",\"\",VLOOKUP($B2510,_tbl!$A:$E,N$2,0))","v":"Female"},{"$f":"IF($B2510=\"\",\"\",VLOOKUP($B2510,_tbl!$A:$E,O$2,0))","v":"West"},{"$f":"IF($B2510=\"\",\"\",VLOOKUP($B2510,_tbl!$A:$E,P$2,0))","v":"Rural"},{"$f":"IF($B2510=\"\",\"\",VLOOKUP($B2510,_tbl!$A:$E,Q$2,0))","v":"Other"},null,5.3795268983080197E-5,3.22436476800498E-5]
[null,"all_f_West Rural other.csv","35-39",5.9807719098910699E-5,5.6911484433424301E-5,5.3938382687078598E-5,5.09256185709067E-5,4.80684811674264E-5,4.5378227486115203E-5,4.28351101470161E-5,4.0436301225542499E-5,3.8170898503122201E-5,3.6032896575282898E-5,{"$f":"IF($B2511=\"\",\"\",VLOOKUP($B2511,_tbl!$A:$E,N$2,0))","v":"Female"},{"$f":"IF($B2511=\"\",\"\",VLOOKUP($B2511,_tbl!$A:$E,O$2,0))","v":"West"},{"$f":"IF($B2511=\"\",\"\",VLOOKUP($B2511,_tbl!$A:$E,P$2,0))","v":"Rural"},{"$f":"IF($B2511=\"\",\"\",VLOOKUP($B2511,_tbl!$A:$E,Q$2,0))","v":"Other"},null,5.9807719098910699E-5,3.6032896575282898E-5]
[null,"all_f_West Rural other.csv","40-44",6.7404064985479204E-5,6.4322360473892203E-5,6.1158577562039698E-5,5.7952428441539703E-5,5.49008177600222E-5,5.2016969746063803E-5,4.9280909115245598E-5,4.6690694904900097E-5,4.4235613688376401E-5,4.1910152387808898E-5,{"$f":"IF($B2512=\"\",\"\",VLOOKUP($B2512,_tbl!$A:$E,N$2,0))","v":"Female"},{"$f":"IF($B2512=\"\",\"\",VLOOKUP($B2512,_tbl!$A:$E,O$2,0))","v":"West"},{"$f":"IF($B2512=\"\",\"\",VLOOKUP($B2512,_tbl!$A:$E,P$2,0))","v":"Rural"},{"$f":"IF($B2512=\"\",\"\",VLOOKUP($B2512,_tbl!$A:$E,Q$2,0))","v":"Other"},null,6.7404064985479204E-5,4.1910152387808898E-5]
[null,"all_f_West Rural other.csv","45-49",8.5505754943858704E-5,8.2256031773854496E-5,7.8775604624714598E-5,7.5086037041647804E-5,7.1553556326930403E-5,6.8195525036550606E-5,6.4990744801061198E-5,6.1938852323873401E-5,5.9029073657332898E-5,5.62566218218403E-5,{"$f":"IF($B2513=\"\",\"\",VLOOKUP($B2513,_tbl!$A:$E,N$2,0))","v":"Female"},{"$f":"IF($B2513=\"\",\"\",VLOOKUP($B2513,_tbl!$A:$E,O$2,0))","v":"West"},{"$f":"IF($B2513=\"\",\"\",VLOOKUP($B2513,_tbl!$A:$E,P$2,0))","v":"Rural"},{"$f":"IF($B2513=\"\",\"\",VLOOKUP($B2513,_tbl!$A:$E,Q$2,0))","v":"Other"},null,8.5505754943858704E-5,5.62566218218403E-5]
[null,"all_f_West Rural other.csv","50-54",1.18847733491685E-4,1.14763473874779E-4,1.1038488857655501E-4,1.05736879361629E-4,1.01264634397502E-4,9.6992084732905204E-5,9.2894235741929404E-5,8.89724582683933E-5,8.52146959520913E-5,8.1616463558888404E-5,{"$f":"IF($B2514=\"\",\"\",VLOOKUP($B2514,_tbl!$A:$E,N$2,0))","v":"Female"},{"$f":"IF($B2514=\"\",\"\",VLOOKUP($B2514,_tbl!$A:$E,O$2,0))","v":"West"},{"$f":"IF($B2514=\"\",\"\",VLOOKUP($B2514,_tbl!$A:$E,P$2,0))","v":"Rural"},{"$f":"IF($B2514=\"\",\"\",VLOOKUP($B2514,_tbl!$A:$E,Q$2,0))","v":"Other"},null,1.18847733491685E-4,8.1616463558888404E-5]
[null,"all_f_West Rural other.csv","55-59",1.64759977019331E-4,1.59013333989092E-4,1.5301216413762201E-4,1.46817363694891E-4,1.40846705895421E-4,1.3513296207204E-4,1.29643545273408E-4,1.2438107014066499E-4,1.19330119372313E-4,1.14485386563938E-4,{"$f":"IF($B2515=\"\",\"\",VLOOKUP($B2515,_tbl!$A:$E,N$2,0))","v":"Female"},{"$f":"IF($B2515=\"\",\"\",VLOOKUP($B2515,_tbl!$A:$E,O$2,0))","v":"West"},{"$f":"IF($B2515=\"\",\"\",VLOOKUP($B2515,_tbl!$A:$E,P$2,0))","v":"Rural"},{"$f":"IF($B2515=\"\",\"\",VLOOKUP($B2515,_tbl!$A:$E,Q$2,0))","v":"Other"},null,1.64759977019331E-4,1.14485386563938E-4]
[null,"all_f_West Rural other.csv","60-64",2.20249715896873E-4,2.1273565642519E-4,2.0473708727784199E-4,1.9630880968763499E-4,1.8819126289513301E-4,1.80428538585281E-4,1.72975891333445E-4,1.65836432802691E-4,1.589888188239E-4,1.5242544939837399E-4,{"$f":"IF($B2516=\"\",\"\",VLOOKUP($B2516,_tbl!$A:$E,N$2,0))","v":"Female"},{"$f":"IF($B2516=\"\",\"\",VLOOKUP($B2516,_tbl!$A:$E,O$2,0))","v":"West"},{"$f":"IF($B2516=\"\",\"\",VLOOKUP($B2516,_tbl!$A:$E,P$2,0))","v":"Rural"},{"$f":"IF($B2516=\"\",\"\",VLOOKUP($B2516,_tbl!$A:$E,Q$2,0))","v":"Other"},null,2.20249715896873E-4,1.5242544939837399E-4]
[null,"all_f_West Rural other.csv","65-69",3.0674808898012299E-4,2.9730368128463597E-4,2.8665719764546499E-4,2.7477610698061102E-4,2.6333640162535301E-4,2.5239994530670801E-4,2.41903420819019E-4,2.31850953061678E-4,2.2221223755122899E-4,2.1297633784740099E-4,{"$f":"IF($B2517=\"\",\"\",VLOOKUP($B2517,_tbl!$A:$E,N$2,0))","v":"Female"},{"$f":"IF($B2517=\"\",\"\",VLOOKUP($B2517,_tbl!$A:$E,O$2,0))","v":"West"},{"$f":"IF($B2517=\"\",\"\",VLOOKUP($B2517,_tbl!$A:$E,P$2,0))","v":"Rural"},{"$f":"IF($B2517=\"\",\"\",VLOOKUP($B2517,_tbl!$A:$E,Q$2,0))","v":"Other"},null,3.0674808898012299E-4,2.1297633784740099E-4]
[null,"all_f_West Rural other.csv","70-74",5.05845411529367E-4,4.9056688025804604E-4,4.7369909952903801E-4,4.5524574104005501E-4,4.3743164824910799E-4,4.2035681507831001E-4,4.03926129835405E-4,3.8814952612311698E-4,3.7298284828446302E-4,3.5841212562903198E-4,{"$f":"IF($B2518=\"\",\"\",VLOOKUP($B2518,_tbl!$A:$E,N$2,0))","v":"Female"},{"$f":"IF($B2518=\"\",\"\",VLOOKUP($B2518,_tbl!$A:$E,O$2,0))","v":"West"},{"$f":"IF($B2518=\"\",\"\",VLOOKUP($B2518,_tbl!$A:$E,P$2,0))","v":"Rural"},{"$f":"IF($B2518=\"\",\"\",VLOOKUP($B2518,_tbl!$A:$E,Q$2,0))","v":"Other"},null,5.05845411529367E-4,3.5841212562903198E-4]
[null,"all_f_West Rural other.csv","75-79",1.0642774603746999E-3,1.02318321827835E-3,9.8573576866639503E-4,9.5329176109997004E-4,9.2177432122295502E-4,8.9137423936518198E-4,8.6193657060296505E-4,8.3349250999934204E-4,8.0597568055233303E-4,7.7937338322649696E-4,{"$f":"IF($B2519=\"\",\"\",VLOOKUP($B2519,_tbl!$A:$E,N$2,0))","v":"Female"},{"$f":"IF($B2519=\"\",\"\",VLOOKUP($B2519,_tbl!$A:$E,O$2,0))","v":"West"},{"$f":"IF($B2519=\"\",\"\",VLOOKUP($B2519,_tbl!$A:$E,P$2,0))","v":"Rural"},{"$f":"IF($B2519=\"\",\"\",VLOOKUP($B2519,_tbl!$A:$E,Q$2,0))","v":"Other"},null,1.0642774603746999E-3,7.7937338322649696E-4]
[null,"all_f_West Rural other.csv","80-84",2.7560937927662201E-3,2.599475805564E-3,2.4866596442245899E-3,2.42674667988906E-3,2.3680127634344698E-3,2.3108426992918501E-3,2.2549762677965299E-3,2.2005016770908401E-3,2.1473208687694699E-3,2.0954372530763402E-3,{"$f":"IF($B2520=\"\",\"\",VLOOKUP($B2520,_tbl!$A:$E,N$2,0))","v":"Female"},{"$f":"IF($B2520=\"\",\"\",VLOOKUP($B2520,_tbl!$A:$E,O$2,0))","v":"West"},{"$f":"IF($B2520=\"\",\"\",VLOOKUP($B2520,_tbl!$A:$E,P$2,0))","v":"Rural"},{"$f":"IF($B2520=\"\",\"\",VLOOKUP($B2520,_tbl!$A:$E,Q$2,0))","v":"Other"},null,2.7560937927662201E-3,2.0954372530763402E-3]
[null,"all_f_West Rural other.csv","85+",7.8149633292340492E-3,7.1905873179722597E-3,6.81128907269092E-3,6.7157221589631399E-3,6.6210676820338803E-3,6.5279802605084499E-3,6.43607490998248E-3,6.3455323424019697E-3,6.2562260735409703E-3,6.1681970552007297E-3,{"$f":"IF($B2521=\"\",\"\",VLOOKUP($B2521,_tbl!$A:$E,N$2,0))","v":"Female"},{"$f":"IF($B2521=\"\",\"\",VLOOKUP($B2521,_tbl!$A:$E,O$2,0))","v":"West"},{"$f":"IF($B2521=\"\",\"\",VLOOKUP($B2521,_tbl!$A:$E,P$2,0))","v":"Rural"},{"$f":"IF($B2521=\"\",\"\",VLOOKUP($B2521,_tbl!$A:$E,Q$2,0))","v":"Other"},null,7.8149633292340492E-3,6.1681970552007297E-3]
[null,null,null,null,null,null,null,null,null,null,null,null,null,{"$f":"IF($B2522=\"\",\"\",VLOOKUP($B2522,_tbl!$A:$E,N$2,0))","v":""},{"$f":"IF($B2522=\"\",\"\",VLOOKUP($B2522,_tbl!$A:$E,O$2,0))","v":""},{"$f":"IF($B2522=\"\",\"\",VLOOKUP($B2522,_tbl!$A:$E,P$2,0))","v":""},{"$f":"IF($B2522=\"\",\"\",VLOOKUP($B2522,_tbl!$A:$E,Q$2,0))","v":""}]
[null,null,null,2020,2021,2022,2023,2024,2025,2026,2027,2028,2029,{"$f":"IF($B2523=\"\",\"\",VLOOKUP($B2523,_tbl!$A:$E,N$2,0))","v":""},{"$f":"IF($B2523=\"\",\"\",VLOOKUP($B2523,_tbl!$A:$E,O$2,0))","v":""},{"$f":"IF($B2523=\"\",\"\",VLOOKUP($B2523,_tbl!$A:$E,P$2,0))","v":""},{"$f":"IF($B2523=\"\",\"\",VLOOKUP($B2523,_tbl!$A:$E,Q$2,0))","v":""}]
[null,"all_f_West Rural respiratory.csv","1-4",5.4337691415324298E-6,5.8604447078051602E-6,5.5190423070183504E-6,5.19752843092111E-6,4.8947444660607501E-6,4.6095992944450998E-6,4.3410653615692001E-6,4.0881749735004701E-6,3.8500168096787502E-6,3.6257326388643301E-6,{"$f":"IF($B2524=\"\",\"\",VLOOKUP($B2524,_tbl!$A:$E,N$2,0))","v":"Female"},{"$f":"IF($B2524=\"\",\"\",VLOOKUP($B2524,_tbl!$A:$E,O$2,0))","v":"West"},{"$f":"IF($B2524=\"\",\"\",VLOOKUP($B2524,_tbl!$A:$E,P$2,0))","v":"Rural"},{"$f":"IF($B2524=\"\",\"\",VLOOKUP($B2524,_tbl!$A:$E,Q$2,0))","v":"Respiratory"},null,{"$f":"MAX(D2524:M2524)","v":5.8604447078051602E-6},{"$f":"MIN(D2524:M2524)","v":3.6257326388643301E-6}]
[null,"all_f_West Rural respiratory.csv","5-9",3.8512830379792498E-6,3.9268744712212898E-6,3.7512801888189302E-6,3.5835377876616802E-6,3.4232961627007302E-6,3.2702199089153202E-6,3.1239886192695102E-6,2.9842962140617902E-6,2.8508503002632602E-6,2.72337155950394E-6,{"$f":"IF($B2525=\"\",\"\",VLOOKUP($B2525,_tbl!$A:$E,N$2,0))","v":"Female"},{"$f":"IF($B2525=\"\",\"\",VLOOKUP($B2525,_tbl!$A:$E,O$2,0))","v":"West"},{"$f":"IF($B2525=\"\",\"\",VLOOKUP($B2525,_tbl!$A:$E,P$2,0))","v":"Rural"},{"$f":"IF($B2525=\"\",\"\",VLOOKUP($B2525,_tbl!$A:$E,Q$2,0))","v":"Respiratory"},null,3.9268744712212898E-6,2.72337155950394E-6]
[null,"all_f_West Rural respiratory.csv","10-14",3.3889065393287E-6,3.36456755728805E-6,3.19715274116549E-6,3.03806818448345E-6,2.8868993885496801E-6,2.7432524793796001E-6,2.6067531814480602E-6,2.4770458425052901E-6,2.3537925069163299E-6,2.2366720351093401E-6,{"$f":"IF($B2526=\"\",\"\",VLOOKUP($B2526,_tbl!$A:$E,N$2,0))","v":"Female"},{"$f":"IF($B2526=\"\",\"\",VLOOKUP($B2526,_tbl!$A:$E,O$2,0))","v":"West"},{"$f":"IF($B2526=\"\",\"\",VLOOKUP($B2526,_tbl!$A:$E,P$2,0))","v":"Rural"},{"$f":"IF($B2526=\"\",\"\",VLOOKUP($B2526,_tbl!$A:$E,Q$2,0))","v":"Respiratory"},null,3.3889065393287E-6,2.2366720351093401E-6]
[null,"all_f_West Rural respiratory.csv","15-19",3.4281089340322299E-6,3.3332442034213498E-6,3.12115066304564E-6,2.9225525844854601E-6,2.73659125469707E-6,2.5624626003446102E-6,2.39941371108843E-6,2.2467395840957499E-6,2.1037800756972999E-6,1.9699170470093598E-6,{"$f":"IF($B2527=\"\",\"\",VLOOKUP($B2527,_tbl!$A:$E,N$2,0))","v":"Female"},{"$f":"IF($B2527=\"\",\"\",VLOOKUP($B2527,_tbl!$A:$E,O$2,0))","v":"West"},{"$f":"IF($B2527=\"\",\"\",VLOOKUP($B2527,_tbl!$A:$E,P$2,0))","v":"Rural"},{"$f":"IF($B2527=\"\",\"\",VLOOKUP($B2527,_tbl!$A:$E,Q$2,0))","v":"Respiratory"},null,3.4281089340322299E-6,1.9699170470093598E-6]
[null,"all_f_West Rural respiratory.csv","20-24",4.1201169663771402E-6,3.9033869214980597E-6,3.61808645605919E-6,3.35363874163286E-6,3.1085196404153702E-6,2.8813164145829699E-6,2.6707195840126301E-6,2.4755153791261002E-6,2.2945787453591499E-6,2.1268668589377402E-6,{"$f":"IF($B2528=\"\",\"\",VLOOKUP($B2528,_tbl!$A:$E,N$2,0))","v":"Female"},{"$f":"IF($B2528=\"\",\"\",VLOOKUP($B2528,_tbl!$A:$E,O$2,0))","v":"West"},{"$f":"IF($B2528=\"\",\"\",VLOOKUP($B2528,_tbl!$A:$E,P$2,0))","v":"Rural"},{"$f":"IF($B2528=\"\",\"\",VLOOKUP($B2528,_tbl!$A:$E,Q$2,0))","v":"Respiratory"},null,4.1201169663771402E-6,2.1268668589377402E-6]
[null,"all_f_West Rural respiratory.csv","25-29",5.9619232558150598E-6,5.5026537163412697E-6,5.0938320205449403E-6,4.7153838840473502E-6,4.3650526920113899E-6,4.0407494856350002E-6,3.7405405060839801E-6,3.4626356638528902E-6,3.2053778647990799E-6,2.9672331292029401E-6,{"$f":"IF($B2529=\"\",\"\",VLOOKUP($B2529,_tbl!$A:$E,N$2,0))","v":"Female"},{"$f":"IF($B2529=\"\",\"\",VLOOKUP($B2529,_tbl!$A:$E,O$2,0))","v":"West"},{"$f":"IF($B2529=\"\",\"\",VLOOKUP($B2529,_tbl!$A:$E,P$2,0))","v":"Rural"},{"$f":"IF($B2529=\"\",\"\",VLOOKUP($B2529,_tbl!$A:$E,Q$2,0))","v":"Respiratory"},null,5.9619232558150598E-6,2.9672331292029401E-6]
[null,"all_f_West Rural respiratory.csv","30-34",9.6323722632317408E-6,8.6806044548139197E-6,8.0531844940357195E-6,7.4711134267858498E-6,6.9311135088534E-6,6.4301439060439596E-6,5.9653835707091301E-6,5.5342153559328401E-6,5.13421127791821E-6,4.7631188435852498E-6,{"$f":"IF($B2530=\"\",\"\",VLOOKUP($B2530,_tbl!$A:$E,N$2,0))","v":"Female"},{"$f":"IF($B2530=\"\",\"\",VLOOKUP($B2530,_tbl!$A:$E,O$2,0))","v":"West"},{"$f":"IF($B2530=\"\",\"\",VLOOKUP($B2530,_tbl!$A:$E,P$2,0))","v":"Rural"},{"$f":"IF($B2530=\"\",\"\",VLOOKUP($B2530,_tbl!$A:$E,Q$2,0))","v":"Respiratory"},null,9.6323722632317408E-6,4.7631188435852498E-6]
[null,"all_f_West Rural respiratory.csv","35-39",1.6140373786581902E-5,1.42458230943169E-5,1.32146040783915E-5,1.22580323925478E-5,1.1370704505816701E-5,1.0547608035136499E-5,9.7840934311471708E-6,9.0758477135785804E-6,8.4188701078677006E-6,7.8094494453787608E-6,{"$f":"IF($B2531=\"\",\"\",VLOOKUP($B2531,_tbl!$A:$E,N$2,0))","v":"Female"},{"$f":"IF($B2531=\"\",\"\",VLOOKUP($B2531,_tbl!$A:$E,O$2,0))","v":"West"},{"$f":"IF($B2531=\"\",\"\",VLOOKUP($B2531,_tbl!$A:$E,P$2,0))","v":"Rural"},{"$f":"IF($B2531=\"\",\"\",VLOOKUP($B2531,_tbl!$A:$E,Q$2,0))","v":"Respiratory"},null,1.6140373786581902E-5,7.8094494453787608E-6]
[null,"all_f_West Rural respiratory.csv","40-44",2.7966508235038699E-5,2.43423804890528E-5,2.24977387595645E-5,2.0792882171948501E-5,1.92172179451914E-5,1.7760956008840799E-5,1.6415048174385299E-5,1.5171131916168501E-5,1.40214784125303E-5,1.29589445243387E-5,{"$f":"IF($B2532=\"\",\"\",VLOOKUP($B2532,_tbl!$A:$E,N$2,0))","v":"Female"},{"$f":"IF($B2532=\"\",\"\",VLOOKUP($B2532,_tbl!$A:$E,O$2,0))","v":"West"},{"$f":"IF($B2532=\"\",\"\",VLOOKUP($B2532,_tbl!$A:$E,P$2,0))","v":"Rural"},{"$f":"IF($B2532=\"\",\"\",VLOOKUP($B2532,_tbl!$A:$E,Q$2,0))","v":"Respiratory"},null,2.7966508235038699E-5,1.29589445243387E-5]
[null,"all_f_West Rural respiratory.csv","45-49",5.1976648632782602E-5,4.5069979473350698E-5,4.1435058996690202E-5,3.8093297004369702E-5,3.5021050091398202E-5,3.2196581707367803E-5,2.95999083675056E-5,2.7212658266894E-5,2.5017941297537801E-5,2.3000229548632201E-5,{"$f":"IF($B2533=\"\",\"\",VLOOKUP($B2533,_tbl!$A:$E,N$2,0))","v":"Female"},{"$f":"IF($B2533=\"\",\"\",VLOOKUP($B2533,_tbl!$A:$E,O$2,0))","v":"West"},{"$f":"IF($B2533=\"\",\"\",VLOOKUP($B2533,_tbl!$A:$E,P$2,0))","v":"Rural"},{"$f":"IF($B2533=\"\",\"\",VLOOKUP($B2533,_tbl!$A:$E,Q$2,0))","v":"Respiratory"},null,5.1976648632782602E-5,2.3000229548632201E-5]
[null,"all_f_West Rural respiratory.csv","50-54",1.05207357829633E-4,9.1659439174763001E-5,8.3883572631527804E-5,7.6767366468528204E-5,7.0254858843462394E-5,6.4294835399079196E-5,5.8840426513494803E-5,5.3848738717504597E-5,4.9280517380359898E-5,4.5099838011368499E-5,{"$f":"IF($B2534=\"\",\"\",VLOOKUP($B2534,_tbl!$A:$E,N$2,0))","v":"Female"},{"$f":"IF($B2534=\"\",\"\",VLOOKUP($B2534,_tbl!$A:$E,O$2,0))","v":"West"},{"$f":"IF($B2534=\"\",\"\",VLOOKUP($B2534,_tbl!$A:$E,P$2,0))","v":"Rural"},{"$f":"IF($B2534=\"\",\"\",VLOOKUP($B2534,_tbl!$A:$E,Q$2,0))","v":"Respiratory"},null,1.05207357829633E-4,4.5099838011368499E-5]
[null,"all_f_West Rural respiratory.csv","55-59",2.2682671938189199E-4,1.9931927895038999E-4,1.8203170949150101E-4,1.66243543699782E-4,1.5182473371845001E-4,1.3865651113829401E-4,1.2663040869675799E-4,1.1564736682805099E-4,1.05616917704887E-4,9.6456440050784101E-5,{"$f":"IF($B2535=\"\",\"\",VLOOKUP($B2535,_tbl!$A:$E,N$2,0))","v":"Female"},{"$f":"IF($B2535=\"\",\"\",VLOOKUP($B2535,_tbl!$A:$E,O$2,0))","v":"West"},{"$f":"IF($B2535=\"\",\"\",VLOOKUP($B2535,_tbl!$A:$E,P$2,0))","v":"Rural"},{"$f":"IF($B2535=\"\",\"\",VLOOKUP($B2535,_tbl!$A:$E,Q$2,0))","v":"Respiratory"},null,2.2682671938189199E-4,9.6456440050784101E-5]
[null,"all_f_West Rural respiratory.csv","60-64",5.0467347196806801E-4,4.4786901784543698E-4,4.0981218375706199E-4,3.7498915813304003E-4,3.4312515413325201E-4,3.1396873441657597E-4,2.8728982706078198E-4,2.6287791007592999E-4,2.40540350185349E-4,2.2010088276560699E-4,{"$f":"IF($B2536=\"\",\"\",VLOOKUP($B2536,_tbl!$A:$E,N$2,0))","v":"Female"},{"$f":"IF($B2536=\"\",\"\",VLOOKUP($B2536,_tbl!$A:$E,O$2,0))","v":"West"},{"$f":"IF($B2536=\"\",\"\",VLOOKUP($B2536,_tbl!$A:$E,P$2,0))","v":"Rural"},{"$f":"IF($B2536=\"\",\"\",VLOOKUP($B2536,_tbl!$A:$E,Q$2,0))","v":"Respiratory"},null,5.0467347196806801E-4,2.2010088276560699E-4]
[null,"all_f_West Rural respiratory.csv","65-69",1.14456737178599E-3,1.0292122829680299E-3,9.4874105658059201E-4,8.7456165004748095E-4,8.0618212359275399E-4,7.4314900083400097E-4,6.8504426143732805E-4,6.3148256890819599E-4,5.8210871513354897E-4,5.3659526472803296E-4,{"$f":"IF($B2537=\"\",\"\",VLOOKUP($B2537,_tbl!$A:$E,N$2,0))","v":"Female"},{"$f":"IF($B2537=\"\",\"\",VLOOKUP($B2537,_tbl!$A:$E,O$2,0))","v":"West"},{"$f":"IF($B2537=\"\",\"\",VLOOKUP($B2537,_tbl!$A:$E,P$2,0))","v":"Rural"},{"$f":"IF($B2537=\"\",\"\",VLOOKUP($B2537,_tbl!$A:$E,Q$2,0))","v":"Respiratory"},null,1.14456737178599E-3,5.3659526472803296E-4]
[null,"all_f_West Rural respiratory.csv","70-74",2.6665689410988202E-3,2.44839406548955E-3,2.2881294151245999E-3,2.13835521583475E-3,1.9983847936497399E-3,1.86757642225105E-3,1.7453303808312201E-3,1.6310862045371001E-3,1.5243201148909199E-3,1.4245426184083801E-3,{"$f":"IF($B2538=\"\",\"\",VLOOKUP($B2538,_tbl!$A:$E,N$2,0))","v":"Female"},{"$f":"IF($B2538=\"\",\"\",VLOOKUP($B2538,_tbl!$A:$E,O$2,0))","v":"West"},{"$f":"IF($B2538=\"\",\"\",VLOOKUP($B2538,_tbl!$A:$E,P$2,0))","v":"Rural"},{"$f":"IF($B2538=\"\",\"\",VLOOKUP($B2538,_tbl!$A:$E,Q$2,0))","v":"Respiratory"},null,2.6665689410988202E-3,1.4245426184083801E-3]
[null,"all_f_West Rural respiratory.csv","75-79",6.4301459505497101E-3,6.0906066454906602E-3,5.8044922549815104E-3,5.5318184705106799E-3,5.2719539016389998E-3,5.0242968183373598E-3,4.7882737576493096E-3,4.5633381958075196E-3,4.3489692827293298E-3,4.1446706359611401E-3,{"$f":"IF($B2539=\"\",\"\",VLOOKUP($B2539,_tbl!$A:$E,N$2,0))","v":"Female"},{"$f":"IF($B2539=\"\",\"\",VLOOKUP($B2539,_tbl!$A:$E,O$2,0))","v":"West"},{"$f":"IF($B2539=\"\",\"\",VLOOKUP($B2539,_tbl!$A:$E,P$2,0))","v":"Rural"},{"$f":"IF($B2539=\"\",\"\",VLOOKUP($B2539,_tbl!$A:$E,Q$2,0))","v":"Respiratory"},null,6.4301459505497101E-3,4.1446706359611401E-3]
[null,"all_f_West Rural respiratory.csv","80-84",1.5889387952999701E-2,1.56588635866548E-2,1.5278904098686199E-2,1.49081642588547E-2,1.4546420354068799E-2,1.41934540995944E-2,1.38490525073368E-2,1.35130077573191E-2,1.3185117072278501E-2,1.28651825953054E-2,{"$f":"IF($B2540=\"\",\"\",VLOOKUP($B2540,_tbl!$A:$E,N$2,0))","v":"Female"},{"$f":"IF($B2540=\"\",\"\",VLOOKUP($B2540,_tbl!$A:$E,O$2,0))","v":"West"},{"$f":"IF($B2540=\"\",\"\",VLOOKUP($B2540,_tbl!$A:$E,P$2,0))","v":"Rural"},{"$f":"IF($B2540=\"\",\"\",VLOOKUP($B2540,_tbl!$A:$E,Q$2,0))","v":"Respiratory"},null,1.5889387952999701E-2,1.28651825953054E-2]
[null,"all_f_West Rural respiratory.csv","85+",3.9212220088535601E-2,4.0353623456144801E-2,4.0369731176953298E-2,4.0385845327387003E-2,4.0401965910012202E-2,4.0418092927396503E-2,4.0434226382108397E-2,4.04503662767174E-2,4.0466512613794102E-2,4.0482665395910201E-2,{"$f":"IF($B2541=\"\",\"\",VLOOKUP($B2541,_tbl!$A:$E,N$2,0))","v":"Female"},{"$f":"IF($B2541=\"\",\"\",VLOOKUP($B2541,_tbl!$A:$E,O$2,0))","v":"West"},{"$f":"IF($B2541=\"\",\"\",VLOOKUP($B2541,_tbl!$A:$E,P$2,0))","v":"Rural"},{"$f":"IF($B2541=\"\",\"\",VLOOKUP($B2541,_tbl!$A:$E,Q$2,0))","v":"Respiratory"},null,4.0482665395910201E-2,3.9212220088535601E-2]
[null,null,null,null,null,null,null,null,null,null,null,null,null,{"$f":"IF($B2542=\"\",\"\",VLOOKUP($B2542,_tbl!$A:$E,N$2,0))","v":""},{"$f":"IF($B2542=\"\",\"\",VLOOKUP($B2542,_tbl!$A:$E,O$2,0))","v":""},{"$f":"IF($B2542=\"\",\"\",VLOOKUP($B2542,_tbl!$A:$E,P$2,0))","v":""},{"$f":"IF($B2542=\"\",\"\",VLOOKUP($B2542,_tbl!$A:$E,Q$2,0))","v":""}]
[null,null,null,2020,2021,2022,2023,2024,2025,2026,2027,2028,2029,{"$f":"IF($B2543=\"\",\"\",VLOOKUP($B2543,_tbl!$A:$E,N$2,0))","v":""},{"$f":"IF($B2543=\"\",\"\",VLOOKUP($B2543,_tbl!$A:$E,O$2,0))","v":""},{"$f":"IF($B2543=\"\",\"\",VLOOKUP($B2543,_tbl!$A:$E,P$2,0))","v":""},{"$f":"IF($B2543=\"\",\"\",VLOOKUP($B2543,_tbl!$A:$E,Q$2,0))","v":""}]
[null,"all_f_West Rural.csv","1-4",5.0170262311786105E-4,4.7544496921864501E-4,4.4925874510703799E-4,4.2547240130628397E-4,4.0357001276622901E-4,3.8380607453432E-4,3.65828565895863E-4,3.4940208158952503E-4,3.34186592943037E-4,3.2002502025854201E-4,{"$f":"IF($B2544=\"\",\"\",VLOOKUP($B2544,_tbl!$A:$E,N$2,0))","v":"Female"},{"$f":"IF($B2544=\"\",\"\",VLOOKUP($B2544,_tbl!$A:$E,O$2,0))","v":"West"},{"$f":"IF($B2544=\"\",\"\",VLOOKUP($B2544,_tbl!$A:$E,P$2,0))","v":"Rural"},{"$f":"IF($B2544=\"\",\"\",VLOOKUP($B2544,_tbl!$A:$E,Q$2,0))","v":"Total"},null,{"$f":"MAX(D2544:M2544)","v":5.0170262311786105E-4},{"$f":"MIN(D2544:M2544)","v":3.2002502025854201E-4}]
[null,"all_f_West Rural.csv","5-9",2.9783702175705998E-4,2.8975520208461602E-4,2.8192933577788899E-4,2.7445259433527902E-4,2.6730584794712399E-4,2.6048661194750302E-4,2.5391962682602502E-4,2.47575094212645E-4,2.4141396532358501E-4,2.3543482223421501E-4,{"$f":"IF($B2545=\"\",\"\",VLOOKUP($B2545,_tbl!$A:$E,N$2,0))","v":"Female"},{"$f":"IF($B2545=\"\",\"\",VLOOKUP($B2545,_tbl!$A:$E,O$2,0))","v":"West"},{"$f":"IF($B2545=\"\",\"\",VLOOKUP($B2545,_tbl!$A:$E,P$2,0))","v":"Rural"},{"$f":"IF($B2545=\"\",\"\",VLOOKUP($B2545,_tbl!$A:$E,Q$2,0))","v":"Total"},null,2.9783702175705998E-4,2.3543482223421501E-4]
[null,"all_f_West Rural.csv","10-14",2.3377448650028501E-4,2.2749981339531899E-4,2.2117326092845399E-4,2.15087034151193E-4,2.0942098580827901E-4,2.0406269954070501E-4,1.98916977586473E-4,1.93929146386283E-4,1.8908667043734601E-4,1.84387215626521E-4,{"$f":"IF($B2546=\"\",\"\",VLOOKUP($B2546,_tbl!$A:$E,N$2,0))","v":"Female"},{"$f":"IF($B2546=\"\",\"\",VLOOKUP($B2546,_tbl!$A:$E,O$2,0))","v":"West"},{"$f":"IF($B2546=\"\",\"\",VLOOKUP($B2546,_tbl!$A:$E,P$2,0))","v":"Rural"},{"$f":"IF($B2546=\"\",\"\",VLOOKUP($B2546,_tbl!$A:$E,Q$2,0))","v":"Total"},null,2.3377448650028501E-4,1.84387215626521E-4]
[null,"all_f_West Rural.csv","15-19",2.4901416600419502E-4,2.4183696880792599E-4,2.3413967939983101E-4,2.2696423907252501E-4,2.20082136493356E-4,2.1374027580190001E-4,2.07774514312018E-4,2.0224502287469499E-4,1.9704602379077101E-4,1.9216259215452101E-4,{"$f":"IF($B2547=\"\",\"\",VLOOKUP($B2547,_tbl!$A:$E,N$2,0))","v":"Female"},{"$f":"IF($B2547=\"\",\"\",VLOOKUP($B2547,_tbl!$A:$E,O$2,0))","v":"West"},{"$f":"IF($B2547=\"\",\"\",VLOOKUP($B2547,_tbl!$A:$E,P$2,0))","v":"Rural"},{"$f":"IF($B2547=\"\",\"\",VLOOKUP($B2547,_tbl!$A:$E,Q$2,0))","v":"Total"},null,2.4901416600419502E-4,1.9216259215452101E-4]
[null,"all_f_West Rural.csv","20-24",3.0975642332201802E-4,3.0165836550745498E-4,2.9252301048538599E-4,2.8392056419469802E-4,2.7559966343197799E-4,2.6806815520388598E-4,2.6105492792146399E-4,2.5468003071547901E-4,2.48754757935362E-4,2.4324748796752401E-4,{"$f":"IF($B2548=\"\",\"\",VLOOKUP($B2548,_tbl!$A:$E,N$2,0))","v":"Female"},{"$f":"IF($B2548=\"\",\"\",VLOOKUP($B2548,_tbl!$A:$E,O$2,0))","v":"West"},{"$f":"IF($B2548=\"\",\"\",VLOOKUP($B2548,_tbl!$A:$E,P$2,0))","v":"Rural"},{"$f":"IF($B2548=\"\",\"\",VLOOKUP($B2548,_tbl!$A:$E,Q$2,0))","v":"Total"},null,3.0975642332201802E-4,2.4324748796752401E-4]
[null,"all_f_West Rural.csv","25-29",4.0502274559034202E-4,3.9508319442918999E-4,3.8436575677981499E-4,3.7388420491474202E-4,3.6391968438866199E-4,3.54751591171374E-4,3.4617014078368303E-4,3.3823267770779401E-4,3.3079500929538498E-4,3.23808452256774E-4,{"$f":"IF($B2549=\"\",\"\",VLOOKUP($B2549,_tbl!$A:$E,N$2,0))","v":"Female"},{"$f":"IF($B2549=\"\",\"\",VLOOKUP($B2549,_tbl!$A:$E,O$2,0))","v":"West"},{"$f":"IF($B2549=\"\",\"\",VLOOKUP($B2549,_tbl!$A:$E,P$2,0))","v":"Rural"},{"$f":"IF($B2549=\"\",\"\",VLOOKUP($B2549,_tbl!$A:$E,Q$2,0))","v":"Total"},null,4.0502274559034202E-4,3.23808452256774E-4]
[null,"all_f_West Rural.csv","30-34",5.3955527602635904E-4,5.2766498357666701E-4,5.1502195060240295E-4,5.0303216944381796E-4,4.9165621788011503E-4,4.8117095755804902E-4,4.7125583614232401E-4,4.6206183737615002E-4,4.5344310019489398E-4,4.4535201278535902E-4,{"$f":"IF($B2550=\"\",\"\",VLOOKUP($B2550,_tbl!$A:$E,N$2,0))","v":"Female"},{"$f":"IF($B2550=\"\",\"\",VLOOKUP($B2550,_tbl!$A:$E,O$2,0))","v":"West"},{"$f":"IF($B2550=\"\",\"\",VLOOKUP($B2550,_tbl!$A:$E,P$2,0))","v":"Rural"},{"$f":"IF($B2550=\"\",\"\",VLOOKUP($B2550,_tbl!$A:$E,Q$2,0))","v":"Total"},null,5.3955527602635904E-4,4.4535201278535902E-4]
[null,"all_f_West Rural.csv","35-39",7.5334611527585397E-4,7.3775793287514401E-4,7.2136382127954701E-4,7.0705116262843003E-4,6.9307196954434202E-4,6.8027148303341305E-4,6.6774111284071097E-4,6.5617038907079704E-4,6.4528923531303605E-4,6.3508468050241696E-4,{"$f":"IF($B2551=\"\",\"\",VLOOKUP($B2551,_tbl!$A:$E,N$2,0))","v":"Female"},{"$f":"IF($B2551=\"\",\"\",VLOOKUP($B2551,_tbl!$A:$E,O$2,0))","v":"West"},{"$f":"IF($B2551=\"\",\"\",VLOOKUP($B2551,_tbl!$A:$E,P$2,0))","v":"Rural"},{"$f":"IF($B2551=\"\",\"\",VLOOKUP($B2551,_tbl!$A:$E,Q$2,0))","v":"Total"},null,7.5334611527585397E-4,6.3508468050241696E-4]
[null,"all_f_West Rural.csv","40-44",1.09914648004495E-3,1.0730397414056301E-3,1.0459537243056199E-3,1.0228063047887099E-3,9.9952564538742191E-4,9.7802708938888499E-4,9.5647911159007896E-4,9.3641332048548698E-4,9.1732186672615701E-4,8.9923736039388801E-4,{"$f":"IF($B2552=\"\",\"\",VLOOKUP($B2552,_tbl!$A:$E,N$2,0))","v":"Female"},{"$f":"IF($B2552=\"\",\"\",VLOOKUP($B2552,_tbl!$A:$E,O$2,0))","v":"West"},{"$f":"IF($B2552=\"\",\"\",VLOOKUP($B2552,_tbl!$A:$E,P$2,0))","v":"Rural"},{"$f":"IF($B2552=\"\",\"\",VLOOKUP($B2552,_tbl!$A:$E,Q$2,0))","v":"Total"},null,1.09914648004495E-3,8.9923736039388801E-4]
[null,"all_f_West Rural.csv","45-49",1.71416465136214E-3,1.6758475276349601E-3,1.6331253605181399E-3,1.5977912354920201E-3,1.5613920437658399E-3,1.52815883232369E-3,1.4941514868397E-3,1.46268041662336E-3,1.43260076446809E-3,1.4039696964496999E-3,{"$f":"IF($B2553=\"\",\"\",VLOOKUP($B2553,_tbl!$A:$E,N$2,0))","v":"Female"},{"$f":"IF($B2553=\"\",\"\",VLOOKUP($B2553,_tbl!$A:$E,O$2,0))","v":"West"},{"$f":"IF($B2553=\"\",\"\",VLOOKUP($B2553,_tbl!$A:$E,P$2,0))","v":"Rural"},{"$f":"IF($B2553=\"\",\"\",VLOOKUP($B2553,_tbl!$A:$E,Q$2,0))","v":"Total"},null,1.71416465136214E-3,1.4039696964496999E-3]
[null,"all_f_West Rural.csv","50-54",2.6575833602961898E-3,2.5972458971197298E-3,2.54839660638808E-3,2.49215452660945E-3,2.4370405867012099E-3,2.3799880141871402E-3,2.3258105542154702E-3,2.2715398476511701E-3,2.2187312169254301E-3,2.1673732729971598E-3,{"$f":"IF($B2554=\"\",\"\",VLOOKUP($B2554,_tbl!$A:$E,N$2,0))","v":"Female"},{"$f":"IF($B2554=\"\",\"\",VLOOKUP($B2554,_tbl!$A:$E,O$2,0))","v":"West"},{"$f":"IF($B2554=\"\",\"\",VLOOKUP($B2554,_tbl!$A:$E,P$2,0))","v":"Rural"},{"$f":"IF($B2554=\"\",\"\",VLOOKUP($B2554,_tbl!$A:$E,Q$2,0))","v":"Total"},null,2.6575833602961898E-3,2.1673732729971598E-3]
[null,"all_f_West Rural.csv","55-59",4.17414088107436E-3,4.0617136503485196E-3,3.9669257110763103E-3,3.8592381323762398E-3,3.7530156983946799E-3,3.64398887244527E-3,3.54169432542997E-3,3.4393611567351198E-3,3.3396184297556802E-3,3.24292064943481E-3,{"$f":"IF($B2555=\"\",\"\",VLOOKUP($B2555,_tbl!$A:$E,N$2,0))","v":"Female"},{"$f":"IF($B2555=\"\",\"\",VLOOKUP($B2555,_tbl!$A:$E,O$2,0))","v":"West"},{"$f":"IF($B2555=\"\",\"\",VLOOKUP($B2555,_tbl!$A:$E,P$2,0))","v":"Rural"},{"$f":"IF($B2555=\"\",\"\",VLOOKUP($B2555,_tbl!$A:$E,Q$2,0))","v":"Total"},null,4.17414088107436E-3,3.24292064943481E-3]
[null,"all_f_West Rural.csv","60-64",6.5634187374160498E-3,6.3779452602182197E-3,6.22347675456287E-3,6.0464511183855301E-3,5.8692988108186E-3,5.6868279429902798E-3,5.51827971614848E-3,5.3482146222502301E-3,5.1817550965845404E-3,5.0208783112164401E-3,{"$f":"IF($B2556=\"\",\"\",VLOOKUP($B2556,_tbl!$A:$E,N$2,0))","v":"Female"},{"$f":"IF($B2556=\"\",\"\",VLOOKUP($B2556,_tbl!$A:$E,O$2,0))","v":"West"},{"$f":"IF($B2556=\"\",\"\",VLOOKUP($B2556,_tbl!$A:$E,P$2,0))","v":"Rural"},{"$f":"IF($B2556=\"\",\"\",VLOOKUP($B2556,_tbl!$A:$E,Q$2,0))","v":"Total"},null,6.5634187374160498E-3,5.0208783112164401E-3]
[null,"all_f_West Rural.csv","65-69",1.09920753425301E-2,1.07374512572376E-2,1.0535711749107E-2,1.03015869029389E-2,1.00624915270683E-2,9.8151085116474808E-3,9.5904986071947904E-3,9.3615373866513807E-3,9.1363837277531907E-3,8.9198924159943401E-3,{"$f":"IF($B2557=\"\",\"\",VLOOKUP($B2557,_tbl!$A:$E,N$2,0))","v":"Female"},{"$f":"IF($B2557=\"\",\"\",VLOOKUP($B2557,_tbl!$A:$E,O$2,0))","v":"West"},{"$f":"IF($B2557=\"\",\"\",VLOOKUP($B2557,_tbl!$A:$E,P$2,0))","v":"Rural"},{"$f":"IF($B2557=\"\",\"\",VLOOKUP($B2557,_tbl!$A:$E,Q$2,0))","v":"Total"},null,1.09920753425301E-2,8.9198924159943401E-3]
[null,"all_f_West Rural.csv","70-74",1.9707515460917702E-2,1.9299945594178702E-2,1.8995328592097301E-2,1.8646206682426801E-2,1.8284581881203101E-2,1.7909067693981099E-2,1.75739222172639E-2,1.72264521575641E-2,1.68806349954497E-2,1.65475942736804E-2,{"$f":"IF($B2558=\"\",\"\",VLOOKUP($B2558,_tbl!$A:$E,N$2,0))","v":"Female"},{"$f":"IF($B2558=\"\",\"\",VLOOKUP($B2558,_tbl!$A:$E,O$2,0))","v":"West"},{"$f":"IF($B2558=\"\",\"\",VLOOKUP($B2558,_tbl!$A:$E,P$2,0))","v":"Rural"},{"$f":"IF($B2558=\"\",\"\",VLOOKUP($B2558,_tbl!$A:$E,Q$2,0))","v":"Total"},null,1.9707515460917702E-2,1.65475942736804E-2]
[null,"all_f_West Rural.csv","75-79",3.87860023100874E-2,3.80434922148973E-2,3.75070350018595E-2,3.6943152936302598E-2,3.6376680323662897E-2,3.5798569865127201E-2,3.5307371621935903E-2,3.4781285664200398E-2,3.4245119927431497E-2,3.3725352978079597E-2,{"$f":"IF($B2559=\"\",\"\",VLOOKUP($B2559,_tbl!$A:$E,N$2,0))","v":"Female"},{"$f":"IF($B2559=\"\",\"\",VLOOKUP($B2559,_tbl!$A:$E,O$2,0))","v":"West"},{"$f":"IF($B2559=\"\",\"\",VLOOKUP($B2559,_tbl!$A:$E,P$2,0))","v":"Rural"},{"$f":"IF($B2559=\"\",\"\",VLOOKUP($B2559,_tbl!$A:$E,Q$2,0))","v":"Total"},null,3.87860023100874E-2,3.3725352978079597E-2]
[null,"all_f_West Rural.csv","80-84",8.3507839911291404E-2,8.1956805417559897E-2,8.09946986266534E-2,8.0249205185743605E-2,7.9730340245469794E-2,7.9317287061758807E-2,7.9207129027301398E-2,7.8953920194773305E-2,7.8614240458198106E-2,7.8284490222057093E-2,{"$f":"IF($B2560=\"\",\"\",VLOOKUP($B2560,_tbl!$A:$E,N$2,0))","v":"Female"},{"$f":"IF($B2560=\"\",\"\",VLOOKUP($B2560,_tbl!$A:$E,O$2,0))","v":"West"},{"$f":"IF($B2560=\"\",\"\",VLOOKUP($B2560,_tbl!$A:$E,P$2,0))","v":"Rural"},{"$f":"IF($B2560=\"\",\"\",VLOOKUP($B2560,_tbl!$A:$E,Q$2,0))","v":"Total"},null,8.3507839911291404E-2,7.8284490222057093E-2]
[null,"all_f_West Rural.csv","85+",0.172666421652765,0.17076916591024199,0.16892252356627999,0.16858942570215299,0.16950129257686899,0.171190471430478,0.17355618645545801,0.175779796730861,0.17783968450229001,0.17988328801092901,{"$f":"IF($B2561=\"\",\"\",VLOOKUP($B2561,_tbl!$A:$E,N$2,0))","v":"Female"},{"$f":"IF($B2561=\"\",\"\",VLOOKUP($B2561,_tbl!$A:$E,O$2,0))","v":"West"},{"$f":"IF($B2561=\"\",\"\",VLOOKUP($B2561,_tbl!$A:$E,P$2,0))","v":"Rural"},{"$f":"IF($B2561=\"\",\"\",VLOOKUP($B2561,_tbl!$A:$E,Q$2,0))","v":"Total"},null,0.17988328801092901,0.16858942570215299]
[null,null,null,null,null,null,null,null,null,null,null,null,null,{"$f":"IF($B2562=\"\",\"\",VLOOKUP($B2562,_tbl!$A:$E,N$2,0))","v":""},{"$f":"IF($B2562=\"\",\"\",VLOOKUP($B2562,_tbl!$A:$E,O$2,0))","v":""},{"$f":"IF($B2562=\"\",\"\",VLOOKUP($B2562,_tbl!$A:$E,P$2,0))","v":""},{"$f":"IF($B2562=\"\",\"\",VLOOKUP($B2562,_tbl!$A:$E,Q$2,0))","v":""}]
[null,null,null,2020,2021,2022,2023,2024,2025,2026,2027,2028,2029,{"$f":"IF($B2563=\"\",\"\",VLOOKUP($B2563,_tbl!$A:$E,N$2,0))","v":""},{"$f":"IF($B2563=\"\",\"\",VLOOKUP($B2563,_tbl!$A:$E,O$2,0))","v":""},{"$f":"IF($B2563=\"\",\"\",VLOOKUP($B2563,_tbl!$A:$E,P$2,0))","v":""},{"$f":"IF($B2563=\"\",\"\",VLOOKUP($B2563,_tbl!$A:$E,Q$2,0))","v":""}]
[null,"all_f_West Urban cancer.csv","1-4",2.44629979544984E-5,2.4465293036380399E-5,2.4361561912968401E-5,2.42782834837912E-5,2.4161764940423599E-5,2.40761641098738E-5,2.39972414263231E-5,2.3956251121996399E-5,2.39298059201253E-5,2.3917947903159501E-5,{"$f":"IF($B2564=\"\",\"\",VLOOKUP($B2564,_tbl!$A:$E,N$2,0))","v":"Female"},{"$f":"IF($B2564=\"\",\"\",VLOOKUP($B2564,_tbl!$A:$E,O$2,0))","v":"West"},{"$f":"IF($B2564=\"\",\"\",VLOOKUP($B2564,_tbl!$A:$E,P$2,0))","v":"Urban"},{"$f":"IF($B2564=\"\",\"\",VLOOKUP($B2564,_tbl!$A:$E,Q$2,0))","v":"Cancer"},null,{"$f":"MAX(D2564:M2564)","v":2.4465293036380399E-5},{"$f":"MIN(D2564:M2564)","v":2.3917947903159501E-5}]
[null,"all_f_West Urban cancer.csv","5-9",2.5482973032872399E-5,2.5465026604020999E-5,2.5439168165967101E-5,2.5414389643616499E-5,2.5388611520458801E-5,2.5365567422876001E-5,2.53433417886657E-5,2.5323869609654602E-5,2.53058818965223E-5,2.5289350925901E-5,{"$f":"IF($B2565=\"\",\"\",VLOOKUP($B2565,_tbl!$A:$E,N$2,0))","v":"Female"},{"$f":"IF($B2565=\"\",\"\",VLOOKUP($B2565,_tbl!$A:$E,O$2,0))","v":"West"},{"$f":"IF($B2565=\"\",\"\",VLOOKUP($B2565,_tbl!$A:$E,P$2,0))","v":"Urban"},{"$f":"IF($B2565=\"\",\"\",VLOOKUP($B2565,_tbl!$A:$E,Q$2,0))","v":"Cancer"},null,2.5482973032872399E-5,2.5289350925901E-5]
[null,"all_f_West Urban cancer.csv","10-14",2.8692619076870001E-5,2.8567485077943599E-5,2.8448303742565201E-5,2.8331683750589398E-5,2.8222268880535101E-5,2.81148966658798E-5,2.8007960270125299E-5,2.7902426706884099E-5,2.7799421699508001E-5,2.76974891152492E-5,{"$f":"IF($B2566=\"\",\"\",VLOOKUP($B2566,_tbl!$A:$E,N$2,0))","v":"Female"},{"$f":"IF($B2566=\"\",\"\",VLOOKUP($B2566,_tbl!$A:$E,O$2,0))","v":"West"},{"$f":"IF($B2566=\"\",\"\",VLOOKUP($B2566,_tbl!$A:$E,P$2,0))","v":"Urban"},{"$f":"IF($B2566=\"\",\"\",VLOOKUP($B2566,_tbl!$A:$E,Q$2,0))","v":"Cancer"},null,2.8692619076870001E-5,2.76974891152492E-5]
[null,"all_f_West Urban cancer.csv","15-19",3.5513868213143798E-5,3.5481360820639603E-5,3.5402956232760499E-5,3.5331314865159198E-5,3.5257013031269902E-5,3.5190651961542397E-5,3.5127382302620799E-5,3.5072484606953801E-5,3.5022875856017702E-5,3.4977823544631701E-5,{"$f":"IF($B2567=\"\",\"\",VLOOKUP($B2567,_tbl!$A:$E,N$2,0))","v":"Female"},{"$f":"IF($B2567=\"\",\"\",VLOOKUP($B2567,_tbl!$A:$E,O$2,0))","v":"West"},{"$f":"IF($B2567=\"\",\"\",VLOOKUP($B2567,_tbl!$A:$E,P$2,0))","v":"Urban"},{"$f":"IF($B2567=\"\",\"\",VLOOKUP($B2567,_tbl!$A:$E,Q$2,0))","v":"Cancer"},null,3.5513868213143798E-5,3.4977823544631701E-5]
[null,"all_f_West Urban cancer.csv","20-24",4.8507139399226403E-5,4.8332288084166403E-5,4.81087401089856E-5,4.7905048855403199E-5,4.7699667967759099E-5,4.7515799605022299E-5,4.73413372996231E-5,4.7184861055988101E-5,4.70390262936493E-5,4.6903188254248298E-5,{"$f":"IF($B2568=\"\",\"\",VLOOKUP($B2568,_tbl!$A:$E,N$2,0))","v":"Female"},{"$f":"IF($B2568=\"\",\"\",VLOOKUP($B2568,_tbl!$A:$E,O$2,0))","v":"West"},{"$f":"IF($B2568=\"\",\"\",VLOOKUP($B2568,_tbl!$A:$E,P$2,0))","v":"Urban"},{"$f":"IF($B2568=\"\",\"\",VLOOKUP($B2568,_tbl!$A:$E,Q$2,0))","v":"Cancer"},null,4.8507139399226403E-5,4.6903188254248298E-5]
[null,"all_f_West Urban cancer.csv","25-29",7.18088309608342E-5,7.1127638709765604E-5,7.0389538446908107E-5,6.9707621569960001E-5,6.9048890650218799E-5,6.8442061675324197E-5,6.78637677915359E-5,6.7328719223337004E-5,6.6825128627281797E-5,6.6350794521194794E-5,{"$f":"IF($B2569=\"\",\"\",VLOOKUP($B2569,_tbl!$A:$E,N$2,0))","v":"Female"},{"$f":"IF($B2569=\"\",\"\",VLOOKUP($B2569,_tbl!$A:$E,O$2,0))","v":"West"},{"$f":"IF($B2569=\"\",\"\",VLOOKUP($B2569,_tbl!$A:$E,P$2,0))","v":"Urban"},{"$f":"IF($B2569=\"\",\"\",VLOOKUP($B2569,_tbl!$A:$E,Q$2,0))","v":"Cancer"},null,7.18088309608342E-5,6.6350794521194794E-5]
[null,"all_f_West Urban cancer.csv","30-34",1.18302521233566E-4,1.17524760689546E-4,1.16434254710887E-4,1.1551188390562E-4,1.14616012344851E-4,1.13844995448104E-4,1.13113567236922E-4,1.12485063978212E-4,1.1192366055489401E-4,1.11423231890327E-4,{"$f":"IF($B2570=\"\",\"\",VLOOKUP($B2570,_tbl!$A:$E,N$2,0))","v":"Female"},{"$f":"IF($B2570=\"\",\"\",VLOOKUP($B2570,_tbl!$A:$E,O$2,0))","v":"West"},{"$f":"IF($B2570=\"\",\"\",VLOOKUP($B2570,_tbl!$A:$E,P$2,0))","v":"Urban"},{"$f":"IF($B2570=\"\",\"\",VLOOKUP($B2570,_tbl!$A:$E,Q$2,0))","v":"Cancer"},null,1.18302521233566E-4,1.11423231890327E-4]
[null,"all_f_West Urban cancer.csv","35-39",1.9982935703732901E-4,1.9802995681415599E-4,1.9557700572395899E-4,1.9376610766226401E-4,1.9194684429904601E-4,1.9044186555974401E-4,1.88924300599097E-4,1.87638596772193E-4,1.8648088960594399E-4,1.8544515578805101E-4,{"$f":"IF($B2571=\"\",\"\",VLOOKUP($B2571,_tbl!$A:$E,N$2,0))","v":"Female"},{"$f":"IF($B2571=\"\",\"\",VLOOKUP($B2571,_tbl!$A:$E,O$2,0))","v":"West"},{"$f":"IF($B2571=\"\",\"\",VLOOKUP($B2571,_tbl!$A:$E,P$2,0))","v":"Urban"},{"$f":"IF($B2571=\"\",\"\",VLOOKUP($B2571,_tbl!$A:$E,Q$2,0))","v":"Cancer"},null,1.9982935703732901E-4,1.8544515578805101E-4]
[null,"all_f_West Urban cancer.csv","40-44",3.2731726913635598E-4,3.1913450603793101E-4,3.1002807408599998E-4,3.0234444958142901E-4,2.9470228826349298E-4,2.8776057361547502E-4,2.8085855175703902E-4,2.7448254313100203E-4,2.68426499058716E-4,2.62685719994922E-4,{"$f":"IF($B2572=\"\",\"\",VLOOKUP($B2572,_tbl!$A:$E,N$2,0))","v":"Female"},{"$f":"IF($B2572=\"\",\"\",VLOOKUP($B2572,_tbl!$A:$E,O$2,0))","v":"West"},{"$f":"IF($B2572=\"\",\"\",VLOOKUP($B2572,_tbl!$A:$E,P$2,0))","v":"Urban"},{"$f":"IF($B2572=\"\",\"\",VLOOKUP($B2572,_tbl!$A:$E,Q$2,0))","v":"Cancer"},null,3.2731726913635598E-4,2.62685719994922E-4]
[null,"all_f_West Urban cancer.csv","45-49",5.3563321245035504E-4,5.1923139096422995E-4,5.01529999041524E-4,4.8585215646450498E-4,4.7043687977822799E-4,4.56091633143519E-4,4.4195654432263701E-4,4.2864079996360598E-4,4.1587077184508799E-4,4.0363250760326998E-4,{"$f":"IF($B2573=\"\",\"\",VLOOKUP($B2573,_tbl!$A:$E,N$2,0))","v":"Female"},{"$f":"IF($B2573=\"\",\"\",VLOOKUP($B2573,_tbl!$A:$E,O$2,0))","v":"West"},{"$f":"IF($B2573=\"\",\"\",VLOOKUP($B2573,_tbl!$A:$E,P$2,0))","v":"Urban"},{"$f":"IF($B2573=\"\",\"\",VLOOKUP($B2573,_tbl!$A:$E,Q$2,0))","v":"Cancer"},null,5.3563321245035504E-4,4.0363250760326998E-4]
[null,"all_f_West Urban cancer.csv","50-54",8.73603852305857E-4,8.5682262735308195E-4,8.4018056784408897E-4,8.2377380911500999E-4,8.0772453665122195E-4,7.9217490561250901E-4,7.7721507849935702E-4,7.62794740737943E-4,7.4887283319967596E-4,7.3545437317542402E-4,{"$f":"IF($B2574=\"\",\"\",VLOOKUP($B2574,_tbl!$A:$E,N$2,0))","v":"Female"},{"$f":"IF($B2574=\"\",\"\",VLOOKUP($B2574,_tbl!$A:$E,O$2,0))","v":"West"},{"$f":"IF($B2574=\"\",\"\",VLOOKUP($B2574,_tbl!$A:$E,P$2,0))","v":"Urban"},{"$f":"IF($B2574=\"\",\"\",VLOOKUP($B2574,_tbl!$A:$E,Q$2,0))","v":"Cancer"},null,8.73603852305857E-4,7.3545437317542402E-4]
[null,"all_f_West Urban cancer.csv","55-59",1.33392125045941E-3,1.3128461464347E-3,1.2931260892787501E-3,1.27354159475544E-3,1.2544522200505601E-3,1.23581404657491E-3,1.21787976231246E-3,1.20041067314923E-3,1.18345807121274E-3,1.1670335032792E-3,{"$f":"IF($B2575=\"\",\"\",VLOOKUP($B2575,_tbl!$A:$E,N$2,0))","v":"Female"},{"$f":"IF($B2575=\"\",\"\",VLOOKUP($B2575,_tbl!$A:$E,O$2,0))","v":"West"},{"$f":"IF($B2575=\"\",\"\",VLOOKUP($B2575,_tbl!$A:$E,P$2,0))","v":"Urban"},{"$f":"IF($B2575=\"\",\"\",VLOOKUP($B2575,_tbl!$A:$E,Q$2,0))","v":"Cancer"},null,1.33392125045941E-3,1.1670335032792E-3]
[null,"all_f_West Urban cancer.csv","60-64",1.9013688749662601E-3,1.8657658658691599E-3,1.8355175466746401E-3,1.8026375217125299E-3,1.7701115853627799E-3,1.7372944547913E-3,1.70668273786369E-3,1.6760640999360101E-3,1.6460850633972901E-3,1.6170284911160399E-3,{"$f":"IF($B2576=\"\",\"\",VLOOKUP($B2576,_tbl!$A:$E,N$2,0))","v":"Female"},{"$f":"IF($B2576=\"\",\"\",VLOOKUP($B2576,_tbl!$A:$E,O$2,0))","v":"West"},{"$f":"IF($B2576=\"\",\"\",VLOOKUP($B2576,_tbl!$A:$E,P$2,0))","v":"Urban"},{"$f":"IF($B2576=\"\",\"\",VLOOKUP($B2576,_tbl!$A:$E,Q$2,0))","v":"Cancer"},null,1.9013688749662601E-3,1.6170284911160399E-3]
[null,"all_f_West Urban cancer.csv","65-69",2.7391734296286002E-3,2.6899434813985601E-3,2.64508475756248E-3,2.59523295133833E-3,2.54503323178963E-3,2.4940026717799701E-3,2.4469339583549502E-3,2.3994558613102202E-3,2.35278580018205E-3,2.3076231317836998E-3,{"$f":"IF($B2577=\"\",\"\",VLOOKUP($B2577,_tbl!$A:$E,N$2,0))","v":"Female"},{"$f":"IF($B2577=\"\",\"\",VLOOKUP($B2577,_tbl!$A:$E,O$2,0))","v":"West"},{"$f":"IF($B2577=\"\",\"\",VLOOKUP($B2577,_tbl!$A:$E,P$2,0))","v":"Urban"},{"$f":"IF($B2577=\"\",\"\",VLOOKUP($B2577,_tbl!$A:$E,Q$2,0))","v":"Cancer"},null,2.7391734296286002E-3,2.3076231317836998E-3]
[null,"all_f_West Urban cancer.csv","70-74",4.2738160746292097E-3,4.2546124882502602E-3,4.2263995021915302E-3,4.2003959266519097E-3,4.1758219823083498E-3,4.1529768909569402E-3,4.1278713185330896E-3,4.1050742390285003E-3,4.0836428870085102E-3,4.0625692320413404E-3,{"$f":"IF($B2578=\"\",\"\",VLOOKUP($B2578,_tbl!$A:$E,N$2,0))","v":"Female"},{"$f":"IF($B2578=\"\",\"\",VLOOKUP($B2578,_tbl!$A:$E,O$2,0))","v":"West"},{"$f":"IF($B2578=\"\",\"\",VLOOKUP($B2578,_tbl!$A:$E,P$2,0))","v":"Urban"},{"$f":"IF($B2578=\"\",\"\",VLOOKUP($B2578,_tbl!$A:$E,Q$2,0))","v":"Cancer"},null,4.2738160746292097E-3,4.0625692320413404E-3]
[null,"all_f_West Urban cancer.csv","75-79",6.2855371683038898E-3,6.2906222391195098E-3,6.2915965509798997E-3,6.2938770651629001E-3,6.2974523168858104E-3,6.3015654800494302E-3,6.30283637977777E-3,6.3054128586985201E-3,6.3085155083184097E-3,6.31107624209241E-3,{"$f":"IF($B2579=\"\",\"\",VLOOKUP($B2579,_tbl!$A:$E,N$2,0))","v":"Female"},{"$f":"IF($B2579=\"\",\"\",VLOOKUP($B2579,_tbl!$A:$E,O$2,0))","v":"West"},{"$f":"IF($B2579=\"\",\"\",VLOOKUP($B2579,_tbl!$A:$E,P$2,0))","v":"Urban"},{"$f":"IF($B2579=\"\",\"\",VLOOKUP($B2579,_tbl!$A:$E,Q$2,0))","v":"Cancer"},null,6.31107624209241E-3,6.2855371683038898E-3]
[null,"all_f_West Urban cancer.csv","80-84",9.0093983720528504E-3,8.9837663421470197E-3,8.9809758047267093E-3,8.9845098624414099E-3,8.9983446148926005E-3,9.0155018288445299E-3,9.0418963940059206E-3,9.0634089668088502E-3,9.0820955850058199E-3,9.1007773295177005E-3,{"$f":"IF($B2580=\"\",\"\",VLOOKUP($B2580,_tbl!$A:$E,N$2,0))","v":"Female"},{"$f":"IF($B2580=\"\",\"\",VLOOKUP($B2580,_tbl!$A:$E,O$2,0))","v":"West"},{"$f":"IF($B2580=\"\",\"\",VLOOKUP($B2580,_tbl!$A:$E,P$2,0))","v":"Urban"},{"$f":"IF($B2580=\"\",\"\",VLOOKUP($B2580,_tbl!$A:$E,Q$2,0))","v":"Cancer"},null,9.1007773295177005E-3,8.9809758047267093E-3]
[null,"all_f_West Urban cancer.csv","85+",1.26687426764559E-2,1.25618764875881E-2,1.25014265935164E-2,1.2476991443316999E-2,1.2481868524535899E-2,1.2501656270551401E-2,1.2532273223782199E-2,1.25600384856946E-2,1.2585550974949801E-2,1.26110860199448E-2,{"$f":"IF($B2581=\"\",\"\",VLOOKUP($B2581,_tbl!$A:$E,N$2,0))","v":"Female"},{"$f":"IF($B2581=\"\",\"\",VLOOKUP($B2581,_tbl!$A:$E,O$2,0))","v":"West"},{"$f":"IF($B2581=\"\",\"\",VLOOKUP($B2581,_tbl!$A:$E,P$2,0))","v":"Urban"},{"$f":"IF($B2581=\"\",\"\",VLOOKUP($B2581,_tbl!$A:$E,Q$2,0))","v":"Cancer"},null,1.26687426764559E-2,1.2476991443316999E-2]
[null,null,null,null,null,null,null,null,null,null,null,null,null,{"$f":"IF($B2582=\"\",\"\",VLOOKUP($B2582,_tbl!$A:$E,N$2,0))","v":""},{"$f":"IF($B2582=\"\",\"\",VLOOKUP($B2582,_tbl!$A:$E,O$2,0))","v":""},{"$f":"IF($B2582=\"\",\"\",VLOOKUP($B2582,_tbl!$A:$E,P$2,0))","v":""},{"$f":"IF($B2582=\"\",\"\",VLOOKUP($B2582,_tbl!$A:$E,Q$2,0))","v":""}]
[null,null,null,2020,2021,2022,2023,2024,2025,2026,2027,2028,2029,{"$f":"IF($B2583=\"\",\"\",VLOOKUP($B2583,_tbl!$A:$E,N$2,0))","v":""},{"$f":"IF($B2583=\"\",\"\",VLOOKUP($B2583,_tbl!$A:$E,O$2,0))","v":""},{"$f":"IF($B2583=\"\",\"\",VLOOKUP($B2583,_tbl!$A:$E,P$2,0))","v":""},{"$f":"IF($B2583=\"\",\"\",VLOOKUP($B2583,_tbl!$A:$E,Q$2,0))","v":""}]
[null,"all_f_West Urban circulatory.csv","1-4",4.0191990833642002E-6,4.1321111174193899E-6,4.1729399622125301E-6,4.2290922167781798E-6,4.2661871968063403E-6,4.3225225467061197E-6,4.3828768672966598E-6,4.4652531334285101E-6,4.5557527875994397E-6,4.6518889036625402E-6,{"$f":"IF($B2584=\"\",\"\",VLOOKUP($B2584,_tbl!$A:$E,N$2,0))","v":"Female"},{"$f":"IF($B2584=\"\",\"\",VLOOKUP($B2584,_tbl!$A:$E,O$2,0))","v":"West"},{"$f":"IF($B2584=\"\",\"\",VLOOKUP($B2584,_tbl!$A:$E,P$2,0))","v":"Urban"},{"$f":"IF($B2584=\"\",\"\",VLOOKUP($B2584,_tbl!$A:$E,Q$2,0))","v":"Circulatory"},null,{"$f":"MAX(D2584:M2584)","v":4.6518889036625402E-6},{"$f":"MIN(D2584:M2584)","v":4.0191990833642002E-6}]
[null,"all_f_West Urban circulatory.csv","5-9",7.2176402033242302E-6,7.2504123173073397E-6,7.2685320312653201E-6,7.2845956941522503E-6,7.3079729261922896E-6,7.3273216580986401E-6,7.3467733349144904E-6,7.36084953831261E-6,7.3733822839569497E-6,7.3838563077910904E-6,{"$f":"IF($B2585=\"\",\"\",VLOOKUP($B2585,_tbl!$A:$E,N$2,0))","v":"Female"},{"$f":"IF($B2585=\"\",\"\",VLOOKUP($B2585,_tbl!$A:$E,O$2,0))","v":"West"},{"$f":"IF($B2585=\"\",\"\",VLOOKUP($B2585,_tbl!$A:$E,P$2,0))","v":"Urban"},{"$f":"IF($B2585=\"\",\"\",VLOOKUP($B2585,_tbl!$A:$E,Q$2,0))","v":"Circulatory"},null,7.3838563077910904E-6,7.2176402033242302E-6]
[null,"all_f_West Urban circulatory.csv","10-14",1.0392111491486101E-5,1.03664014081587E-5,1.03080146968355E-5,1.02498904540527E-5,1.01884800580623E-5,1.0130967674676299E-5,1.00753758026161E-5,1.00247980072689E-5,9.9772494653356598E-6,9.9326490391612396E-6,{"$f":"IF($B2586=\"\",\"\",VLOOKUP($B2586,_tbl!$A:$E,N$2,0))","v":"Female"},{"$f":"IF($B2586=\"\",\"\",VLOOKUP($B2586,_tbl!$A:$E,O$2,0))","v":"West"},{"$f":"IF($B2586=\"\",\"\",VLOOKUP($B2586,_tbl!$A:$E,P$2,0))","v":"Urban"},{"$f":"IF($B2586=\"\",\"\",VLOOKUP($B2586,_tbl!$A:$E,Q$2,0))","v":"Circulatory"},null,1.0392111491486101E-5,9.9326490391612396E-6]
[null,"all_f_West Urban circulatory.csv","15-19",1.42529794865453E-5,1.4058998976361E-5,1.39448838272291E-5,1.3826965972335901E-5,1.3731173125139E-5,1.3624176148847701E-5,1.35165238143554E-5,1.33994405823666E-5,1.32815785775923E-5,1.3161507546784199E-5,{"$f":"IF($B2587=\"\",\"\",VLOOKUP($B2587,_tbl!$A:$E,N$2,0))","v":"Female"},{"$f":"IF($B2587=\"\",\"\",VLOOKUP($B2587,_tbl!$A:$E,O$2,0))","v":"West"},{"$f":"IF($B2587=\"\",\"\",VLOOKUP($B2587,_tbl!$A:$E,P$2,0))","v":"Urban"},{"$f":"IF($B2587=\"\",\"\",VLOOKUP($B2587,_tbl!$A:$E,Q$2,0))","v":"Circulatory"},null,1.42529794865453E-5,1.3161507546784199E-5]
[null,"all_f_West Urban circulatory.csv","20-24",2.1899115099381501E-5,2.16887257268356E-5,2.1584792943322499E-5,2.14684079460127E-5,2.1386397978123399E-5,2.12829191726431E-5,2.1177435267880899E-5,2.10559578243572E-5,2.09330414995364E-5,2.0807346821417599E-5,{"$f":"IF($B2588=\"\",\"\",VLOOKUP($B2588,_tbl!$A:$E,N$2,0))","v":"Female"},{"$f":"IF($B2588=\"\",\"\",VLOOKUP($B2588,_tbl!$A:$E,O$2,0))","v":"West"},{"$f":"IF($B2588=\"\",\"\",VLOOKUP($B2588,_tbl!$A:$E,P$2,0))","v":"Urban"},{"$f":"IF($B2588=\"\",\"\",VLOOKUP($B2588,_tbl!$A:$E,Q$2,0))","v":"Circulatory"},null,2.1899115099381501E-5,2.0807346821417599E-5]
[null,"all_f_West Urban circulatory.csv","25-29",3.52537414943768E-5,3.5204994443516198E-5,3.5140801885359199E-5,3.5074279586780102E-5,3.5013009363902203E-5,3.4954607869183297E-5,3.4898463801781401E-5,3.4846387806660603E-5,3.4798629117159797E-5,3.4754055186413802E-5,{"$f":"IF($B2589=\"\",\"\",VLOOKUP($B2589,_tbl!$A:$E,N$2,0))","v":"Female"},{"$f":"IF($B2589=\"\",\"\",VLOOKUP($B2589,_tbl!$A:$E,O$2,0))","v":"West"},{"$f":"IF($B2589=\"\",\"\",VLOOKUP($B2589,_tbl!$A:$E,P$2,0))","v":"Urban"},{"$f":"IF($B2589=\"\",\"\",VLOOKUP($B2589,_tbl!$A:$E,Q$2,0))","v":"Circulatory"},null,3.52537414943768E-5,3.4754055186413802E-5]
[null,"all_f_West Urban circulatory.csv","30-34",5.8487875995263297E-5,5.8625740489846302E-5,5.86688086395148E-5,5.8732844600894797E-5,5.87787954651892E-5,5.8841745988889498E-5,5.8897886706384901E-5,5.8970249474016199E-5,5.9048871524769698E-5,5.9132407112293498E-5,{"$f":"IF($B2590=\"\",\"\",VLOOKUP($B2590,_tbl!$A:$E,N$2,0))","v":"Female"},{"$f":"IF($B2590=\"\",\"\",VLOOKUP($B2590,_tbl!$A:$E,O$2,0))","v":"West"},{"$f":"IF($B2590=\"\",\"\",VLOOKUP($B2590,_tbl!$A:$E,P$2,0))","v":"Urban"},{"$f":"IF($B2590=\"\",\"\",VLOOKUP($B2590,_tbl!$A:$E,Q$2,0))","v":"Circulatory"},null,5.9132407112293498E-5,5.8487875995263297E-5]
[null,"all_f_West Urban circulatory.csv","35-39",9.8988944827437705E-5,9.8548243224616601E-5,9.7859527931565596E-5,9.7362031014131104E-5,9.6850644146482094E-5,9.6433672011850697E-5,9.6010926244182194E-5,9.56593946913547E-5,9.5346497371404104E-5,9.5070242502519106E-5,{"$f":"IF($B2591=\"\",\"\",VLOOKUP($B2591,_tbl!$A:$E,N$2,0))","v":"Female"},{"$f":"IF($B2591=\"\",\"\",VLOOKUP($B2591,_tbl!$A:$E,O$2,0))","v":"West"},{"$f":"IF($B2591=\"\",\"\",VLOOKUP($B2591,_tbl!$A:$E,P$2,0))","v":"Urban"},{"$f":"IF($B2591=\"\",\"\",VLOOKUP($B2591,_tbl!$A:$E,Q$2,0))","v":"Circulatory"},null,9.8988944827437705E-5,9.5070242502519106E-5]
[null,"all_f_West Urban circulatory.csv","40-44",1.7117358297934801E-4,1.6810655419860501E-4,1.6488680768122401E-4,1.62152101871277E-4,1.5944692444443801E-4,1.5698861727194501E-4,1.5456341876865E-4,1.52328829357372E-4,1.5021683361873901E-4,1.48223181274809E-4,{"$f":"IF($B2592=\"\",\"\",VLOOKUP($B2592,_tbl!$A:$E,N$2,0))","v":"Female"},{"$f":"IF($B2592=\"\",\"\",VLOOKUP($B2592,_tbl!$A:$E,O$2,0))","v":"West"},{"$f":"IF($B2592=\"\",\"\",VLOOKUP($B2592,_tbl!$A:$E,P$2,0))","v":"Urban"},{"$f":"IF($B2592=\"\",\"\",VLOOKUP($B2592,_tbl!$A:$E,Q$2,0))","v":"Circulatory"},null,1.7117358297934801E-4,1.48223181274809E-4]
[null,"all_f_West Urban circulatory.csv","45-49",3.0766998861107202E-4,2.9969620166186999E-4,2.91495778261906E-4,2.8444853422869001E-4,2.7749751835982298E-4,2.7114173828234598E-4,2.6484676481497497E-4,2.58974987676277E-4,2.5335668868219199E-4,2.47994598839354E-4,{"$f":"IF($B2593=\"\",\"\",VLOOKUP($B2593,_tbl!$A:$E,N$2,0))","v":"Female"},{"$f":"IF($B2593=\"\",\"\",VLOOKUP($B2593,_tbl!$A:$E,O$2,0))","v":"West"},{"$f":"IF($B2593=\"\",\"\",VLOOKUP($B2593,_tbl!$A:$E,P$2,0))","v":"Urban"},{"$f":"IF($B2593=\"\",\"\",VLOOKUP($B2593,_tbl!$A:$E,Q$2,0))","v":"Circulatory"},null,3.0766998861107202E-4,2.47994598839354E-4]
[null,"all_f_West Urban circulatory.csv","50-54",5.2334182601696401E-4,4.9243635428730095E-4,4.6423147446003301E-4,4.3590375508695403E-4,4.08641793817051E-4,3.82079126026299E-4,3.5688353428079198E-4,3.3248427033149999E-4,3.0895480313806903E-4,2.86305206829622E-4,{"$f":"IF($B2594=\"\",\"\",VLOOKUP($B2594,_tbl!$A:$E,N$2,0))","v":"Female"},{"$f":"IF($B2594=\"\",\"\",VLOOKUP($B2594,_tbl!$A:$E,O$2,0))","v":"West"},{"$f":"IF($B2594=\"\",\"\",VLOOKUP($B2594,_tbl!$A:$E,P$2,0))","v":"Urban"},{"$f":"IF($B2594=\"\",\"\",VLOOKUP($B2594,_tbl!$A:$E,Q$2,0))","v":"Circulatory"},null,5.2334182601696401E-4,2.86305206829622E-4]
[null,"all_f_West Urban circulatory.csv","55-59",9.9204204124665892E-4,9.3569207286743996E-4,8.8654122626769796E-4,8.3654273906664796E-4,7.8875134607686299E-4,7.4167544894267797E-4,6.9733787147474005E-4,6.5376433839184605E-4,6.1147118733239497E-4,5.7054762914904495E-4,{"$f":"IF($B2595=\"\",\"\",VLOOKUP($B2595,_tbl!$A:$E,N$2,0))","v":"Female"},{"$f":"IF($B2595=\"\",\"\",VLOOKUP($B2595,_tbl!$A:$E,O$2,0))","v":"West"},{"$f":"IF($B2595=\"\",\"\",VLOOKUP($B2595,_tbl!$A:$E,P$2,0))","v":"Urban"},{"$f":"IF($B2595=\"\",\"\",VLOOKUP($B2595,_tbl!$A:$E,Q$2,0))","v":"Circulatory"},null,9.9204204124665892E-4,5.7054762914904495E-4]
[null,"all_f_West Urban circulatory.csv","60-64",1.86132599338697E-3,1.77381279571045E-3,1.7040042202307901E-3,1.6290444305126701E-3,1.5562962043134899E-3,1.4831257575633201E-3,1.41606248348368E-3,1.3487348941283101E-3,1.28283436386143E-3,1.2191226032337199E-3,{"$f":"IF($B2596=\"\",\"\",VLOOKUP($B2596,_tbl!$A:$E,N$2,0))","v":"Female"},{"$f":"IF($B2596=\"\",\"\",VLOOKUP($B2596,_tbl!$A:$E,O$2,0))","v":"West"},{"$f":"IF($B2596=\"\",\"\",VLOOKUP($B2596,_tbl!$A:$E,P$2,0))","v":"Urban"},{"$f":"IF($B2596=\"\",\"\",VLOOKUP($B2596,_tbl!$A:$E,Q$2,0))","v":"Circulatory"},null,1.86132599338697E-3,1.2191226032337199E-3]
[null,"all_f_West Urban circulatory.csv","65-69",3.5594153371477002E-3,3.41042477080248E-3,3.28697578142102E-3,3.1538787546919098E-3,3.0213243671455901E-3,2.8874412233293499E-3,2.7656322878666199E-3,2.6423195380400602E-3,2.5208240831389298E-3,2.4034313203504199E-3,{"$f":"IF($B2597=\"\",\"\",VLOOKUP($B2597,_tbl!$A:$E,N$2,0))","v":"Female"},{"$f":"IF($B2597=\"\",\"\",VLOOKUP($B2597,_tbl!$A:$E,O$2,0))","v":"West"},{"$f":"IF($B2597=\"\",\"\",VLOOKUP($B2597,_tbl!$A:$E,P$2,0))","v":"Urban"},{"$f":"IF($B2597=\"\",\"\",VLOOKUP($B2597,_tbl!$A:$E,Q$2,0))","v":"Circulatory"},null,3.5594153371477002E-3,2.4034313203504199E-3]
[null,"all_f_West Urban circulatory.csv","70-74",7.6709238309224503E-3,7.4306490680775602E-3,7.23070434882988E-3,7.0164709306050101E-3,6.7998310046018104E-3,6.5801350605806204E-3,6.3811811445241102E-3,6.1777183184315897E-3,5.9754398819192199E-3,5.7792433838992604E-3,{"$f":"IF($B2598=\"\",\"\",VLOOKUP($B2598,_tbl!$A:$E,N$2,0))","v":"Female"},{"$f":"IF($B2598=\"\",\"\",VLOOKUP($B2598,_tbl!$A:$E,O$2,0))","v":"West"},{"$f":"IF($B2598=\"\",\"\",VLOOKUP($B2598,_tbl!$A:$E,P$2,0))","v":"Urban"},{"$f":"IF($B2598=\"\",\"\",VLOOKUP($B2598,_tbl!$A:$E,Q$2,0))","v":"Circulatory"},null,7.6709238309224503E-3,5.7792433838992604E-3]
[null,"all_f_West Urban circulatory.csv","75-79",1.8417097760544801E-2,1.8159034161088199E-2,1.79464005780396E-2,1.7736744146824E-2,1.7535199685751599E-2,1.73350478293708E-2,1.7154477926796599E-2,1.6966157723483501E-2,1.67748019134819E-2,1.65857168160191E-2,{"$f":"IF($B2599=\"\",\"\",VLOOKUP($B2599,_tbl!$A:$E,N$2,0))","v":"Female"},{"$f":"IF($B2599=\"\",\"\",VLOOKUP($B2599,_tbl!$A:$E,O$2,0))","v":"West"},{"$f":"IF($B2599=\"\",\"\",VLOOKUP($B2599,_tbl!$A:$E,P$2,0))","v":"Urban"},{"$f":"IF($B2599=\"\",\"\",VLOOKUP($B2599,_tbl!$A:$E,Q$2,0))","v":"Circulatory"},null,1.8417097760544801E-2,1.65857168160191E-2]
[null,"all_f_West Urban circulatory.csv","80-84",4.4478193159745001E-2,4.4196438808672002E-2,4.40488366608566E-2,4.3973734966303898E-2,4.4017144446564002E-2,4.41091404667815E-2,4.4293291782916099E-2,4.4420174935952697E-2,4.4509148848839601E-2,4.4593545698293602E-2,{"$f":"IF($B2600=\"\",\"\",VLOOKUP($B2600,_tbl!$A:$E,N$2,0))","v":"Female"},{"$f":"IF($B2600=\"\",\"\",VLOOKUP($B2600,_tbl!$A:$E,O$2,0))","v":"West"},{"$f":"IF($B2600=\"\",\"\",VLOOKUP($B2600,_tbl!$A:$E,P$2,0))","v":"Urban"},{"$f":"IF($B2600=\"\",\"\",VLOOKUP($B2600,_tbl!$A:$E,Q$2,0))","v":"Circulatory"},null,4.4593545698293602E-2,4.3973734966303898E-2]
[null,"all_f_West Urban circulatory.csv","85+",0.10799023219364801,0.10720777476859999,0.107316464520104,0.10786522800805699,0.10894485451140599,0.110297284092453,0.111996546357239,0.11351601759363,0.114911779120802,0.116308951213851,{"$f":"IF($B2601=\"\",\"\",VLOOKUP($B2601,_tbl!$A:$E,N$2,0))","v":"Female"},{"$f":"IF($B2601=\"\",\"\",VLOOKUP($B2601,_tbl!$A:$E,O$2,0))","v":"West"},{"$f":"IF($B2601=\"\",\"\",VLOOKUP($B2601,_tbl!$A:$E,P$2,0))","v":"Urban"},{"$f":"IF($B2601=\"\",\"\",VLOOKUP($B2601,_tbl!$A:$E,Q$2,0))","v":"Circulatory"},null,0.116308951213851,0.10720777476859999]
[null,null,null,null,null,null,null,null,null,null,null,null,null,{"$f":"IF($B2602=\"\",\"\",VLOOKUP($B2602,_tbl!$A:$E,N$2,0))","v":""},{"$f":"IF($B2602=\"\",\"\",VLOOKUP($B2602,_tbl!$A:$E,O$2,0))","v":""},{"$f":"IF($B2602=\"\",\"\",VLOOKUP($B2602,_tbl!$A:$E,P$2,0))","v":""},{"$f":"IF($B2602=\"\",\"\",VLOOKUP($B2602,_tbl!$A:$E,Q$2,0))","v":""}]
[null,null,null,2020,2021,2022,2023,2024,2025,2026,2027,2028,2029,{"$f":"IF($B2603=\"\",\"\",VLOOKUP($B2603,_tbl!$A:$E,N$2,0))","v":""},{"$f":"IF($B2603=\"\",\"\",VLOOKUP($B2603,_tbl!$A:$E,O$2,0))","v":""},{"$f":"IF($B2603=\"\",\"\",VLOOKUP($B2603,_tbl!$A:$E,P$2,0))","v":""},{"$f":"IF($B2603=\"\",\"\",VLOOKUP($B2603,_tbl!$A:$E,Q$2,0))","v":""}]
[null,"all_f_West Urban congenital.csv","1-4",5.6203946870529199E-5,5.6253249538034101E-5,5.6280780609972098E-5,5.6320516171801701E-5,5.63765351368922E-5,5.6436665130755397E-5,5.6499713884968801E-5,5.6562298539685999E-5,5.6628819302610599E-5,5.6696248165529597E-5,{"$f":"IF($B2604=\"\",\"\",VLOOKUP($B2604,_tbl!$A:$E,N$2,0))","v":"Female"},{"$f":"IF($B2604=\"\",\"\",VLOOKUP($B2604,_tbl!$A:$E,O$2,0))","v":"West"},{"$f":"IF($B2604=\"\",\"\",VLOOKUP($B2604,_tbl!$A:$E,P$2,0))","v":"Urban"},{"$f":"IF($B2604=\"\",\"\",VLOOKUP($B2604,_tbl!$A:$E,Q$2,0))","v":"Congenital"},null,{"$f":"MAX(D2604:M2604)","v":5.6696248165529597E-5},{"$f":"MIN(D2604:M2604)","v":5.6203946870529199E-5}]
[null,"all_f_West Urban congenital.csv","5-9",1.8445270186964501E-5,1.839437860134E-5,1.8367431392586901E-5,1.83409652363946E-5,1.8314483403668299E-5,1.8287671442506802E-5,1.8260624420334599E-5,1.8232464960333199E-5,1.8203156105212099E-5,1.81733132212026E-5,{"$f":"IF($B2605=\"\",\"\",VLOOKUP($B2605,_tbl!$A:$E,N$2,0))","v":"Female"},{"$f":"IF($B2605=\"\",\"\",VLOOKUP($B2605,_tbl!$A:$E,O$2,0))","v":"West"},{"$f":"IF($B2605=\"\",\"\",VLOOKUP($B2605,_tbl!$A:$E,P$2,0))","v":"Urban"},{"$f":"IF($B2605=\"\",\"\",VLOOKUP($B2605,_tbl!$A:$E,Q$2,0))","v":"Congenital"},null,1.8445270186964501E-5,1.81733132212026E-5]
[null,"all_f_West Urban congenital.csv","10-14",1.0876182863193801E-5,1.0834751286438E-5,1.08044066685555E-5,1.0772136071641399E-5,1.0740684113337901E-5,1.07087783115733E-5,1.06772936488406E-5,1.06455849053459E-5,1.06141255202193E-5,1.05828860200869E-5,{"$f":"IF($B2606=\"\",\"\",VLOOKUP($B2606,_tbl!$A:$E,N$2,0))","v":"Female"},{"$f":"IF($B2606=\"\",\"\",VLOOKUP($B2606,_tbl!$A:$E,O$2,0))","v":"West"},{"$f":"IF($B2606=\"\",\"\",VLOOKUP($B2606,_tbl!$A:$E,P$2,0))","v":"Urban"},{"$f":"IF($B2606=\"\",\"\",VLOOKUP($B2606,_tbl!$A:$E,Q$2,0))","v":"Congenital"},null,1.0876182863193801E-5,1.05828860200869E-5]
[null,"all_f_West Urban congenital.csv","15-19",8.9568832323954906E-6,8.9572104358876696E-6,8.9498056830707796E-6,8.9418756888363101E-6,8.9342342641406394E-6,8.9268920778741193E-6,8.9204119488485694E-6,8.9152091724045696E-6,8.9112804304112007E-6,8.9082430882360996E-6,{"$f":"IF($B2607=\"\",\"\",VLOOKUP($B2607,_tbl!$A:$E,N$2,0))","v":"Female"},{"$f":"IF($B2607=\"\",\"\",VLOOKUP($B2607,_tbl!$A:$E,O$2,0))","v":"West"},{"$f":"IF($B2607=\"\",\"\",VLOOKUP($B2607,_tbl!$A:$E,P$2,0))","v":"Urban"},{"$f":"IF($B2607=\"\",\"\",VLOOKUP($B2607,_tbl!$A:$E,Q$2,0))","v":"Congenital"},null,8.9572104358876696E-6,8.9082430882360996E-6]
[null,"all_f_West Urban congenital.csv","20-24",8.2349754487889094E-6,8.2250991925783506E-6,8.2118345577408292E-6,8.1988162095333394E-6,8.1862786453360605E-6,8.1743418367832992E-6,8.1629558494958106E-6,8.1524352119651305E-6,8.1427097825749906E-6,8.1336011213275905E-6,{"$f":"IF($B2608=\"\",\"\",VLOOKUP($B2608,_tbl!$A:$E,N$2,0))","v":"Female"},{"$f":"IF($B2608=\"\",\"\",VLOOKUP($B2608,_tbl!$A:$E,O$2,0))","v":"West"},{"$f":"IF($B2608=\"\",\"\",VLOOKUP($B2608,_tbl!$A:$E,P$2,0))","v":"Urban"},{"$f":"IF($B2608=\"\",\"\",VLOOKUP($B2608,_tbl!$A:$E,Q$2,0))","v":"Congenital"},null,8.2349754487889094E-6,8.1336011213275905E-6]
[null,"all_f_West Urban congenital.csv","25-29",7.8088430007937696E-6,7.7137633105803504E-6,7.6388821586162195E-6,7.5644936641352898E-6,7.5018102264626599E-6,7.4354681290610797E-6,7.3703454585465496E-6,7.30156540069411E-6,7.2331969519314102E-6,7.1651928755150004E-6,{"$f":"IF($B2609=\"\",\"\",VLOOKUP($B2609,_tbl!$A:$E,N$2,0))","v":"Female"},{"$f":"IF($B2609=\"\",\"\",VLOOKUP($B2609,_tbl!$A:$E,O$2,0))","v":"West"},{"$f":"IF($B2609=\"\",\"\",VLOOKUP($B2609,_tbl!$A:$E,P$2,0))","v":"Urban"},{"$f":"IF($B2609=\"\",\"\",VLOOKUP($B2609,_tbl!$A:$E,Q$2,0))","v":"Congenital"},null,7.8088430007937696E-6,7.1651928755150004E-6]
[null,"all_f_West Urban congenital.csv",null,null,null,null,null,null,null,null,null,null,null,{"$f":"IF($B2610=\"\",\"\",VLOOKUP($B2610,_tbl!$A:$E,N$2,0))","v":"Female"},{"$f":"IF($B2610=\"\",\"\",VLOOKUP($B2610,_tbl!$A:$E,O$2,0))","v":"West"},{"$f":"IF($B2610=\"\",\"\",VLOOKUP($B2610,_tbl!$A:$E,P$2,0))","v":"Urban"},{"$f":"IF($B2610=\"\",\"\",VLOOKUP($B2610,_tbl!$A:$E,Q$2,0))","v":"Congenital"},null,0,0]
[null,"all_f_West Urban congenital.csv",null,null,null,null,null,null,null,null,null,null,null,{"$f":"IF($B2611=\"\",\"\",VLOOKUP($B2611,_tbl!$A:$E,N$2,0))","v":"Female"},{"$f":"IF($B2611=\"\",\"\",VLOOKUP($B2611,_tbl!$A:$E,O$2,0))","v":"West"},{"$f":"IF($B2611=\"\",\"\",VLOOKUP($B2611,_tbl!$A:$E,P$2,0))","v":"Urban"},{"$f":"IF($B2611=\"\",\"\",VLOOKUP($B2611,_tbl!$A:$E,Q$2,0))","v":"Congenital"},null,0,0]
[null,"all_f_West Urban congenital.csv",null,null,null,null,null,null,null,null,null,null,null,{"$f":"IF($B2612=\"\",\"\",VLOOKUP($B2612,_tbl!$A:$E,N$2,0))","v":"Female"},{"$f":"IF($B2612=\"\",\"\",VLOOKUP($B2612,_tbl!$A:$E,O$2,0))","v":"West"},{"$f":"IF($B2612=\"\",\"\",VLOOKUP($B2612,_tbl!$A:$E,P$2,0))","v":"Urban"},{"$f":"IF($B2612=\"\",\"\",VLOOKUP($B2612,_tbl!$A:$E,Q$2,0))","v":"Congenital"},null,0,0]
[null,"all_f_West Urban congenital.csv",null,null,null,null,null,null,null,null,null,null,null,{"$f":"IF($B2613=\"\",\"\",VLOOKUP($B2613,_tbl!$A:$E,N$2,0))","v":"Female"},{"$f":"IF($B2613=\"\",\"\",VLOOKUP($B2613,_tbl!$A:$E,O$2,0))","v":"West"},{"$f":"IF($B2613=\"\",\"\",VLOOKUP($B2613,_tbl!$A:$E,P$2,0))","v":"Urban"},{"$f":"IF($B2613=\"\",\"\",VLOOKUP($B2613,_tbl!$A:$E,Q$2,0))","v":"Congenital"},null,0,0]
[null,"all_f_West Urban congenital.csv",null,null,null,null,null,null,null,null,null,null,null,{"$f":"IF($B2614=\"\",\"\",VLOOKUP($B2614,_tbl!$A:$E,N$2,0))","v":"Female"},{"$f":"IF($B2614=\"\",\"\",VLOOKUP($B2614,_tbl!$A:$E,O$2,0))","v":"West"},{"$f":"IF($B2614=\"\",\"\",VLOOKUP($B2614,_tbl!$A:$E,P$2,0))","v":"Urban"},{"$f":"IF($B2614=\"\",\"\",VLOOKUP($B2614,_tbl!$A:$E,Q$2,0))","v":"Congenital"},null,0,0]
[null,"all_f_West Urban congenital.csv",null,null,null,null,null,null,null,null,null,null,null,{"$f":"IF($B2615=\"\",\"\",VLOOKUP($B2615,_tbl!$A:$E,N$2,0))","v":"Female"},{"$f":"IF($B2615=\"\",\"\",VLOOKUP($B2615,_tbl!$A:$E,O$2,0))","v":"West"},{"$f":"IF($B2615=\"\",\"\",VLOOKUP($B2615,_tbl!$A:$E,P$2,0))","v":"Urban"},{"$f":"IF($B2615=\"\",\"\",VLOOKUP($B2615,_tbl!$A:$E,Q$2,0))","v":"Congenital"},null,0,0]
[null,"all_f_West Urban congenital.csv",null,null,null,null,null,null,null,null,null,null,null,{"$f":"IF($B2616=\"\",\"\",VLOOKUP($B2616,_tbl!$A:$E,N$2,0))","v":"Female"},{"$f":"IF($B2616=\"\",\"\",VLOOKUP($B2616,_tbl!$A:$E,O$2,0))","v":"West"},{"$f":"IF($B2616=\"\",\"\",VLOOKUP($B2616,_tbl!$A:$E,P$2,0))","v":"Urban"},{"$f":"IF($B2616=\"\",\"\",VLOOKUP($B2616,_tbl!$A:$E,Q$2,0))","v":"Congenital"},null,0,0]
[null,"all_f_West Urban congenital.csv",null,null,null,null,null,null,null,null,null,null,null,{"$f":"IF($B2617=\"\",\"\",VLOOKUP($B2617,_tbl!$A:$E,N$2,0))","v":"Female"},{"$f":"IF($B2617=\"\",\"\",VLOOKUP($B2617,_tbl!$A:$E,O$2,0))","v":"West"},{"$f":"IF($B2617=\"\",\"\",VLOOKUP($B2617,_tbl!$A:$E,P$2,0))","v":"Urban"},{"$f":"IF($B2617=\"\",\"\",VLOOKUP($B2617,_tbl!$A:$E,Q$2,0))","v":"Congenital"},null,0,0]
[null,"all_f_West Urban congenital.csv",null,null,null,null,null,null,null,null,null,null,null,{"$f":"IF($B2618=\"\",\"\",VLOOKUP($B2618,_tbl!$A:$E,N$2,0))","v":"Female"},{"$f":"IF($B2618=\"\",\"\",VLOOKUP($B2618,_tbl!$A:$E,O$2,0))","v":"West"},{"$f":"IF($B2618=\"\",\"\",VLOOKUP($B2618,_tbl!$A:$E,P$2,0))","v":"Urban"},{"$f":"IF($B2618=\"\",\"\",VLOOKUP($B2618,_tbl!$A:$E,Q$2,0))","v":"Congenital"},null,0,0]
[null,"all_f_West Urban congenital.csv",null,null,null,null,null,null,null,null,null,null,null,{"$f":"IF($B2619=\"\",\"\",VLOOKUP($B2619,_tbl!$A:$E,N$2,0))","v":"Female"},{"$f":"IF($B2619=\"\",\"\",VLOOKUP($B2619,_tbl!$A:$E,O$2,0))","v":"West"},{"$f":"IF($B2619=\"\",\"\",VLOOKUP($B2619,_tbl!$A:$E,P$2,0))","v":"Urban"},{"$f":"IF($B2619=\"\",\"\",VLOOKUP($B2619,_tbl!$A:$E,Q$2,0))","v":"Congenital"},null,0,0]
[null,"all_f_West Urban congenital.csv",null,null,null,null,null,null,null,null,null,null,null,{"$f":"IF($B2620=\"\",\"\",VLOOKUP($B2620,_tbl!$A:$E,N$2,0))","v":"Female"},{"$f":"IF($B2620=\"\",\"\",VLOOKUP($B2620,_tbl!$A:$E,O$2,0))","v":"West"},{"$f":"IF($B2620=\"\",\"\",VLOOKUP($B2620,_tbl!$A:$E,P$2,0))","v":"Urban"},{"$f":"IF($B2620=\"\",\"\",VLOOKUP($B2620,_tbl!$A:$E,Q$2,0))","v":"Congenital"},null,0,0]
[null,"all_f_West Urban congenital.csv",null,null,null,null,null,null,null,null,null,null,null,{"$f":"IF($B2621=\"\",\"\",VLOOKUP($B2621,_tbl!$A:$E,N$2,0))","v":"Female"},{"$f":"IF($B2621=\"\",\"\",VLOOKUP($B2621,_tbl!$A:$E,O$2,0))","v":"West"},{"$f":"IF($B2621=\"\",\"\",VLOOKUP($B2621,_tbl!$A:$E,P$2,0))","v":"Urban"},{"$f":"IF($B2621=\"\",\"\",VLOOKUP($B2621,_tbl!$A:$E,Q$2,0))","v":"Congenital"},null,0,0]
[null,null,null,null,null,null,null,null,null,null,null,null,null,{"$f":"IF($B2622=\"\",\"\",VLOOKUP($B2622,_tbl!$A:$E,N$2,0))","v":""},{"$f":"IF($B2622=\"\",\"\",VLOOKUP($B2622,_tbl!$A:$E,O$2,0))","v":""},{"$f":"IF($B2622=\"\",\"\",VLOOKUP($B2622,_tbl!$A:$E,P$2,0))","v":""},{"$f":"IF($B2622=\"\",\"\",VLOOKUP($B2622,_tbl!$A:$E,Q$2,0))","v":""}]
[null,null,null,2020,2021,2022,2023,2024,2025,2026,2027,2028,2029,{"$f":"IF($B2623=\"\",\"\",VLOOKUP($B2623,_tbl!$A:$E,N$2,0))","v":""},{"$f":"IF($B2623=\"\",\"\",VLOOKUP($B2623,_tbl!$A:$E,O$2,0))","v":""},{"$f":"IF($B2623=\"\",\"\",VLOOKUP($B2623,_tbl!$A:$E,P$2,0))","v":""},{"$f":"IF($B2623=\"\",\"\",VLOOKUP($B2623,_tbl!$A:$E,Q$2,0))","v":""}]
[null,"all_f_West Urban diabetes.csv","30-34",2.24118819434127E-6,2.24118819434127E-6,2.24118819434127E-6,2.24118819434127E-6,2.24118819434127E-6,2.24118819434127E-6,2.24118819434127E-6,2.24118819434127E-6,2.24118819434127E-6,2.24118819434127E-6,{"$f":"IF($B2624=\"\",\"\",VLOOKUP($B2624,_tbl!$A:$E,N$2,0))","v":"Female"},{"$f":"IF($B2624=\"\",\"\",VLOOKUP($B2624,_tbl!$A:$E,O$2,0))","v":"West"},{"$f":"IF($B2624=\"\",\"\",VLOOKUP($B2624,_tbl!$A:$E,P$2,0))","v":"Urban"},{"$f":"IF($B2624=\"\",\"\",VLOOKUP($B2624,_tbl!$A:$E,Q$2,0))","v":"Diabetes"},null,{"$f":"MAX(D2624:M2624)","v":2.24118819434127E-6},{"$f":"MIN(D2624:M2624)","v":2.24118819434127E-6}]
[null,"all_f_West Urban diabetes.csv","35-39",6.9882586693731599E-6,7.1725912618871197E-6,7.2454074435573503E-6,7.37891253095283E-6,7.4900364425664898E-6,7.6217748257255804E-6,7.7315931164984397E-6,7.8530799556386498E-6,7.9738693421185795E-6,8.0944209181913395E-6,{"$f":"IF($B2625=\"\",\"\",VLOOKUP($B2625,_tbl!$A:$E,N$2,0))","v":"Female"},{"$f":"IF($B2625=\"\",\"\",VLOOKUP($B2625,_tbl!$A:$E,O$2,0))","v":"West"},{"$f":"IF($B2625=\"\",\"\",VLOOKUP($B2625,_tbl!$A:$E,P$2,0))","v":"Urban"},{"$f":"IF($B2625=\"\",\"\",VLOOKUP($B2625,_tbl!$A:$E,Q$2,0))","v":"Diabetes"},null,8.0944209181913395E-6,6.9882586693731599E-6]
[null,"all_f_West Urban diabetes.csv","40-44",1.48247847803409E-5,1.47799417593531E-5,1.46789059577248E-5,1.45876648681595E-5,1.4489929777298799E-5,1.43969784323834E-5,1.4302126093749499E-5,1.42122511856667E-5,1.4124886828435699E-5,1.4039743114995E-5,{"$f":"IF($B2626=\"\",\"\",VLOOKUP($B2626,_tbl!$A:$E,N$2,0))","v":"Female"},{"$f":"IF($B2626=\"\",\"\",VLOOKUP($B2626,_tbl!$A:$E,O$2,0))","v":"West"},{"$f":"IF($B2626=\"\",\"\",VLOOKUP($B2626,_tbl!$A:$E,P$2,0))","v":"Urban"},{"$f":"IF($B2626=\"\",\"\",VLOOKUP($B2626,_tbl!$A:$E,Q$2,0))","v":"Diabetes"},null,1.48247847803409E-5,1.4039743114995E-5]
[null,"all_f_West Urban diabetes.csv","45-49",3.1504407903373298E-5,3.1705714641795497E-5,3.1736376812419797E-5,3.1771676348526499E-5,3.1799810282241997E-5,3.1827715382837799E-5,3.1849129577712498E-5,3.1869350698510097E-5,3.1887096646195002E-5,3.1902950111593798E-5,{"$f":"IF($B2627=\"\",\"\",VLOOKUP($B2627,_tbl!$A:$E,N$2,0))","v":"Female"},{"$f":"IF($B2627=\"\",\"\",VLOOKUP($B2627,_tbl!$A:$E,O$2,0))","v":"West"},{"$f":"IF($B2627=\"\",\"\",VLOOKUP($B2627,_tbl!$A:$E,P$2,0))","v":"Urban"},{"$f":"IF($B2627=\"\",\"\",VLOOKUP($B2627,_tbl!$A:$E,Q$2,0))","v":"Diabetes"},null,3.1902950111593798E-5,3.1504407903373298E-5]
[null,"all_f_West Urban diabetes.csv","50-54",6.3950415622696696E-5,6.3843121493944806E-5,6.3248847775580099E-5,6.2851997850387807E-5,6.2393735581500005E-5,6.20256429376227E-5,6.1607025290613104E-5,6.1254174575062001E-5,6.0920756500404799E-5,6.0608414452730002E-5,{"$f":"IF($B2628=\"\",\"\",VLOOKUP($B2628,_tbl!$A:$E,N$2,0))","v":"Female"},{"$f":"IF($B2628=\"\",\"\",VLOOKUP($B2628,_tbl!$A:$E,O$2,0))","v":"West"},{"$f":"IF($B2628=\"\",\"\",VLOOKUP($B2628,_tbl!$A:$E,P$2,0))","v":"Urban"},{"$f":"IF($B2628=\"\",\"\",VLOOKUP($B2628,_tbl!$A:$E,Q$2,0))","v":"Diabetes"},null,6.3950415622696696E-5,6.0608414452730002E-5]
[null,"all_f_West Urban diabetes.csv","55-59",1.2640514591141501E-4,1.2522313849526801E-4,1.23350495078334E-4,1.21732840121848E-4,1.20071597730624E-4,1.18542258752839E-4,1.16940836693142E-4,1.15444478101792E-4,1.13996031197213E-4,1.1258684039369501E-4,{"$f":"IF($B2629=\"\",\"\",VLOOKUP($B2629,_tbl!$A:$E,N$2,0))","v":"Female"},{"$f":"IF($B2629=\"\",\"\",VLOOKUP($B2629,_tbl!$A:$E,O$2,0))","v":"West"},{"$f":"IF($B2629=\"\",\"\",VLOOKUP($B2629,_tbl!$A:$E,P$2,0))","v":"Urban"},{"$f":"IF($B2629=\"\",\"\",VLOOKUP($B2629,_tbl!$A:$E,Q$2,0))","v":"Diabetes"},null,1.2640514591141501E-4,1.1258684039369501E-4]
[null,"all_f_West Urban diabetes.csv","60-64",2.29611714904217E-4,2.2613169049652901E-4,2.23201198507487E-4,2.1982898804603701E-4,2.1641900156197199E-4,2.1294017481416399E-4,2.09673835427254E-4,2.06364748365133E-4,2.0309438362486399E-4,1.99908913181807E-4,{"$f":"IF($B2630=\"\",\"\",VLOOKUP($B2630,_tbl!$A:$E,N$2,0))","v":"Female"},{"$f":"IF($B2630=\"\",\"\",VLOOKUP($B2630,_tbl!$A:$E,O$2,0))","v":"West"},{"$f":"IF($B2630=\"\",\"\",VLOOKUP($B2630,_tbl!$A:$E,P$2,0))","v":"Urban"},{"$f":"IF($B2630=\"\",\"\",VLOOKUP($B2630,_tbl!$A:$E,Q$2,0))","v":"Diabetes"},null,2.29611714904217E-4,1.99908913181807E-4]
[null,"all_f_West Urban diabetes.csv","65-69",3.9883390268914101E-4,3.8863697707157798E-4,3.7948659809452698E-4,3.7005871767368398E-4,3.6062735430406198E-4,3.51366890741098E-4,3.4240872520196298E-4,3.3361416657313E-4,3.2502432562186198E-4,3.1668840089570501E-4,{"$f":"IF($B2631=\"\",\"\",VLOOKUP($B2631,_tbl!$A:$E,N$2,0))","v":"Female"},{"$f":"IF($B2631=\"\",\"\",VLOOKUP($B2631,_tbl!$A:$E,O$2,0))","v":"West"},{"$f":"IF($B2631=\"\",\"\",VLOOKUP($B2631,_tbl!$A:$E,P$2,0))","v":"Urban"},{"$f":"IF($B2631=\"\",\"\",VLOOKUP($B2631,_tbl!$A:$E,Q$2,0))","v":"Diabetes"},null,3.9883390268914101E-4,3.1668840089570501E-4]
[null,"all_f_West Urban diabetes.csv","70-74",7.52053925895547E-4,7.4739642460493801E-4,7.4108769065523003E-4,7.3534547567984695E-4,7.2967073155920696E-4,7.2444210485039101E-4,7.1823952687666596E-4,7.1265667118698901E-4,7.0733928717621702E-4,7.0200416272376198E-4,{"$f":"IF($B2632=\"\",\"\",VLOOKUP($B2632,_tbl!$A:$E,N$2,0))","v":"Female"},{"$f":"IF($B2632=\"\",\"\",VLOOKUP($B2632,_tbl!$A:$E,O$2,0))","v":"West"},{"$f":"IF($B2632=\"\",\"\",VLOOKUP($B2632,_tbl!$A:$E,P$2,0))","v":"Urban"},{"$f":"IF($B2632=\"\",\"\",VLOOKUP($B2632,_tbl!$A:$E,Q$2,0))","v":"Diabetes"},null,7.52053925895547E-4,7.0200416272376198E-4]
[null,"all_f_West Urban diabetes.csv","75-79",1.28849872118838E-3,1.30206656360881E-3,1.3116889522541799E-3,1.3223357923541101E-3,1.33379506867283E-3,1.3457112403246099E-3,1.3553296783331899E-3,1.3658005713634801E-3,1.3764564860694801E-3,1.38656811706165E-3,{"$f":"IF($B2633=\"\",\"\",VLOOKUP($B2633,_tbl!$A:$E,N$2,0))","v":"Female"},{"$f":"IF($B2633=\"\",\"\",VLOOKUP($B2633,_tbl!$A:$E,O$2,0))","v":"West"},{"$f":"IF($B2633=\"\",\"\",VLOOKUP($B2633,_tbl!$A:$E,P$2,0))","v":"Urban"},{"$f":"IF($B2633=\"\",\"\",VLOOKUP($B2633,_tbl!$A:$E,Q$2,0))","v":"Diabetes"},null,1.38656811706165E-3,1.28849872118838E-3]
[null,"all_f_West Urban diabetes.csv","80-84",1.96509413555555E-3,1.9555861416974498E-3,1.9671439787505101E-3,1.9734803685715202E-3,1.9805607804841501E-3,1.9866203554351602E-3,1.9998681841737601E-3,2.0084735637624501E-3,2.0147518027257799E-3,2.0215465019099402E-3,{"$f":"IF($B2634=\"\",\"\",VLOOKUP($B2634,_tbl!$A:$E,N$2,0))","v":"Female"},{"$f":"IF($B2634=\"\",\"\",VLOOKUP($B2634,_tbl!$A:$E,O$2,0))","v":"West"},{"$f":"IF($B2634=\"\",\"\",VLOOKUP($B2634,_tbl!$A:$E,P$2,0))","v":"Urban"},{"$f":"IF($B2634=\"\",\"\",VLOOKUP($B2634,_tbl!$A:$E,Q$2,0))","v":"Diabetes"},null,2.0215465019099402E-3,1.9555861416974498E-3]
[null,"all_f_West Urban diabetes.csv","85+",3.0426017286638899E-3,2.9794590002451601E-3,2.9934970187193099E-3,3.00130406566643E-3,3.0119236874590399E-3,3.0222881057094201E-3,3.04227463033965E-3,3.0546308433683999E-3,3.0629179138865598E-3,3.07162279532527E-3,{"$f":"IF($B2635=\"\",\"\",VLOOKUP($B2635,_tbl!$A:$E,N$2,0))","v":"Female"},{"$f":"IF($B2635=\"\",\"\",VLOOKUP($B2635,_tbl!$A:$E,O$2,0))","v":"West"},{"$f":"IF($B2635=\"\",\"\",VLOOKUP($B2635,_tbl!$A:$E,P$2,0))","v":"Urban"},{"$f":"IF($B2635=\"\",\"\",VLOOKUP($B2635,_tbl!$A:$E,Q$2,0))","v":"Diabetes"},null,3.07162279532527E-3,2.9794590002451601E-3]
[null,"all_f_West Urban diabetes.csv",null,null,null,null,null,null,null,null,null,null,null,{"$f":"IF($B2636=\"\",\"\",VLOOKUP($B2636,_tbl!$A:$E,N$2,0))","v":"Female"},{"$f":"IF($B2636=\"\",\"\",VLOOKUP($B2636,_tbl!$A:$E,O$2,0))","v":"West"},{"$f":"IF($B2636=\"\",\"\",VLOOKUP($B2636,_tbl!$A:$E,P$2,0))","v":"Urban"},{"$f":"IF($B2636=\"\",\"\",VLOOKUP($B2636,_tbl!$A:$E,Q$2,0))","v":"Diabetes"},null,0,0]
[null,"all_f_West Urban diabetes.csv",null,null,null,null,null,null,null,null,null,null,null,{"$f":"IF($B2637=\"\",\"\",VLOOKUP($B2637,_tbl!$A:$E,N$2,0))","v":"Female"},{"$f":"IF($B2637=\"\",\"\",VLOOKUP($B2637,_tbl!$A:$E,O$2,0))","v":"West"},{"$f":"IF($B2637=\"\",\"\",VLOOKUP($B2637,_tbl!$A:$E,P$2,0))","v":"Urban"},{"$f":"IF($B2637=\"\",\"\",VLOOKUP($B2637,_tbl!$A:$E,Q$2,0))","v":"Diabetes"},null,0,0]
[null,"all_f_West Urban diabetes.csv",null,null,null,null,null,null,null,null,null,null,null,{"$f":"IF($B2638=\"\",\"\",VLOOKUP($B2638,_tbl!$A:$E,N$2,0))","v":"Female"},{"$f":"IF($B2638=\"\",\"\",VLOOKUP($B2638,_tbl!$A:$E,O$2,0))","v":"West"},{"$f":"IF($B2638=\"\",\"\",VLOOKUP($B2638,_tbl!$A:$E,P$2,0))","v":"Urban"},{"$f":"IF($B2638=\"\",\"\",VLOOKUP($B2638,_tbl!$A:$E,Q$2,0))","v":"Diabetes"},null,0,0]
[null,"all_f_West Urban diabetes.csv",null,null,null,null,null,null,null,null,null,null,null,{"$f":"IF($B2639=\"\",\"\",VLOOKUP($B2639,_tbl!$A:$E,N$2,0))","v":"Female"},{"$f":"IF($B2639=\"\",\"\",VLOOKUP($B2639,_tbl!$A:$E,O$2,0))","v":"West"},{"$f":"IF($B2639=\"\",\"\",VLOOKUP($B2639,_tbl!$A:$E,P$2,0))","v":"Urban"},{"$f":"IF($B2639=\"\",\"\",VLOOKUP($B2639,_tbl!$A:$E,Q$2,0))","v":"Diabetes"},null,0,0]
[null,"all_f_West Urban diabetes.csv",null,null,null,null,null,null,null,null,null,null,null,{"$f":"IF($B2640=\"\",\"\",VLOOKUP($B2640,_tbl!$A:$E,N$2,0))","v":"Female"},{"$f":"IF($B2640=\"\",\"\",VLOOKUP($B2640,_tbl!$A:$E,O$2,0))","v":"West"},{"$f":"IF($B2640=\"\",\"\",VLOOKUP($B2640,_tbl!$A:$E,P$2,0))","v":"Urban"},{"$f":"IF($B2640=\"\",\"\",VLOOKUP($B2640,_tbl!$A:$E,Q$2,0))","v":"Diabetes"},null,0,0]
[null,"all_f_West Urban diabetes.csv",null,null,null,null,null,null,null,null,null,null,null,{"$f":"IF($B2641=\"\",\"\",VLOOKUP($B2641,_tbl!$A:$E,N$2,0))","v":"Female"},{"$f":"IF($B2641=\"\",\"\",VLOOKUP($B2641,_tbl!$A:$E,O$2,0))","v":"West"},{"$f":"IF($B2641=\"\",\"\",VLOOKUP($B2641,_tbl!$A:$E,P$2,0))","v":"Urban"},{"$f":"IF($B2641=\"\",\"\",VLOOKUP($B2641,_tbl!$A:$E,Q$2,0))","v":"Diabetes"},null,0,0]
[null,null,null,null,null,null,null,null,null,null,null,null,null,{"$f":"IF($B2642=\"\",\"\",VLOOKUP($B2642,_tbl!$A:$E,N$2,0))","v":""},{"$f":"IF($B2642=\"\",\"\",VLOOKUP($B2642,_tbl!$A:$E,O$2,0))","v":""},{"$f":"IF($B2642=\"\",\"\",VLOOKUP($B2642,_tbl!$A:$E,P$2,0))","v":""},{"$f":"IF($B2642=\"\",\"\",VLOOKUP($B2642,_tbl!$A:$E,Q$2,0))","v":""}]
[null,null,null,2020,2021,2022,2023,2024,2025,2026,2027,2028,2029,{"$f":"IF($B2643=\"\",\"\",VLOOKUP($B2643,_tbl!$A:$E,N$2,0))","v":""},{"$f":"IF($B2643=\"\",\"\",VLOOKUP($B2643,_tbl!$A:$E,O$2,0))","v":""},{"$f":"IF($B2643=\"\",\"\",VLOOKUP($B2643,_tbl!$A:$E,P$2,0))","v":""},{"$f":"IF($B2643=\"\",\"\",VLOOKUP($B2643,_tbl!$A:$E,Q$2,0))","v":""}]
[null,"all_f_West Urban digestive.csv","1-4",8.52313191502254E-6,8.4874092390252208E-6,8.4807176008332901E-6,8.4691568281127094E-6,8.4653326051341892E-6,8.4547000601037898E-6,8.4426150117108696E-6,8.4221269360825405E-6,8.3984927593088204E-6,8.3718892197915805E-6,{"$f":"IF($B2644=\"\",\"\",VLOOKUP($B2644,_tbl!$A:$E,N$2,0))","v":"Female"},{"$f":"IF($B2644=\"\",\"\",VLOOKUP($B2644,_tbl!$A:$E,O$2,0))","v":"West"},{"$f":"IF($B2644=\"\",\"\",VLOOKUP($B2644,_tbl!$A:$E,P$2,0))","v":"Urban"},{"$f":"IF($B2644=\"\",\"\",VLOOKUP($B2644,_tbl!$A:$E,Q$2,0))","v":"Digestive"},null,{"$f":"MAX(D2644:M2644)","v":8.52313191502254E-6},{"$f":"MIN(D2644:M2644)","v":8.3718892197915805E-6}]
[null,"all_f_West Urban digestive.csv","5-9",3.7959636162136199E-6,3.80435297096318E-6,3.8066670157035801E-6,3.80844609506663E-6,3.8105456255321298E-6,3.8120069233557999E-6,3.8138391511965202E-6,3.8146596955748301E-6,3.8147707018557097E-6,3.8145898830658099E-6,{"$f":"IF($B2645=\"\",\"\",VLOOKUP($B2645,_tbl!$A:$E,N$2,0))","v":"Female"},{"$f":"IF($B2645=\"\",\"\",VLOOKUP($B2645,_tbl!$A:$E,O$2,0))","v":"West"},{"$f":"IF($B2645=\"\",\"\",VLOOKUP($B2645,_tbl!$A:$E,P$2,0))","v":"Urban"},{"$f":"IF($B2645=\"\",\"\",VLOOKUP($B2645,_tbl!$A:$E,Q$2,0))","v":"Digestive"},null,3.8147707018557097E-6,3.7959636162136199E-6]
[null,"all_f_West Urban digestive.csv","10-14",2.92536808007163E-6,2.9133179314317302E-6,2.90225061517666E-6,2.8915118525542801E-6,2.8789641974820002E-6,2.867251100667E-6,2.8561740943737602E-6,2.84588838976213E-6,2.8356881906018601E-6,2.8260556255983401E-6,{"$f":"IF($B2646=\"\",\"\",VLOOKUP($B2646,_tbl!$A:$E,N$2,0))","v":"Female"},{"$f":"IF($B2646=\"\",\"\",VLOOKUP($B2646,_tbl!$A:$E,O$2,0))","v":"West"},{"$f":"IF($B2646=\"\",\"\",VLOOKUP($B2646,_tbl!$A:$E,P$2,0))","v":"Urban"},{"$f":"IF($B2646=\"\",\"\",VLOOKUP($B2646,_tbl!$A:$E,Q$2,0))","v":"Digestive"},null,2.92536808007163E-6,2.8260556255983401E-6]
[null,"all_f_West Urban digestive.csv","15-19",2.5662002693508501E-6,2.4954585923695899E-6,2.4528251559295102E-6,2.4096882894454298E-6,2.3715009521682599E-6,2.3309317663920198E-6,2.2900995177559999E-6,2.2465154055377798E-6,2.2021423965209698E-6,2.1570499465910901E-6,{"$f":"IF($B2647=\"\",\"\",VLOOKUP($B2647,_tbl!$A:$E,N$2,0))","v":"Female"},{"$f":"IF($B2647=\"\",\"\",VLOOKUP($B2647,_tbl!$A:$E,O$2,0))","v":"West"},{"$f":"IF($B2647=\"\",\"\",VLOOKUP($B2647,_tbl!$A:$E,P$2,0))","v":"Urban"},{"$f":"IF($B2647=\"\",\"\",VLOOKUP($B2647,_tbl!$A:$E,Q$2,0))","v":"Digestive"},null,2.5662002693508501E-6,2.1570499465910901E-6]
[null,"all_f_West Urban digestive.csv","20-24",3.1542962777047699E-6,3.10183191358064E-6,3.0833264610013899E-6,3.06034470069557E-6,3.0459788379717699E-6,3.0247344051383402E-6,3.00286990303409E-6,2.9752729545085701E-6,2.9461915781949201E-6,2.9156570277477399E-6,{"$f":"IF($B2648=\"\",\"\",VLOOKUP($B2648,_tbl!$A:$E,N$2,0))","v":"Female"},{"$f":"IF($B2648=\"\",\"\",VLOOKUP($B2648,_tbl!$A:$E,O$2,0))","v":"West"},{"$f":"IF($B2648=\"\",\"\",VLOOKUP($B2648,_tbl!$A:$E,P$2,0))","v":"Urban"},{"$f":"IF($B2648=\"\",\"\",VLOOKUP($B2648,_tbl!$A:$E,Q$2,0))","v":"Digestive"},null,3.1542962777047699E-6,2.9156570277477399E-6]
[null,"all_f_West Urban digestive.csv","25-29",4.4864114728762599E-6,4.4405676473276302E-6,4.4142372012599601E-6,4.3837291270333599E-6,4.3597530818177202E-6,4.3310951696359401E-6,4.3028905463467898E-6,4.2707006897821001E-6,4.2377809804030296E-6,4.2042267673576602E-6,{"$f":"IF($B2649=\"\",\"\",VLOOKUP($B2649,_tbl!$A:$E,N$2,0))","v":"Female"},{"$f":"IF($B2649=\"\",\"\",VLOOKUP($B2649,_tbl!$A:$E,O$2,0))","v":"West"},{"$f":"IF($B2649=\"\",\"\",VLOOKUP($B2649,_tbl!$A:$E,P$2,0))","v":"Urban"},{"$f":"IF($B2649=\"\",\"\",VLOOKUP($B2649,_tbl!$A:$E,Q$2,0))","v":"Digestive"},null,4.4864114728762599E-6,4.2042267673576602E-6]
[null,"all_f_West Urban digestive.csv","30-34",7.4279820281327397E-6,7.3895793452119703E-6,7.3643863828351898E-6,7.3332661604330301E-6,7.30545461618021E-6,7.2743801981627503E-6,7.2443579522095801E-6,7.2118994888822799E-6,7.1790005479090804E-6,7.1457485622553396E-6,{"$f":"IF($B2650=\"\",\"\",VLOOKUP($B2650,_tbl!$A:$E,N$2,0))","v":"Female"},{"$f":"IF($B2650=\"\",\"\",VLOOKUP($B2650,_tbl!$A:$E,O$2,0))","v":"West"},{"$f":"IF($B2650=\"\",\"\",VLOOKUP($B2650,_tbl!$A:$E,P$2,0))","v":"Urban"},{"$f":"IF($B2650=\"\",\"\",VLOOKUP($B2650,_tbl!$A:$E,Q$2,0))","v":"Digestive"},null,7.4279820281327397E-6,7.1457485622553396E-6]
[null,"all_f_West Urban digestive.csv","35-39",1.20765003798919E-5,1.20661387932138E-5,1.2055751155895901E-5,1.20461959160296E-5,1.2038370583885201E-5,1.20323394793031E-5,1.2028887051541E-5,1.20275041187184E-5,1.20279850974439E-5,1.2029926393713E-5,{"$f":"IF($B2651=\"\",\"\",VLOOKUP($B2651,_tbl!$A:$E,N$2,0))","v":"Female"},{"$f":"IF($B2651=\"\",\"\",VLOOKUP($B2651,_tbl!$A:$E,O$2,0))","v":"West"},{"$f":"IF($B2651=\"\",\"\",VLOOKUP($B2651,_tbl!$A:$E,P$2,0))","v":"Urban"},{"$f":"IF($B2651=\"\",\"\",VLOOKUP($B2651,_tbl!$A:$E,Q$2,0))","v":"Digestive"},null,1.20765003798919E-5,1.20275041187184E-5]
[null,"all_f_West Urban digestive.csv","40-44",1.8916919696982101E-5,1.89755654881319E-5,1.8915088885953202E-5,1.8926971450492099E-5,1.89205587974365E-5,1.89403306142503E-5,1.8941430001692999E-5,1.8957728802441599E-5,1.8976206850302301E-5,1.8997590290431299E-5,{"$f":"IF($B2652=\"\",\"\",VLOOKUP($B2652,_tbl!$A:$E,N$2,0))","v":"Female"},{"$f":"IF($B2652=\"\",\"\",VLOOKUP($B2652,_tbl!$A:$E,O$2,0))","v":"West"},{"$f":"IF($B2652=\"\",\"\",VLOOKUP($B2652,_tbl!$A:$E,P$2,0))","v":"Urban"},{"$f":"IF($B2652=\"\",\"\",VLOOKUP($B2652,_tbl!$A:$E,Q$2,0))","v":"Digestive"},null,1.8997590290431299E-5,1.8915088885953202E-5]
[null,"all_f_West Urban digestive.csv","45-49",2.9121053458842301E-5,2.89418242463301E-5,2.82679749018709E-5,2.7908316886780601E-5,2.7476426919986599E-5,2.7169904531335301E-5,2.6793915230590898E-5,2.6494306739956E-5,2.6211419581459099E-5,2.5949566303304799E-5,{"$f":"IF($B2653=\"\",\"\",VLOOKUP($B2653,_tbl!$A:$E,N$2,0))","v":"Female"},{"$f":"IF($B2653=\"\",\"\",VLOOKUP($B2653,_tbl!$A:$E,O$2,0))","v":"West"},{"$f":"IF($B2653=\"\",\"\",VLOOKUP($B2653,_tbl!$A:$E,P$2,0))","v":"Urban"},{"$f":"IF($B2653=\"\",\"\",VLOOKUP($B2653,_tbl!$A:$E,Q$2,0))","v":"Digestive"},null,2.9121053458842301E-5,2.5949566303304799E-5]
[null,"all_f_West Urban digestive.csv","50-54",4.8287920367693299E-5,4.8144984416650198E-5,4.7129258423366801E-5,4.6542513038298601E-5,4.5813709963834701E-5,4.5270568569299598E-5,4.4604490302818997E-5,4.4072454364615703E-5,4.3572893415883302E-5,4.3107986419462997E-5,{"$f":"IF($B2654=\"\",\"\",VLOOKUP($B2654,_tbl!$A:$E,N$2,0))","v":"Female"},{"$f":"IF($B2654=\"\",\"\",VLOOKUP($B2654,_tbl!$A:$E,O$2,0))","v":"West"},{"$f":"IF($B2654=\"\",\"\",VLOOKUP($B2654,_tbl!$A:$E,P$2,0))","v":"Urban"},{"$f":"IF($B2654=\"\",\"\",VLOOKUP($B2654,_tbl!$A:$E,Q$2,0))","v":"Digestive"},null,4.8287920367693299E-5,4.3107986419462997E-5]
[null,"all_f_West Urban digestive.csv","55-59",8.4115692529038906E-5,8.5988537229374204E-5,8.6685202655411903E-5,8.7822711900622694E-5,8.8806126930975906E-5,8.9952180524805101E-5,9.0841619684730999E-5,9.1847497274095494E-5,9.2856252478187398E-5,9.3845337919007006E-5,{"$f":"IF($B2655=\"\",\"\",VLOOKUP($B2655,_tbl!$A:$E,N$2,0))","v":"Female"},{"$f":"IF($B2655=\"\",\"\",VLOOKUP($B2655,_tbl!$A:$E,O$2,0))","v":"West"},{"$f":"IF($B2655=\"\",\"\",VLOOKUP($B2655,_tbl!$A:$E,P$2,0))","v":"Urban"},{"$f":"IF($B2655=\"\",\"\",VLOOKUP($B2655,_tbl!$A:$E,Q$2,0))","v":"Digestive"},null,9.3845337919007006E-5,8.4115692529038906E-5]
[null,"all_f_West Urban digestive.csv","60-64",1.3537139342262601E-4,1.3813612016470199E-4,1.4108685710954399E-4,1.4364572105973099E-4,1.46053845320919E-4,1.48345322756651E-4,1.5056612991530701E-4,1.5271941162485901E-4,1.5482763288512399E-4,1.5689599180776601E-4,{"$f":"IF($B2656=\"\",\"\",VLOOKUP($B2656,_tbl!$A:$E,N$2,0))","v":"Female"},{"$f":"IF($B2656=\"\",\"\",VLOOKUP($B2656,_tbl!$A:$E,O$2,0))","v":"West"},{"$f":"IF($B2656=\"\",\"\",VLOOKUP($B2656,_tbl!$A:$E,P$2,0))","v":"Urban"},{"$f":"IF($B2656=\"\",\"\",VLOOKUP($B2656,_tbl!$A:$E,Q$2,0))","v":"Digestive"},null,1.5689599180776601E-4,1.3537139342262601E-4]
[null,"all_f_West Urban digestive.csv","65-69",2.30678054328985E-4,2.34387206081576E-4,2.3796829437668299E-4,2.41118018339137E-4,2.4402846232129301E-4,2.46848517376559E-4,2.4936371468785702E-4,2.5186690871016002E-4,2.5432275687954799E-4,2.56697522383445E-4,{"$f":"IF($B2657=\"\",\"\",VLOOKUP($B2657,_tbl!$A:$E,N$2,0))","v":"Female"},{"$f":"IF($B2657=\"\",\"\",VLOOKUP($B2657,_tbl!$A:$E,O$2,0))","v":"West"},{"$f":"IF($B2657=\"\",\"\",VLOOKUP($B2657,_tbl!$A:$E,P$2,0))","v":"Urban"},{"$f":"IF($B2657=\"\",\"\",VLOOKUP($B2657,_tbl!$A:$E,Q$2,0))","v":"Digestive"},null,2.56697522383445E-4,2.30678054328985E-4]
[null,"all_f_West Urban digestive.csv","70-74",4.1379869454657298E-4,4.1987699044712098E-4,4.2214528972720199E-4,4.2521316086952898E-4,4.2825074403219E-4,4.3171944332299198E-4,4.3354674102833601E-4,4.3603387288425501E-4,4.3868523755400399E-4,4.4109839682069199E-4,{"$f":"IF($B2658=\"\",\"\",VLOOKUP($B2658,_tbl!$A:$E,N$2,0))","v":"Female"},{"$f":"IF($B2658=\"\",\"\",VLOOKUP($B2658,_tbl!$A:$E,O$2,0))","v":"West"},{"$f":"IF($B2658=\"\",\"\",VLOOKUP($B2658,_tbl!$A:$E,P$2,0))","v":"Urban"},{"$f":"IF($B2658=\"\",\"\",VLOOKUP($B2658,_tbl!$A:$E,Q$2,0))","v":"Digestive"},null,4.4109839682069199E-4,4.1379869454657298E-4]
[null,"all_f_West Urban digestive.csv","75-79",8.2306965495941304E-4,8.3815646834117601E-4,8.46727581852756E-4,8.5698378147551003E-4,8.6788515952459198E-4,8.7951631914928198E-4,8.8791481535147596E-4,8.9782638153938896E-4,9.0828032418683495E-4,9.1822862259095697E-4,{"$f":"IF($B2659=\"\",\"\",VLOOKUP($B2659,_tbl!$A:$E,N$2,0))","v":"Female"},{"$f":"IF($B2659=\"\",\"\",VLOOKUP($B2659,_tbl!$A:$E,O$2,0))","v":"West"},{"$f":"IF($B2659=\"\",\"\",VLOOKUP($B2659,_tbl!$A:$E,P$2,0))","v":"Urban"},{"$f":"IF($B2659=\"\",\"\",VLOOKUP($B2659,_tbl!$A:$E,Q$2,0))","v":"Digestive"},null,9.1822862259095697E-4,8.2306965495941304E-4]
[null,"all_f_West Urban digestive.csv","80-84",1.80328924043578E-3,1.7943390359382199E-3,1.80240047705609E-3,1.8090866136449199E-3,1.8174207383627201E-3,1.8251882819776901E-3,1.83811151738355E-3,1.8483912326233199E-3,1.85753187039993E-3,1.8670990002118699E-3,{"$f":"IF($B2660=\"\",\"\",VLOOKUP($B2660,_tbl!$A:$E,N$2,0))","v":"Female"},{"$f":"IF($B2660=\"\",\"\",VLOOKUP($B2660,_tbl!$A:$E,O$2,0))","v":"West"},{"$f":"IF($B2660=\"\",\"\",VLOOKUP($B2660,_tbl!$A:$E,P$2,0))","v":"Urban"},{"$f":"IF($B2660=\"\",\"\",VLOOKUP($B2660,_tbl!$A:$E,Q$2,0))","v":"Digestive"},null,1.8670990002118699E-3,1.7943390359382199E-3]
[null,"all_f_West Urban digestive.csv","85+",4.3270379881948304E-3,4.2494626364018902E-3,4.2153109664238896E-3,4.2024801102566699E-3,4.20432526585739E-3,4.2121762404209303E-3,4.2354999468699403E-3,4.2534300105347101E-3,4.2686730393672297E-3,4.2853616486960002E-3,{"$f":"IF($B2661=\"\",\"\",VLOOKUP($B2661,_tbl!$A:$E,N$2,0))","v":"Female"},{"$f":"IF($B2661=\"\",\"\",VLOOKUP($B2661,_tbl!$A:$E,O$2,0))","v":"West"},{"$f":"IF($B2661=\"\",\"\",VLOOKUP($B2661,_tbl!$A:$E,P$2,0))","v":"Urban"},{"$f":"IF($B2661=\"\",\"\",VLOOKUP($B2661,_tbl!$A:$E,Q$2,0))","v":"Digestive"},null,4.3270379881948304E-3,4.2024801102566699E-3]
[null,null,null,null,null,null,null,null,null,null,null,null,null,{"$f":"IF($B2662=\"\",\"\",VLOOKUP($B2662,_tbl!$A:$E,N$2,0))","v":""},{"$f":"IF($B2662=\"\",\"\",VLOOKUP($B2662,_tbl!$A:$E,O$2,0))","v":""},{"$f":"IF($B2662=\"\",\"\",VLOOKUP($B2662,_tbl!$A:$E,P$2,0))","v":""},{"$f":"IF($B2662=\"\",\"\",VLOOKUP($B2662,_tbl!$A:$E,Q$2,0))","v":""}]
[null,null,null,2020,2021,2022,2023,2024,2025,2026,2027,2028,2029,{"$f":"IF($B2663=\"\",\"\",VLOOKUP($B2663,_tbl!$A:$E,N$2,0))","v":""},{"$f":"IF($B2663=\"\",\"\",VLOOKUP($B2663,_tbl!$A:$E,O$2,0))","v":""},{"$f":"IF($B2663=\"\",\"\",VLOOKUP($B2663,_tbl!$A:$E,P$2,0))","v":""},{"$f":"IF($B2663=\"\",\"\",VLOOKUP($B2663,_tbl!$A:$E,Q$2,0))","v":""}]
[null,"all_f_West Urban external.csv","1-4",1.43459593357655E-4,1.4189415052246E-4,1.41296157341566E-4,1.40595926591995E-4,1.4034904973013899E-4,1.3984689056153901E-4,1.39306903229081E-4,1.38399525568686E-4,1.3738014634980699E-4,1.3623490065039299E-4,{"$f":"IF($B2664=\"\",\"\",VLOOKUP($B2664,_tbl!$A:$E,N$2,0))","v":"Female"},{"$f":"IF($B2664=\"\",\"\",VLOOKUP($B2664,_tbl!$A:$E,O$2,0))","v":"West"},{"$f":"IF($B2664=\"\",\"\",VLOOKUP($B2664,_tbl!$A:$E,P$2,0))","v":"Urban"},{"$f":"IF($B2664=\"\",\"\",VLOOKUP($B2664,_tbl!$A:$E,Q$2,0))","v":"External"},null,{"$f":"MAX(D2664:M2664)","v":1.43459593357655E-4},{"$f":"MIN(D2664:M2664)","v":1.3623490065039299E-4}]
[null,"all_f_West Urban external.csv","5-9",1.05110564970943E-4,1.03771260290322E-4,1.02573628377073E-4,1.01415108444569E-4,1.0034597924386901E-4,9.9269076690713798E-5,9.8181068306075505E-5,9.7056058697263996E-5,9.5920985634773102E-5,9.4770509584979698E-5,{"$f":"IF($B2665=\"\",\"\",VLOOKUP($B2665,_tbl!$A:$E,N$2,0))","v":"Female"},{"$f":"IF($B2665=\"\",\"\",VLOOKUP($B2665,_tbl!$A:$E,O$2,0))","v":"West"},{"$f":"IF($B2665=\"\",\"\",VLOOKUP($B2665,_tbl!$A:$E,P$2,0))","v":"Urban"},{"$f":"IF($B2665=\"\",\"\",VLOOKUP($B2665,_tbl!$A:$E,Q$2,0))","v":"External"},null,1.05110564970943E-4,9.4770509584979698E-5]
[null,"all_f_West Urban external.csv","10-14",7.9440254929959993E-5,7.7837706434454303E-5,7.6300681588450906E-5,7.4845996206330094E-5,7.3458851891973901E-5,7.2114361347064407E-5,7.0789071209467796E-5,6.9481134132268099E-5,6.8191036525372202E-5,6.6917360270525499E-5,{"$f":"IF($B2666=\"\",\"\",VLOOKUP($B2666,_tbl!$A:$E,N$2,0))","v":"Female"},{"$f":"IF($B2666=\"\",\"\",VLOOKUP($B2666,_tbl!$A:$E,O$2,0))","v":"West"},{"$f":"IF($B2666=\"\",\"\",VLOOKUP($B2666,_tbl!$A:$E,P$2,0))","v":"Urban"},{"$f":"IF($B2666=\"\",\"\",VLOOKUP($B2666,_tbl!$A:$E,Q$2,0))","v":"External"},null,7.9440254929959993E-5,6.6917360270525499E-5]
[null,"all_f_West Urban external.csv","15-19",7.4855877129963904E-5,7.3656362785009201E-5,7.20772596070345E-5,7.0620907737435902E-5,6.9136405623564898E-5,6.7788587784878504E-5,6.6496934486684603E-5,6.5316172088552294E-5,6.4195650932929104E-5,6.3138169218087396E-5,{"$f":"IF($B2667=\"\",\"\",VLOOKUP($B2667,_tbl!$A:$E,N$2,0))","v":"Female"},{"$f":"IF($B2667=\"\",\"\",VLOOKUP($B2667,_tbl!$A:$E,O$2,0))","v":"West"},{"$f":"IF($B2667=\"\",\"\",VLOOKUP($B2667,_tbl!$A:$E,P$2,0))","v":"Urban"},{"$f":"IF($B2667=\"\",\"\",VLOOKUP($B2667,_tbl!$A:$E,Q$2,0))","v":"External"},null,7.4855877129963904E-5,6.3138169218087396E-5]
[null,"all_f_West Urban external.csv","20-24",7.6527787264138206E-5,7.4669598180689104E-5,7.2191098136150397E-5,6.9955109818077094E-5,6.7643237999747801E-5,6.55967715372404E-5,6.3658373811048704E-5,6.1931793541780504E-5,6.0315491766836197E-5,5.8809626950376603E-5,{"$f":"IF($B2668=\"\",\"\",VLOOKUP($B2668,_tbl!$A:$E,N$2,0))","v":"Female"},{"$f":"IF($B2668=\"\",\"\",VLOOKUP($B2668,_tbl!$A:$E,O$2,0))","v":"West"},{"$f":"IF($B2668=\"\",\"\",VLOOKUP($B2668,_tbl!$A:$E,P$2,0))","v":"Urban"},{"$f":"IF($B2668=\"\",\"\",VLOOKUP($B2668,_tbl!$A:$E,Q$2,0))","v":"External"},null,7.6527787264138206E-5,5.8809626950376603E-5]
[null,"all_f_West Urban external.csv","25-29",9.0455738701759403E-5,8.9031650791243495E-5,8.7319586498213001E-5,8.5796809602310502E-5,8.4255772522961303E-5,8.2894297528775905E-5,8.1608323874607196E-5,8.0469547589959303E-5,7.9413303470337096E-5,7.8436600903228495E-5,{"$f":"IF($B2669=\"\",\"\",VLOOKUP($B2669,_tbl!$A:$E,N$2,0))","v":"Female"},{"$f":"IF($B2669=\"\",\"\",VLOOKUP($B2669,_tbl!$A:$E,O$2,0))","v":"West"},{"$f":"IF($B2669=\"\",\"\",VLOOKUP($B2669,_tbl!$A:$E,P$2,0))","v":"Urban"},{"$f":"IF($B2669=\"\",\"\",VLOOKUP($B2669,_tbl!$A:$E,Q$2,0))","v":"External"},null,9.0455738701759403E-5,7.8436600903228495E-5]
[null,"all_f_West Urban external.csv","30-34",1.09223290452058E-4,1.0895900961974901E-4,1.0847560810801E-4,1.08091906019777E-4,1.0770403908053699E-4,1.07395120967967E-4,1.07111716376218E-4,1.0689436094454201E-4,1.0671541407428699E-4,1.06571664432893E-4,{"$f":"IF($B2670=\"\",\"\",VLOOKUP($B2670,_tbl!$A:$E,N$2,0))","v":"Female"},{"$f":"IF($B2670=\"\",\"\",VLOOKUP($B2670,_tbl!$A:$E,O$2,0))","v":"West"},{"$f":"IF($B2670=\"\",\"\",VLOOKUP($B2670,_tbl!$A:$E,P$2,0))","v":"Urban"},{"$f":"IF($B2670=\"\",\"\",VLOOKUP($B2670,_tbl!$A:$E,Q$2,0))","v":"External"},null,1.09223290452058E-4,1.06571664432893E-4]
[null,"all_f_West Urban external.csv","35-39",1.2718829465779299E-4,1.2660219631492901E-4,1.2592411343605999E-4,1.25373517031596E-4,1.2483615258570299E-4,1.24369035956583E-4,1.2391866953918201E-4,1.23525927391866E-4,1.2317111417414799E-4,1.2285073869714699E-4,{"$f":"IF($B2671=\"\",\"\",VLOOKUP($B2671,_tbl!$A:$E,N$2,0))","v":"Female"},{"$f":"IF($B2671=\"\",\"\",VLOOKUP($B2671,_tbl!$A:$E,O$2,0))","v":"West"},{"$f":"IF($B2671=\"\",\"\",VLOOKUP($B2671,_tbl!$A:$E,P$2,0))","v":"Urban"},{"$f":"IF($B2671=\"\",\"\",VLOOKUP($B2671,_tbl!$A:$E,Q$2,0))","v":"External"},null,1.2718829465779299E-4,1.2285073869714699E-4]
[null,"all_f_West Urban external.csv","40-44",1.48416494763129E-4,1.46951237351141E-4,1.4569428154802001E-4,1.44468152420012E-4,1.4327047666101299E-4,1.42111659986006E-4,1.4100702290908499E-4,1.3995716604944699E-4,1.3895941723513999E-4,1.3800683355310201E-4,{"$f":"IF($B2672=\"\",\"\",VLOOKUP($B2672,_tbl!$A:$E,N$2,0))","v":"Female"},{"$f":"IF($B2672=\"\",\"\",VLOOKUP($B2672,_tbl!$A:$E,O$2,0))","v":"West"},{"$f":"IF($B2672=\"\",\"\",VLOOKUP($B2672,_tbl!$A:$E,P$2,0))","v":"Urban"},{"$f":"IF($B2672=\"\",\"\",VLOOKUP($B2672,_tbl!$A:$E,Q$2,0))","v":"External"},null,1.48416494763129E-4,1.3800683355310201E-4]
[null,"all_f_West Urban external.csv","45-49",1.77723631888515E-4,1.7583731220837E-4,1.74008250163193E-4,1.7228939836987E-4,1.7063296939447001E-4,1.6905407550666499E-4,1.6753217551105501E-4,1.6607648547350301E-4,1.6467922290381299E-4,1.6333784884738599E-4,{"$f":"IF($B2673=\"\",\"\",VLOOKUP($B2673,_tbl!$A:$E,N$2,0))","v":"Female"},{"$f":"IF($B2673=\"\",\"\",VLOOKUP($B2673,_tbl!$A:$E,O$2,0))","v":"West"},{"$f":"IF($B2673=\"\",\"\",VLOOKUP($B2673,_tbl!$A:$E,P$2,0))","v":"Urban"},{"$f":"IF($B2673=\"\",\"\",VLOOKUP($B2673,_tbl!$A:$E,Q$2,0))","v":"External"},null,1.77723631888515E-4,1.6333784884738599E-4]
[null,"all_f_West Urban external.csv","50-54",2.18580507019438E-4,2.1661525761278299E-4,2.14563705544813E-4,2.1288010658679601E-4,2.1125535491594999E-4,2.0979516644877201E-4,2.08329994889166E-4,2.0696948857544599E-4,2.05669399928613E-4,2.04424881068749E-4,{"$f":"IF($B2674=\"\",\"\",VLOOKUP($B2674,_tbl!$A:$E,N$2,0))","v":"Female"},{"$f":"IF($B2674=\"\",\"\",VLOOKUP($B2674,_tbl!$A:$E,O$2,0))","v":"West"},{"$f":"IF($B2674=\"\",\"\",VLOOKUP($B2674,_tbl!$A:$E,P$2,0))","v":"Urban"},{"$f":"IF($B2674=\"\",\"\",VLOOKUP($B2674,_tbl!$A:$E,Q$2,0))","v":"External"},null,2.18580507019438E-4,2.04424881068749E-4]
[null,"all_f_West Urban external.csv","55-59",2.7109767398313702E-4,2.7235992017497399E-4,2.7275423396273297E-4,2.7389069450419802E-4,2.7494858866495598E-4,2.7627877522653599E-4,2.7733444656420099E-4,2.7857517586951902E-4,2.79849403264373E-4,2.8112194809954598E-4,{"$f":"IF($B2675=\"\",\"\",VLOOKUP($B2675,_tbl!$A:$E,N$2,0))","v":"Female"},{"$f":"IF($B2675=\"\",\"\",VLOOKUP($B2675,_tbl!$A:$E,O$2,0))","v":"West"},{"$f":"IF($B2675=\"\",\"\",VLOOKUP($B2675,_tbl!$A:$E,P$2,0))","v":"Urban"},{"$f":"IF($B2675=\"\",\"\",VLOOKUP($B2675,_tbl!$A:$E,Q$2,0))","v":"External"},null,2.8112194809954598E-4,2.7109767398313702E-4]
[null,"all_f_West Urban external.csv","60-64",3.3256838585900701E-4,3.3513519987658303E-4,3.3646944262070999E-4,3.3831865548968298E-4,3.4006042811119102E-4,3.4199955484231202E-4,3.43530319389257E-4,3.45244650143567E-4,3.4698501178727901E-4,3.48680712261107E-4,{"$f":"IF($B2676=\"\",\"\",VLOOKUP($B2676,_tbl!$A:$E,N$2,0))","v":"Female"},{"$f":"IF($B2676=\"\",\"\",VLOOKUP($B2676,_tbl!$A:$E,O$2,0))","v":"West"},{"$f":"IF($B2676=\"\",\"\",VLOOKUP($B2676,_tbl!$A:$E,P$2,0))","v":"Urban"},{"$f":"IF($B2676=\"\",\"\",VLOOKUP($B2676,_tbl!$A:$E,Q$2,0))","v":"External"},null,3.48680712261107E-4,3.3256838585900701E-4]
[null,"all_f_West Urban external.csv","65-69",4.2767104294274497E-4,4.2913402307777002E-4,4.2886233235495602E-4,4.2864621441325302E-4,4.28266522184644E-4,4.2795491291936801E-4,4.27274393415408E-4,4.2673344261585401E-4,4.2622959086410003E-4,4.2569529470880198E-4,{"$f":"IF($B2677=\"\",\"\",VLOOKUP($B2677,_tbl!$A:$E,N$2,0))","v":"Female"},{"$f":"IF($B2677=\"\",\"\",VLOOKUP($B2677,_tbl!$A:$E,O$2,0))","v":"West"},{"$f":"IF($B2677=\"\",\"\",VLOOKUP($B2677,_tbl!$A:$E,P$2,0))","v":"Urban"},{"$f":"IF($B2677=\"\",\"\",VLOOKUP($B2677,_tbl!$A:$E,Q$2,0))","v":"External"},null,4.2913402307777002E-4,4.2569529470880198E-4]
[null,"all_f_West Urban external.csv","70-74",6.69229328208254E-4,6.7311872760357505E-4,6.7365706004569599E-4,6.7491258253385802E-4,6.7622235924771001E-4,6.7788522165850105E-4,6.7838527878532099E-4,6.7940104760113305E-4,6.80571192620352E-4,6.8159469281727501E-4,{"$f":"IF($B2678=\"\",\"\",VLOOKUP($B2678,_tbl!$A:$E,N$2,0))","v":"Female"},{"$f":"IF($B2678=\"\",\"\",VLOOKUP($B2678,_tbl!$A:$E,O$2,0))","v":"West"},{"$f":"IF($B2678=\"\",\"\",VLOOKUP($B2678,_tbl!$A:$E,P$2,0))","v":"Urban"},{"$f":"IF($B2678=\"\",\"\",VLOOKUP($B2678,_tbl!$A:$E,Q$2,0))","v":"External"},null,6.8159469281727501E-4,6.69229328208254E-4]
[null,"all_f_West Urban external.csv","75-79",1.22869074001497E-3,1.2338398660357299E-3,1.2377542494042401E-3,1.24157983456183E-3,1.24530211665728E-3,1.24890770032949E-3,1.2518206247928399E-3,1.25486699018393E-3,1.2579065827135901E-3,1.2607533801141399E-3,{"$f":"IF($B2679=\"\",\"\",VLOOKUP($B2679,_tbl!$A:$E,N$2,0))","v":"Female"},{"$f":"IF($B2679=\"\",\"\",VLOOKUP($B2679,_tbl!$A:$E,O$2,0))","v":"West"},{"$f":"IF($B2679=\"\",\"\",VLOOKUP($B2679,_tbl!$A:$E,P$2,0))","v":"Urban"},{"$f":"IF($B2679=\"\",\"\",VLOOKUP($B2679,_tbl!$A:$E,Q$2,0))","v":"External"},null,1.2607533801141399E-3,1.22869074001497E-3]
[null,"all_f_West Urban external.csv","80-84",2.6073467459984301E-3,2.5929305577437802E-3,2.5949672409233899E-3,2.5976618312292801E-3,2.6020798200021302E-3,2.60603602511579E-3,2.6159241334182699E-3,2.6229888525360402E-3,2.62881068010062E-3,2.6351548227557301E-3,{"$f":"IF($B2680=\"\",\"\",VLOOKUP($B2680,_tbl!$A:$E,N$2,0))","v":"Female"},{"$f":"IF($B2680=\"\",\"\",VLOOKUP($B2680,_tbl!$A:$E,O$2,0))","v":"West"},{"$f":"IF($B2680=\"\",\"\",VLOOKUP($B2680,_tbl!$A:$E,P$2,0))","v":"Urban"},{"$f":"IF($B2680=\"\",\"\",VLOOKUP($B2680,_tbl!$A:$E,Q$2,0))","v":"External"},null,2.6351548227557301E-3,2.5929305577437802E-3]
[null,"all_f_West Urban external.csv","85+",5.70975155140437E-3,5.6149193374108002E-3,5.59379048882413E-3,5.5816415966444396E-3,5.58091916927775E-3,5.5845843379232103E-3,5.6054676156259697E-3,5.6160972079479102E-3,5.6205290040992097E-3,5.6255979536587097E-3,{"$f":"IF($B2681=\"\",\"\",VLOOKUP($B2681,_tbl!$A:$E,N$2,0))","v":"Female"},{"$f":"IF($B2681=\"\",\"\",VLOOKUP($B2681,_tbl!$A:$E,O$2,0))","v":"West"},{"$f":"IF($B2681=\"\",\"\",VLOOKUP($B2681,_tbl!$A:$E,P$2,0))","v":"Urban"},{"$f":"IF($B2681=\"\",\"\",VLOOKUP($B2681,_tbl!$A:$E,Q$2,0))","v":"External"},null,5.70975155140437E-3,5.58091916927775E-3]
[null,null,null,null,null,null,null,null,null,null,null,null,null,{"$f":"IF($B2682=\"\",\"\",VLOOKUP($B2682,_tbl!$A:$E,N$2,0))","v":""},{"$f":"IF($B2682=\"\",\"\",VLOOKUP($B2682,_tbl!$A:$E,O$2,0))","v":""},{"$f":"IF($B2682=\"\",\"\",VLOOKUP($B2682,_tbl!$A:$E,P$2,0))","v":""},{"$f":"IF($B2682=\"\",\"\",VLOOKUP($B2682,_tbl!$A:$E,Q$2,0))","v":""}]
[null,null,null,2020,2021,2022,2023,2024,2025,2026,2027,2028,2029,{"$f":"IF($B2683=\"\",\"\",VLOOKUP($B2683,_tbl!$A:$E,N$2,0))","v":""},{"$f":"IF($B2683=\"\",\"\",VLOOKUP($B2683,_tbl!$A:$E,O$2,0))","v":""},{"$f":"IF($B2683=\"\",\"\",VLOOKUP($B2683,_tbl!$A:$E,P$2,0))","v":""},{"$f":"IF($B2683=\"\",\"\",VLOOKUP($B2683,_tbl!$A:$E,Q$2,0))","v":""}]
[null,"all_f_West Urban infectious.csv","1-4",4.8576225489317001E-5,4.5650438307775401E-5,4.29008737648898E-5,4.0316917821959302E-5,3.7888595732819297E-5,3.5606533538710097E-5,3.3461921882343403E-5,3.1446482001477397E-5,2.9552433770728501E-5,2.7772465668250699E-5,{"$f":"IF($B2684=\"\",\"\",VLOOKUP($B2684,_tbl!$A:$E,N$2,0))","v":"Female"},{"$f":"IF($B2684=\"\",\"\",VLOOKUP($B2684,_tbl!$A:$E,O$2,0))","v":"West"},{"$f":"IF($B2684=\"\",\"\",VLOOKUP($B2684,_tbl!$A:$E,P$2,0))","v":"Urban"},{"$f":"IF($B2684=\"\",\"\",VLOOKUP($B2684,_tbl!$A:$E,Q$2,0))","v":"Infectious"},null,{"$f":"MAX(D2684:M2684)","v":4.8576225489317001E-5},{"$f":"MIN(D2684:M2684)","v":2.7772465668250699E-5}]
[null,"all_f_West Urban infectious.csv","5-9",1.40955638528333E-5,1.3260837071097901E-5,1.2475542068567699E-5,1.1736751539148201E-5,1.1041711529214E-5,1.0387831171829101E-5,9.7726730288983094E-6,9.1939440052470105E-6,8.6494868007618506E-6,8.1372718687276208E-6,{"$f":"IF($B2685=\"\",\"\",VLOOKUP($B2685,_tbl!$A:$E,N$2,0))","v":"Female"},{"$f":"IF($B2685=\"\",\"\",VLOOKUP($B2685,_tbl!$A:$E,O$2,0))","v":"West"},{"$f":"IF($B2685=\"\",\"\",VLOOKUP($B2685,_tbl!$A:$E,P$2,0))","v":"Urban"},{"$f":"IF($B2685=\"\",\"\",VLOOKUP($B2685,_tbl!$A:$E,Q$2,0))","v":"Infectious"},null,1.40955638528333E-5,8.1372718687276208E-6]
[null,"all_f_West Urban infectious.csv","10-14",8.8588694530063401E-6,8.3742662364373895E-6,7.9161720771194401E-6,7.4831368606242403E-6,7.0737897975570098E-6,6.6868350842707099E-6,6.3210478009504903E-6,5.9752700340835104E-6,5.6484072110398504E-6,5.3394246351613502E-6,{"$f":"IF($B2686=\"\",\"\",VLOOKUP($B2686,_tbl!$A:$E,N$2,0))","v":"Female"},{"$f":"IF($B2686=\"\",\"\",VLOOKUP($B2686,_tbl!$A:$E,O$2,0))","v":"West"},{"$f":"IF($B2686=\"\",\"\",VLOOKUP($B2686,_tbl!$A:$E,P$2,0))","v":"Urban"},{"$f":"IF($B2686=\"\",\"\",VLOOKUP($B2686,_tbl!$A:$E,Q$2,0))","v":"Infectious"},null,8.8588694530063401E-6,5.3394246351613502E-6]
[null,"all_f_West Urban infectious.csv","15-19",8.3291243034892202E-6,7.9092149951325097E-6,7.5104752384381198E-6,7.1318377793379297E-6,6.77228916893006E-6,6.4308670509139098E-6,6.1066575857781896E-6,5.7987930048472497E-6,5.5064492876392999E-6,5.2288439563195004E-6,{"$f":"IF($B2687=\"\",\"\",VLOOKUP($B2687,_tbl!$A:$E,N$2,0))","v":"Female"},{"$f":"IF($B2687=\"\",\"\",VLOOKUP($B2687,_tbl!$A:$E,O$2,0))","v":"West"},{"$f":"IF($B2687=\"\",\"\",VLOOKUP($B2687,_tbl!$A:$E,P$2,0))","v":"Urban"},{"$f":"IF($B2687=\"\",\"\",VLOOKUP($B2687,_tbl!$A:$E,Q$2,0))","v":"Infectious"},null,8.3291243034892202E-6,5.2288439563195004E-6]
[null,"all_f_West Urban infectious.csv","20-24",9.5255839893134498E-6,9.0804202684962899E-6,8.6560605990164595E-6,8.2515327350870703E-6,7.8659098673534896E-6,7.4983084994907E-6,7.1478864240344299E-6,6.8138407928089398E-6,6.4954062775303404E-6,6.1918533163713702E-6,{"$f":"IF($B2688=\"\",\"\",VLOOKUP($B2688,_tbl!$A:$E,N$2,0))","v":"Female"},{"$f":"IF($B2688=\"\",\"\",VLOOKUP($B2688,_tbl!$A:$E,O$2,0))","v":"West"},{"$f":"IF($B2688=\"\",\"\",VLOOKUP($B2688,_tbl!$A:$E,P$2,0))","v":"Urban"},{"$f":"IF($B2688=\"\",\"\",VLOOKUP($B2688,_tbl!$A:$E,Q$2,0))","v":"Infectious"},null,9.5255839893134498E-6,6.1918533163713702E-6]
[null,"all_f_West Urban infectious.csv","25-29",1.2216461126496199E-5,1.1677158816850901E-5,1.1161664300491901E-5,1.0668926569457499E-5,1.01979410131032E-5,9.7477473698668502E-6,9.3174277694544401E-6,8.9061048614544305E-6,8.5129400265655796E-6,8.1371316667910194E-6,{"$f":"IF($B2689=\"\",\"\",VLOOKUP($B2689,_tbl!$A:$E,N$2,0))","v":"Female"},{"$f":"IF($B2689=\"\",\"\",VLOOKUP($B2689,_tbl!$A:$E,O$2,0))","v":"West"},{"$f":"IF($B2689=\"\",\"\",VLOOKUP($B2689,_tbl!$A:$E,P$2,0))","v":"Urban"},{"$f":"IF($B2689=\"\",\"\",VLOOKUP($B2689,_tbl!$A:$E,Q$2,0))","v":"Infectious"},null,1.2216461126496199E-5,8.1371316667910194E-6]
[null,"all_f_West Urban infectious.csv","30-34",1.5573797229725501E-5,1.4866096222449901E-5,1.4190554405916899E-5,1.3545710409380201E-5,1.29301692693758E-5,1.2342599412057E-5,1.17817297726578E-5,1.12463470458527E-5,1.07352930610653E-5,1.02474622770473E-5,{"$f":"IF($B2690=\"\",\"\",VLOOKUP($B2690,_tbl!$A:$E,N$2,0))","v":"Female"},{"$f":"IF($B2690=\"\",\"\",VLOOKUP($B2690,_tbl!$A:$E,O$2,0))","v":"West"},{"$f":"IF($B2690=\"\",\"\",VLOOKUP($B2690,_tbl!$A:$E,P$2,0))","v":"Urban"},{"$f":"IF($B2690=\"\",\"\",VLOOKUP($B2690,_tbl!$A:$E,Q$2,0))","v":"Infectious"},null,1.5573797229725501E-5,1.02474622770473E-5]
[null,"all_f_West Urban infectious.csv","35-39",1.8861335381072999E-5,1.79370402521061E-5,1.7058039979954499E-5,1.6222114901234101E-5,1.5427154126622201E-5,1.46711502104113E-5,1.39521940812799E-5,1.326847022148E-5,1.2618252082266801E-5,1.19998977239949E-5,{"$f":"IF($B2691=\"\",\"\",VLOOKUP($B2691,_tbl!$A:$E,N$2,0))","v":"Female"},{"$f":"IF($B2691=\"\",\"\",VLOOKUP($B2691,_tbl!$A:$E,O$2,0))","v":"West"},{"$f":"IF($B2691=\"\",\"\",VLOOKUP($B2691,_tbl!$A:$E,P$2,0))","v":"Urban"},{"$f":"IF($B2691=\"\",\"\",VLOOKUP($B2691,_tbl!$A:$E,Q$2,0))","v":"Infectious"},null,1.8861335381072999E-5,1.19998977239949E-5]
[null,"all_f_West Urban infectious.csv","40-44",2.3509342800230101E-5,2.23382022420997E-5,2.1225403179031699E-5,2.0168039273249099E-5,1.91633489689911E-5,1.8208708280057399E-5,1.73016239366478E-5,1.6439726873598901E-5,1.56207660430108E-5,1.48426025351029E-5,{"$f":"IF($B2692=\"\",\"\",VLOOKUP($B2692,_tbl!$A:$E,N$2,0))","v":"Female"},{"$f":"IF($B2692=\"\",\"\",VLOOKUP($B2692,_tbl!$A:$E,O$2,0))","v":"West"},{"$f":"IF($B2692=\"\",\"\",VLOOKUP($B2692,_tbl!$A:$E,P$2,0))","v":"Urban"},{"$f":"IF($B2692=\"\",\"\",VLOOKUP($B2692,_tbl!$A:$E,Q$2,0))","v":"Infectious"},null,2.3509342800230101E-5,1.48426025351029E-5]
[null,"all_f_West Urban infectious.csv","45-49",3.2848439080139497E-5,3.1351710120576997E-5,2.9923179152795099E-5,2.8559738756406701E-5,2.7258423099672901E-5,2.60164014880599E-5,2.48309722067542E-5,2.36995566437416E-5,2.2619693680666299E-5,2.1589034339268299E-5,{"$f":"IF($B2693=\"\",\"\",VLOOKUP($B2693,_tbl!$A:$E,N$2,0))","v":"Female"},{"$f":"IF($B2693=\"\",\"\",VLOOKUP($B2693,_tbl!$A:$E,O$2,0))","v":"West"},{"$f":"IF($B2693=\"\",\"\",VLOOKUP($B2693,_tbl!$A:$E,P$2,0))","v":"Urban"},{"$f":"IF($B2693=\"\",\"\",VLOOKUP($B2693,_tbl!$A:$E,Q$2,0))","v":"Infectious"},null,3.2848439080139497E-5,2.1589034339268299E-5]
[null,"all_f_West Urban infectious.csv","50-54",5.0797034805692503E-5,4.8804823271705503E-5,4.6890744384856902E-5,4.5051733856819503E-5,4.32848475777485E-5,4.1587256902995303E-5,3.9956244124671699E-5,3.8389198120816202E-5,3.6883610175194001E-5,3.54370699610421E-5,{"$f":"IF($B2694=\"\",\"\",VLOOKUP($B2694,_tbl!$A:$E,N$2,0))","v":"Female"},{"$f":"IF($B2694=\"\",\"\",VLOOKUP($B2694,_tbl!$A:$E,O$2,0))","v":"West"},{"$f":"IF($B2694=\"\",\"\",VLOOKUP($B2694,_tbl!$A:$E,P$2,0))","v":"Urban"},{"$f":"IF($B2694=\"\",\"\",VLOOKUP($B2694,_tbl!$A:$E,Q$2,0))","v":"Infectious"},null,5.0797034805692503E-5,3.54370699610421E-5]
[null,"all_f_West Urban infectious.csv","55-59",8.0517083815638595E-5,7.7632253267013798E-5,7.4850782737156398E-5,7.2168968960554199E-5,6.9583241355256501E-5,6.7090157268982298E-5,6.4686397395552606E-5,6.2368761355548305E-5,6.0134163435306301E-5,5.7979628478583501E-5,{"$f":"IF($B2695=\"\",\"\",VLOOKUP($B2695,_tbl!$A:$E,N$2,0))","v":"Female"},{"$f":"IF($B2695=\"\",\"\",VLOOKUP($B2695,_tbl!$A:$E,O$2,0))","v":"West"},{"$f":"IF($B2695=\"\",\"\",VLOOKUP($B2695,_tbl!$A:$E,P$2,0))","v":"Urban"},{"$f":"IF($B2695=\"\",\"\",VLOOKUP($B2695,_tbl!$A:$E,Q$2,0))","v":"Infectious"},null,8.0517083815638595E-5,5.7979628478583501E-5]
[null,"all_f_West Urban infectious.csv","60-64",1.2637383499315E-4,1.2163611524543001E-4,1.17076011286683E-4,1.12686864350632E-4,1.08462265306284E-4,1.04396045299177E-4,1.00482266743476E-4,9.6715214651783E-5,9.3089388289976496E-5,8.95994931449212E-5,{"$f":"IF($B2696=\"\",\"\",VLOOKUP($B2696,_tbl!$A:$E,N$2,0))","v":"Female"},{"$f":"IF($B2696=\"\",\"\",VLOOKUP($B2696,_tbl!$A:$E,O$2,0))","v":"West"},{"$f":"IF($B2696=\"\",\"\",VLOOKUP($B2696,_tbl!$A:$E,P$2,0))","v":"Urban"},{"$f":"IF($B2696=\"\",\"\",VLOOKUP($B2696,_tbl!$A:$E,Q$2,0))","v":"Infectious"},null,1.2637383499315E-4,8.95994931449212E-5]
[null,"all_f_West Urban infectious.csv","65-69",2.0843167621459099E-4,1.9979357355667801E-4,1.91513462634397E-4,1.8357650707825099E-4,1.7596848538729501E-4,1.68675765446935E-4,1.61685280102795E-4,1.5498450374688499E-4,1.48561429874117E-4,1.42404549568949E-4,{"$f":"IF($B2697=\"\",\"\",VLOOKUP($B2697,_tbl!$A:$E,N$2,0))","v":"Female"},{"$f":"IF($B2697=\"\",\"\",VLOOKUP($B2697,_tbl!$A:$E,O$2,0))","v":"West"},{"$f":"IF($B2697=\"\",\"\",VLOOKUP($B2697,_tbl!$A:$E,P$2,0))","v":"Urban"},{"$f":"IF($B2697=\"\",\"\",VLOOKUP($B2697,_tbl!$A:$E,Q$2,0))","v":"Infectious"},null,2.0843167621459099E-4,1.42404549568949E-4]
[null,"all_f_West Urban infectious.csv","70-74",4.0188737739550999E-4,3.8479559378415E-4,3.6843070303743002E-4,3.52761791281836E-4,3.37759259373472E-4,3.23394766984194E-4,3.0964117906570501E-4,2.96472514590461E-4,2.8386389747256298E-4,2.7179150957593197E-4,{"$f":"IF($B2698=\"\",\"\",VLOOKUP($B2698,_tbl!$A:$E,N$2,0))","v":"Female"},{"$f":"IF($B2698=\"\",\"\",VLOOKUP($B2698,_tbl!$A:$E,O$2,0))","v":"West"},{"$f":"IF($B2698=\"\",\"\",VLOOKUP($B2698,_tbl!$A:$E,P$2,0))","v":"Urban"},{"$f":"IF($B2698=\"\",\"\",VLOOKUP($B2698,_tbl!$A:$E,Q$2,0))","v":"Infectious"},null,4.0188737739550999E-4,2.7179150957593197E-4]
[null,"all_f_West Urban infectious.csv","75-79",9.6437339370409301E-4,9.2858729595202301E-4,8.9412915353414397E-4,8.6094968850509697E-4,8.2900145153215596E-4,7.9823875403882405E-4,7.6861760286644999E-4,7.4009563736044195E-4,7.12632068791079E-4,6.8618762202231798E-4,{"$f":"IF($B2699=\"\",\"\",VLOOKUP($B2699,_tbl!$A:$E,N$2,0))","v":"Female"},{"$f":"IF($B2699=\"\",\"\",VLOOKUP($B2699,_tbl!$A:$E,O$2,0))","v":"West"},{"$f":"IF($B2699=\"\",\"\",VLOOKUP($B2699,_tbl!$A:$E,P$2,0))","v":"Urban"},{"$f":"IF($B2699=\"\",\"\",VLOOKUP($B2699,_tbl!$A:$E,Q$2,0))","v":"Infectious"},null,9.6437339370409301E-4,6.8618762202231798E-4]
[null,"all_f_West Urban infectious.csv","80-84",2.7815373444135898E-3,2.7113836304893599E-3,2.6429992775220202E-3,2.57633966010232E-3,2.5113612783274099E-3,2.4480217294142802E-3,2.3862796800290498E-3,2.3260948393141901E-3,2.2674279325959898E-3,2.21024067575523E-3,{"$f":"IF($B2700=\"\",\"\",VLOOKUP($B2700,_tbl!$A:$E,N$2,0))","v":"Female"},{"$f":"IF($B2700=\"\",\"\",VLOOKUP($B2700,_tbl!$A:$E,O$2,0))","v":"West"},{"$f":"IF($B2700=\"\",\"\",VLOOKUP($B2700,_tbl!$A:$E,P$2,0))","v":"Urban"},{"$f":"IF($B2700=\"\",\"\",VLOOKUP($B2700,_tbl!$A:$E,Q$2,0))","v":"Infectious"},null,2.7815373444135898E-3,2.21024067575523E-3]
[null,"all_f_West Urban infectious.csv","85+",8.6635764355422005E-3,8.5779340989980309E-3,8.4931383654547506E-3,8.4091808659599292E-3,8.3260533142909907E-3,8.2437475061374593E-3,8.1622553182911905E-3,8.0815687078446396E-3,8.0016797113971003E-3,7.9225804442687193E-3,{"$f":"IF($B2701=\"\",\"\",VLOOKUP($B2701,_tbl!$A:$E,N$2,0))","v":"Female"},{"$f":"IF($B2701=\"\",\"\",VLOOKUP($B2701,_tbl!$A:$E,O$2,0))","v":"West"},{"$f":"IF($B2701=\"\",\"\",VLOOKUP($B2701,_tbl!$A:$E,P$2,0))","v":"Urban"},{"$f":"IF($B2701=\"\",\"\",VLOOKUP($B2701,_tbl!$A:$E,Q$2,0))","v":"Infectious"},null,8.6635764355422005E-3,7.9225804442687193E-3]
[null,null,null,null,null,null,null,null,null,null,null,null,null,{"$f":"IF($B2702=\"\",\"\",VLOOKUP($B2702,_tbl!$A:$E,N$2,0))","v":""},{"$f":"IF($B2702=\"\",\"\",VLOOKUP($B2702,_tbl!$A:$E,O$2,0))","v":""},{"$f":"IF($B2702=\"\",\"\",VLOOKUP($B2702,_tbl!$A:$E,P$2,0))","v":""},{"$f":"IF($B2702=\"\",\"\",VLOOKUP($B2702,_tbl!$A:$E,Q$2,0))","v":""}]
[null,null,null,2020,2021,2022,2023,2024,2025,2026,2027,2028,2029,{"$f":"IF($B2703=\"\",\"\",VLOOKUP($B2703,_tbl!$A:$E,N$2,0))","v":""},{"$f":"IF($B2703=\"\",\"\",VLOOKUP($B2703,_tbl!$A:$E,O$2,0))","v":""},{"$f":"IF($B2703=\"\",\"\",VLOOKUP($B2703,_tbl!$A:$E,P$2,0))","v":""},{"$f":"IF($B2703=\"\",\"\",VLOOKUP($B2703,_tbl!$A:$E,Q$2,0))","v":""}]
[null,"all_f_West Urban mental.csv","1-4",2.0364926059445999E-5,2.0397683729357299E-5,2.0416172976334901E-5,2.0436135985127502E-5,2.04560154083597E-5,2.0479734709718599E-5,2.05067550252824E-5,2.0537933628509101E-5,2.05715379028674E-5,2.06078257024419E-5,{"$f":"IF($B2704=\"\",\"\",VLOOKUP($B2704,_tbl!$A:$E,N$2,0))","v":"Female"},{"$f":"IF($B2704=\"\",\"\",VLOOKUP($B2704,_tbl!$A:$E,O$2,0))","v":"West"},{"$f":"IF($B2704=\"\",\"\",VLOOKUP($B2704,_tbl!$A:$E,P$2,0))","v":"Urban"},{"$f":"IF($B2704=\"\",\"\",VLOOKUP($B2704,_tbl!$A:$E,Q$2,0))","v":"Mental"},null,{"$f":"MAX(D2704:M2704)","v":2.06078257024419E-5},{"$f":"MIN(D2704:M2704)","v":2.0364926059445999E-5}]
[null,"all_f_West Urban mental.csv","5-9",1.48445081617228E-5,1.48598718981407E-5,1.4832611285765001E-5,1.48050419791439E-5,1.4783528695821799E-5,1.4758525873789799E-5,1.4733014003225501E-5,1.4701548657870899E-5,1.4667340699947299E-5,1.46311631932692E-5,{"$f":"IF($B2705=\"\",\"\",VLOOKUP($B2705,_tbl!$A:$E,N$2,0))","v":"Female"},{"$f":"IF($B2705=\"\",\"\",VLOOKUP($B2705,_tbl!$A:$E,O$2,0))","v":"West"},{"$f":"IF($B2705=\"\",\"\",VLOOKUP($B2705,_tbl!$A:$E,P$2,0))","v":"Urban"},{"$f":"IF($B2705=\"\",\"\",VLOOKUP($B2705,_tbl!$A:$E,Q$2,0))","v":"Mental"},null,1.48598718981407E-5,1.46311631932692E-5]
[null,"all_f_West Urban mental.csv","10-14",1.18865088966936E-5,1.18190898267837E-5,1.1696246977030999E-5,1.1581429601596299E-5,1.14731222405231E-5,1.13673674724429E-5,1.12632990797239E-5,1.11589147913507E-5,1.10548509560688E-5,1.09515666949596E-5,{"$f":"IF($B2706=\"\",\"\",VLOOKUP($B2706,_tbl!$A:$E,N$2,0))","v":"Female"},{"$f":"IF($B2706=\"\",\"\",VLOOKUP($B2706,_tbl!$A:$E,O$2,0))","v":"West"},{"$f":"IF($B2706=\"\",\"\",VLOOKUP($B2706,_tbl!$A:$E,P$2,0))","v":"Urban"},{"$f":"IF($B2706=\"\",\"\",VLOOKUP($B2706,_tbl!$A:$E,Q$2,0))","v":"Mental"},null,1.18865088966936E-5,1.09515666949596E-5]
[null,"all_f_West Urban mental.csv","15-19",1.0193873649678601E-5,1.00966770012191E-5,1.0034355251257399E-5,9.9721643592588998E-6,9.9208087447978207E-6,9.8647471924003093E-6,9.8075378595036593E-6,9.7453097080641794E-6,9.6819807457138799E-6,9.6171092874135098E-6,{"$f":"IF($B2707=\"\",\"\",VLOOKUP($B2707,_tbl!$A:$E,N$2,0))","v":"Female"},{"$f":"IF($B2707=\"\",\"\",VLOOKUP($B2707,_tbl!$A:$E,O$2,0))","v":"West"},{"$f":"IF($B2707=\"\",\"\",VLOOKUP($B2707,_tbl!$A:$E,P$2,0))","v":"Urban"},{"$f":"IF($B2707=\"\",\"\",VLOOKUP($B2707,_tbl!$A:$E,Q$2,0))","v":"Mental"},null,1.0193873649678601E-5,9.6171092874135098E-6]
[null,"all_f_West Urban mental.csv","20-24",1.07710223094229E-5,1.0726605993983701E-5,1.06996440463236E-5,1.0673089831512799E-5,1.06496333603978E-5,1.0625113921267199E-5,1.0601106010725399E-5,1.05758454619334E-5,1.05503961332563E-5,1.0524916248042499E-5,{"$f":"IF($B2708=\"\",\"\",VLOOKUP($B2708,_tbl!$A:$E,N$2,0))","v":"Female"},{"$f":"IF($B2708=\"\",\"\",VLOOKUP($B2708,_tbl!$A:$E,O$2,0))","v":"West"},{"$f":"IF($B2708=\"\",\"\",VLOOKUP($B2708,_tbl!$A:$E,P$2,0))","v":"Urban"},{"$f":"IF($B2708=\"\",\"\",VLOOKUP($B2708,_tbl!$A:$E,Q$2,0))","v":"Mental"},null,1.07710223094229E-5,1.0524916248042499E-5]
[null,"all_f_West Urban mental.csv","25-29",1.18302261873371E-5,1.1738674325014E-5,1.16863273667294E-5,1.1629332545539699E-5,1.15803551624767E-5,1.15267191529595E-5,1.14749506444378E-5,1.1419181572915E-5,1.1363048300361099E-5,1.13068133837815E-5,{"$f":"IF($B2709=\"\",\"\",VLOOKUP($B2709,_tbl!$A:$E,N$2,0))","v":"Female"},{"$f":"IF($B2709=\"\",\"\",VLOOKUP($B2709,_tbl!$A:$E,O$2,0))","v":"West"},{"$f":"IF($B2709=\"\",\"\",VLOOKUP($B2709,_tbl!$A:$E,P$2,0))","v":"Urban"},{"$f":"IF($B2709=\"\",\"\",VLOOKUP($B2709,_tbl!$A:$E,Q$2,0))","v":"Mental"},null,1.18302261873371E-5,1.13068133837815E-5]
[null,"all_f_West Urban mental.csv","30-34",1.3241772644037699E-5,1.30940918586306E-5,1.29991435498851E-5,1.28966972465872E-5,1.2799342797423599E-5,1.2700876935165701E-5,1.26077478525661E-5,1.2514779734459501E-5,1.24238269514256E-5,1.2335009216426701E-5,{"$f":"IF($B2710=\"\",\"\",VLOOKUP($B2710,_tbl!$A:$E,N$2,0))","v":"Female"},{"$f":"IF($B2710=\"\",\"\",VLOOKUP($B2710,_tbl!$A:$E,O$2,0))","v":"West"},{"$f":"IF($B2710=\"\",\"\",VLOOKUP($B2710,_tbl!$A:$E,P$2,0))","v":"Urban"},{"$f":"IF($B2710=\"\",\"\",VLOOKUP($B2710,_tbl!$A:$E,Q$2,0))","v":"Mental"},null,1.3241772644037699E-5,1.2335009216426701E-5]
[null,"all_f_West Urban mental.csv","35-39",1.47704041651658E-5,1.47661210045204E-5,1.47613933496459E-5,1.4754443184953E-5,1.4748308637520301E-5,1.47424491335859E-5,1.47380539859558E-5,1.47343026154097E-5,1.4731366145394199E-5,1.47291683420175E-5,{"$f":"IF($B2711=\"\",\"\",VLOOKUP($B2711,_tbl!$A:$E,N$2,0))","v":"Female"},{"$f":"IF($B2711=\"\",\"\",VLOOKUP($B2711,_tbl!$A:$E,O$2,0))","v":"West"},{"$f":"IF($B2711=\"\",\"\",VLOOKUP($B2711,_tbl!$A:$E,P$2,0))","v":"Urban"},{"$f":"IF($B2711=\"\",\"\",VLOOKUP($B2711,_tbl!$A:$E,Q$2,0))","v":"Mental"},null,1.47704041651658E-5,1.47291683420175E-5]
[null,"all_f_West Urban mental.csv","40-44",1.7255452748990499E-5,1.73925669909837E-5,1.7489449277479401E-5,1.7626066327452699E-5,1.7752629070069299E-5,1.7891875598803802E-5,1.8018018646057201E-5,1.8149454316285E-5,1.8279113032623099E-5,1.8407386322166499E-5,{"$f":"IF($B2712=\"\",\"\",VLOOKUP($B2712,_tbl!$A:$E,N$2,0))","v":"Female"},{"$f":"IF($B2712=\"\",\"\",VLOOKUP($B2712,_tbl!$A:$E,O$2,0))","v":"West"},{"$f":"IF($B2712=\"\",\"\",VLOOKUP($B2712,_tbl!$A:$E,P$2,0))","v":"Urban"},{"$f":"IF($B2712=\"\",\"\",VLOOKUP($B2712,_tbl!$A:$E,Q$2,0))","v":"Mental"},null,1.8407386322166499E-5,1.7255452748990499E-5]
[null,"all_f_West Urban mental.csv","45-49",2.2045128170597901E-5,2.24863354077803E-5,2.2773431743778299E-5,2.3166151373537499E-5,2.3518090648548002E-5,2.3896520455274001E-5,2.4226171735867699E-5,2.45648380474999E-5,2.4892852523062702E-5,2.52105801042434E-5,{"$f":"IF($B2713=\"\",\"\",VLOOKUP($B2713,_tbl!$A:$E,N$2,0))","v":"Female"},{"$f":"IF($B2713=\"\",\"\",VLOOKUP($B2713,_tbl!$A:$E,O$2,0))","v":"West"},{"$f":"IF($B2713=\"\",\"\",VLOOKUP($B2713,_tbl!$A:$E,P$2,0))","v":"Urban"},{"$f":"IF($B2713=\"\",\"\",VLOOKUP($B2713,_tbl!$A:$E,Q$2,0))","v":"Mental"},null,2.52105801042434E-5,2.2045128170597901E-5]
[null,"all_f_West Urban mental.csv","50-54",2.7584650784869901E-5,2.80968510683902E-5,2.85568181146723E-5,2.8972418287936501E-5,2.9370102427259801E-5,2.97362383141176E-5,3.00766842350334E-5,3.03889721170144E-5,3.0682753289632002E-5,3.0956447145453903E-5,{"$f":"IF($B2714=\"\",\"\",VLOOKUP($B2714,_tbl!$A:$E,N$2,0))","v":"Female"},{"$f":"IF($B2714=\"\",\"\",VLOOKUP($B2714,_tbl!$A:$E,O$2,0))","v":"West"},{"$f":"IF($B2714=\"\",\"\",VLOOKUP($B2714,_tbl!$A:$E,P$2,0))","v":"Urban"},{"$f":"IF($B2714=\"\",\"\",VLOOKUP($B2714,_tbl!$A:$E,Q$2,0))","v":"Mental"},null,3.0956447145453903E-5,2.7584650784869901E-5]
[null,"all_f_West Urban mental.csv","55-59",3.6219481338540898E-5,3.5901183658345199E-5,3.5620224494499299E-5,3.5237552744325301E-5,3.4849192027697703E-5,3.44338599243601E-5,3.4046471891586298E-5,3.3646727883450497E-5,3.32505118542356E-5,3.28616181587323E-5,{"$f":"IF($B2715=\"\",\"\",VLOOKUP($B2715,_tbl!$A:$E,N$2,0))","v":"Female"},{"$f":"IF($B2715=\"\",\"\",VLOOKUP($B2715,_tbl!$A:$E,O$2,0))","v":"West"},{"$f":"IF($B2715=\"\",\"\",VLOOKUP($B2715,_tbl!$A:$E,P$2,0))","v":"Urban"},{"$f":"IF($B2715=\"\",\"\",VLOOKUP($B2715,_tbl!$A:$E,Q$2,0))","v":"Mental"},null,3.6219481338540898E-5,3.28616181587323E-5]
[null,"all_f_West Urban mental.csv","60-64",5.1091875086040803E-5,4.9165563123085699E-5,4.7492954183123002E-5,4.5650697476465199E-5,4.38299838215817E-5,4.1981909537931099E-5,4.0265876611267599E-5,3.8530114579651402E-5,3.6818898380402302E-5,3.5153953667079497E-5,{"$f":"IF($B2716=\"\",\"\",VLOOKUP($B2716,_tbl!$A:$E,N$2,0))","v":"Female"},{"$f":"IF($B2716=\"\",\"\",VLOOKUP($B2716,_tbl!$A:$E,O$2,0))","v":"West"},{"$f":"IF($B2716=\"\",\"\",VLOOKUP($B2716,_tbl!$A:$E,P$2,0))","v":"Urban"},{"$f":"IF($B2716=\"\",\"\",VLOOKUP($B2716,_tbl!$A:$E,Q$2,0))","v":"Mental"},null,5.1091875086040803E-5,3.5153953667079497E-5]
[null,"all_f_West Urban mental.csv","65-69",8.18466759478338E-5,7.7295404554513002E-5,7.31792784785517E-5,6.8751218995849998E-5,6.4335767142316698E-5,5.9884653766601603E-5,5.58006515727319E-5,5.1665972063311701E-5,4.7586906070494703E-5,4.3638204336385002E-5,{"$f":"IF($B2717=\"\",\"\",VLOOKUP($B2717,_tbl!$A:$E,N$2,0))","v":"Female"},{"$f":"IF($B2717=\"\",\"\",VLOOKUP($B2717,_tbl!$A:$E,O$2,0))","v":"West"},{"$f":"IF($B2717=\"\",\"\",VLOOKUP($B2717,_tbl!$A:$E,P$2,0))","v":"Urban"},{"$f":"IF($B2717=\"\",\"\",VLOOKUP($B2717,_tbl!$A:$E,Q$2,0))","v":"Mental"},null,8.18466759478338E-5,4.3638204336385002E-5]
[null,"all_f_West Urban mental.csv","70-74",1.92811619985525E-4,1.8778959490720599E-4,1.8298188989058101E-4,1.77843071657532E-4,1.72665654952636E-4,1.6744399431256599E-4,1.6263326882016499E-4,1.5775096274071599E-4,1.52917599068597E-4,1.4822822666352099E-4,{"$f":"IF($B2718=\"\",\"\",VLOOKUP($B2718,_tbl!$A:$E,N$2,0))","v":"Female"},{"$f":"IF($B2718=\"\",\"\",VLOOKUP($B2718,_tbl!$A:$E,O$2,0))","v":"West"},{"$f":"IF($B2718=\"\",\"\",VLOOKUP($B2718,_tbl!$A:$E,P$2,0))","v":"Urban"},{"$f":"IF($B2718=\"\",\"\",VLOOKUP($B2718,_tbl!$A:$E,Q$2,0))","v":"Mental"},null,1.92811619985525E-4,1.4822822666352099E-4]
[null,"all_f_West Urban mental.csv","75-79",5.1583242454204196E-4,5.1543670656217897E-4,5.15712439753956E-4,5.1559694138178795E-4,5.15413172102914E-4,5.1502996044424005E-4,5.1482385816136096E-4,5.1445456970709705E-4,5.1402363407634401E-4,5.13580374003239E-4,{"$f":"IF($B2719=\"\",\"\",VLOOKUP($B2719,_tbl!$A:$E,N$2,0))","v":"Female"},{"$f":"IF($B2719=\"\",\"\",VLOOKUP($B2719,_tbl!$A:$E,O$2,0))","v":"West"},{"$f":"IF($B2719=\"\",\"\",VLOOKUP($B2719,_tbl!$A:$E,P$2,0))","v":"Urban"},{"$f":"IF($B2719=\"\",\"\",VLOOKUP($B2719,_tbl!$A:$E,Q$2,0))","v":"Mental"},null,5.1583242454204196E-4,5.13580374003239E-4]
[null,"all_f_West Urban mental.csv","80-84",1.42817403465198E-3,1.3981674382686699E-3,1.4006191018262101E-3,1.39998859281639E-3,1.3996294278430599E-3,1.3971854265908399E-3,1.40406599043859E-3,1.40611386240676E-3,1.40610994224778E-3,1.40697077680615E-3,{"$f":"IF($B2720=\"\",\"\",VLOOKUP($B2720,_tbl!$A:$E,N$2,0))","v":"Female"},{"$f":"IF($B2720=\"\",\"\",VLOOKUP($B2720,_tbl!$A:$E,O$2,0))","v":"West"},{"$f":"IF($B2720=\"\",\"\",VLOOKUP($B2720,_tbl!$A:$E,P$2,0))","v":"Urban"},{"$f":"IF($B2720=\"\",\"\",VLOOKUP($B2720,_tbl!$A:$E,Q$2,0))","v":"Mental"},null,1.42817403465198E-3,1.3971854265908399E-3]
[null,"all_f_West Urban mental.csv","85+",4.1936240510660498E-3,4.0467493983547403E-3,4.0126644835818499E-3,4.0000350457697299E-3,4.00084431813092E-3,4.0044287349718204E-3,4.0362988049034102E-3,4.0573198571147197E-3,4.0739444760088299E-3,4.0939365518213597E-3,{"$f":"IF($B2721=\"\",\"\",VLOOKUP($B2721,_tbl!$A:$E,N$2,0))","v":"Female"},{"$f":"IF($B2721=\"\",\"\",VLOOKUP($B2721,_tbl!$A:$E,O$2,0))","v":"West"},{"$f":"IF($B2721=\"\",\"\",VLOOKUP($B2721,_tbl!$A:$E,P$2,0))","v":"Urban"},{"$f":"IF($B2721=\"\",\"\",VLOOKUP($B2721,_tbl!$A:$E,Q$2,0))","v":"Mental"},null,4.1936240510660498E-3,4.0000350457697299E-3]
[null,null,null,null,null,null,null,null,null,null,null,null,null,{"$f":"IF($B2722=\"\",\"\",VLOOKUP($B2722,_tbl!$A:$E,N$2,0))","v":""},{"$f":"IF($B2722=\"\",\"\",VLOOKUP($B2722,_tbl!$A:$E,O$2,0))","v":""},{"$f":"IF($B2722=\"\",\"\",VLOOKUP($B2722,_tbl!$A:$E,P$2,0))","v":""},{"$f":"IF($B2722=\"\",\"\",VLOOKUP($B2722,_tbl!$A:$E,Q$2,0))","v":""}]
[null,null,null,2020,2021,2022,2023,2024,2025,2026,2027,2028,2029,{"$f":"IF($B2723=\"\",\"\",VLOOKUP($B2723,_tbl!$A:$E,N$2,0))","v":""},{"$f":"IF($B2723=\"\",\"\",VLOOKUP($B2723,_tbl!$A:$E,O$2,0))","v":""},{"$f":"IF($B2723=\"\",\"\",VLOOKUP($B2723,_tbl!$A:$E,P$2,0))","v":""},{"$f":"IF($B2723=\"\",\"\",VLOOKUP($B2723,_tbl!$A:$E,Q$2,0))","v":""}]
[null,"all_f_West Urban other.csv","1-4",3.23256166138084E-5,3.1334868170807897E-5,3.0374485195821201E-5,2.9443537017036999E-5,2.8541121486822599E-5,2.7666364107485399E-5,2.6818417183829E-5,2.5996459001683599E-5,2.5199693031612601E-5,2.44273471570255E-5,{"$f":"IF($B2724=\"\",\"\",VLOOKUP($B2724,_tbl!$A:$E,N$2,0))","v":"Female"},{"$f":"IF($B2724=\"\",\"\",VLOOKUP($B2724,_tbl!$A:$E,O$2,0))","v":"West"},{"$f":"IF($B2724=\"\",\"\",VLOOKUP($B2724,_tbl!$A:$E,P$2,0))","v":"Urban"},{"$f":"IF($B2724=\"\",\"\",VLOOKUP($B2724,_tbl!$A:$E,Q$2,0))","v":"Other"},null,{"$f":"MAX(D2724:M2724)","v":3.23256166138084E-5},{"$f":"MIN(D2724:M2724)","v":2.44273471570255E-5}]
[null,"all_f_West Urban other.csv","5-9",1.8079860209853199E-5,1.7733380448862699E-5,1.7393540574651398E-5,1.7060213341413199E-5,1.6733273941862E-5,1.6412599960499899E-5,1.60980713277814E-5,1.57895702751562E-5,1.5486981290972701E-5,1.51901910772278E-5,{"$f":"IF($B2725=\"\",\"\",VLOOKUP($B2725,_tbl!$A:$E,N$2,0))","v":"Female"},{"$f":"IF($B2725=\"\",\"\",VLOOKUP($B2725,_tbl!$A:$E,O$2,0))","v":"West"},{"$f":"IF($B2725=\"\",\"\",VLOOKUP($B2725,_tbl!$A:$E,P$2,0))","v":"Urban"},{"$f":"IF($B2725=\"\",\"\",VLOOKUP($B2725,_tbl!$A:$E,Q$2,0))","v":"Other"},null,1.8079860209853199E-5,1.51901910772278E-5]
[null,"all_f_West Urban other.csv","10-14",1.8467383402398301E-5,1.8017526001631802E-5,1.7578626930836201E-5,1.7150419249875702E-5,1.6732642521159299E-5,1.63250426512423E-5,1.5927371736285399E-5,1.5539387911278699E-5,1.5160855202938301E-5,1.47915433861865E-5,{"$f":"IF($B2726=\"\",\"\",VLOOKUP($B2726,_tbl!$A:$E,N$2,0))","v":"Female"},{"$f":"IF($B2726=\"\",\"\",VLOOKUP($B2726,_tbl!$A:$E,O$2,0))","v":"West"},{"$f":"IF($B2726=\"\",\"\",VLOOKUP($B2726,_tbl!$A:$E,P$2,0))","v":"Urban"},{"$f":"IF($B2726=\"\",\"\",VLOOKUP($B2726,_tbl!$A:$E,Q$2,0))","v":"Other"},null,1.8467383402398301E-5,1.47915433861865E-5]
[null,"all_f_West Urban other.csv","15-19",2.0834343658813599E-5,2.0146349198553099E-5,1.9481073782631099E-5,1.8837767179751499E-5,1.82157039328556E-5,1.76141825410239E-5,1.70325246683932E-5,1.64700743791973E-5,1.5926197398068001E-5,1.54002803947622E-5,{"$f":"IF($B2727=\"\",\"\",VLOOKUP($B2727,_tbl!$A:$E,N$2,0))","v":"Female"},{"$f":"IF($B2727=\"\",\"\",VLOOKUP($B2727,_tbl!$A:$E,O$2,0))","v":"West"},{"$f":"IF($B2727=\"\",\"\",VLOOKUP($B2727,_tbl!$A:$E,P$2,0))","v":"Urban"},{"$f":"IF($B2727=\"\",\"\",VLOOKUP($B2727,_tbl!$A:$E,Q$2,0))","v":"Other"},null,2.0834343658813599E-5,1.54002803947622E-5]
[null,"all_f_West Urban other.csv","20-24",2.40827164317004E-5,2.3133942467654799E-5,2.22225468465965E-5,2.1347056993837198E-5,2.0506058348929698E-5,1.96981920801123E-5,1.8922152888795001E-5,1.8176686900541801E-5,1.7460589639140501E-5,1.6772704080487599E-5,{"$f":"IF($B2728=\"\",\"\",VLOOKUP($B2728,_tbl!$A:$E,N$2,0))","v":"Female"},{"$f":"IF($B2728=\"\",\"\",VLOOKUP($B2728,_tbl!$A:$E,O$2,0))","v":"West"},{"$f":"IF($B2728=\"\",\"\",VLOOKUP($B2728,_tbl!$A:$E,P$2,0))","v":"Urban"},{"$f":"IF($B2728=\"\",\"\",VLOOKUP($B2728,_tbl!$A:$E,Q$2,0))","v":"Other"},null,2.40827164317004E-5,1.6772704080487599E-5]
[null,"all_f_West Urban other.csv","25-29",2.9938340247738299E-5,2.85597979049319E-5,2.7244731993189599E-5,2.59902196735275E-5,2.4793472692154602E-5,2.36518311833562E-5,2.25627577577301E-5,2.1523831862635901E-5,2.05327444023239E-5,1.95872926057848E-5,{"$f":"IF($B2729=\"\",\"\",VLOOKUP($B2729,_tbl!$A:$E,N$2,0))","v":"Female"},{"$f":"IF($B2729=\"\",\"\",VLOOKUP($B2729,_tbl!$A:$E,O$2,0))","v":"West"},{"$f":"IF($B2729=\"\",\"\",VLOOKUP($B2729,_tbl!$A:$E,P$2,0))","v":"Urban"},{"$f":"IF($B2729=\"\",\"\",VLOOKUP($B2729,_tbl!$A:$E,Q$2,0))","v":"Other"},null,2.9938340247738299E-5,1.95872926057848E-5]
[null,"all_f_West Urban other.csv","30-34",3.6466652961837702E-5,3.4482746411092201E-5,3.2606770939357803E-5,3.0832854738906198E-5,2.91554454477735E-5,2.75692927708533E-5,2.6069432046460701E-5,2.4651168706929399E-5,2.33100635846033E-5,2.2041919017231501E-5,{"$f":"IF($B2730=\"\",\"\",VLOOKUP($B2730,_tbl!$A:$E,N$2,0))","v":"Female"},{"$f":"IF($B2730=\"\",\"\",VLOOKUP($B2730,_tbl!$A:$E,O$2,0))","v":"West"},{"$f":"IF($B2730=\"\",\"\",VLOOKUP($B2730,_tbl!$A:$E,P$2,0))","v":"Urban"},{"$f":"IF($B2730=\"\",\"\",VLOOKUP($B2730,_tbl!$A:$E,Q$2,0))","v":"Other"},null,3.6466652961837702E-5,2.2041919017231501E-5]
[null,"all_f_West Urban other.csv","35-39",4.1329172695568299E-5,3.8825812198337701E-5,3.6474083426843501E-5,3.4264801854816103E-5,3.2189339274410303E-5,3.0239590099291699E-5,2.8407939708788401E-5,2.66872347094764E-5,2.5070754998059699E-5,2.35521875164362E-5,{"$f":"IF($B2731=\"\",\"\",VLOOKUP($B2731,_tbl!$A:$E,N$2,0))","v":"Female"},{"$f":"IF($B2731=\"\",\"\",VLOOKUP($B2731,_tbl!$A:$E,O$2,0))","v":"West"},{"$f":"IF($B2731=\"\",\"\",VLOOKUP($B2731,_tbl!$A:$E,P$2,0))","v":"Urban"},{"$f":"IF($B2731=\"\",\"\",VLOOKUP($B2731,_tbl!$A:$E,Q$2,0))","v":"Other"},null,4.1329172695568299E-5,2.35521875164362E-5]
[null,"all_f_West Urban other.csv","40-44",4.7970709129421799E-5,4.5102355282649101E-5,4.2405511383083901E-5,3.9869922189022398E-5,3.7485945659243103E-5,3.5244516287383901E-5,3.3137110628697099E-5,3.11557148880938E-5,2.92927944462234E-5,2.7541265207707099E-5,{"$f":"IF($B2732=\"\",\"\",VLOOKUP($B2732,_tbl!$A:$E,N$2,0))","v":"Female"},{"$f":"IF($B2732=\"\",\"\",VLOOKUP($B2732,_tbl!$A:$E,O$2,0))","v":"West"},{"$f":"IF($B2732=\"\",\"\",VLOOKUP($B2732,_tbl!$A:$E,P$2,0))","v":"Urban"},{"$f":"IF($B2732=\"\",\"\",VLOOKUP($B2732,_tbl!$A:$E,Q$2,0))","v":"Other"},null,4.7970709129421799E-5,2.7541265207707099E-5]
[null,"all_f_West Urban other.csv","45-49",6.3564567331648894E-5,6.02636595903674E-5,5.7134167975614503E-5,5.4167190848587298E-5,5.1354288832552598E-5,4.8687460807578798E-5,4.61591211518622E-5,4.3762078164910802E-5,4.1489513611211797E-5,3.9334963326196902E-5,{"$f":"IF($B2733=\"\",\"\",VLOOKUP($B2733,_tbl!$A:$E,N$2,0))","v":"Female"},{"$f":"IF($B2733=\"\",\"\",VLOOKUP($B2733,_tbl!$A:$E,O$2,0))","v":"West"},{"$f":"IF($B2733=\"\",\"\",VLOOKUP($B2733,_tbl!$A:$E,P$2,0))","v":"Urban"},{"$f":"IF($B2733=\"\",\"\",VLOOKUP($B2733,_tbl!$A:$E,Q$2,0))","v":"Other"},null,6.3564567331648894E-5,3.9334963326196902E-5]
[null,"all_f_West Urban other.csv","50-54",9.4910330715845007E-5,9.0928562243569201E-5,8.7113840709674394E-5,8.3459158002107602E-5,7.9957800019799004E-5,7.6603334338032897E-5,7.3389598391293898E-5,7.0310688151877207E-5,6.7360947283463793E-5,6.4534956749736296E-5,{"$f":"IF($B2734=\"\",\"\",VLOOKUP($B2734,_tbl!$A:$E,N$2,0))","v":"Female"},{"$f":"IF($B2734=\"\",\"\",VLOOKUP($B2734,_tbl!$A:$E,O$2,0))","v":"West"},{"$f":"IF($B2734=\"\",\"\",VLOOKUP($B2734,_tbl!$A:$E,P$2,0))","v":"Urban"},{"$f":"IF($B2734=\"\",\"\",VLOOKUP($B2734,_tbl!$A:$E,Q$2,0))","v":"Other"},null,9.4910330715845007E-5,6.4534956749736296E-5]
[null,"all_f_West Urban other.csv","55-59",1.4429252136156001E-4,1.3910800870998199E-4,1.3410977855718201E-4,1.2929113766665501E-4,1.246456332937E-4,1.2016704454441901E-4,1.15849374045182E-4,1.11686839911416E-4,1.0767386800496001E-4,1.0380508446962099E-4,{"$f":"IF($B2735=\"\",\"\",VLOOKUP($B2735,_tbl!$A:$E,N$2,0))","v":"Female"},{"$f":"IF($B2735=\"\",\"\",VLOOKUP($B2735,_tbl!$A:$E,O$2,0))","v":"West"},{"$f":"IF($B2735=\"\",\"\",VLOOKUP($B2735,_tbl!$A:$E,P$2,0))","v":"Urban"},{"$f":"IF($B2735=\"\",\"\",VLOOKUP($B2735,_tbl!$A:$E,Q$2,0))","v":"Other"},null,1.4429252136156001E-4,1.0380508446962099E-4]
[null,"all_f_West Urban other.csv","60-64",2.10176341691996E-4,2.02513701069554E-4,1.9513042614943601E-4,1.8801633177492101E-4,1.8116160412126199E-4,1.74556787157606E-4,1.6819276960249499E-4,1.6206077235493701E-4,1.5615233638372299E-4,1.50459311058272E-4,{"$f":"IF($B2736=\"\",\"\",VLOOKUP($B2736,_tbl!$A:$E,N$2,0))","v":"Female"},{"$f":"IF($B2736=\"\",\"\",VLOOKUP($B2736,_tbl!$A:$E,O$2,0))","v":"West"},{"$f":"IF($B2736=\"\",\"\",VLOOKUP($B2736,_tbl!$A:$E,P$2,0))","v":"Urban"},{"$f":"IF($B2736=\"\",\"\",VLOOKUP($B2736,_tbl!$A:$E,Q$2,0))","v":"Other"},null,2.10176341691996E-4,1.50459311058272E-4]
[null,"all_f_West Urban other.csv","65-69",3.0868965355390599E-4,2.9592344084393999E-4,2.8368518942156501E-4,2.71953064845546E-4,2.60706135662871E-4,2.4992433606464101E-4,2.3958843008637E-4,2.29679977288825E-4,2.2018129985817099E-4,2.11075451066723E-4,{"$f":"IF($B2737=\"\",\"\",VLOOKUP($B2737,_tbl!$A:$E,N$2,0))","v":"Female"},{"$f":"IF($B2737=\"\",\"\",VLOOKUP($B2737,_tbl!$A:$E,O$2,0))","v":"West"},{"$f":"IF($B2737=\"\",\"\",VLOOKUP($B2737,_tbl!$A:$E,P$2,0))","v":"Urban"},{"$f":"IF($B2737=\"\",\"\",VLOOKUP($B2737,_tbl!$A:$E,Q$2,0))","v":"Other"},null,3.0868965355390599E-4,2.11075451066723E-4]
[null,"all_f_West Urban other.csv","70-74",5.1423753664136998E-4,4.9053978909955795E-4,4.6793411126977701E-4,4.4637017700799802E-4,4.2579997936350699E-4,4.0617772370288502E-4,3.8745972575920002E-4,3.6960431437941101E-4,3.52571738753497E-4,3.36324079918772E-4,{"$f":"IF($B2738=\"\",\"\",VLOOKUP($B2738,_tbl!$A:$E,N$2,0))","v":"Female"},{"$f":"IF($B2738=\"\",\"\",VLOOKUP($B2738,_tbl!$A:$E,O$2,0))","v":"West"},{"$f":"IF($B2738=\"\",\"\",VLOOKUP($B2738,_tbl!$A:$E,P$2,0))","v":"Urban"},{"$f":"IF($B2738=\"\",\"\",VLOOKUP($B2738,_tbl!$A:$E,Q$2,0))","v":"Other"},null,5.1423753664136998E-4,3.36324079918772E-4]
[null,"all_f_West Urban other.csv","75-79",1.05377987160349E-3,1.0040539907870999E-3,9.5667458031959102E-4,9.1153091469931902E-4,8.6851749335182203E-4,8.2753379407538301E-4,7.8848403812102901E-4,7.51276966357958E-4,7.1582562600129703E-4,6.8204716740377701E-4,{"$f":"IF($B2739=\"\",\"\",VLOOKUP($B2739,_tbl!$A:$E,N$2,0))","v":"Female"},{"$f":"IF($B2739=\"\",\"\",VLOOKUP($B2739,_tbl!$A:$E,O$2,0))","v":"West"},{"$f":"IF($B2739=\"\",\"\",VLOOKUP($B2739,_tbl!$A:$E,P$2,0))","v":"Urban"},{"$f":"IF($B2739=\"\",\"\",VLOOKUP($B2739,_tbl!$A:$E,Q$2,0))","v":"Other"},null,1.05377987160349E-3,6.8204716740377701E-4]
[null,"all_f_West Urban other.csv","80-84",2.6006692414791699E-3,2.48588517714029E-3,2.3761672631660998E-3,2.2712918981388701E-3,2.1710453495927501E-3,2.0752233184341299E-3,1.9836305225870098E-3,1.8960802990146701E-3,1.8123942233067201E-3,1.7324017460560799E-3,{"$f":"IF($B2740=\"\",\"\",VLOOKUP($B2740,_tbl!$A:$E,N$2,0))","v":"Female"},{"$f":"IF($B2740=\"\",\"\",VLOOKUP($B2740,_tbl!$A:$E,O$2,0))","v":"West"},{"$f":"IF($B2740=\"\",\"\",VLOOKUP($B2740,_tbl!$A:$E,P$2,0))","v":"Urban"},{"$f":"IF($B2740=\"\",\"\",VLOOKUP($B2740,_tbl!$A:$E,Q$2,0))","v":"Other"},null,2.6006692414791699E-3,1.7324017460560799E-3]
[null,"all_f_West Urban other.csv","85+",6.9739551450682304E-3,6.70353524083363E-3,6.4436010542563704E-3,6.1937459944270499E-3,5.9535792362782102E-3,5.7227251092530299E-3,5.5008225096787296E-3,5.2875243359256597E-3,5.0824969454684203E-3,4.8854196329998698E-3,{"$f":"IF($B2741=\"\",\"\",VLOOKUP($B2741,_tbl!$A:$E,N$2,0))","v":"Female"},{"$f":"IF($B2741=\"\",\"\",VLOOKUP($B2741,_tbl!$A:$E,O$2,0))","v":"West"},{"$f":"IF($B2741=\"\",\"\",VLOOKUP($B2741,_tbl!$A:$E,P$2,0))","v":"Urban"},{"$f":"IF($B2741=\"\",\"\",VLOOKUP($B2741,_tbl!$A:$E,Q$2,0))","v":"Other"},null,6.9739551450682304E-3,4.8854196329998698E-3]
[null,null,null,null,null,null,null,null,null,null,null,null,null,{"$f":"IF($B2742=\"\",\"\",VLOOKUP($B2742,_tbl!$A:$E,N$2,0))","v":""},{"$f":"IF($B2742=\"\",\"\",VLOOKUP($B2742,_tbl!$A:$E,O$2,0))","v":""},{"$f":"IF($B2742=\"\",\"\",VLOOKUP($B2742,_tbl!$A:$E,P$2,0))","v":""},{"$f":"IF($B2742=\"\",\"\",VLOOKUP($B2742,_tbl!$A:$E,Q$2,0))","v":""}]
[null,null,null,2020,2021,2022,2023,2024,2025,2026,2027,2028,2029,{"$f":"IF($B2743=\"\",\"\",VLOOKUP($B2743,_tbl!$A:$E,N$2,0))","v":""},{"$f":"IF($B2743=\"\",\"\",VLOOKUP($B2743,_tbl!$A:$E,O$2,0))","v":""},{"$f":"IF($B2743=\"\",\"\",VLOOKUP($B2743,_tbl!$A:$E,P$2,0))","v":""},{"$f":"IF($B2743=\"\",\"\",VLOOKUP($B2743,_tbl!$A:$E,Q$2,0))","v":""}]
[null,"all_f_West Urban respiratory.csv","1-4",4.1078330159988203E-6,3.8796331330469797E-6,3.7382835623426E-6,3.6499126232553399E-6,3.5861745231196901E-6,3.5439752506246098E-6,3.5146009122827499E-6,3.49645696601338E-6,3.4833817216772901E-6,3.47398287332292E-6,{"$f":"IF($B2744=\"\",\"\",VLOOKUP($B2744,_tbl!$A:$E,N$2,0))","v":"Female"},{"$f":"IF($B2744=\"\",\"\",VLOOKUP($B2744,_tbl!$A:$E,O$2,0))","v":"West"},{"$f":"IF($B2744=\"\",\"\",VLOOKUP($B2744,_tbl!$A:$E,P$2,0))","v":"Urban"},{"$f":"IF($B2744=\"\",\"\",VLOOKUP($B2744,_tbl!$A:$E,Q$2,0))","v":"Respiratory"},null,{"$f":"MAX(D2744:M2744)","v":4.1078330159988203E-6},{"$f":"MIN(D2744:M2744)","v":3.47398287332292E-6}]
[null,"all_f_West Urban respiratory.csv","5-9",2.6915865950918001E-6,2.6211528667686099E-6,2.5810364285657201E-6,2.5594605718630101E-6,2.5526766750042999E-6,2.5506653944371499E-6,2.5527059534004399E-6,2.5544766779729502E-6,2.5567956563690499E-6,2.55892810987089E-6,{"$f":"IF($B2745=\"\",\"\",VLOOKUP($B2745,_tbl!$A:$E,N$2,0))","v":"Female"},{"$f":"IF($B2745=\"\",\"\",VLOOKUP($B2745,_tbl!$A:$E,O$2,0))","v":"West"},{"$f":"IF($B2745=\"\",\"\",VLOOKUP($B2745,_tbl!$A:$E,P$2,0))","v":"Urban"},{"$f":"IF($B2745=\"\",\"\",VLOOKUP($B2745,_tbl!$A:$E,Q$2,0))","v":"Respiratory"},null,2.6915865950918001E-6,2.5506653944371499E-6]
[null,"all_f_West Urban respiratory.csv","10-14",2.8030220948016701E-6,2.7344479216851401E-6,2.6807856607469902E-6,2.6337093293781199E-6,2.5874822798518801E-6,2.5458310831605598E-6,2.5064912447705599E-6,2.47078993483416E-6,2.4369653085846599E-6,2.4050740455877501E-6,{"$f":"IF($B2746=\"\",\"\",VLOOKUP($B2746,_tbl!$A:$E,N$2,0))","v":"Female"},{"$f":"IF($B2746=\"\",\"\",VLOOKUP($B2746,_tbl!$A:$E,O$2,0))","v":"West"},{"$f":"IF($B2746=\"\",\"\",VLOOKUP($B2746,_tbl!$A:$E,P$2,0))","v":"Urban"},{"$f":"IF($B2746=\"\",\"\",VLOOKUP($B2746,_tbl!$A:$E,Q$2,0))","v":"Respiratory"},null,2.8030220948016701E-6,2.4050740455877501E-6]
[null,"all_f_West Urban respiratory.csv","15-19",2.4832557442025899E-6,2.3604907623451501E-6,2.29570068452692E-6,2.2248289171156001E-6,2.1651283110980002E-6,2.09704765651843E-6,2.0269887455541302E-6,1.94980908653157E-6,1.87100249099799E-6,1.7901077696929301E-6,{"$f":"IF($B2747=\"\",\"\",VLOOKUP($B2747,_tbl!$A:$E,N$2,0))","v":"Female"},{"$f":"IF($B2747=\"\",\"\",VLOOKUP($B2747,_tbl!$A:$E,O$2,0))","v":"West"},{"$f":"IF($B2747=\"\",\"\",VLOOKUP($B2747,_tbl!$A:$E,P$2,0))","v":"Urban"},{"$f":"IF($B2747=\"\",\"\",VLOOKUP($B2747,_tbl!$A:$E,Q$2,0))","v":"Respiratory"},null,2.4832557442025899E-6,1.7901077696929301E-6]
[null,"all_f_West Urban respiratory.csv","20-24",3.28658722633467E-6,3.2479730898697802E-6,3.2512374759774599E-6,3.2314497338402999E-6,3.2193388407025801E-6,3.1887935630866399E-6,3.1526353730515102E-6,3.1043902350343499E-6,3.05277437670346E-6,2.99786468195571E-6,{"$f":"IF($B2748=\"\",\"\",VLOOKUP($B2748,_tbl!$A:$E,N$2,0))","v":"Female"},{"$f":"IF($B2748=\"\",\"\",VLOOKUP($B2748,_tbl!$A:$E,O$2,0))","v":"West"},{"$f":"IF($B2748=\"\",\"\",VLOOKUP($B2748,_tbl!$A:$E,P$2,0))","v":"Urban"},{"$f":"IF($B2748=\"\",\"\",VLOOKUP($B2748,_tbl!$A:$E,Q$2,0))","v":"Respiratory"},null,3.28658722633467E-6,2.99786468195571E-6]
[null,"all_f_West Urban respiratory.csv","25-29",4.8082655563696301E-6,4.9080005311204504E-6,4.9694529338291697E-6,4.99509969331227E-6,5.0037563575277501E-6,4.9988603011458298E-6,4.9875845049531797E-6,4.97109430998987E-6,4.9523618326018803E-6,4.9322906855587497E-6,{"$f":"IF($B2749=\"\",\"\",VLOOKUP($B2749,_tbl!$A:$E,N$2,0))","v":"Female"},{"$f":"IF($B2749=\"\",\"\",VLOOKUP($B2749,_tbl!$A:$E,O$2,0))","v":"West"},{"$f":"IF($B2749=\"\",\"\",VLOOKUP($B2749,_tbl!$A:$E,P$2,0))","v":"Urban"},{"$f":"IF($B2749=\"\",\"\",VLOOKUP($B2749,_tbl!$A:$E,Q$2,0))","v":"Respiratory"},null,5.0037563575277501E-6,4.8082655563696301E-6]
[null,"all_f_West Urban respiratory.csv","30-34",7.4579785921062703E-6,7.7268428362845296E-6,7.8953081690089996E-6,8.0067783549162603E-6,8.0783085303282893E-6,8.1297703179024995E-6,8.1662477387340608E-6,8.1968359794891897E-6,8.2231053850884299E-6,8.2467183534597705E-6,{"$f":"IF($B2750=\"\",\"\",VLOOKUP($B2750,_tbl!$A:$E,N$2,0))","v":"Female"},{"$f":"IF($B2750=\"\",\"\",VLOOKUP($B2750,_tbl!$A:$E,O$2,0))","v":"West"},{"$f":"IF($B2750=\"\",\"\",VLOOKUP($B2750,_tbl!$A:$E,P$2,0))","v":"Urban"},{"$f":"IF($B2750=\"\",\"\",VLOOKUP($B2750,_tbl!$A:$E,Q$2,0))","v":"Respiratory"},null,8.2467183534597705E-6,7.4579785921062703E-6]
[null,"all_f_West Urban respiratory.csv","35-39",1.2628198210521399E-5,1.3257501995995799E-5,1.36330540746172E-5,1.39436307616647E-5,1.41714569761554E-5,1.4373581224927101E-5,1.45357465383045E-5,1.4691539282175399E-5,1.4837751038410299E-5,1.4978050352180001E-5,{"$f":"IF($B2751=\"\",\"\",VLOOKUP($B2751,_tbl!$A:$E,N$2,0))","v":"Female"},{"$f":"IF($B2751=\"\",\"\",VLOOKUP($B2751,_tbl!$A:$E,O$2,0))","v":"West"},{"$f":"IF($B2751=\"\",\"\",VLOOKUP($B2751,_tbl!$A:$E,P$2,0))","v":"Urban"},{"$f":"IF($B2751=\"\",\"\",VLOOKUP($B2751,_tbl!$A:$E,Q$2,0))","v":"Respiratory"},null,1.4978050352180001E-5,1.2628198210521399E-5]
[null,"all_f_West Urban respiratory.csv","40-44",2.1707764106475102E-5,2.2654586825071999E-5,2.3017264444203199E-5,2.3354695337576899E-5,2.3504487979916099E-5,2.3642939481437098E-5,2.3680065600053601E-5,2.3728108082058901E-5,2.3764005340981998E-5,2.3797920030277599E-5,{"$f":"IF($B2752=\"\",\"\",VLOOKUP($B2752,_tbl!$A:$E,N$2,0))","v":"Female"},{"$f":"IF($B2752=\"\",\"\",VLOOKUP($B2752,_tbl!$A:$E,O$2,0))","v":"West"},{"$f":"IF($B2752=\"\",\"\",VLOOKUP($B2752,_tbl!$A:$E,P$2,0))","v":"Urban"},{"$f":"IF($B2752=\"\",\"\",VLOOKUP($B2752,_tbl!$A:$E,Q$2,0))","v":"Respiratory"},null,2.3797920030277599E-5,2.1707764106475102E-5]
[null,"all_f_West Urban respiratory.csv","45-49",3.7053570137551203E-5,3.7850651239915E-5,3.7322176512986003E-5,3.68315717282828E-5,3.5944645292176098E-5,3.5095000515137299E-5,3.4043800391921698E-5,3.3069598702864599E-5,3.2105476477713498E-5,3.1173451531662999E-5,{"$f":"IF($B2753=\"\",\"\",VLOOKUP($B2753,_tbl!$A:$E,N$2,0))","v":"Female"},{"$f":"IF($B2753=\"\",\"\",VLOOKUP($B2753,_tbl!$A:$E,O$2,0))","v":"West"},{"$f":"IF($B2753=\"\",\"\",VLOOKUP($B2753,_tbl!$A:$E,P$2,0))","v":"Urban"},{"$f":"IF($B2753=\"\",\"\",VLOOKUP($B2753,_tbl!$A:$E,Q$2,0))","v":"Respiratory"},null,3.7850651239915E-5,3.1173451531662999E-5]
[null,"all_f_West Urban respiratory.csv","50-54",7.0101130287295396E-5,7.1575700206961794E-5,7.12393564159395E-5,6.9685575112935093E-5,6.7436421017620895E-5,6.4812042101268505E-5,6.2026409373039E-5,5.9169726564035399E-5,5.6310203729733998E-5,5.3492360198518997E-5,{"$f":"IF($B2754=\"\",\"\",VLOOKUP($B2754,_tbl!$A:$E,N$2,0))","v":"Female"},{"$f":"IF($B2754=\"\",\"\",VLOOKUP($B2754,_tbl!$A:$E,O$2,0))","v":"West"},{"$f":"IF($B2754=\"\",\"\",VLOOKUP($B2754,_tbl!$A:$E,P$2,0))","v":"Urban"},{"$f":"IF($B2754=\"\",\"\",VLOOKUP($B2754,_tbl!$A:$E,Q$2,0))","v":"Respiratory"},null,7.1575700206961794E-5,5.3492360198518997E-5]
[null,"all_f_West Urban respiratory.csv","55-59",1.55328342685727E-4,1.5995551781995999E-4,1.6038485114625901E-4,1.5795151130945401E-4,1.5394518221385501E-4,1.4898160935312901E-4,1.4362969075371699E-4,1.3800212729882401E-4,1.3230054520611999E-4,1.26632886865222E-4,{"$f":"IF($B2755=\"\",\"\",VLOOKUP($B2755,_tbl!$A:$E,N$2,0))","v":"Female"},{"$f":"IF($B2755=\"\",\"\",VLOOKUP($B2755,_tbl!$A:$E,O$2,0))","v":"West"},{"$f":"IF($B2755=\"\",\"\",VLOOKUP($B2755,_tbl!$A:$E,P$2,0))","v":"Urban"},{"$f":"IF($B2755=\"\",\"\",VLOOKUP($B2755,_tbl!$A:$E,Q$2,0))","v":"Respiratory"},null,1.6038485114625901E-4,1.26632886865222E-4]
[null,"all_f_West Urban respiratory.csv","60-64",3.2958617090113199E-4,3.4030006439791802E-4,3.4175468875030998E-4,3.35942884827097E-4,3.2635811283876102E-4,3.1433570988195298E-4,3.0171429911515302E-4,2.882759759201E-4,2.7462641849389398E-4,2.6108862080188698E-4,{"$f":"IF($B2756=\"\",\"\",VLOOKUP($B2756,_tbl!$A:$E,N$2,0))","v":"Female"},{"$f":"IF($B2756=\"\",\"\",VLOOKUP($B2756,_tbl!$A:$E,O$2,0))","v":"West"},{"$f":"IF($B2756=\"\",\"\",VLOOKUP($B2756,_tbl!$A:$E,P$2,0))","v":"Urban"},{"$f":"IF($B2756=\"\",\"\",VLOOKUP($B2756,_tbl!$A:$E,Q$2,0))","v":"Respiratory"},null,3.4175468875030998E-4,2.6108862080188698E-4]
[null,"all_f_West Urban respiratory.csv","65-69",7.2960387431230799E-4,7.4767422566011205E-4,7.4311754385768898E-4,7.2371229491573197E-4,6.9630453808570297E-4,6.6418252239407703E-4,6.3073950781732905E-4,5.9618554777033901E-4,5.6162693771525903E-4,5.2761707818994202E-4,{"$f":"IF($B2757=\"\",\"\",VLOOKUP($B2757,_tbl!$A:$E,N$2,0))","v":"Female"},{"$f":"IF($B2757=\"\",\"\",VLOOKUP($B2757,_tbl!$A:$E,O$2,0))","v":"West"},{"$f":"IF($B2757=\"\",\"\",VLOOKUP($B2757,_tbl!$A:$E,P$2,0))","v":"Urban"},{"$f":"IF($B2757=\"\",\"\",VLOOKUP($B2757,_tbl!$A:$E,Q$2,0))","v":"Respiratory"},null,7.4767422566011205E-4,5.2761707818994202E-4]
[null,"all_f_West Urban respiratory.csv","70-74",1.9268792013403401E-3,1.9744052903420801E-3,1.9715788634726101E-3,1.94304538538694E-3,1.89877970782284E-3,1.84609098883323E-3,1.78765566434193E-3,1.7278164148201299E-3,1.6677432309871599E-3,1.6079072375337899E-3,{"$f":"IF($B2758=\"\",\"\",VLOOKUP($B2758,_tbl!$A:$E,N$2,0))","v":"Female"},{"$f":"IF($B2758=\"\",\"\",VLOOKUP($B2758,_tbl!$A:$E,O$2,0))","v":"West"},{"$f":"IF($B2758=\"\",\"\",VLOOKUP($B2758,_tbl!$A:$E,P$2,0))","v":"Urban"},{"$f":"IF($B2758=\"\",\"\",VLOOKUP($B2758,_tbl!$A:$E,Q$2,0))","v":"Respiratory"},null,1.9744052903420801E-3,1.6079072375337899E-3]
[null,"all_f_West Urban respiratory.csv","75-79",5.2462479816194401E-3,5.3502125728214804E-3,5.3983950805348499E-3,5.3984140928607597E-3,5.3703474524544803E-3,5.3237648123011898E-3,5.2745545060370498E-3,5.2154081185913498E-3,5.1511837615807899E-3,5.0857352859094004E-3,{"$f":"IF($B2759=\"\",\"\",VLOOKUP($B2759,_tbl!$A:$E,N$2,0))","v":"Female"},{"$f":"IF($B2759=\"\",\"\",VLOOKUP($B2759,_tbl!$A:$E,O$2,0))","v":"West"},{"$f":"IF($B2759=\"\",\"\",VLOOKUP($B2759,_tbl!$A:$E,P$2,0))","v":"Urban"},{"$f":"IF($B2759=\"\",\"\",VLOOKUP($B2759,_tbl!$A:$E,Q$2,0))","v":"Respiratory"},null,5.3984140928607597E-3,5.0857352859094004E-3]
[null,"all_f_West Urban respiratory.csv","80-84",1.36416225316677E-2,1.3644856050916801E-2,1.3679298708814E-2,1.36918194217387E-2,1.37078766594951E-2,1.3716438462605399E-2,1.3756689762426401E-2,1.37682181111156E-2,1.37630094802536E-2,1.37560311912298E-2,{"$f":"IF($B2760=\"\",\"\",VLOOKUP($B2760,_tbl!$A:$E,N$2,0))","v":"Female"},{"$f":"IF($B2760=\"\",\"\",VLOOKUP($B2760,_tbl!$A:$E,O$2,0))","v":"West"},{"$f":"IF($B2760=\"\",\"\",VLOOKUP($B2760,_tbl!$A:$E,P$2,0))","v":"Urban"},{"$f":"IF($B2760=\"\",\"\",VLOOKUP($B2760,_tbl!$A:$E,Q$2,0))","v":"Respiratory"},null,1.37682181111156E-2,1.36416225316677E-2]
[null,"all_f_West Urban respiratory.csv","85+",3.3699753677837202E-2,3.3016654456084399E-2,3.2656280330221998E-2,3.25674753343871E-2,3.2674430231094197E-2,3.2887336085148197E-2,3.3216079436690499E-2,3.3523192778029398E-2,3.38136049683469E-2,3.4111338014558297E-2,{"$f":"IF($B2761=\"\",\"\",VLOOKUP($B2761,_tbl!$A:$E,N$2,0))","v":"Female"},{"$f":"IF($B2761=\"\",\"\",VLOOKUP($B2761,_tbl!$A:$E,O$2,0))","v":"West"},{"$f":"IF($B2761=\"\",\"\",VLOOKUP($B2761,_tbl!$A:$E,P$2,0))","v":"Urban"},{"$f":"IF($B2761=\"\",\"\",VLOOKUP($B2761,_tbl!$A:$E,Q$2,0))","v":"Respiratory"},null,3.4111338014558297E-2,3.25674753343871E-2]
[null,null,null,null,null,null,null,null,null,null,null,null,null,{"$f":"IF($B2762=\"\",\"\",VLOOKUP($B2762,_tbl!$A:$E,N$2,0))","v":""},{"$f":"IF($B2762=\"\",\"\",VLOOKUP($B2762,_tbl!$A:$E,O$2,0))","v":""},{"$f":"IF($B2762=\"\",\"\",VLOOKUP($B2762,_tbl!$A:$E,P$2,0))","v":""},{"$f":"IF($B2762=\"\",\"\",VLOOKUP($B2762,_tbl!$A:$E,Q$2,0))","v":""}]
[null,null,null,2020,2021,2022,2023,2024,2025,2026,2027,2028,2029,{"$f":"IF($B2763=\"\",\"\",VLOOKUP($B2763,_tbl!$A:$E,N$2,0))","v":""},{"$f":"IF($B2763=\"\",\"\",VLOOKUP($B2763,_tbl!$A:$E,O$2,0))","v":""},{"$f":"IF($B2763=\"\",\"\",VLOOKUP($B2763,_tbl!$A:$E,P$2,0))","v":""},{"$f":"IF($B2763=\"\",\"\",VLOOKUP($B2763,_tbl!$A:$E,Q$2,0))","v":""}]
[null,"all_f_West Urban.csv","1-4",3.4204347035963898E-4,3.3649483679430698E-4,3.32021972926941E-4,3.2773947873985799E-4,3.2409077676051601E-4,3.2043355001551698E-4,3.1693104542311802E-4,3.1328278689756302E-4,3.0970006354633702E-4,3.0615449624357802E-4,{"$f":"IF($B2764=\"\",\"\",VLOOKUP($B2764,_tbl!$A:$E,N$2,0))","v":"Female"},{"$f":"IF($B2764=\"\",\"\",VLOOKUP($B2764,_tbl!$A:$E,O$2,0))","v":"West"},{"$f":"IF($B2764=\"\",\"\",VLOOKUP($B2764,_tbl!$A:$E,P$2,0))","v":"Urban"},{"$f":"IF($B2764=\"\",\"\",VLOOKUP($B2764,_tbl!$A:$E,Q$2,0))","v":"Total"},null,{"$f":"MAX(D2764:M2764)","v":3.4204347035963898E-4},{"$f":"MIN(D2764:M2764)","v":3.0615449624357802E-4}]
[null,"all_f_West Urban.csv","5-9",2.09763930829818E-4,2.07160673068824E-4,2.04738157340145E-4,2.0242497254536701E-4,2.0027878356162199E-4,1.9817126653810701E-4,1.9610211131449199E-4,1.9402744211738601E-4,1.9197878107037099E-4,1.89949174172036E-4,{"$f":"IF($B2765=\"\",\"\",VLOOKUP($B2765,_tbl!$A:$E,N$2,0))","v":"Female"},{"$f":"IF($B2765=\"\",\"\",VLOOKUP($B2765,_tbl!$A:$E,O$2,0))","v":"West"},{"$f":"IF($B2765=\"\",\"\",VLOOKUP($B2765,_tbl!$A:$E,P$2,0))","v":"Urban"},{"$f":"IF($B2765=\"\",\"\",VLOOKUP($B2765,_tbl!$A:$E,Q$2,0))","v":"Total"},null,2.09763930829818E-4,1.89949174172036E-4]
[null,"all_f_West Urban.csv","10-14",1.74342320288481E-4,1.7146499212496399E-4,1.6863548895731701E-4,1.6593991337664199E-4,1.63356285980482E-4,1.6086133139097699E-4,1.58424084887154E-4,1.56044194813076E-4,1.5371860007966899E-4,1.51444048832516E-4,{"$f":"IF($B2766=\"\",\"\",VLOOKUP($B2766,_tbl!$A:$E,N$2,0))","v":"Female"},{"$f":"IF($B2766=\"\",\"\",VLOOKUP($B2766,_tbl!$A:$E,O$2,0))","v":"West"},{"$f":"IF($B2766=\"\",\"\",VLOOKUP($B2766,_tbl!$A:$E,P$2,0))","v":"Urban"},{"$f":"IF($B2766=\"\",\"\",VLOOKUP($B2766,_tbl!$A:$E,Q$2,0))","v":"Total"},null,1.74342320288481E-4,1.51444048832516E-4]
[null,"all_f_West Urban.csv","15-19",1.7798640568758299E-4,1.7516212356751701E-4,1.7214933546287801E-4,1.69297350788677E-4,1.6650425715396399E-4,1.6386808418039099E-4,1.6132506092949499E-4,1.5891380803445499E-4,1.5659915811589001E-4,1.5437913475251899E-4,{"$f":"IF($B2767=\"\",\"\",VLOOKUP($B2767,_tbl!$A:$E,N$2,0))","v":"Female"},{"$f":"IF($B2767=\"\",\"\",VLOOKUP($B2767,_tbl!$A:$E,O$2,0))","v":"West"},{"$f":"IF($B2767=\"\",\"\",VLOOKUP($B2767,_tbl!$A:$E,P$2,0))","v":"Urban"},{"$f":"IF($B2767=\"\",\"\",VLOOKUP($B2767,_tbl!$A:$E,Q$2,0))","v":"Total"},null,1.7798640568758299E-4,1.5437913475251899E-4]
[null,"all_f_West Urban.csv","20-24",2.05989223446011E-4,2.02206484917855E-4,1.9800928117511501E-4,1.9409085682399899E-4,1.9020250184632201E-4,1.86604974620784E-4,1.8316675282768901E-4,1.7997108397891799E-4,1.76935627347422E-4,1.74056758501975E-4,{"$f":"IF($B2768=\"\",\"\",VLOOKUP($B2768,_tbl!$A:$E,N$2,0))","v":"Female"},{"$f":"IF($B2768=\"\",\"\",VLOOKUP($B2768,_tbl!$A:$E,O$2,0))","v":"West"},{"$f":"IF($B2768=\"\",\"\",VLOOKUP($B2768,_tbl!$A:$E,P$2,0))","v":"Urban"},{"$f":"IF($B2768=\"\",\"\",VLOOKUP($B2768,_tbl!$A:$E,Q$2,0))","v":"Total"},null,2.05989223446011E-4,1.74056758501975E-4]
[null,"all_f_West Urban.csv","25-29",2.6860685874858202E-4,2.64402246480351E-4,2.59965222784597E-4,2.55810512032056E-4,2.5175476107062501E-4,2.4798268837930901E-4,2.4438651214939302E-4,2.41037133317428E-4,2.37869133708966E-4,2.34874398595626E-4,{"$f":"IF($B2769=\"\",\"\",VLOOKUP($B2769,_tbl!$A:$E,N$2,0))","v":"Female"},{"$f":"IF($B2769=\"\",\"\",VLOOKUP($B2769,_tbl!$A:$E,O$2,0))","v":"West"},{"$f":"IF($B2769=\"\",\"\",VLOOKUP($B2769,_tbl!$A:$E,P$2,0))","v":"Urban"},{"$f":"IF($B2769=\"\",\"\",VLOOKUP($B2769,_tbl!$A:$E,Q$2,0))","v":"Total"},null,2.6860685874858202E-4,2.34874398595626E-4]
[null,"all_f_West Urban.csv","30-34",3.6842305933106799E-4,3.6491005566715201E-4,3.6087602309975702E-4,3.5719312963085602E-4,3.5360875574600001E-4,3.5033997023344401E-4,3.47233873876495E-4,3.4441189354672498E-4,3.4180042387838298E-4,3.3938534905627498E-4,{"$f":"IF($B2770=\"\",\"\",VLOOKUP($B2770,_tbl!$A:$E,N$2,0))","v":"Female"},{"$f":"IF($B2770=\"\",\"\",VLOOKUP($B2770,_tbl!$A:$E,O$2,0))","v":"West"},{"$f":"IF($B2770=\"\",\"\",VLOOKUP($B2770,_tbl!$A:$E,P$2,0))","v":"Urban"},{"$f":"IF($B2770=\"\",\"\",VLOOKUP($B2770,_tbl!$A:$E,Q$2,0))","v":"Total"},null,3.6842305933106799E-4,3.3938534905627498E-4]
[null,"all_f_West Urban.csv","35-39",5.3266046602415298E-4,5.27205601859762E-4,5.2058837652209898E-4,5.1511175485764195E-4,5.09698307072391E-4,5.0492545850142198E-4,5.0024831086482998E-4,4.96086049758313E-4,4.9225847985518995E-4,4.8874978823425003E-4,{"$f":"IF($B2771=\"\",\"\",VLOOKUP($B2771,_tbl!$A:$E,N$2,0))","v":"Female"},{"$f":"IF($B2771=\"\",\"\",VLOOKUP($B2771,_tbl!$A:$E,O$2,0))","v":"West"},{"$f":"IF($B2771=\"\",\"\",VLOOKUP($B2771,_tbl!$A:$E,P$2,0))","v":"Urban"},{"$f":"IF($B2771=\"\",\"\",VLOOKUP($B2771,_tbl!$A:$E,Q$2,0))","v":"Total"},null,5.3266046602415298E-4,4.8874978823425003E-4]
[null,"all_f_West Urban.csv","40-44",7.9109232014127403E-4,7.7543551617596698E-4,7.5834078644272001E-4,7.4349806331867104E-4,7.2873658962189895E-4,7.1518619956774203E-4,7.0180936834167201E-4,6.8941152268596495E-4,6.7766052245417298E-4,6.6654224232351304E-4,{"$f":"IF($B2772=\"\",\"\",VLOOKUP($B2772,_tbl!$A:$E,N$2,0))","v":"Female"},{"$f":"IF($B2772=\"\",\"\",VLOOKUP($B2772,_tbl!$A:$E,O$2,0))","v":"West"},{"$f":"IF($B2772=\"\",\"\",VLOOKUP($B2772,_tbl!$A:$E,P$2,0))","v":"Urban"},{"$f":"IF($B2772=\"\",\"\",VLOOKUP($B2772,_tbl!$A:$E,Q$2,0))","v":"Total"},null,7.9109232014127403E-4,6.6654224232351304E-4]
[null,"all_f_West Urban.csv","45-49",1.23716399903209E-3,1.20736480008124E-3,1.1741913345660901E-3,1.14499473500519E-3,1.1159190526077E-3,1.08898045011275E-3,1.06223859494338E-3,1.03715200211087E-3,1.0131127359513999E-3,9.9012550100628107E-4,{"$f":"IF($B2773=\"\",\"\",VLOOKUP($B2773,_tbl!$A:$E,N$2,0))","v":"Female"},{"$f":"IF($B2773=\"\",\"\",VLOOKUP($B2773,_tbl!$A:$E,O$2,0))","v":"West"},{"$f":"IF($B2773=\"\",\"\",VLOOKUP($B2773,_tbl!$A:$E,P$2,0))","v":"Urban"},{"$f":"IF($B2773=\"\",\"\",VLOOKUP($B2773,_tbl!$A:$E,Q$2,0))","v":"Total"},null,1.23716399903209E-3,9.9012550100628107E-4]
[null,"all_f_West Urban.csv","50-54",1.9711576679263499E-3,1.9172682819543899E-3,1.86315461367303E-3,1.8091210669372499E-3,1.7558783019719899E-3,1.7040842812509199E-3,1.6540890593867901E-3,1.6058337135383099E-3,1.5592282006606699E-3,1.51432169600074E-3,{"$f":"IF($B2774=\"\",\"\",VLOOKUP($B2774,_tbl!$A:$E,N$2,0))","v":"Female"},{"$f":"IF($B2774=\"\",\"\",VLOOKUP($B2774,_tbl!$A:$E,O$2,0))","v":"West"},{"$f":"IF($B2774=\"\",\"\",VLOOKUP($B2774,_tbl!$A:$E,P$2,0))","v":"Urban"},{"$f":"IF($B2774=\"\",\"\",VLOOKUP($B2774,_tbl!$A:$E,Q$2,0))","v":"Total"},null,1.9711576679263499E-3,1.51432169600074E-3]
[null,"all_f_West Urban.csv","55-59",3.2239392333311299E-3,3.14470677865706E-3,3.0674228841780201E-3,2.9881797510297398E-3,2.9100531283444901E-3,2.8329353811126601E-3,2.7585464708153101E-3,2.6857466192357201E-3,2.6149900339855299E-3,2.54641447681266E-3,{"$f":"IF($B2775=\"\",\"\",VLOOKUP($B2775,_tbl!$A:$E,N$2,0))","v":"Female"},{"$f":"IF($B2775=\"\",\"\",VLOOKUP($B2775,_tbl!$A:$E,O$2,0))","v":"West"},{"$f":"IF($B2775=\"\",\"\",VLOOKUP($B2775,_tbl!$A:$E,P$2,0))","v":"Urban"},{"$f":"IF($B2775=\"\",\"\",VLOOKUP($B2775,_tbl!$A:$E,Q$2,0))","v":"Total"},null,3.2239392333311299E-3,2.54641447681266E-3]
[null,"all_f_West Urban.csv","60-64",5.1774745852113998E-3,5.0525971159534203E-3,4.9417333455127298E-3,4.8157720952497598E-3,4.6887530307582496E-3,4.5589757166444103E-3,4.4371707181515797E-3,4.3147098817043397E-3,4.1945134971039903E-3,4.0779380902726103E-3,{"$f":"IF($B2776=\"\",\"\",VLOOKUP($B2776,_tbl!$A:$E,N$2,0))","v":"Female"},{"$f":"IF($B2776=\"\",\"\",VLOOKUP($B2776,_tbl!$A:$E,O$2,0))","v":"West"},{"$f":"IF($B2776=\"\",\"\",VLOOKUP($B2776,_tbl!$A:$E,P$2,0))","v":"Urban"},{"$f":"IF($B2776=\"\",\"\",VLOOKUP($B2776,_tbl!$A:$E,Q$2,0))","v":"Total"},null,5.1774745852113998E-3,4.0779380902726103E-3]
[null,"all_f_West Urban.csv","65-69",8.6843436467658099E-3,8.4732131030471995E-3,8.2698732382018702E-3,8.0369277422916996E-3,7.7965948640234001E-3,7.5502814938186004E-3,7.3194269491060199E-3,7.0865059181187901E-3,6.8571431302045299E-3,6.6348709532840699E-3,{"$f":"IF($B2777=\"\",\"\",VLOOKUP($B2777,_tbl!$A:$E,N$2,0))","v":"Female"},{"$f":"IF($B2777=\"\",\"\",VLOOKUP($B2777,_tbl!$A:$E,O$2,0))","v":"West"},{"$f":"IF($B2777=\"\",\"\",VLOOKUP($B2777,_tbl!$A:$E,P$2,0))","v":"Urban"},{"$f":"IF($B2777=\"\",\"\",VLOOKUP($B2777,_tbl!$A:$E,Q$2,0))","v":"Total"},null,8.6843436467658099E-3,6.6348709532840699E-3]
[null,"all_f_West Urban.csv","70-74",1.6815637589564801E-2,1.65631839671164E-2,1.62849194591199E-2,1.59723585016745E-2,1.56448014232617E-2,1.53102661952023E-2,1.49866138477345E-2,1.46625283556632E-2,1.4342774952560099E-2,1.40307609219943E-2,{"$f":"IF($B2778=\"\",\"\",VLOOKUP($B2778,_tbl!$A:$E,N$2,0))","v":"Female"},{"$f":"IF($B2778=\"\",\"\",VLOOKUP($B2778,_tbl!$A:$E,O$2,0))","v":"West"},{"$f":"IF($B2778=\"\",\"\",VLOOKUP($B2778,_tbl!$A:$E,P$2,0))","v":"Urban"},{"$f":"IF($B2778=\"\",\"\",VLOOKUP($B2778,_tbl!$A:$E,Q$2,0))","v":"Total"},null,1.6815637589564801E-2,1.40307609219943E-2]
[null,"all_f_West Urban.csv","75-79",3.58231277164806E-2,3.5622009864316198E-2,3.5399079166673203E-2,3.5138012257825299E-2,3.4862913916933497E-2,3.4575315890083301E-2,3.4298859430237798E-2,3.4011299817285699E-2,3.3719625905219701E-2,3.3429893627217003E-2,{"$f":"IF($B2779=\"\",\"\",VLOOKUP($B2779,_tbl!$A:$E,N$2,0))","v":"Female"},{"$f":"IF($B2779=\"\",\"\",VLOOKUP($B2779,_tbl!$A:$E,O$2,0))","v":"West"},{"$f":"IF($B2779=\"\",\"\",VLOOKUP($B2779,_tbl!$A:$E,P$2,0))","v":"Urban"},{"$f":"IF($B2779=\"\",\"\",VLOOKUP($B2779,_tbl!$A:$E,Q$2,0))","v":"Total"},null,3.58231277164806E-2,3.3429893627217003E-2]
[null,"all_f_West Urban.csv","80-84",8.0315324806000093E-2,7.9763353183013599E-2,7.9493408513641603E-2,7.92779132149872E-2,7.9205463115563896E-2,7.9179355895199394E-2,7.9319757967378696E-2,7.9359944663534604E-2,7.9341280365475803E-2,7.9323767742536105E-2,{"$f":"IF($B2780=\"\",\"\",VLOOKUP($B2780,_tbl!$A:$E,N$2,0))","v":"Female"},{"$f":"IF($B2780=\"\",\"\",VLOOKUP($B2780,_tbl!$A:$E,O$2,0))","v":"West"},{"$f":"IF($B2780=\"\",\"\",VLOOKUP($B2780,_tbl!$A:$E,P$2,0))","v":"Urban"},{"$f":"IF($B2780=\"\",\"\",VLOOKUP($B2780,_tbl!$A:$E,Q$2,0))","v":"Total"},null,8.0315324806000093E-2,7.9179355895199394E-2]
[null,"all_f_West Urban.csv","85+",0.187269275447881,0.18495836542451699,0.18422617382110201,0.18429808246448501,0.18517879825833,0.18647622648256901,0.188327517843421,0.18994981982008999,0.19142117615432599,0.19291589427512401,{"$f":"IF($B2781=\"\",\"\",VLOOKUP($B2781,_tbl!$A:$E,N$2,0))","v":"Female"},{"$f":"IF($B2781=\"\",\"\",VLOOKUP($B2781,_tbl!$A:$E,O$2,0))","v":"West"},{"$f":"IF($B2781=\"\",\"\",VLOOKUP($B2781,_tbl!$A:$E,P$2,0))","v":"Urban"},{"$f":"IF($B2781=\"\",\"\",VLOOKUP($B2781,_tbl!$A:$E,Q$2,0))","v":"Total"},null,0.19291589427512401,0.18422617382110201]
[null,null,null,null,null,null,null,null,null,null,null,null,null,{"$f":"IF($B2782=\"\",\"\",VLOOKUP($B2782,_tbl!$A:$E,N$2,0))","v":""},{"$f":"IF($B2782=\"\",\"\",VLOOKUP($B2782,_tbl!$A:$E,O$2,0))","v":""},{"$f":"IF($B2782=\"\",\"\",VLOOKUP($B2782,_tbl!$A:$E,P$2,0))","v":""},{"$f":"IF($B2782=\"\",\"\",VLOOKUP($B2782,_tbl!$A:$E,Q$2,0))","v":""}]
[null,null,null,2020,2021,2022,2023,2024,2025,2026,2027,2028,2029,{"$f":"IF($B2783=\"\",\"\",VLOOKUP($B2783,_tbl!$A:$E,N$2,0))","v":""},{"$f":"IF($B2783=\"\",\"\",VLOOKUP($B2783,_tbl!$A:$E,O$2,0))","v":""},{"$f":"IF($B2783=\"\",\"\",VLOOKUP($B2783,_tbl!$A:$E,P$2,0))","v":""},{"$f":"IF($B2783=\"\",\"\",VLOOKUP($B2783,_tbl!$A:$E,Q$2,0))","v":""}]
[null,"all_f_West.csv","1-4",4.5276655474612101E-4,4.32856285368639E-4,4.13325279345916E-4,3.9551693117972599E-4,3.7920935908545298E-4,3.64382182203899E-4,3.50841311086323E-4,3.3833139604441502E-4,3.2668138916334499E-4,3.1577365790429001E-4,{"$f":"IF($B2784=\"\",\"\",VLOOKUP($B2784,_tbl!$A:$E,N$2,0))","v":"Female"},{"$f":"IF($B2784=\"\",\"\",VLOOKUP($B2784,_tbl!$A:$E,O$2,0))","v":"West"},{"$f":"IF($B2784=\"\",\"\",VLOOKUP($B2784,_tbl!$A:$E,P$2,0))","v":"Total"},{"$f":"IF($B2784=\"\",\"\",VLOOKUP($B2784,_tbl!$A:$E,Q$2,0))","v":"Total"},null,{"$f":"MAX(D2784:M2784)","v":4.5276655474612101E-4},{"$f":"MIN(D2784:M2784)","v":3.1577365790429001E-4}]
[null,"all_f_West.csv","5-9",2.7004016158861498E-4,2.6368743780429599E-4,2.5756692984116498E-4,2.5171986507505799E-4,2.4615135096501699E-4,2.4081918658003899E-4,2.3567176726936801E-4,2.3067485167579499E-4,2.2581166398930901E-4,2.2107903903705199E-4,{"$f":"IF($B2785=\"\",\"\",VLOOKUP($B2785,_tbl!$A:$E,N$2,0))","v":"Female"},{"$f":"IF($B2785=\"\",\"\",VLOOKUP($B2785,_tbl!$A:$E,O$2,0))","v":"West"},{"$f":"IF($B2785=\"\",\"\",VLOOKUP($B2785,_tbl!$A:$E,P$2,0))","v":"Total"},{"$f":"IF($B2785=\"\",\"\",VLOOKUP($B2785,_tbl!$A:$E,Q$2,0))","v":"Total"},null,2.7004016158861498E-4,2.2107903903705199E-4]
[null,"all_f_West.csv","10-14",2.14628122521513E-4,2.0944792076020601E-4,2.0424795988510601E-4,1.9925404802875E-4,1.94581016719272E-4,1.9014516680215701E-4,1.8587199350476299E-4,1.8172432333551699E-4,1.77692673020499E-4,1.73774412791713E-4,{"$f":"IF($B2786=\"\",\"\",VLOOKUP($B2786,_tbl!$A:$E,N$2,0))","v":"Female"},{"$f":"IF($B2786=\"\",\"\",VLOOKUP($B2786,_tbl!$A:$E,O$2,0))","v":"West"},{"$f":"IF($B2786=\"\",\"\",VLOOKUP($B2786,_tbl!$A:$E,P$2,0))","v":"Total"},{"$f":"IF($B2786=\"\",\"\",VLOOKUP($B2786,_tbl!$A:$E,Q$2,0))","v":"Total"},null,2.14628122521513E-4,1.73774412791713E-4]
[null,"all_f_West.csv","15-19",2.2242229867262199E-4,2.16874776123224E-4,2.1093130292193E-4,2.0537450801760899E-4,2.0002327707065599E-4,1.9506877754231399E-4,1.90384444620024E-4,1.8602238103422001E-4,1.8190324466877699E-4,1.7801695836171201E-4,{"$f":"IF($B2787=\"\",\"\",VLOOKUP($B2787,_tbl!$A:$E,N$2,0))","v":"Female"},{"$f":"IF($B2787=\"\",\"\",VLOOKUP($B2787,_tbl!$A:$E,O$2,0))","v":"West"},{"$f":"IF($B2787=\"\",\"\",VLOOKUP($B2787,_tbl!$A:$E,P$2,0))","v":"Total"},{"$f":"IF($B2787=\"\",\"\",VLOOKUP($B2787,_tbl!$A:$E,Q$2,0))","v":"Total"},null,2.2242229867262199E-4,1.7801695836171201E-4]
[null,"all_f_West.csv","20-24",2.7121570346087402E-4,2.6472042101201E-4,2.5741917065226201E-4,2.5055644151316102E-4,2.4388185582473399E-4,2.3781148811059699E-4,2.3212607236429501E-4,2.26931989034336E-4,2.22080038024175E-4,2.17548996300539E-4,{"$f":"IF($B2788=\"\",\"\",VLOOKUP($B2788,_tbl!$A:$E,N$2,0))","v":"Female"},{"$f":"IF($B2788=\"\",\"\",VLOOKUP($B2788,_tbl!$A:$E,O$2,0))","v":"West"},{"$f":"IF($B2788=\"\",\"\",VLOOKUP($B2788,_tbl!$A:$E,P$2,0))","v":"Total"},{"$f":"IF($B2788=\"\",\"\",VLOOKUP($B2788,_tbl!$A:$E,Q$2,0))","v":"Total"},null,2.7121570346087402E-4,2.17548996300539E-4]
[null,"all_f_West.csv","25-29",3.5312615193463002E-4,3.4536833928104302E-4,3.3704015480801399E-4,3.2896551836857801E-4,3.2124886662230901E-4,3.1413357745209701E-4,3.0744867117827798E-4,3.0125664955483003E-4,2.9544328804752398E-4,2.8997533683407001E-4,{"$f":"IF($B2789=\"\",\"\",VLOOKUP($B2789,_tbl!$A:$E,N$2,0))","v":"Female"},{"$f":"IF($B2789=\"\",\"\",VLOOKUP($B2789,_tbl!$A:$E,O$2,0))","v":"West"},{"$f":"IF($B2789=\"\",\"\",VLOOKUP($B2789,_tbl!$A:$E,P$2,0))","v":"Total"},{"$f":"IF($B2789=\"\",\"\",VLOOKUP($B2789,_tbl!$A:$E,Q$2,0))","v":"Total"},null,3.5312615193463002E-4,2.8997533683407001E-4]
[null,"all_f_West.csv","30-34",4.7880125162875201E-4,4.6988499888417899E-4,4.6029826606694001E-4,4.51257531365609E-4,4.4264768491956101E-4,4.34724361181431E-4,4.2722652671805899E-4,4.2029467222268999E-4,4.1380858828516699E-4,4.0773255458016999E-4,{"$f":"IF($B2790=\"\",\"\",VLOOKUP($B2790,_tbl!$A:$E,N$2,0))","v":"Female"},{"$f":"IF($B2790=\"\",\"\",VLOOKUP($B2790,_tbl!$A:$E,O$2,0))","v":"West"},{"$f":"IF($B2790=\"\",\"\",VLOOKUP($B2790,_tbl!$A:$E,P$2,0))","v":"Total"},{"$f":"IF($B2790=\"\",\"\",VLOOKUP($B2790,_tbl!$A:$E,Q$2,0))","v":"Total"},null,4.7880125162875201E-4,4.0773255458016999E-4]
[null,"all_f_West.csv","35-39",6.6778158338087095E-4,6.5612230453312602E-4,6.4351890021227597E-4,6.3263216151170402E-4,6.2197409052736205E-4,6.1228609041907899E-4,6.0280058206564505E-4,5.9410227724097995E-4,5.8595594834723005E-4,5.78347522471141E-4,{"$f":"IF($B2791=\"\",\"\",VLOOKUP($B2791,_tbl!$A:$E,N$2,0))","v":"Female"},{"$f":"IF($B2791=\"\",\"\",VLOOKUP($B2791,_tbl!$A:$E,O$2,0))","v":"West"},{"$f":"IF($B2791=\"\",\"\",VLOOKUP($B2791,_tbl!$A:$E,P$2,0))","v":"Total"},{"$f":"IF($B2791=\"\",\"\",VLOOKUP($B2791,_tbl!$A:$E,Q$2,0))","v":"Total"},null,6.6778158338087095E-4,5.78347522471141E-4]
[null,"all_f_West.csv","40-44",9.8585072035376809E-4,9.6358724514574096E-4,9.4017581076477304E-4,9.2008268172433997E-4,8.9993519740059395E-4,8.8135980757225805E-4,8.6281700347016804E-4,8.4557131940510896E-4,8.29179528130909E-4,8.1365705144283899E-4,{"$f":"IF($B2792=\"\",\"\",VLOOKUP($B2792,_tbl!$A:$E,N$2,0))","v":"Female"},{"$f":"IF($B2792=\"\",\"\",VLOOKUP($B2792,_tbl!$A:$E,O$2,0))","v":"West"},{"$f":"IF($B2792=\"\",\"\",VLOOKUP($B2792,_tbl!$A:$E,P$2,0))","v":"Total"},{"$f":"IF($B2792=\"\",\"\",VLOOKUP($B2792,_tbl!$A:$E,Q$2,0))","v":"Total"},null,9.8585072035376809E-4,8.1365705144283899E-4]
[null,"all_f_West.csv","45-49",1.53336516416484E-3,1.4982766239291501E-3,1.4591737398144599E-3,1.4261659458978599E-3,1.3925426135434501E-3,1.3616952731985499E-3,1.33044179590468E-3,1.3013906599827301E-3,1.27360051977085E-3,1.24710865663717E-3,{"$f":"IF($B2793=\"\",\"\",VLOOKUP($B2793,_tbl!$A:$E,N$2,0))","v":"Female"},{"$f":"IF($B2793=\"\",\"\",VLOOKUP($B2793,_tbl!$A:$E,O$2,0))","v":"West"},{"$f":"IF($B2793=\"\",\"\",VLOOKUP($B2793,_tbl!$A:$E,P$2,0))","v":"Total"},{"$f":"IF($B2793=\"\",\"\",VLOOKUP($B2793,_tbl!$A:$E,Q$2,0))","v":"Total"},null,1.53336516416484E-3,1.24710865663717E-3]
[null,"all_f_West.csv","50-54",2.41706135862182E-3,2.35898328703489E-3,2.30828937038102E-3,2.2528211555583998E-3,2.1983628710951198E-3,2.1431528831713799E-3,2.0904408699221801E-3,2.03827793207377E-3,1.9876428597361199E-3,1.9385454854569E-3,{"$f":"IF($B2794=\"\",\"\",VLOOKUP($B2794,_tbl!$A:$E,N$2,0))","v":"Female"},{"$f":"IF($B2794=\"\",\"\",VLOOKUP($B2794,_tbl!$A:$E,O$2,0))","v":"West"},{"$f":"IF($B2794=\"\",\"\",VLOOKUP($B2794,_tbl!$A:$E,P$2,0))","v":"Total"},{"$f":"IF($B2794=\"\",\"\",VLOOKUP($B2794,_tbl!$A:$E,Q$2,0))","v":"Total"},null,2.41706135862182E-3,1.9385454854569E-3]
[null,"all_f_West.csv","55-59",3.8091076979382701E-3,3.7094327022716401E-3,3.6213691853405E-3,3.5246089361467199E-3,3.4291798989716602E-3,3.33241138956262E-3,3.2408371811436499E-3,3.1498496471156598E-3,3.0612423497657099E-3,2.9753481127316301E-3,{"$f":"IF($B2795=\"\",\"\",VLOOKUP($B2795,_tbl!$A:$E,N$2,0))","v":"Female"},{"$f":"IF($B2795=\"\",\"\",VLOOKUP($B2795,_tbl!$A:$E,O$2,0))","v":"West"},{"$f":"IF($B2795=\"\",\"\",VLOOKUP($B2795,_tbl!$A:$E,P$2,0))","v":"Total"},{"$f":"IF($B2795=\"\",\"\",VLOOKUP($B2795,_tbl!$A:$E,Q$2,0))","v":"Total"},null,3.8091076979382701E-3,2.9753481127316301E-3]
[null,"all_f_West.csv","60-64",6.0644104393487398E-3,5.9007545157252301E-3,5.7619858668588701E-3,5.60334592989346E-3,5.4442440641598996E-3,5.2807454763591404E-3,5.1290271187349997E-3,4.9761019070272399E-3,4.8262993954623998E-3,4.6813732928620601E-3,{"$f":"IF($B2796=\"\",\"\",VLOOKUP($B2796,_tbl!$A:$E,N$2,0))","v":"Female"},{"$f":"IF($B2796=\"\",\"\",VLOOKUP($B2796,_tbl!$A:$E,O$2,0))","v":"West"},{"$f":"IF($B2796=\"\",\"\",VLOOKUP($B2796,_tbl!$A:$E,P$2,0))","v":"Total"},{"$f":"IF($B2796=\"\",\"\",VLOOKUP($B2796,_tbl!$A:$E,Q$2,0))","v":"Total"},null,6.0644104393487398E-3,4.6813732928620601E-3]
[null,"all_f_West.csv","65-69",1.01597662721691E-2,9.92082861577143E-3,9.7185119212149194E-3,9.4848124208175306E-3,9.2452707259610498E-3,8.9982734899689797E-3,8.7714113866410991E-3,8.5410220164755506E-3,8.3143502884427192E-3,8.0957740434494697E-3,{"$f":"IF($B2797=\"\",\"\",VLOOKUP($B2797,_tbl!$A:$E,N$2,0))","v":"Female"},{"$f":"IF($B2797=\"\",\"\",VLOOKUP($B2797,_tbl!$A:$E,O$2,0))","v":"West"},{"$f":"IF($B2797=\"\",\"\",VLOOKUP($B2797,_tbl!$A:$E,P$2,0))","v":"Total"},{"$f":"IF($B2797=\"\",\"\",VLOOKUP($B2797,_tbl!$A:$E,Q$2,0))","v":"Total"},null,1.01597662721691E-2,8.0957740434494697E-3]
[null,"all_f_West.csv","70-74",1.8669898596108399E-2,1.8317985032381402E-2,1.80228234061868E-2,1.7686819706312799E-2,1.73374185346152E-2,1.6976607755013098E-2,1.6645586057123799E-2,1.63065064699221E-2,1.5970041084443401E-2,1.56445448200732E-2,{"$f":"IF($B2798=\"\",\"\",VLOOKUP($B2798,_tbl!$A:$E,N$2,0))","v":"Female"},{"$f":"IF($B2798=\"\",\"\",VLOOKUP($B2798,_tbl!$A:$E,O$2,0))","v":"West"},{"$f":"IF($B2798=\"\",\"\",VLOOKUP($B2798,_tbl!$A:$E,P$2,0))","v":"Total"},{"$f":"IF($B2798=\"\",\"\",VLOOKUP($B2798,_tbl!$A:$E,Q$2,0))","v":"Total"},null,1.8669898596108399E-2,1.56445448200732E-2]
[null,"all_f_West.csv","75-79",3.7717143943447197E-2,3.7169941347886197E-2,3.6746588968872201E-2,3.6291947609787503E-2,3.5830588399130198E-2,3.5357280433379802E-2,3.4943550386882197E-2,3.4503512917272397E-2,3.4055547718242297E-2,3.3618765881935499E-2,{"$f":"IF($B2799=\"\",\"\",VLOOKUP($B2799,_tbl!$A:$E,N$2,0))","v":"Female"},{"$f":"IF($B2799=\"\",\"\",VLOOKUP($B2799,_tbl!$A:$E,O$2,0))","v":"West"},{"$f":"IF($B2799=\"\",\"\",VLOOKUP($B2799,_tbl!$A:$E,P$2,0))","v":"Total"},{"$f":"IF($B2799=\"\",\"\",VLOOKUP($B2799,_tbl!$A:$E,Q$2,0))","v":"Total"},null,3.7717143943447197E-2,3.3618765881935499E-2]
[null,"all_f_West.csv","80-84",8.2437189243816697E-2,8.1221203228834707E-2,8.0491221835296903E-2,7.9923470032578797E-2,7.9554316004098305E-2,7.9271030085465197E-2,7.9244900579163696E-2,7.9090085680026595E-2,7.8858062565951806E-2,7.8633025196612999E-2,{"$f":"IF($B2800=\"\",\"\",VLOOKUP($B2800,_tbl!$A:$E,N$2,0))","v":"Female"},{"$f":"IF($B2800=\"\",\"\",VLOOKUP($B2800,_tbl!$A:$E,O$2,0))","v":"West"},{"$f":"IF($B2800=\"\",\"\",VLOOKUP($B2800,_tbl!$A:$E,P$2,0))","v":"Total"},{"$f":"IF($B2800=\"\",\"\",VLOOKUP($B2800,_tbl!$A:$E,Q$2,0))","v":"Total"},null,8.2437189243816697E-2,7.8633025196612999E-2]
[null,"all_f_West.csv","85+",0.17754665409422199,0.175511156260856,0.174036960202719,0.173839214368043,0.174740670639627,0.176298927540772,0.17849272363199001,0.180515378374456,0.18237858060394199,0.18423874816821301,{"$f":"IF($B2801=\"\",\"\",VLOOKUP($B2801,_tbl!$A:$E,N$2,0))","v":"Female"},{"$f":"IF($B2801=\"\",\"\",VLOOKUP($B2801,_tbl!$A:$E,O$2,0))","v":"West"},{"$f":"IF($B2801=\"\",\"\",VLOOKUP($B2801,_tbl!$A:$E,P$2,0))","v":"Total"},{"$f":"IF($B2801=\"\",\"\",VLOOKUP($B2801,_tbl!$A:$E,Q$2,0))","v":"Total"},null,0.18423874816821301,0.173839214368043]

{"sheet":"notes","index":9,"n_rows":145,"n_cols":3,"rows_kept":145,"cut":false,"hidden":true,"merged":[]}
[]
[]
[null,"Number of files",140]
[]
[null,"List of Files"]
[null,"all_m_Central Rural cancer.csv"]
[null,"all_m_Central Rural circulatory.csv"]
[null,"all_m_Central Rural congenital.csv"]
[null,"all_m_Central Rural diabetes.csv"]
[null,"all_m_Central Rural digestive.csv"]
[null,"all_m_Central Rural external.csv"]
[null,"all_m_Central Rural infectious.csv"]
[null,"all_m_Central Rural mental.csv"]
[null,"all_m_Central Rural other.csv"]
[null,"all_m_Central Rural respiratory.csv"]
[null,"all_m_Central Rural.csv"]
[null,"all_m_Central Urban cancer.csv"]
[null,"all_m_Central Urban circulatory.csv"]
[null,"all_m_Central Urban congenital.csv"]
[null,"all_m_Central Urban diabetes.csv"]
[null,"all_m_Central Urban digestive.csv"]
[null,"all_m_Central Urban external.csv"]
[null,"all_m_Central Urban infectious.csv"]
[null,"all_m_Central Urban mental.csv"]
[null,"all_m_Central Urban other.csv"]
[null,"all_m_Central Urban respiratory.csv"]
[null,"all_m_Central Urban.csv"]
[null,"all_m_Central.csv"]
[null,"all_m_East Rural cancer.csv"]
[null,"all_m_East Rural circulatory.csv"]
[null,"all_m_East Rural congenital.csv"]
[null,"all_m_East Rural diabetes.csv"]
[null,"all_m_East Rural digestive.csv"]
[null,"all_m_East Rural external.csv"]
[null,"all_m_East Rural infectious.csv"]
[null,"all_m_East Rural mental.csv"]
[null,"all_m_East Rural other.csv"]
[null,"all_m_East Rural respiratory.csv"]
[null,"all_m_East Rural.csv"]
[null,"all_m_East Urban cancer.csv"]
[null,"all_m_East Urban circulatory.csv"]
[null,"all_m_East Urban congenital.csv"]
[null,"all_m_East Urban diabetes.csv"]
[null,"all_m_East Urban digestive.csv"]
[null,"all_m_East Urban external.csv"]
[null,"all_m_East Urban infectious.csv"]
[null,"all_m_East Urban mental.csv"]
[null,"all_m_East Urban other.csv"]
[null,"all_m_East Urban respiratory.csv"]
[null,"all_m_East Urban.csv"]
[null,"all_m_East.csv"]
[null,"all_m_Total.csv"]
[null,"all_m_West Rural cancer.csv"]
[null,"all_m_West Rural circulatory.csv"]
[null,"all_m_West Rural congenital.csv"]
[null,"all_m_West Rural diabetes.csv"]
[null,"all_m_West Rural digestive.csv"]
[null,"all_m_West Rural external.csv"]
[null,"all_m_West Rural infectious.csv"]
[null,"all_m_West Rural mental.csv"]
[null,"all_m_West Rural other.csv"]
[null,"all_m_West Rural respiratory.csv"]
[null,"all_m_West Rural.csv"]
[null,"all_m_West Urban cancer.csv"]
[null,"all_m_West Urban circulatory.csv"]
[null,"all_m_West Urban congenital.csv"]
[null,"all_m_West Urban diabetes.csv"]
[null,"all_m_West Urban digestive.csv"]
[null,"all_m_West Urban external.csv"]
[null,"all_m_West Urban infectious.csv"]
[null,"all_m_West Urban mental.csv"]
[null,"all_m_West Urban other.csv"]
[null,"all_m_West Urban respiratory.csv"]
[null,"all_m_West Urban.csv"]
[null,"all_m_West.csv"]
[null,"all_f_Central Rural cancer.csv"]
[null,"all_f_Central Rural circulatory.csv"]
[null,"all_f_Central Rural congenital.csv"]
[null,"all_f_Central Rural diabetes.csv"]
[null,"all_f_Central Rural digestive.csv"]
[null,"all_f_Central Rural external.csv"]
[null,"all_f_Central Rural infectious.csv"]
[null,"all_f_Central Rural mental.csv"]
[null,"all_f_Central Rural other.csv"]
[null,"all_f_Central Rural respiratory.csv"]
[null,"all_f_Central Rural.csv"]
[null,"all_f_Central Urban cancer.csv"]
[null,"all_f_Central Urban circulatory.csv"]
[null,"all_f_Central Urban congenital.csv"]
[null,"all_f_Central Urban diabetes.csv"]
[null,"all_f_Central Urban digestive.csv"]
[null,"all_f_Central Urban external.csv"]
[null,"all_f_Central Urban infectious.csv"]
[null,"all_f_Central Urban mental.csv"]
[null,"all_f_Central Urban other.csv"]
[null,"all_f_Central Urban respiratory.csv"]
[null,"all_f_Central Urban.csv"]
[null,"all_f_Central.csv"]
[null,"all_f_East Rural cancer.csv"]
[null,"all_f_East Rural circulatory.csv"]
[null,"all_f_East Rural congenital.csv"]
[null,"all_f_East Rural diabetes.csv"]
[null,"all_f_East Rural digestive.csv"]
[null,"all_f_East Rural external.csv"]
[null,"all_f_East Rural infectious.csv"]
[null,"all_f_East Rural mental.csv"]
[null,"all_f_East Rural other.csv"]
[null,"all_f_East Rural respiratory.csv"]
[null,"all_f_East Rural.csv"]
[null,"all_f_East Urban cancer.csv"]
[null,"all_f_East Urban circulatory.csv"]
[null,"all_f_East Urban congenital.csv"]
[null,"all_f_East Urban diabetes.csv"]
[null,"all_f_East Urban digestive.csv"]
[null,"all_f_East Urban external.csv"]
[null,"all_f_East Urban infectious.csv"]
[null,"all_f_East Urban mental.csv"]
[null,"all_f_East Urban other.csv"]
[null,"all_f_East Urban respiratory.csv"]
[null,"all_f_East Urban.csv"]
[null,"all_f_East.csv"]
[null,"all_f_Total.csv"]
[null,"all_f_West Rural cancer.csv"]
[null,"all_f_West Rural circulatory.csv"]
[null,"all_f_West Rural congenital.csv"]
[null,"all_f_West Rural diabetes.csv"]
[null,"all_f_West Rural digestive.csv"]
[null,"all_f_West Rural external.csv"]
[null,"all_f_West Rural infectious.csv"]
[null,"all_f_West Rural mental.csv"]
[null,"all_f_West Rural other.csv"]
[null,"all_f_West Rural respiratory.csv"]
[null,"all_f_West Rural.csv"]
[null,"all_f_West Urban cancer.csv"]
[null,"all_f_West Urban circulatory.csv"]
[null,"all_f_West Urban congenital.csv"]
[null,"all_f_West Urban diabetes.csv"]
[null,"all_f_West Urban digestive.csv"]
[null,"all_f_West Urban external.csv"]
[null,"all_f_West Urban infectious.csv"]
[null,"all_f_West Urban mental.csv"]
[null,"all_f_West Urban other.csv"]
[null,"all_f_West Urban respiratory.csv"]
[null,"all_f_West Urban.csv"]
[null,"all_f_West.csv"]

{"sheet":"_tbl","index":10,"n_rows":143,"n_cols":25,"rows_kept":143,"cut":false,"hidden":true,"merged":[]}
[]
["LIST USED IN VIEW \"ALL\"",null,null,null,null,null,"LIST USED IN VIEW \"Gender\"",null,null,null,"LIST USED IN VIEW \"Region\"",null,null,null,"LIST USED IN VIEW \"Area\""]
["File Name","Gender","Region","Area","Cause",null,"Region","Area","Cause",null,"Gender","Area","Cause",null,"Gender","Region","Cause",null,null,"Gender","Region","Area",null,"Cause","year"]
["all_m_Central Rural cancer.csv","Male","Central","Rural","Cancer",null,"Central","Rural","Cancer",null,"Male","Rural","Cancer",null,"Male","Central","Cancer",null,null,"Male","Total","Total",null,"Total",2020]
["all_m_Central Rural circulatory.csv","Male","Central","Rural","Circulatory",null,"Central","Rural","Circulatory",null,"Male","Rural","Circulatory",null,"Male","Central","Circulatory",null,null,"Female","Central","Rural",null,"Cancer",2021]
["all_m_Central Rural congenital.csv","Male","Central","Rural","Congenital",null,"Central","Rural","Congenital",null,"Male","Rural","Congenital",null,"Male","Central","Congenital",null,null,null,"East","Urban",null,"Circulatory",2022]
["all_m_Central Rural diabetes.csv","Male","Central","Rural","Diabetes",null,"Central","Rural","Diabetes",null,"Male","Rural","Diabetes",null,"Male","Central","Diabetes",null,null,null,"West",null,null,"Congenital",2023]
["all_m_Central Rural digestive.csv","Male","Central","Rural","Digestive",null,"Central","Rural","Digestive",null,"Male","Rural","Digestive",null,"Male","Central","Digestive",null,null,null,null,null,null,"Diabetes",2024]
["all_m_Central Rural external.csv","Male","Central","Rural","External",null,"Central","Rural","External",null,"Male","Rural","External",null,"Male","Central","External",null,null,null,null,null,null,"Digestive",2025]
["all_m_Central Rural infectious.csv","Male","Central","Rural","Infectious",null,"Central","Rural","Infectious",null,"Male","Rural","Infectious",null,"Male","Central","Infectious",null,null,null,null,null,null,"External",2026]
["all_m_Central Rural mental.csv","Male","Central","Rural","Mental",null,"Central","Rural","Mental",null,"Male","Rural","Mental",null,"Male","Central","Mental",null,null,null,null,null,null,"Infectious",2027]
["all_m_Central Rural other.csv","Male","Central","Rural","Other",null,"Central","Rural","Other",null,"Male","Rural","Other",null,"Male","Central","Other",null,null,null,null,null,null,"Mental",2028]
["all_m_Central Rural respiratory.csv","Male","Central","Rural","Respiratory",null,"Central","Rural","Respiratory",null,"Male","Rural","Respiratory",null,"Male","Central","Respiratory",null,null,null,null,null,null,"Other",2029]
["all_m_Central Rural.csv","Male","Central","Rural","Total",null,"Central","Rural","Total",null,"Male","Rural","Total",null,"Male","Central","Total",null,null,null,null,null,null,"Respiratory"]
["all_m_Central Urban cancer.csv","Male","Central","Urban","Cancer",null,"Central","Urban","Cancer",null,"Male","Urban","Cancer",null,"Male","East","Cancer"]
["all_m_Central Urban circulatory.csv","Male","Central","Urban","Circulatory",null,"Central","Urban","Circulatory",null,"Male","Urban","Circulatory",null,"Male","East","Circulatory"]
["all_m_Central Urban congenital.csv","Male","Central","Urban","Congenital",null,"Central","Urban","Congenital",null,"Male","Urban","Congenital",null,"Male","East","Congenital"]
["all_m_Central Urban diabetes.csv","Male","Central","Urban","Diabetes",null,"Central","Urban","Diabetes",null,"Male","Urban","Diabetes",null,"Male","East","Diabetes"]
["all_m_Central Urban digestive.csv","Male","Central","Urban","Digestive",null,"Central","Urban","Digestive",null,"Male","Urban","Digestive",null,"Male","East","Digestive"]
["all_m_Central Urban external.csv","Male","Central","Urban","External",null,"Central","Urban","External",null,"Male","Urban","External",null,"Male","East","External"]
["all_m_Central Urban infectious.csv","Male","Central","Urban","Infectious",null,"Central","Urban","Infectious",null,"Male","Urban","Infectious",null,"Male","East","Infectious"]
["all_m_Central Urban mental.csv","Male","Central","Urban","Mental",null,"Central","Urban","Mental",null,"Male","Urban","Mental",null,"Male","East","Mental"]
["all_m_Central Urban other.csv","Male","Central","Urban","Other",null,"Central","Urban","Other",null,"Male","Urban","Other",null,"Male","East","Other"]
["all_m_Central Urban respiratory.csv","Male","Central","Urban","Respiratory",null,"Central","Urban","Respiratory",null,"Male","Urban","Respiratory",null,"Male","East","Respiratory"]
["all_m_Central Urban.csv","Male","Central","Urban","Total",null,"Central","Urban","Total",null,"Male","Urban","Total",null,"Male","East","Total"]
["all_m_Central.csv","Male","Central","Total","Total",null,"Central","Total","Total",null,"Male","Total","Total",null,"Male","West","Cancer"]
["all_m_East Rural cancer.csv","Male","East","Rural","Cancer",null,"East","Rural","Cancer",null,"Female","Rural","Cancer",null,"Male","West","Circulatory"]
["all_m_East Rural circulatory.csv","Male","East","Rural","Circulatory",null,"East","Rural","Circulatory",null,"Female","Rural","Circulatory",null,"Male","West","Congenital"]
["all_m_East Rural congenital.csv","Male","East","Rural","Congenital",null,"East","Rural","Congenital",null,"Female","Rural","Congenital",null,"Male","West","Diabetes"]
["all_m_East Rural diabetes.csv","Male","East","Rural","Diabetes",null,"East","Rural","Diabetes",null,"Female","Rural","Diabetes",null,"Male","West","Digestive"]
["all_m_East Rural digestive.csv","Male","East","Rural","Digestive",null,"East","Rural","Digestive",null,"Female","Rural","Digestive",null,"Male","West","External"]
["all_m_East Rural external.csv","Male","East","Rural","External",null,"East","Rural","External",null,"Female","Rural","External",null,"Male","West","Infectious"]
["all_m_East Rural infectious.csv","Male","East","Rural","Infectious",null,"East","Rural","Infectious",null,"Female","Rural","Infectious",null,"Male","West","Mental"]
["all_m_East Rural mental.csv","Male","East","Rural","Mental",null,"East","Rural","Mental",null,"Female","Rural","Mental",null,"Male","West","Other"]
["all_m_East Rural other.csv","Male","East","Rural","Other",null,"East","Rural","Other",null,"Female","Rural","Other",null,"Male","West","Respiratory"]
["all_m_East Rural respiratory.csv","Male","East","Rural","Respiratory",null,"East","Rural","Respiratory",null,"Female","Rural","Respiratory",null,"Male","West","Total"]
["all_m_East Rural.csv","Male","East","Rural","Total",null,"East","Rural","Total",null,"Female","Rural","Total",null,"Female","Central","Cancer"]
["all_m_East Urban cancer.csv","Male","East","Urban","Cancer",null,"East","Urban","Cancer",null,"Female","Urban","Cancer",null,"Female","Central","Circulatory"]
["all_m_East Urban circulatory.csv","Male","East","Urban","Circulatory",null,"East","Urban","Circulatory",null,"Female","Urban","Circulatory",null,"Female","Central","Congenital"]
["all_m_East Urban congenital.csv","Male","East","Urban","Congenital",null,"East","Urban","Congenital",null,"Female","Urban","Congenital",null,"Female","Central","Diabetes"]
["all_m_East Urban diabetes.csv","Male","East","Urban","Diabetes",null,"East","Urban","Diabetes",null,"Female","Urban","Diabetes",null,"Female","Central","Digestive"]
["all_m_East Urban digestive.csv","Male","East","Urban","Digestive",null,"East","Urban","Digestive",null,"Female","Urban","Digestive",null,"Female","Central","External"]
["all_m_East Urban external.csv","Male","East","Urban","External",null,"East","Urban","External",null,"Female","Urban","External",null,"Female","Central","Infectious"]
["all_m_East Urban infectious.csv","Male","East","Urban","Infectious",null,"East","Urban","Infectious",null,"Female","Urban","Infectious",null,"Female","Central","Mental"]
["all_m_East Urban mental.csv","Male","East","Urban","Mental",null,"East","Urban","Mental",null,"Female","Urban","Mental",null,"Female","Central","Other"]
["all_m_East Urban other.csv","Male","East","Urban","Other",null,"East","Urban","Other",null,"Female","Urban","Other",null,"Female","Central","Respiratory"]
["all_m_East Urban respiratory.csv","Male","East","Urban","Respiratory",null,"East","Urban","Respiratory",null,"Female","Urban","Respiratory",null,"Female","Central","Total"]
["all_m_East Urban.csv","Male","East","Urban","Total",null,"East","Urban","Total",null,"Female","Urban","Total",null,"Female","East","Cancer"]
["all_m_East.csv","Male","East","Total","Total",null,"East","Total","Total",null,"Female","Total","Total",null,"Female","East","Circulatory"]
["all_m_Total.csv","Male","Total","Total","Total",null,"Total","Total","Total",null,null,null,null,null,"Female","East","Congenital"]
["all_m_West Rural cancer.csv","Male","West","Rural","Cancer",null,"West","Rural","Cancer",null,null,null,null,null,"Female","East","Diabetes"]
["all_m_West Rural circulatory.csv","Male","West","Rural","Circulatory",null,"West","Rural","Circulatory",null,null,null,null,null,"Female","East","Digestive"]
["all_m_West Rural congenital.csv","Male","West","Rural","Congenital",null,"West","Rural","Congenital",null,null,null,null,null,"Female","East","External"]
["all_m_West Rural diabetes.csv","Male","West","Rural","Diabetes",null,"West","Rural","Diabetes",null,null,null,null,null,"Female","East","Infectious"]
["all_m_West Rural digestive.csv","Male","West","Rural","Digestive",null,"West","Rural","Digestive",null,null,null,null,null,"Female","East","Mental"]
["all_m_West Rural external.csv","Male","West","Rural","External",null,"West","Rural","External",null,null,null,null,null,"Female","East","Other"]
["all_m_West Rural infectious.csv","Male","West","Rural","Infectious",null,"West","Rural","Infectious",null,null,null,null,null,"Female","East","Respiratory"]
["all_m_West Rural mental.csv","Male","West","Rural","Mental",null,"West","Rural","Mental",null,null,null,null,null,"Female","East","Total"]
["all_m_West Rural other.csv","Male","West","Rural","Other",null,"West","Rural","Other",null,null,null,null,null,"Female","West","Cancer"]
["all_m_West Rural respiratory.csv","Male","West","Rural","Respiratory",null,"West","Rural","Respiratory",null,null,null,null,null,"Female","West","Circulatory"]
["all_m_West Rural.csv","Male","West","Rural","Total",null,"West","Rural","Total",null,null,null,null,null,"Female","West","Congenital"]
["all_m_West Urban cancer.csv","Male","West","Urban","Cancer",null,"West","Urban","Cancer",null,null,null,null,null,"Female","West","Diabetes"]
["all_m_West Urban circulatory.csv","Male","West","Urban","Circulatory",null,"West","Urban","Circulatory",null,null,null,null,null,"Female","West","Digestive"]
["all_m_West Urban congenital.csv","Male","West","Urban","Congenital",null,"West","Urban","Congenital",null,null,null,null,null,"Female","West","External"]
["all_m_West Urban diabetes.csv","Male","West","Urban","Diabetes",null,"West","Urban","Diabetes",null,null,null,null,null,"Female","West","Infectious"]
["all_m_West Urban digestive.csv","Male","West","Urban","Digestive",null,"West","Urban","Digestive",null,null,null,null,null,"Female","West","Mental"]
["all_m_West Urban external.csv","Male","West","Urban","External",null,"West","Urban","External",null,null,null,null,null,"Female","West","Other"]
["all_m_West Urban infectious.csv","Male","West","Urban","Infectious",null,"West","Urban","Infectious",null,null,null,null,null,"Female","West","Respiratory"]
["all_m_West Urban mental.csv","Male","West","Urban","Mental",null,"West","Urban","Mental",null,null,null,null,null,"Female","West","Total"]
["all_m_West Urban other.csv","Male","West","Urban","Other",null,"West","Urban","Other"]
["all_m_West Urban respiratory.csv","Male","West","Urban","Respiratory",null,"West","Urban","Respiratory"]
["all_m_West Urban.csv","Male","West","Urban","Total",null,"West","Urban","Total"]
["all_m_West.csv","Male","West","Total","Total",null,"West","Total","Total"]
["all_f_Central Rural cancer.csv","Female","Central","Rural","Cancer"]
["all_f_Central Rural circulatory.csv","Female","Central","Rural","Circulatory"]
["all_f_Central Rural congenital.csv","Female","Central","Rural","Congenital"]
["all_f_Central Rural diabetes.csv","Female","Central","Rural","Diabetes"]
["all_f_Central Rural digestive.csv","Female","Central","Rural","Digestive"]
["all_f_Central Rural external.csv","Female","Central","Rural","External"]
["all_f_Central Rural infectious.csv","Female","Central","Rural","Infectious"]
["all_f_Central Rural mental.csv","Female","Central","Rural","Mental"]
["all_f_Central Rural other.csv","Female","Central","Rural","Other"]
["all_f_Central Rural respiratory.csv","Female","Central","Rural","Respiratory"]
["all_f_Central Rural.csv","Female","Central","Rural","Total"]
["all_f_Central Urban cancer.csv","Female","Central","Urban","Cancer"]
["all_f_Central Urban circulatory.csv","Female","Central","Urban","Circulatory"]
["all_f_Central Urban congenital.csv","Female","Central","Urban","Congenital"]
["all_f_Central Urban diabetes.csv","Female","Central","Urban","Diabetes"]
["all_f_Central Urban digestive.csv","Female","Central","Urban","Digestive"]
["all_f_Central Urban external.csv","Female","Central","Urban","External"]
["all_f_Central Urban infectious.csv","Female","Central","Urban","Infectious"]
["all_f_Central Urban mental.csv","Female","Central","Urban","Mental"]
["all_f_Central Urban other.csv","Female","Central","Urban","Other"]
["all_f_Central Urban respiratory.csv","Female","Central","Urban","Respiratory"]
["all_f_Central Urban.csv","Female","Central","Urban","Total"]
["all_f_Central.csv","Female","Central","Total","Total"]
["all_f_East Rural cancer.csv","Female","East","Rural","Cancer"]
["all_f_East Rural circulatory.csv","Female","East","Rural","Circulatory"]
["all_f_East Rural congenital.csv","Female","East","Rural","Congenital"]
["all_f_East Rural diabetes.csv","Female","East","Rural","Diabetes"]
["all_f_East Rural digestive.csv","Female","East","Rural","Digestive"]
["all_f_East Rural external.csv","Female","East","Rural","External"]
["all_f_East Rural infectious.csv","Female","East","Rural","Infectious"]
["all_f_East Rural mental.csv","Female","East","Rural","Mental"]
["all_f_East Rural other.csv","Female","East","Rural","Other"]
["all_f_East Rural respiratory.csv","Female","East","Rural","Respiratory"]
["all_f_East Rural.csv","Female","East","Rural","Total"]
["all_f_East Urban cancer.csv","Female","East","Urban","Cancer"]
["all_f_East Urban circulatory.csv","Female","East","Urban","Circulatory"]
["all_f_East Urban congenital.csv","Female","East","Urban","Congenital"]
["all_f_East Urban diabetes.csv","Female","East","Urban","Diabetes"]
["all_f_East Urban digestive.csv","Female","East","Urban","Digestive"]
["all_f_East Urban external.csv","Female","East","Urban","External"]
["all_f_East Urban infectious.csv","Female","East","Urban","Infectious"]
["all_f_East Urban mental.csv","Female","East","Urban","Mental"]
["all_f_East Urban other.csv","Female","East","Urban","Other"]
["all_f_East Urban respiratory.csv","Female","East","Urban","Respiratory"]
["all_f_East Urban.csv","Female","East","Urban","Total"]
["all_f_East.csv","Female","East","Total","Total"]
["all_f_Total.csv","Female","Total","Total","Total"]
["all_f_West Rural cancer.csv","Female","West","Rural","Cancer"]
["all_f_West Rural circulatory.csv","Female","West","Rural","Circulatory"]
["all_f_West Rural congenital.csv","Female","West","Rural","Congenital"]
["all_f_West Rural diabetes.csv","Female","West","Rural","Diabetes"]
["all_f_West Rural digestive.csv","Female","West","Rural","Digestive"]
["all_f_West Rural external.csv","Female","West","Rural","External"]
["all_f_West Rural infectious.csv","Female","West","Rural","Infectious"]
["all_f_West Rural mental.csv","Female","West","Rural","Mental"]
["all_f_West Rural other.csv","Female","West","Rural","Other"]
["all_f_West Rural respiratory.csv","Female","West","Rural","Respiratory"]
["all_f_West Rural.csv","Female","West","Rural","Total"]
["all_f_West Urban cancer.csv","Female","West","Urban","Cancer"]
["all_f_West Urban circulatory.csv","Female","West","Urban","Circulatory"]
["all_f_West Urban congenital.csv","Female","West","Urban","Congenital"]
["all_f_West Urban diabetes.csv","Female","West","Urban","Diabetes"]
["all_f_West Urban digestive.csv","Female","West","Urban","Digestive"]
["all_f_West Urban external.csv","Female","West","Urban","External"]
["all_f_West Urban infectious.csv","Female","West","Urban","Infectious"]
["all_f_West Urban mental.csv","Female","West","Urban","Mental"]
["all_f_West Urban other.csv","Female","West","Urban","Other"]
["all_f_West Urban respiratory.csv","Female","West","Urban","Respiratory"]
["all_f_West Urban.csv","Female","West","Urban","Total"]
["all_f_West.csv","Female","West","Total","Total"]